{"text_format":"1","workbook":"xlsx","n_sheets":4,"sheets":["Formato2020 ","Instructivo","Tipo","Eje_Pilar_Prop"],"not_rendered":{"charts":0,"images":1,"macros":1,"external_links":0,"defined_names":14,"comments":0,"pivot_tables":0},"unopened":[],"bounds":{"document_bytes":16777216,"sheet_cells":100000,"rows_first":2000,"rows_last":500,"rows_between":2000,"halvings":0,"cell_chars":16384,"cell_head_chars":4096},"cells_cut":0,"cells_raw":0,"read":"whole","date_system":"1900"}

{"sheet":"Formato2020 ","index":0,"n_rows":597,"n_cols":48,"rows_kept":597,"cut":false,"hidden":false,"merged":[[7,29,7,30],[11,33,11,36],[10,29,10,32],[5,31,5,37],[6,31,6,37],[7,31,7,37],[8,31,8,37],[9,31,9,37],[9,29,9,30],[10,33,10,36],[8,10,9,15],[8,29,8,30],[9,0,9,3],[9,5,9,7],[11,14,11,15],[10,0,10,15],[10,16,10,22],[10,23,10,28],[11,2,11,3],[11,8,11,12],[8,0,8,3],[8,5,8,7],[1,0,1,37],[2,0,2,37],[4,0,4,3],[4,8,4,10],[4,14,4,15],[4,22,4,37],[5,0,5,3],[5,8,5,10],[5,29,5,30],[6,0,6,3],[6,8,6,10],[6,29,6,30]]}
[]
["VEEDURIA DISTRITAL - RENDICION DE CUENTAS DE LA GESTION CONTRACTUAL EN EL DISTRITO CAPITAL (Acuerdo 380 de 2009)"]
["INFORMACION GENERAL DE CONTRATACION ENTIDADES DISTRITALES  -  ENERO 1 A 31 DICIEMBRE DE 2020"]
[]
["1. Entidad",null,null,null,"Alcaldía Local de Sumapaz",null,null,"2. Sector","Gobierno"]
["3. Presupuesto Disponible Inversión Directa PREDIS",null,null,null,33084584000,null,null,"5. Presupuesto Disponible Funcionamiento PREDIS",2715682384,null,null,null,null,null,null,null,null,null,null,null,null,null,null,null,null,null,null,null,null,"9. Nombre de quien diligencia el formato",null,"JHOJAN ANDRES CASTAÑEDA"]
["4. Presupuesto Comprometido de Inversión Directa según PREDIS ",null,null,null,31467825521,null,null,"6. Presupuesto Comprometido Funcionamiento según PREDIS",2602592605,null,null,null,null,null,null,null,null,null,null,null,null,null,null,null,null,null,null,null,null,"Cargo",null,"PROFESIONAL DE PLANEACION"]
[null,null,null,null,null,null,null,null,null,null,null,null,null,null,null,null,null,null,null,null,null,null,null,null,null,null,null,null,null,"Dependencia",null,"ALCALDIA LOCAL DE SUMAPAZ - GESTION DE DESARROLLO LOCAL"]
["7. Presupuesto Disponible Operación (Régimen Privado)",null,null,null,null,null,null,null,null,null,null,null,null,null,null,null,null,null,null,null,null,null,null,null,null,null,null,null,null,"Teléfono",null,33870000]
["8. Presupuesto Comprometido Operación mediante contratos",null,null,null,null,null,null,null,null,null,null,null,null,null,null,null,null,null,null,null,null,null,null,null,null,null,null,null,null,"Correo Electrónico",null,"jhojan.castañeda@gobiernobogota.gov.co"]
["1- INFORMACION GENERAL",null,null,null,null,null,null,null,null,null,null,null,null,null,null,null,"2- INFORMACION FINANCIERA",null,null,null,null,null,null,"3 - PLAZOS ",null,null,null,null,null,"4. CESION",null,null,null,null,null,null,null,"5. %  Avance y/o cumplimiento"]
[1,2,3,null,4,5,6,7,8,null,null,null,null,9,10,null,11,12,13,14,15,16,17,18,19,20,21,22,23,24,25,26,27,null,null,null,null,29]
["Número Contrato","Año","Proceso Publicado en","Número de proceso contractual \nSECOP","Tipo de contrato ","Modalidad de Selección","Procedimiento o causal","Objeto","Afectación","Plan de Desarrollo Distrital","Número Programa","Equivalencia número de programa","Eje / Pilar / Propósito","Número Proyecto","Número  de Identificación del contratista\n(NIT con digito de verificación)","Nombre del contratista","Valor Inicial del contrato","Número de reducciones","Valor total reducciones \n(En valor negativo)","Número de adiciones","Valor total de adiciones ","Valor Final ","Giros\n(Valor en pesos)","Fecha de suscripción (DD/MM/AAAA)","Fecha de inicio (DD/MM/AAAA)","Fecha de terminación (DD/MM/AAAA)","Plazo en días","Número de prórrogas","Prorroga en días","Número  de Identificación del cesionario\n(NIT con digito de verificación)","Nombre cesionario","Fecha cesión\n(DD/MM/AAAA)","Valor cesión","Celebrado o por iniciar","En Ejecución","Terminado","Liquidado","% Avance y/o Cumplimiento",null,"Total Contratos","Validación Tipo","Validación Modalidad","Validación procedimiento","Validación afectación","Validación programa","secop","Fecha suscripción","PDD"]
["CPS-001-2020",2020,"SECOP II","FDLS-CD-001-2020","Contratos de prestación de servicios","Contratación directa","Prestación de servicios profesionales y de apoyo a la gestión, o para la ejecución de trabajos artísticos que sólo puedan encomendarse a determinadas personas naturales;","PRESTAR LOS SERVICIOS PROFESIONALES COMO ABOGADO PARA APOYAR EL AREA DE GESTIÓN POLICIVA JURÍDICA DE ALCALDÍA LOCAL DE SUMAPAZ.","Inversión","Bogotá Mejor para Todos",45,{"$f":"IF(ISERROR(VLOOKUP(K14,Eje_Pilar_Prop!$C$2:$E$104,2,FALSE)),\" \",VLOOKUP(K14,Eje_Pilar_Prop!$C$2:$E$104,2,FALSE))","v":"Gobernanza e influencia local, regional e internacional"},{"$f":"IF(ISERROR(VLOOKUP(K14,Eje_Pilar_Prop!$C$2:$E$104,3,FALSE)),\" \",VLOOKUP(K14,Eje_Pilar_Prop!$C$2:$E$104,3,FALSE))","v":"Eje Transversal 4 Gobierno Legitimo, Fortalecimiento Local y Eficiencia"},1375,1069727455,"MAGNOLIA KATERIN ALDANA MONTAÑO",66000000,null,null,null,null,{"$f":"+Q14+S14+U14","v":66000000},33366666,"2020-01-24","2020-01-24","2021-01-23",360,null,"",null,null,null,null,null,"x","",null,{"$f":"IF(ISERROR(W14/V14),\"-\",(W14/V14))","v":0.50555554545454551},null,{"$f":"IF(SUMPRODUCT((A$14:A14=A14)*(B$14:B14=B14)*(D$14:D14=D14))>1,0,1)","v":1},{"$f":"IF(ISBLANK(E14),1,IFERROR(VLOOKUP(E14,tipo,1,FALSE),\"NO\"))","v":"Contratos de prestación de servicios"},{"$f":"IF(ISBLANK(F14),1,IFERROR(VLOOKUP(F14,modal,1,FALSE),\"NO\"))","v":"Contratación directa"},{"$f":"IF(ISBLANK(G14),1,IFERROR(VLOOKUP(G14,Tipo!$C$12:$C$27,1,FALSE),\"NO\"))","v":"Prestación de servicios profesionales y de apoyo a la gestión, o para la ejecución de trabajos artísticos que sólo puedan encomendarse a determinadas personas naturales;"},{"$f":"IF(ISBLANK(I14),1,IFERROR(VLOOKUP(I14,afectacion,1,FALSE),\"NO\"))","v":"Inversión"},{"$f":"IF(ISBLANK(K14),1,IFERROR(VLOOKUP(K14,Eje_Pilar_Prop!C3:C104,1,FALSE),\"NO\"))","v":45},{"$f":"IF(ISBLANK(C14),1,IFERROR(VLOOKUP(C14,SECOP,1,FALSE),\"NO\"))","v":"SECOP II"},{"$f":"IF(OR(YEAR(X14)=2020,ISBLANK(X14)),1,\"NO\")","v":1},{"$f":"IF(ISBLANK(J14),1,IFERROR(VLOOKUP(J14,pdd,1,FALSE),\"NO\"))","v":"Bogotá Mejor para Todos"}]
["CPS-002-2020",2020,"SECOP II","FDLS-CD-002-2020","Contratos de prestación de servicios","Contratación directa","Prestación de servicios profesionales y de apoyo a la gestión, o para la ejecución de trabajos artísticos que sólo puedan encomendarse a determinadas personas naturales;","PRESTAR LOS SERVICIOS PARA OPERAR EL VEHÍCULO ASIGNADO, REALIZANDO DE MANERA OPORTUNA EFICIENTE Y SEGURA LOS DESPLAZAMIENTOS DE LOS FUNCIONARIOS DEL FONDO DE DESARROLLO LOCAL DEL SUMAPAZ Y/O DEMÁS PERSONAL QUE REQUIERA SER TRASLADADO EN LA ZONA URBANA Y RURAL DE LA LOCALIDAD EN CUMPLIMIENTO DE LAS ACTIVIDADES PROPIAS DE LA ADMINISTRACIÓN LOCAL.","Inversión","Bogotá Mejor para Todos",45,{"$f":"IF(ISERROR(VLOOKUP(K15,Eje_Pilar_Prop!$C$2:$E$104,2,FALSE)),\" \",VLOOKUP(K15,Eje_Pilar_Prop!$C$2:$E$104,2,FALSE))","v":"Gobernanza e influencia local, regional e internacional"},{"$f":"IF(ISERROR(VLOOKUP(K15,Eje_Pilar_Prop!$C$2:$E$104,3,FALSE)),\" \",VLOOKUP(K15,Eje_Pilar_Prop!$C$2:$E$104,3,FALSE))","v":"Eje Transversal 4 Gobierno Legitimo, Fortalecimiento Local y Eficiencia"},1375,11388875,"WILLIAM OSWALDO RUBIANO TELLEZ",7500000,null,null,1,3750000,11250000,11250000,"2020-01-31","2020-01-31","2020-04-30",90,null,45,null,null,null,null,null,"","x",null,{"$f":"IF(ISERROR(W15/V15),\"-\",(W15/V15))","v":1},null,{"$f":"IF(SUMPRODUCT((A$14:A15=A15)*(B$14:B15=B15)*(D$14:D15=D15))>1,0,1)","v":1},"Contratos de prestación de servicios","Contratación directa",{"$f":"IF(ISBLANK(G15),1,IFERROR(VLOOKUP(G15,Tipo!$C$12:$C$27,1,FALSE),\"NO\"))","v":"Prestación de servicios profesionales y de apoyo a la gestión, o para la ejecución de trabajos artísticos que sólo puedan encomendarse a determinadas personas naturales;"},"Inversión",{"$f":"IF(ISBLANK(K15),1,IFERROR(VLOOKUP(K15,Eje_Pilar_Prop!C4:C105,1,FALSE),\"NO\"))","v":45},"SECOP II",{"$f":"IF(OR(YEAR(X15)=2020,ISBLANK(X15)),1,\"NO\")","v":1},"Bogotá Mejor para Todos"]
["CPS-003-2020",2020,"SECOP II","FDLS-CD-003-2020","Contratos de prestación de servicios","Contratación directa","Prestación de servicios profesionales y de apoyo a la gestión, o para la ejecución de trabajos artísticos que sólo puedan encomendarse a determinadas personas naturales;","PRESTAR LOS SERVICIOS PARA OPERAR EL VEHÍCULO ASIGNADO, REALIZANDO DE MANERA OPORTUNA EFICIENTE Y SEGURA LOS DESPLAZAMIENTOS DE LOS FUNCIONARIOS DEL FONDO DE DESARROLLO LOCAL DEL SUMAPAZ Y/O DEMÁS PERSONAL QUE REQUIERA SER TRASLADADO EN LA ZONA URBANA Y RURAL DE LA LOCALIDAD EN CUMPLIMIENTO DE LAS ACTIVIDADES PROPIAS DE LA ADMINISTRACIÓN LOCAL.","Inversión","Bogotá Mejor para Todos",45,{"$f":"IF(ISERROR(VLOOKUP(K16,Eje_Pilar_Prop!$C$2:$E$104,2,FALSE)),\" \",VLOOKUP(K16,Eje_Pilar_Prop!$C$2:$E$104,2,FALSE))","v":"Gobernanza e influencia local, regional e internacional"},{"$f":"IF(ISERROR(VLOOKUP(K16,Eje_Pilar_Prop!$C$2:$E$104,3,FALSE)),\" \",VLOOKUP(K16,Eje_Pilar_Prop!$C$2:$E$104,3,FALSE))","v":"Eje Transversal 4 Gobierno Legitimo, Fortalecimiento Local y Eficiencia"},1375,4090379,"CARLOS JULIO CRUZ AMAYA",7500000,null,null,1,3750000,11250000,11250000,"2020-01-31","2020-01-31","2020-04-30",90,null,45,null,null,null,null,null,"","x",null,1,null,{"$f":"IF(SUMPRODUCT((A$14:A16=A16)*(B$14:B16=B16)*(D$14:D16=D16))>1,0,1)","v":1},"Contratos de prestación de servicios","Contratación directa",{"$f":"IF(ISBLANK(G16),1,IFERROR(VLOOKUP(G16,Tipo!$C$12:$C$27,1,FALSE),\"NO\"))","v":"Prestación de servicios profesionales y de apoyo a la gestión, o para la ejecución de trabajos artísticos que sólo puedan encomendarse a determinadas personas naturales;"},"Inversión",{"$f":"IF(ISBLANK(K16),1,IFERROR(VLOOKUP(K16,Eje_Pilar_Prop!C5:C106,1,FALSE),\"NO\"))","v":45},"SECOP II",1,"Bogotá Mejor para Todos"]
["CPS-004-2020",2020,"SECOP II","FDLS-CD-004-2020","Contratos de prestación de servicios","Contratación directa","Prestación de servicios profesionales y de apoyo a la gestión, o para la ejecución de trabajos artísticos que sólo puedan encomendarse a determinadas personas naturales;","PRESTAR LOS SERVICIOS PARA OPERAR EL VEHÍCULO ASIGNADO, REALIZANDO DE MANERA OPORTUNA EFICIENTE Y SEGURA LOS DESPLAZAMIENTOS DE LOS FUNCIONARIOS DEL FONDO DE DESARROLLO LOCAL DEL SUMAPAZ Y/O DEMÁS PERSONAL QUE REQUIERA SER TRASLADADO EN LA ZONA URBANA Y RURAL DE LA LOCALIDAD EN CUMPLIMIENTO DE LAS ACTIVIDADES PROPIAS DE LA ADMINISTRACIÓN LOCAL.","Inversión","Bogotá Mejor para Todos",45,{"$f":"IF(ISERROR(VLOOKUP(K17,Eje_Pilar_Prop!$C$2:$E$104,2,FALSE)),\" \",VLOOKUP(K17,Eje_Pilar_Prop!$C$2:$E$104,2,FALSE))","v":"Gobernanza e influencia local, regional e internacional"},{"$f":"IF(ISERROR(VLOOKUP(K17,Eje_Pilar_Prop!$C$2:$E$104,3,FALSE)),\" \",VLOOKUP(K17,Eje_Pilar_Prop!$C$2:$E$104,3,FALSE))","v":"Eje Transversal 4 Gobierno Legitimo, Fortalecimiento Local y Eficiencia"},1375,1032656249,"ANGEL RODRIGO MUÑOZ",7500000,null,null,1,3750000,11250000,11250000,"2020-02-05","2020-02-05","2020-05-04",90,null,46,null,null,null,null,null,"","x",null,1,null,{"$f":"IF(SUMPRODUCT((A$14:A17=A17)*(B$14:B17=B17)*(D$14:D17=D17))>1,0,1)","v":1},"Contratos de prestación de servicios","Contratación directa",{"$f":"IF(ISBLANK(G17),1,IFERROR(VLOOKUP(G17,Tipo!$C$12:$C$27,1,FALSE),\"NO\"))","v":"Prestación de servicios profesionales y de apoyo a la gestión, o para la ejecución de trabajos artísticos que sólo puedan encomendarse a determinadas personas naturales;"},"Inversión",{"$f":"IF(ISBLANK(K17),1,IFERROR(VLOOKUP(K17,Eje_Pilar_Prop!C6:C107,1,FALSE),\"NO\"))","v":45},"SECOP II",1,"Bogotá Mejor para Todos"]
["CPS-005-2020",2020,"SECOP II","FDLS-CD-005-2020","Contratos de prestación de servicios","Contratación directa","Prestación de servicios profesionales y de apoyo a la gestión, o para la ejecución de trabajos artísticos que sólo puedan encomendarse a determinadas personas naturales;","PRESTAR SERVICIOS PROFESIONALES ESPECIALIZADOS PARA LOS COMPONENTES DE INFRAESTRUCTURA Y MALLA VIAL","Inversión","Bogotá Mejor para Todos",18,{"$f":"IF(ISERROR(VLOOKUP(K18,Eje_Pilar_Prop!$C$2:$E$104,2,FALSE)),\" \",VLOOKUP(K18,Eje_Pilar_Prop!$C$2:$E$104,2,FALSE))","v":"Mejor movilidad para todos"},{"$f":"IF(ISERROR(VLOOKUP(K18,Eje_Pilar_Prop!$C$2:$E$104,3,FALSE)),\" \",VLOOKUP(K18,Eje_Pilar_Prop!$C$2:$E$104,3,FALSE))","v":"Pilar 2 Democracía Urbana"},1364,52388518,"JOHANA ELIZABETH TRIANA HENAO",22500000,null,null,null,null,22500000,22500000,"2020-02-06","2020-02-06","2020-05-05",90,null,"",null,null,null,null,null,"","x",null,1,null,{"$f":"IF(SUMPRODUCT((A$14:A18=A18)*(B$14:B18=B18)*(D$14:D18=D18))>1,0,1)","v":1},"Contratos de prestación de servicios","Contratación directa",{"$f":"IF(ISBLANK(G18),1,IFERROR(VLOOKUP(G18,Tipo!$C$12:$C$27,1,FALSE),\"NO\"))","v":"Prestación de servicios profesionales y de apoyo a la gestión, o para la ejecución de trabajos artísticos que sólo puedan encomendarse a determinadas personas naturales;"},"Inversión",{"$f":"IF(ISBLANK(K18),1,IFERROR(VLOOKUP(K18,Eje_Pilar_Prop!C7:C108,1,FALSE),\"NO\"))","v":18},"SECOP II",1,"Bogotá Mejor para Todos"]
["CPS-006-2020",2020,"SECOP II","FDLS-CD-006-2020","Contratos de prestación de servicios","Contratación directa","Prestación de servicios profesionales y de apoyo a la gestión, o para la ejecución de trabajos artísticos que sólo puedan encomendarse a determinadas personas naturales;","PRESTAR LOS SERVICIOS PROFESIONALES AL DESPACHO DE LA ALCALDIA LOCAL DE SUMAPAZ PARA EL CUMPLIMIENTO DEL PLAN DE DESARROLLO \"SUMAPAZ EN PAZ, MÁS PRODUCTIVA Y AMBIENTAL PARA TODOS\" 2017-2020.","Inversión","Bogotá Mejor para Todos",45,{"$f":"IF(ISERROR(VLOOKUP(K19,Eje_Pilar_Prop!$C$2:$E$104,2,FALSE)),\" \",VLOOKUP(K19,Eje_Pilar_Prop!$C$2:$E$104,2,FALSE))","v":"Gobernanza e influencia local, regional e internacional"},{"$f":"IF(ISERROR(VLOOKUP(K19,Eje_Pilar_Prop!$C$2:$E$104,3,FALSE)),\" \",VLOOKUP(K19,Eje_Pilar_Prop!$C$2:$E$104,3,FALSE))","v":"Eje Transversal 4 Gobierno Legitimo, Fortalecimiento Local y Eficiencia"},1375,1015415370,"ANGIE CAROLINA PRIETO ALVARADO",16500000,null,null,null,null,16500000,15583333,"2020-02-06","2020-02-06","2020-05-05",90,null,"",null,null,null,null,null,"","x",null,0.94444442424242425,null,{"$f":"IF(SUMPRODUCT((A$14:A19=A19)*(B$14:B19=B19)*(D$14:D19=D19))>1,0,1)","v":1},"Contratos de prestación de servicios","Contratación directa",{"$f":"IF(ISBLANK(G19),1,IFERROR(VLOOKUP(G19,Tipo!$C$12:$C$27,1,FALSE),\"NO\"))","v":"Prestación de servicios profesionales y de apoyo a la gestión, o para la ejecución de trabajos artísticos que sólo puedan encomendarse a determinadas personas naturales;"},"Inversión",{"$f":"IF(ISBLANK(K19),1,IFERROR(VLOOKUP(K19,Eje_Pilar_Prop!C8:C109,1,FALSE),\"NO\"))","v":45},"SECOP II",1,"Bogotá Mejor para Todos"]
["CPS-007-2020",2020,"SECOP II","FDLS-CD-007-2020","Contratos de prestación de servicios","Contratación directa","Prestación de servicios profesionales y de apoyo a la gestión, o para la ejecución de trabajos artísticos que sólo puedan encomendarse a determinadas personas naturales;","PRESTAR LOS SERVICIOS PROFESIONALES COMO ABOGADO DE APOYO AL ÁREA DE GESTIÓN POLICIVA JURÍDICA SUMAPAZ, EN EL DESARROLLO DE LAS FUNCIONES PROPIAS DE ESA DEPENDENCIA","Inversión","Bogotá Mejor para Todos",45,{"$f":"IF(ISERROR(VLOOKUP(K20,Eje_Pilar_Prop!$C$2:$E$104,2,FALSE)),\" \",VLOOKUP(K20,Eje_Pilar_Prop!$C$2:$E$104,2,FALSE))","v":"Gobernanza e influencia local, regional e internacional"},{"$f":"IF(ISERROR(VLOOKUP(K20,Eje_Pilar_Prop!$C$2:$E$104,3,FALSE)),\" \",VLOOKUP(K20,Eje_Pilar_Prop!$C$2:$E$104,3,FALSE))","v":"Eje Transversal 4 Gobierno Legitimo, Fortalecimiento Local y Eficiencia"},1375,78114406,"FRANK JAVIER MARQUEZ ARRIETA",16500000,null,null,null,null,16500000,16500000,"2020-02-06","2020-02-06","2020-05-05",90,null,"",null,null,null,null,null,"","x",null,1,null,{"$f":"IF(SUMPRODUCT((A$14:A20=A20)*(B$14:B20=B20)*(D$14:D20=D20))>1,0,1)","v":1},"Contratos de prestación de servicios","Contratación directa",{"$f":"IF(ISBLANK(G20),1,IFERROR(VLOOKUP(G20,Tipo!$C$12:$C$27,1,FALSE),\"NO\"))","v":"Prestación de servicios profesionales y de apoyo a la gestión, o para la ejecución de trabajos artísticos que sólo puedan encomendarse a determinadas personas naturales;"},"Inversión",{"$f":"IF(ISBLANK(K20),1,IFERROR(VLOOKUP(K20,Eje_Pilar_Prop!C9:C110,1,FALSE),\"NO\"))","v":45},"SECOP II",1,"Bogotá Mejor para Todos"]
["CPS-008-2020",2020,"SECOP II","FDLS-CD-008-2020","Contratos de prestación de servicios","Contratación directa","Prestación de servicios profesionales y de apoyo a la gestión, o para la ejecución de trabajos artísticos que sólo puedan encomendarse a determinadas personas naturales;","PRESTAR LOS SERVICIOS PROFESIONALES AL AREA DE GESTION DE DESARROLLO LOCAL PARA LA REALIZAR LA FORMULACION Y SEGUIMIENTO A LOS PROYECTOS DE INVERSION O COMPONENTES QUE LE SEAN DESIGNADOS","Inversión","Bogotá Mejor para Todos",18,{"$f":"IF(ISERROR(VLOOKUP(K21,Eje_Pilar_Prop!$C$2:$E$104,2,FALSE)),\" \",VLOOKUP(K21,Eje_Pilar_Prop!$C$2:$E$104,2,FALSE))","v":"Mejor movilidad para todos"},{"$f":"IF(ISERROR(VLOOKUP(K21,Eje_Pilar_Prop!$C$2:$E$104,3,FALSE)),\" \",VLOOKUP(K21,Eje_Pilar_Prop!$C$2:$E$104,3,FALSE))","v":"Pilar 2 Democracía Urbana"},1364,79719940,"CESAR ALEXANDER URIZA ROJAS ",16500000,null,null,null,null,16500000,16500000,"2020-02-05","2020-02-05","2020-05-04",90,null,"",null,null,null,null,null,"","x",null,1,null,{"$f":"IF(SUMPRODUCT((A$14:A21=A21)*(B$14:B21=B21)*(D$14:D21=D21))>1,0,1)","v":1},"Contratos de prestación de servicios","Contratación directa",{"$f":"IF(ISBLANK(G21),1,IFERROR(VLOOKUP(G21,Tipo!$C$12:$C$27,1,FALSE),\"NO\"))","v":"Prestación de servicios profesionales y de apoyo a la gestión, o para la ejecución de trabajos artísticos que sólo puedan encomendarse a determinadas personas naturales;"},"Inversión",{"$f":"IF(ISBLANK(K21),1,IFERROR(VLOOKUP(K21,Eje_Pilar_Prop!C10:C111,1,FALSE),\"NO\"))","v":18},"SECOP II",1,"Bogotá Mejor para Todos"]
["CPS-009-2020",2020,"SECOP II","FDLS-CD-009-2020","Contratos de prestación de servicios","Contratación directa","Prestación de servicios profesionales y de apoyo a la gestión, o para la ejecución de trabajos artísticos que sólo puedan encomendarse a determinadas personas naturales;","PRESTAR LOS SERVICIOS PROFESIONALES PARA COORDINAR LA ARTICULACION, ASISTENCIA Y ACOMPAÑAMIENTO DE LOS PROCESOS DE PLANEACION LOCAL PARA LA PROMOCION DE LA PARTICIPACION DE LAS MUIJERES Y DE EQUIDAD DE GENERO PARA MATERIALIZAR EN LA LOCALIDAD DE SUMAPAZ LAS ESTRATEGIAS DE TERRITORIZACION Y TRANSVERSALIZACION DE LA POLITICA PUBLICA DE MUJERES Y EQUIDAD DE GENERO ","Inversión","Bogotá Mejor para Todos",45,{"$f":"IF(ISERROR(VLOOKUP(K22,Eje_Pilar_Prop!$C$2:$E$104,2,FALSE)),\" \",VLOOKUP(K22,Eje_Pilar_Prop!$C$2:$E$104,2,FALSE))","v":"Gobernanza e influencia local, regional e internacional"},{"$f":"IF(ISERROR(VLOOKUP(K22,Eje_Pilar_Prop!$C$2:$E$104,3,FALSE)),\" \",VLOOKUP(K22,Eje_Pilar_Prop!$C$2:$E$104,3,FALSE))","v":"Eje Transversal 4 Gobierno Legitimo, Fortalecimiento Local y Eficiencia"},1375,520083301,"ANA ROSA BAUTISTA RINCON",16500000,null,null,null,null,16500000,16500000,"2020-02-06","2020-02-06","2020-05-05",90,null,"",null,null,null,null,null,"","x",null,{"$f":"IF(ISERROR(W22/V22),\"-\",(W22/V22))","v":1},null,{"$f":"IF(SUMPRODUCT((A$14:A22=A22)*(B$14:B22=B22)*(D$14:D22=D22))>1,0,1)","v":1},"Contratos de prestación de servicios","Contratación directa",{"$f":"IF(ISBLANK(G22),1,IFERROR(VLOOKUP(G22,Tipo!$C$12:$C$27,1,FALSE),\"NO\"))","v":"Prestación de servicios profesionales y de apoyo a la gestión, o para la ejecución de trabajos artísticos que sólo puedan encomendarse a determinadas personas naturales;"},"Inversión",{"$f":"IF(ISBLANK(K22),1,IFERROR(VLOOKUP(K22,Eje_Pilar_Prop!C4:C105,1,FALSE),\"NO\"))","v":45},"SECOP II",{"$f":"IF(OR(YEAR(X22)=2020,ISBLANK(X22)),1,\"NO\")","v":1},"Bogotá Mejor para Todos"]
["CPS-010-2020",2020,"SECOP II","FDLS-CD-010-2020","Contratos de prestación de servicios","Contratación directa","Prestación de servicios profesionales y de apoyo a la gestión, o para la ejecución de trabajos artísticos que sólo puedan encomendarse a determinadas personas naturales;","PRESTAR LOS SERVICIOS PROFESIONALES PARA LIDERAR Y GARANTIZAR LA IMPLEMEMTACION Y SEGUIMIENTO DE LOS PROCESOS Y PROCEDIMIENTOS DEL SERVICIO SOCIAL APOYO ECONOMICO TIPO C QUE CONTRIBUYAN A LA GARANTIA DE LOS DERECHOS DE LA POBLACION MAYOR EN EL MARCO DE LA POLITICA PUBLICA SOCIAL PARA EL ENVEJECIMIENTO Y LA VEJEZ EN EL DISTRITO CAPITAL A CARGO DE LA LOCALIDAD DE SUMAPAZ","Inversión","Bogotá Mejor para Todos",45,{"$f":"IF(ISERROR(VLOOKUP(K23,Eje_Pilar_Prop!$C$2:$E$104,2,FALSE)),\" \",VLOOKUP(K23,Eje_Pilar_Prop!$C$2:$E$104,2,FALSE))","v":"Gobernanza e influencia local, regional e internacional"},{"$f":"IF(ISERROR(VLOOKUP(K23,Eje_Pilar_Prop!$C$2:$E$104,3,FALSE)),\" \",VLOOKUP(K23,Eje_Pilar_Prop!$C$2:$E$104,3,FALSE))","v":"Eje Transversal 4 Gobierno Legitimo, Fortalecimiento Local y Eficiencia"},1375,7706046,"PABON CORTES LUIS ALEJANDRO",16500000,null,null,null,null,16500000,16500000,"2020-02-13","2020-02-13","2020-05-12",90,null,"",null,null,null,null,null,"","x",null,{"$f":"IF(ISERROR(W23/V23),\"-\",(W23/V23))","v":1},null,{"$f":"IF(SUMPRODUCT((A$14:A23=A23)*(B$14:B23=B23)*(D$14:D23=D23))>1,0,1)","v":1},"Contratos de prestación de servicios","Contratación directa",{"$f":"IF(ISBLANK(G23),1,IFERROR(VLOOKUP(G23,Tipo!$C$12:$C$27,1,FALSE),\"NO\"))","v":"Prestación de servicios profesionales y de apoyo a la gestión, o para la ejecución de trabajos artísticos que sólo puedan encomendarse a determinadas personas naturales;"},"Inversión",{"$f":"IF(ISBLANK(K23),1,IFERROR(VLOOKUP(K23,Eje_Pilar_Prop!C5:C106,1,FALSE),\"NO\"))","v":45},"SECOP II",1,"Bogotá Mejor para Todos"]
["CPS-011-2020",2020,"SECOP II","FDLS-CD-011-2020","Contratos de prestación de servicios","Contratación directa","Prestación de servicios profesionales y de apoyo a la gestión, o para la ejecución de trabajos artísticos que sólo puedan encomendarse a determinadas personas naturales;","PRESTAR SUS SERVICIOS COMO INGENIERO DIRECTOR DEL PARQUE AUTOMOTOR DE MAQUINARIA PESADA DE PROPIEDAD DEL FONDO DE DESARROLLO LOCAL DE SUMASPAZ, PARA LA REALIZACION DE LABORES DE MANTENIMIENTO DE LA MALLA VIAL Y ZONAS PUBLICAS, ASIC COMO ATENDER LAS EMERGENCIAS VIALES QUE SURJAN EN LA LOCALIDAD DE SUMAPAZ ","Inversión","Bogotá Mejor para Todos",18,{"$f":"IF(ISERROR(VLOOKUP(K24,Eje_Pilar_Prop!$C$2:$E$104,2,FALSE)),\" \",VLOOKUP(K24,Eje_Pilar_Prop!$C$2:$E$104,2,FALSE))","v":"Mejor movilidad para todos"},{"$f":"IF(ISERROR(VLOOKUP(K24,Eje_Pilar_Prop!$C$2:$E$104,3,FALSE)),\" \",VLOOKUP(K24,Eje_Pilar_Prop!$C$2:$E$104,3,FALSE))","v":"Pilar 2 Democracía Urbana"},1364,80166444,"YERNEY ROLANDO RODRIGUEZ AVILA ",13750000,null,null,null,null,13750000,13750000,"2020-02-13","2020-02-13","2020-04-28",75,null,"",null,null,null,null,null,"","x",null,1,null,{"$f":"IF(SUMPRODUCT((A$14:A24=A24)*(B$14:B24=B24)*(D$14:D24=D24))>1,0,1)","v":1},"Contratos de prestación de servicios","Contratación directa",{"$f":"IF(ISBLANK(G24),1,IFERROR(VLOOKUP(G24,Tipo!$C$12:$C$27,1,FALSE),\"NO\"))","v":"Prestación de servicios profesionales y de apoyo a la gestión, o para la ejecución de trabajos artísticos que sólo puedan encomendarse a determinadas personas naturales;"},"Inversión",{"$f":"IF(ISBLANK(K24),1,IFERROR(VLOOKUP(K24,Eje_Pilar_Prop!C6:C107,1,FALSE),\"NO\"))","v":18},"SECOP II",1,"Bogotá Mejor para Todos"]
["CPS-012-2020",2020,"SECOP II","FDLS-CD-012-2020","Contratos de prestación de servicios","Contratación directa","Prestación de servicios profesionales y de apoyo a la gestión, o para la ejecución de trabajos artísticos que sólo puedan encomendarse a determinadas personas naturales;","APOYA A LA GESTION DOCUMENTAL DE LA ALCALDIA LOCAL DE SUMAPAZ EN LA IMPLEMENTACION DE LOS PROCESOS DE CLASIFICACION, ORDENACION, SELECCIÓN NATURAL, FOLIACION, IDENTIFICACION, LEVANTAMIENTO DE INVENTARIO, ALMACENAMIENTO Y APLICACIÓN DE PROTOCOLOS DE ELIMINACION Y TRANSFERENCIAS DOCUMENTALES ","Inversión","Bogotá Mejor para Todos",45,{"$f":"IF(ISERROR(VLOOKUP(K25,Eje_Pilar_Prop!$C$2:$E$104,2,FALSE)),\" \",VLOOKUP(K25,Eje_Pilar_Prop!$C$2:$E$104,2,FALSE))","v":"Gobernanza e influencia local, regional e internacional"},{"$f":"IF(ISERROR(VLOOKUP(K25,Eje_Pilar_Prop!$C$2:$E$104,3,FALSE)),\" \",VLOOKUP(K25,Eje_Pilar_Prop!$C$2:$E$104,3,FALSE))","v":"Eje Transversal 4 Gobierno Legitimo, Fortalecimiento Local y Eficiencia"},1375,51876508,"DORIS CRISTINA GARCIA ADARVE",7500000,null,null,null,null,7500000,7500000,"2020-02-10","2020-02-10","2020-05-09",90,null,"",null,null,null,null,null,"","x",null,{"$f":"IF(ISERROR(W25/V25),\"-\",(W25/V25))","v":1},null,{"$f":"IF(SUMPRODUCT((A$14:A25=A25)*(B$14:B25=B25)*(D$14:D25=D25))>1,0,1)","v":1},"Contratos de prestación de servicios","Contratación directa",{"$f":"IF(ISBLANK(G25),1,IFERROR(VLOOKUP(G25,Tipo!$C$12:$C$27,1,FALSE),\"NO\"))","v":"Prestación de servicios profesionales y de apoyo a la gestión, o para la ejecución de trabajos artísticos que sólo puedan encomendarse a determinadas personas naturales;"},"Inversión",{"$f":"IF(ISBLANK(K25),1,IFERROR(VLOOKUP(K25,Eje_Pilar_Prop!C7:C108,1,FALSE),\"NO\"))","v":45},"SECOP II",1,"Bogotá Mejor para Todos"]
["CPS-013-2020",2020,"SECOP II","FDLS-CD-013-2020","Contratos de prestación de servicios","Contratación directa","Prestación de servicios profesionales y de apoyo a la gestión, o para la ejecución de trabajos artísticos que sólo puedan encomendarse a determinadas personas naturales;","PRESTAR LOS SERVICIOS PROFESIONALES AL ÁREA DE GESTIÓN DE DESARROLLO LOCAL PARA REALIZAR LA FORMULACIÓN, SEGUIMIENTO A LOS DIFERENTES PROCESOS RELACIONADOS CON LA INFRAESTRUCTURA DE LA LOCALIDAD DE SUMAPAZ","Inversión","Bogotá Mejor para Todos",18,{"$f":"IF(ISERROR(VLOOKUP(K26,Eje_Pilar_Prop!$C$2:$E$104,2,FALSE)),\" \",VLOOKUP(K26,Eje_Pilar_Prop!$C$2:$E$104,2,FALSE))","v":"Mejor movilidad para todos"},{"$f":"IF(ISERROR(VLOOKUP(K26,Eje_Pilar_Prop!$C$2:$E$104,3,FALSE)),\" \",VLOOKUP(K26,Eje_Pilar_Prop!$C$2:$E$104,3,FALSE))","v":"Pilar 2 Democracía Urbana"},1364,1090424977,"JUAN DAVID CORTES GOMEZ",16500000,null,null,null,null,16500000,16500000,null,"2020-02-06","2020-05-05",90,null,"",null,null,null,null,null,"","x",null,{"$f":"IF(ISERROR(W26/V26),\"-\",(W26/V26))","v":1},null,{"$f":"IF(SUMPRODUCT((A$14:A26=A26)*(B$14:B26=B26)*(D$14:D26=D26))>1,0,1)","v":1},"Contratos de prestación de servicios","Contratación directa",{"$f":"IF(ISBLANK(G26),1,IFERROR(VLOOKUP(G26,Tipo!$C$12:$C$27,1,FALSE),\"NO\"))","v":"Prestación de servicios profesionales y de apoyo a la gestión, o para la ejecución de trabajos artísticos que sólo puedan encomendarse a determinadas personas naturales;"},"Inversión",{"$f":"IF(ISBLANK(K26),1,IFERROR(VLOOKUP(K26,Eje_Pilar_Prop!C8:C109,1,FALSE),\"NO\"))","v":18},"SECOP II",{"$f":"IF(OR(YEAR(X26)=2020,ISBLANK(X26)),1,\"NO\")","v":1},"Bogotá Mejor para Todos"]
["CPS-014-2020",2020,"SECOP II","FDLS-CD-014-2020","Contratos de prestación de servicios","Contratación directa","Prestación de servicios profesionales y de apoyo a la gestión, o para la ejecución de trabajos artísticos que sólo puedan encomendarse a determinadas personas naturales;","PRESTAR LOS SERVICIOS DE APOYO A LOS ARCHIVOS DE GESTION DE LA ENTIDADEN LA IMPLEMENTACION DE LOS PROCESOS DE CLASIFICACION, ORDENACION, SELECCIÓN NATURAL, FOLIACION, IDENTIFICACION, LEVANTAMIENTO DE INVENTARIOS, ALMACENAMIENTO Y APLICACIÓN DE PROTOCOLOS DE ELIMINACION Y TRANSFERENCIAS DOCUMENTALES. ","Inversión","Bogotá Mejor para Todos",45,{"$f":"IF(ISERROR(VLOOKUP(K27,Eje_Pilar_Prop!$C$2:$E$104,2,FALSE)),\" \",VLOOKUP(K27,Eje_Pilar_Prop!$C$2:$E$104,2,FALSE))","v":"Gobernanza e influencia local, regional e internacional"},{"$f":"IF(ISERROR(VLOOKUP(K27,Eje_Pilar_Prop!$C$2:$E$104,3,FALSE)),\" \",VLOOKUP(K27,Eje_Pilar_Prop!$C$2:$E$104,3,FALSE))","v":"Eje Transversal 4 Gobierno Legitimo, Fortalecimiento Local y Eficiencia"},1375,1032452416,"LICETH ANDREA VARGAS VANEGAS ",6000000,null,null,null,null,6000000,6000000,"2020-02-10","2020-02-10","2020-05-11",90,null,"",null,null,null,null,null,"","x",null,1,null,{"$f":"IF(SUMPRODUCT((A$14:A27=A27)*(B$14:B27=B27)*(D$14:D27=D27))>1,0,1)","v":1},null,"Contratación directa",{"$f":"IF(ISBLANK(G27),1,IFERROR(VLOOKUP(G27,Tipo!$C$12:$C$27,1,FALSE),\"NO\"))","v":"Prestación de servicios profesionales y de apoyo a la gestión, o para la ejecución de trabajos artísticos que sólo puedan encomendarse a determinadas personas naturales;"},"Inversión",{"$f":"IF(ISBLANK(K27),1,IFERROR(VLOOKUP(K27,Eje_Pilar_Prop!C9:C110,1,FALSE),\"NO\"))","v":45},"SECOP II",{"$f":"IF(OR(YEAR(X27)=2020,ISBLANK(X27)),1,\"NO\")","v":1},"Bogotá Mejor para Todos"]
["CPS-015-2020",2020,"SECOP II","FDLS-CD-015-2020","Contratos de prestación de servicios","Contratación directa","Prestación de servicios profesionales y de apoyo a la gestión, o para la ejecución de trabajos artísticos que sólo puedan encomendarse a determinadas personas naturales;","APOYAR EN LAS TAREAS OPERATIVAS DE CARÁCTER ARCHIVÍSTICO DESARROLLADAS EN LA ALCALDÍA LOCAL PARA GARANTIZAR LA APLICACIÓN CORRECTA DE LOS PROCEDIMIENTOS TÉCNICOS.","Inversión","Bogotá Mejor para Todos",45,{"$f":"IF(ISERROR(VLOOKUP(K28,Eje_Pilar_Prop!$C$2:$E$104,2,FALSE)),\" \",VLOOKUP(K28,Eje_Pilar_Prop!$C$2:$E$104,2,FALSE))","v":"Gobernanza e influencia local, regional e internacional"},{"$f":"IF(ISERROR(VLOOKUP(K28,Eje_Pilar_Prop!$C$2:$E$104,3,FALSE)),\" \",VLOOKUP(K28,Eje_Pilar_Prop!$C$2:$E$104,3,FALSE))","v":"Eje Transversal 4 Gobierno Legitimo, Fortalecimiento Local y Eficiencia"},1375,1010160606,"SANDRA JOHANNA APACHE CHICA",10440000,null,null,null,null,10440000,10440000,"2020-03-04","2020-03-04","2020-06-03",90,null,"",null,null,null,null,null,"","x",null,1,null,{"$f":"IF(SUMPRODUCT((A$14:A28=A28)*(B$14:B28=B28)*(D$14:D28=D28))>1,0,1)","v":1},"Contratos de prestación de servicios","Contratación directa",{"$f":"IF(ISBLANK(G28),1,IFERROR(VLOOKUP(G28,Tipo!$C$12:$C$27,1,FALSE),\"NO\"))","v":"Prestación de servicios profesionales y de apoyo a la gestión, o para la ejecución de trabajos artísticos que sólo puedan encomendarse a determinadas personas naturales;"},"Inversión",{"$f":"IF(ISBLANK(K28),1,IFERROR(VLOOKUP(K28,Eje_Pilar_Prop!C10:C111,1,FALSE),\"NO\"))","v":45},"SECOP II",1,"Bogotá Mejor para Todos"]
["CPS-016-2020",2020,"SECOP II","FDLS-CD-016-2020","Contratos de prestación de servicios","Contratación directa","Prestación de servicios profesionales y de apoyo a la gestión, o para la ejecución de trabajos artísticos que sólo puedan encomendarse a determinadas personas naturales;","PRESTAR SUS SERVICIOS COMO CONDUCTOR DE VEHÍCULOS PESADOS DE PROPIEDAD DEL FONDO DE DESARROLLO LOCAL DE SUMAPAZ QUE LE SEA ASIGNADA PARA LA REALIZACIÓN DE LABORES DE MANTENIMIENTO DE LA MALLA VIAL Y LAS ZONAS PÚBLICAS DE LA LOCALIDAD, ASÍ COMO ATENDER LAS EMERGENCIAS VIALES QUE SURJAN EN LA LOCALIDAD DE SUMAPAZ","Inversión","Bogotá Mejor para Todos",18,{"$f":"IF(ISERROR(VLOOKUP(K29,Eje_Pilar_Prop!$C$2:$E$104,2,FALSE)),\" \",VLOOKUP(K29,Eje_Pilar_Prop!$C$2:$E$104,2,FALSE))","v":"Mejor movilidad para todos"},{"$f":"IF(ISERROR(VLOOKUP(K29,Eje_Pilar_Prop!$C$2:$E$104,3,FALSE)),\" \",VLOOKUP(K29,Eje_Pilar_Prop!$C$2:$E$104,3,FALSE))","v":"Pilar 2 Democracía Urbana"},1364,80452901,"NILSON LOPEZ RAMIREZ",6250000,null,null,null,null,6250000,6250000,"2020-03-04","2020-03-04","2020-05-18",75,null,"",null,null,null,null,null,"","x",null,1,null,{"$f":"IF(SUMPRODUCT((A$14:A29=A29)*(B$14:B29=B29)*(D$14:D29=D29))>1,0,1)","v":1},"Contratos de prestación de servicios","Contratación directa",{"$f":"IF(ISBLANK(G29),1,IFERROR(VLOOKUP(G29,Tipo!$C$12:$C$27,1,FALSE),\"NO\"))","v":"Prestación de servicios profesionales y de apoyo a la gestión, o para la ejecución de trabajos artísticos que sólo puedan encomendarse a determinadas personas naturales;"},"Inversión",{"$f":"IF(ISBLANK(K29),1,IFERROR(VLOOKUP(K29,Eje_Pilar_Prop!C11:C112,1,FALSE),\"NO\"))","v":18},"SECOP II",1,"Bogotá Mejor para Todos"]
["CPS-017-2020",2020,"SECOP II","FDLS-CD-017-2020","Contratos de prestación de servicios","Contratación directa","Prestación de servicios profesionales y de apoyo a la gestión, o para la ejecución de trabajos artísticos que sólo puedan encomendarse a determinadas personas naturales;","PRESTAR SUS SERVICIOS COMO CONDUCTOR DE VEHÍCULOS PESADOS DE PROPIEDAD DEL FONDO DE DESARROLLO LOCAL DE SUMAPAZ QUE LE SEA ASIGNADA PARA LA REALIZACIÓN DE LABORES DE MANTENIMIENTO DE LA MALLA VIAL Y LAS ZONAS PÚBLICAS DE LA LOCALIDAD, ASÍ COMO ATENDER LAS EMERGENCIAS VIALES QUE SURJAN EN LA LOCALIDAD DE SUMAPAZ","Inversión","Bogotá Mejor para Todos",18,{"$f":"IF(ISERROR(VLOOKUP(K30,Eje_Pilar_Prop!$C$2:$E$104,2,FALSE)),\" \",VLOOKUP(K30,Eje_Pilar_Prop!$C$2:$E$104,2,FALSE))","v":"Mejor movilidad para todos"},{"$f":"IF(ISERROR(VLOOKUP(K30,Eje_Pilar_Prop!$C$2:$E$104,3,FALSE)),\" \",VLOOKUP(K30,Eje_Pilar_Prop!$C$2:$E$104,3,FALSE))","v":"Pilar 2 Democracía Urbana"},1364,1032656348,"JHON EDUARD ROMERO MICAN",6250000,null,null,null,null,6250000,6250000,"2020-03-04","2020-03-04","2020-05-18",75,null,"",null,null,null,null,null,"","x",null,1,null,{"$f":"IF(SUMPRODUCT((A$14:A30=A30)*(B$14:B30=B30)*(D$14:D30=D30))>1,0,1)","v":1},"Contratos de prestación de servicios","Contratación directa",{"$f":"IF(ISBLANK(G30),1,IFERROR(VLOOKUP(G30,Tipo!$C$12:$C$27,1,FALSE),\"NO\"))","v":"Prestación de servicios profesionales y de apoyo a la gestión, o para la ejecución de trabajos artísticos que sólo puedan encomendarse a determinadas personas naturales;"},"Inversión",{"$f":"IF(ISBLANK(K30),1,IFERROR(VLOOKUP(K30,Eje_Pilar_Prop!C12:C113,1,FALSE),\"NO\"))","v":18},"SECOP II",1,"Bogotá Mejor para Todos"]
["CPS-018-2020",2020,"SECOP II","FDLS-CD-018-2020","Contratos de prestación de servicios","Contratación directa","Prestación de servicios profesionales y de apoyo a la gestión, o para la ejecución de trabajos artísticos que sólo puedan encomendarse a determinadas personas naturales;","PRESTAR SUS SERVICIOS COMO TECNICO DE APOYO ADMINISTRATIVO AL AREA DE GESTION DE DESARROLLO LOCAL DE LA ALCALDIA LOCAL DE SUMAPAZ.","Inversión","Bogotá Mejor para Todos",45,{"$f":"IF(ISERROR(VLOOKUP(K31,Eje_Pilar_Prop!$C$2:$E$104,2,FALSE)),\" \",VLOOKUP(K31,Eje_Pilar_Prop!$C$2:$E$104,2,FALSE))","v":"Gobernanza e influencia local, regional e internacional"},{"$f":"IF(ISERROR(VLOOKUP(K31,Eje_Pilar_Prop!$C$2:$E$104,3,FALSE)),\" \",VLOOKUP(K31,Eje_Pilar_Prop!$C$2:$E$104,3,FALSE))","v":"Eje Transversal 4 Gobierno Legitimo, Fortalecimiento Local y Eficiencia"},1375,52662125,"ANA MILENA SILVA CORTES",11400000,null,null,null,null,11400000,11400000,"2020-03-09","2020-03-09","2020-06-08",90,null,"",null,null,null,null,null,"","x",null,1,null,{"$f":"IF(SUMPRODUCT((A$14:A31=A31)*(B$14:B31=B31)*(D$14:D31=D31))>1,0,1)","v":1},"Contratos de prestación de servicios","Contratación directa",{"$f":"IF(ISBLANK(G31),1,IFERROR(VLOOKUP(G31,Tipo!$C$12:$C$27,1,FALSE),\"NO\"))","v":"Prestación de servicios profesionales y de apoyo a la gestión, o para la ejecución de trabajos artísticos que sólo puedan encomendarse a determinadas personas naturales;"},"Inversión",{"$f":"IF(ISBLANK(K31),1,IFERROR(VLOOKUP(K31,Eje_Pilar_Prop!C13:C114,1,FALSE),\"NO\"))","v":45},"SECOP II",1,"Bogotá Mejor para Todos"]
["CPS-019-2020",2020,"SECOP II","FDLS-CD-019-2020","Contratos de prestación de servicios","Contratación directa","Prestación de servicios profesionales y de apoyo a la gestión, o para la ejecución de trabajos artísticos que sólo puedan encomendarse a determinadas personas naturales;","PRESTAR SUS SERVICIOS COMO CONDUCTOR DE VEHÍCULOS PESADOS DE PROPIEDAD DEL FONDO DE DESARROLLO LOCAL DE SUMAPAZ QUE LE SEA ASIGNADO PARA LA REALIZACIÓN DE LABORES DE MANTENIMIENTO DE LA MALLA VIAL Y LAS ZONAS PÚBLICAS DE LA LOCALIDAD, ASÍ COMO ATENDER LAS EMERGENCIAS VIALES QUE SURJAN EN LA LOCALIDAD DE SUMAPAZ.","Inversión","Bogotá Mejor para Todos",18,{"$f":"IF(ISERROR(VLOOKUP(K32,Eje_Pilar_Prop!$C$2:$E$104,2,FALSE)),\" \",VLOOKUP(K32,Eje_Pilar_Prop!$C$2:$E$104,2,FALSE))","v":"Mejor movilidad para todos"},{"$f":"IF(ISERROR(VLOOKUP(K32,Eje_Pilar_Prop!$C$2:$E$104,3,FALSE)),\" \",VLOOKUP(K32,Eje_Pilar_Prop!$C$2:$E$104,3,FALSE))","v":"Pilar 2 Democracía Urbana"},1364,80747512,"HERNAN DARIO HERRERA MORALES",6250000,null,null,null,null,6250000,6250000,"2020-03-04","2020-03-04","2020-05-18",75,null,"",null,null,null,null,null,"","x",null,1,null,{"$f":"IF(SUMPRODUCT((A$14:A32=A32)*(B$14:B32=B32)*(D$14:D32=D32))>1,0,1)","v":1},"Contratos de prestación de servicios","Contratación directa",{"$f":"IF(ISBLANK(G32),1,IFERROR(VLOOKUP(G32,Tipo!$C$12:$C$27,1,FALSE),\"NO\"))","v":"Prestación de servicios profesionales y de apoyo a la gestión, o para la ejecución de trabajos artísticos que sólo puedan encomendarse a determinadas personas naturales;"},"Inversión",{"$f":"IF(ISBLANK(K32),1,IFERROR(VLOOKUP(K32,Eje_Pilar_Prop!C14:C115,1,FALSE),\"NO\"))","v":18},"SECOP II",1,"Bogotá Mejor para Todos"]
["CPS-020-2020",2020,"SECOP II","FDLS-CD-020-2020","Contratos de prestación de servicios","Contratación directa","Prestación de servicios profesionales y de apoyo a la gestión, o para la ejecución de trabajos artísticos que sólo puedan encomendarse a determinadas personas naturales;","PRESTAR SUS SERVICIOS COMO CONDUCTOR DE VEHICULOS PESADOS DE PROPIEDAD DEL FONDO DE DESARROLLO LOCAL DE SUMAPAZ QUE LE SEA ASIGNADA PARA LA REALIZACION DE LABORES DE MANTENIMIENTO DE LA MALLA VIAL Y LAS ZONAS PÚBLICAS DE LA LOCALIDAD, ASÍ COMO ATENDER LAS EMERGENCIAS VIALES QUE SURJAN EN LA LOCALIDAD DE SUMAPAZ","Inversión","Bogotá Mejor para Todos",18,{"$f":"IF(ISERROR(VLOOKUP(K33,Eje_Pilar_Prop!$C$2:$E$104,2,FALSE)),\" \",VLOOKUP(K33,Eje_Pilar_Prop!$C$2:$E$104,2,FALSE))","v":"Mejor movilidad para todos"},{"$f":"IF(ISERROR(VLOOKUP(K33,Eje_Pilar_Prop!$C$2:$E$104,3,FALSE)),\" \",VLOOKUP(K33,Eje_Pilar_Prop!$C$2:$E$104,3,FALSE))","v":"Pilar 2 Democracía Urbana"},1364,1022992747,"YOVANY CASTIBLANCO HUERTAS",6250000,null,null,null,null,6250000,6250000,"2020-03-04","2020-03-04","2020-05-18",75,null,"",null,null,null,null,null,"","x",null,1,null,{"$f":"IF(SUMPRODUCT((A$14:A33=A33)*(B$14:B33=B33)*(D$14:D33=D33))>1,0,1)","v":1},"Contratos de prestación de servicios","Contratación directa",{"$f":"IF(ISBLANK(G33),1,IFERROR(VLOOKUP(G33,Tipo!$C$12:$C$27,1,FALSE),\"NO\"))","v":"Prestación de servicios profesionales y de apoyo a la gestión, o para la ejecución de trabajos artísticos que sólo puedan encomendarse a determinadas personas naturales;"},"Inversión",{"$f":"IF(ISBLANK(K33),1,IFERROR(VLOOKUP(K33,Eje_Pilar_Prop!C15:C116,1,FALSE),\"NO\"))","v":18},"SECOP II",1,"Bogotá Mejor para Todos"]
["CPS-021-2020",2020,"SECOP II","FDLS-CD-021-2020","Contratos de prestación de servicios","Contratación directa","Prestación de servicios profesionales y de apoyo a la gestión, o para la ejecución de trabajos artísticos que sólo puedan encomendarse a determinadas personas naturales;","\nPRESTAR SUS SERVICIOS COMO CONDUCTOR DE VEHÍCULOS PESADOS DE PROPIEDAD DEL FONDO DE DESARROLLO LOCAL DE SUMAPAZ QUE LE SEA ASIGNADA PARA LA REALIZACIÓN DE LABORES DE MANTENIMIENTO DE LA MALLA VIAL Y LAS ZONAS PÚBLICAS DE LA LOCALIDAD, ASÍ COMO ATENDER LAS EMERGENCIAS VIALES QUE SURJAN EN LA LOCALIDAD DE SUMAPAZ","Inversión","Bogotá Mejor para Todos",18,{"$f":"IF(ISERROR(VLOOKUP(K34,Eje_Pilar_Prop!$C$2:$E$104,2,FALSE)),\" \",VLOOKUP(K34,Eje_Pilar_Prop!$C$2:$E$104,2,FALSE))","v":"Mejor movilidad para todos"},{"$f":"IF(ISERROR(VLOOKUP(K34,Eje_Pilar_Prop!$C$2:$E$104,3,FALSE)),\" \",VLOOKUP(K34,Eje_Pilar_Prop!$C$2:$E$104,3,FALSE))","v":"Pilar 2 Democracía Urbana"},1364,79632409,"GERMAN ROMERO ROMAN",6250000,null,null,null,null,6250000,6250000,"2020-03-04","2020-03-04","2020-05-18",75,null,"",null,null,null,null,null,"","x",null,1,null,{"$f":"IF(SUMPRODUCT((A$14:A34=A34)*(B$14:B34=B34)*(D$14:D34=D34))>1,0,1)","v":1},"Contratos de prestación de servicios","Contratación directa",{"$f":"IF(ISBLANK(G34),1,IFERROR(VLOOKUP(G34,Tipo!$C$12:$C$27,1,FALSE),\"NO\"))","v":"Prestación de servicios profesionales y de apoyo a la gestión, o para la ejecución de trabajos artísticos que sólo puedan encomendarse a determinadas personas naturales;"},"Inversión",{"$f":"IF(ISBLANK(K34),1,IFERROR(VLOOKUP(K34,Eje_Pilar_Prop!C16:C117,1,FALSE),\"NO\"))","v":18},"SECOP II",null,"Bogotá Mejor para Todos"]
["CPS-022-2020",2020,"SECOP II","FDLS-CD-022-2020","Contratos de prestación de servicios","Contratación directa","Prestación de servicios profesionales y de apoyo a la gestión, o para la ejecución de trabajos artísticos que sólo puedan encomendarse a determinadas personas naturales;","PRESTAR SUS SERVICIOS COMO CONDUCTOR DE VEHÍCULOS PESADOS DE PROPIEDAD DEL FONDO DE DESARROLLO LOCAL DE SUMAPAZ QUE LE SEA ASIGNADA PARA LA REALIZACIÓN DE LABORES DE MANTENIMIENTO DE LA MALLA VIAL Y LAS ZONAS PÚBLICAS DE LA LOCALIDAD, ASÍ COMO ATENDER LAS EMERGENCIAS VIALES QUE SURJAN EN LA LOCALIDAD DE SUMAPAZ.","Inversión","Bogotá Mejor para Todos",18,{"$f":"IF(ISERROR(VLOOKUP(K35,Eje_Pilar_Prop!$C$2:$E$104,2,FALSE)),\" \",VLOOKUP(K35,Eje_Pilar_Prop!$C$2:$E$104,2,FALSE))","v":"Mejor movilidad para todos"},{"$f":"IF(ISERROR(VLOOKUP(K35,Eje_Pilar_Prop!$C$2:$E$104,3,FALSE)),\" \",VLOOKUP(K35,Eje_Pilar_Prop!$C$2:$E$104,3,FALSE))","v":"Pilar 2 Democracía Urbana"},1364,1022924525,"MOISES DELGADO VERGARA",6250000,null,null,null,null,6250000,6250000,"2020-03-02","2020-03-02","2020-05-16",75,null,"",null,null,null,null,null,"","x",null,1,null,{"$f":"IF(SUMPRODUCT((A$14:A35=A35)*(B$14:B35=B35)*(D$14:D35=D35))>1,0,1)","v":1},"Contratos de prestación de servicios","Contratación directa",{"$f":"IF(ISBLANK(G35),1,IFERROR(VLOOKUP(G35,Tipo!$C$12:$C$27,1,FALSE),\"NO\"))","v":"Prestación de servicios profesionales y de apoyo a la gestión, o para la ejecución de trabajos artísticos que sólo puedan encomendarse a determinadas personas naturales;"},"Inversión",{"$f":"IF(ISBLANK(K35),1,IFERROR(VLOOKUP(K35,Eje_Pilar_Prop!C17:C118,1,FALSE),\"NO\"))","v":18},"SECOP II",1,"Bogotá Mejor para Todos"]
["CPS-023-2020",2020,"SECOP II","FDLS-CD-023-2020","Contratos de prestación de servicios","Contratación directa","Prestación de servicios profesionales y de apoyo a la gestión, o para la ejecución de trabajos artísticos que sólo puedan encomendarse a determinadas personas naturales;","“PRESTAR SUS SERVICIOS COMO CONDUCTOR DE VEHÍCULOS PESADOS DE PROPIEDAD DEL FONDO DE DESARROLLO LOCAL DE SUMAPAZ QUE LE SEA ASIGNADA PARA LA REALIZACIÓN DE LABORES DE MANTENIMIENTO DE LA MALLA VIAL Y LAS ZONAS PÚBLICAS DE LA LOCALIDAD, ASÍ COMO ATENDER LAS EMERGENCIAS VIALES QUE SURJAN EN LA LOCALIDAD DE SUMAPAZ”","Inversión","Bogotá Mejor para Todos",18,{"$f":"IF(ISERROR(VLOOKUP(K36,Eje_Pilar_Prop!$C$2:$E$104,2,FALSE)),\" \",VLOOKUP(K36,Eje_Pilar_Prop!$C$2:$E$104,2,FALSE))","v":"Mejor movilidad para todos"},{"$f":"IF(ISERROR(VLOOKUP(K36,Eje_Pilar_Prop!$C$2:$E$104,3,FALSE)),\" \",VLOOKUP(K36,Eje_Pilar_Prop!$C$2:$E$104,3,FALSE))","v":"Pilar 2 Democracía Urbana"},1364,80489721,"ARNOLDO RAMIREZ MALAGON",6250000,null,null,null,null,6250000,6250000,"2020-03-06","2020-03-06","2020-05-20",75,null,"",null,null,null,null,null,"","x",null,1,null,{"$f":"IF(SUMPRODUCT((A$14:A36=A36)*(B$14:B36=B36)*(D$14:D36=D36))>1,0,1)","v":1},"Contratos de prestación de servicios","Contratación directa",{"$f":"IF(ISBLANK(G36),1,IFERROR(VLOOKUP(G36,Tipo!$C$12:$C$27,1,FALSE),\"NO\"))","v":"Prestación de servicios profesionales y de apoyo a la gestión, o para la ejecución de trabajos artísticos que sólo puedan encomendarse a determinadas personas naturales;"},"Inversión",{"$f":"IF(ISBLANK(K36),1,IFERROR(VLOOKUP(K36,Eje_Pilar_Prop!C18:C119,1,FALSE),\"NO\"))","v":18},"SECOP II",1,"Bogotá Mejor para Todos"]
["CPS-025-2020",2020,"SECOP II","FDLS-CD-025-2020","Contratos de prestación de servicios","Contratación directa","Prestación de servicios profesionales y de apoyo a la gestión, o para la ejecución de trabajos artísticos que sólo puedan encomendarse a determinadas personas naturales;","PRESTAR SUS SERVICIOS COMO CONDUCTOR DE VEHÍCULOS PESADOS DE PROPIEDAD DEL FONDO DE DESARROLLO LOCAL DE SUMAPAZ QUE LE SEA ASIGNADA PARA LA REALIZACIÓN DE LABORES DE MANTENIMIENTO DE LA MALLA VIAL Y LAS ZONAS PÚBLICAS DE LA LOCALIDAD, ASÍ COMO ATENDER LAS EMERGENCIAS VIALES QUE SURJAN EN LA LOCALIDAD DE SUMAPAZ","Inversión","Bogotá Mejor para Todos",18,{"$f":"IF(ISERROR(VLOOKUP(K37,Eje_Pilar_Prop!$C$2:$E$104,2,FALSE)),\" \",VLOOKUP(K37,Eje_Pilar_Prop!$C$2:$E$104,2,FALSE))","v":"Mejor movilidad para todos"},{"$f":"IF(ISERROR(VLOOKUP(K37,Eje_Pilar_Prop!$C$2:$E$104,3,FALSE)),\" \",VLOOKUP(K37,Eje_Pilar_Prop!$C$2:$E$104,3,FALSE))","v":"Pilar 2 Democracía Urbana"},1364,80877733,"HILBER VERGARA ROBAYO",6250000,null,null,null,null,6250000,6250000,"2020-03-04","2020-03-04","2020-05-18",75,null,"",null,null,null,null,null,"","x",null,1,null,{"$f":"IF(SUMPRODUCT((A$14:A37=A37)*(B$14:B37=B37)*(D$14:D37=D37))>1,0,1)","v":1},"Contratos de prestación de servicios","Contratación directa",{"$f":"IF(ISBLANK(G37),1,IFERROR(VLOOKUP(G37,Tipo!$C$12:$C$27,1,FALSE),\"NO\"))","v":"Prestación de servicios profesionales y de apoyo a la gestión, o para la ejecución de trabajos artísticos que sólo puedan encomendarse a determinadas personas naturales;"},"Inversión",{"$f":"IF(ISBLANK(K37),1,IFERROR(VLOOKUP(K37,Eje_Pilar_Prop!C19:C120,1,FALSE),\"NO\"))","v":18},"SECOP II",1,"Bogotá Mejor para Todos"]
["CPS-027-2020",2020,"SECOP II","FDLS-CD-027-2020","Contratos de prestación de servicios","Contratación directa","Prestación de servicios profesionales y de apoyo a la gestión, o para la ejecución de trabajos artísticos que sólo puedan encomendarse a determinadas personas naturales;","PRESTAR SUS SERVICIOS COMO CONDUCTOR DE VEHÍCULOS PESADOS DE PROPIEDAD DEL FONDO DE DESARROLLO LOCAL DE SUMAPAZ QUE LE SEA ASIGNADA PARA LA REALIZACIÓN DE LABORES DE MANTENIMIENTO DE LA MALLA VIAL Y LAS ZONAS PÚBLICAS DE LA LOCALIDAD, ASÍ COMO ATENDER LAS EMERGENCIAS VIALES QUE SURJAN EN LA LOCALIDAD DE SUMAPAZ","Inversión","Bogotá Mejor para Todos",18,{"$f":"IF(ISERROR(VLOOKUP(K38,Eje_Pilar_Prop!$C$2:$E$104,2,FALSE)),\" \",VLOOKUP(K38,Eje_Pilar_Prop!$C$2:$E$104,2,FALSE))","v":"Mejor movilidad para todos"},{"$f":"IF(ISERROR(VLOOKUP(K38,Eje_Pilar_Prop!$C$2:$E$104,3,FALSE)),\" \",VLOOKUP(K38,Eje_Pilar_Prop!$C$2:$E$104,3,FALSE))","v":"Pilar 2 Democracía Urbana"},1364,79819241,"CARLOS JULIO PALACIOS RAMIREZ",6250000,null,null,null,null,6250000,6250000,"2020-03-04","2020-03-04","2020-05-18",75,null,"",null,null,null,null,null,"","x",null,1,null,{"$f":"IF(SUMPRODUCT((A$14:A38=A38)*(B$14:B38=B38)*(D$14:D38=D38))>1,0,1)","v":1},"Contratos de prestación de servicios","Contratación directa",{"$f":"IF(ISBLANK(G38),1,IFERROR(VLOOKUP(G38,Tipo!$C$12:$C$27,1,FALSE),\"NO\"))","v":"Prestación de servicios profesionales y de apoyo a la gestión, o para la ejecución de trabajos artísticos que sólo puedan encomendarse a determinadas personas naturales;"},"Inversión",{"$f":"IF(ISBLANK(K38),1,IFERROR(VLOOKUP(K38,Eje_Pilar_Prop!C20:C121,1,FALSE),\"NO\"))","v":18},"SECOP II",1,"Bogotá Mejor para Todos"]
["CPS-028-2020",2020,"SECOP II","FDLS-CD-028-2020","Contratos de prestación de servicios","Contratación directa","Prestación de servicios profesionales y de apoyo a la gestión, o para la ejecución de trabajos artísticos que sólo puedan encomendarse a determinadas personas naturales;","PRESTAR SUS SERVICIOS COMO OPERARIO DE MAQUINARIA PESADA DE PROPIEDAD DEL FONDO DE DESARROLLO LOCAL DE SUMAPAZ QUE LE SEA ASIGNADA PARA LA REALIZACIÓN DE LABORES DE MANTENIMIENTO DE LA MALLA VIAL Y LAS ZONAS PÚBLICAS DE LA LOCALIDAD, ASÍ COMO ATENDER LAS EMERGENCIAS VIALES QUE SURJAN EN LA LOCALIDAD DE SUMAPAZ","Inversión","Bogotá Mejor para Todos",18,{"$f":"IF(ISERROR(VLOOKUP(K39,Eje_Pilar_Prop!$C$2:$E$104,2,FALSE)),\" \",VLOOKUP(K39,Eje_Pilar_Prop!$C$2:$E$104,2,FALSE))","v":"Mejor movilidad para todos"},{"$f":"IF(ISERROR(VLOOKUP(K39,Eje_Pilar_Prop!$C$2:$E$104,3,FALSE)),\" \",VLOOKUP(K39,Eje_Pilar_Prop!$C$2:$E$104,3,FALSE))","v":"Pilar 2 Democracía Urbana"},1364,1022950747,"AUDER ORLANDO DIAZ RUBIANO",6250000,null,null,null,null,6250000,6250000,"2020-03-04","2020-03-04","2020-05-18",75,null,"",null,null,null,null,null,"","x",null,1,null,{"$f":"IF(SUMPRODUCT((A$14:A39=A39)*(B$14:B39=B39)*(D$14:D39=D39))>1,0,1)","v":1},"Contratos de prestación de servicios","Contratación directa",{"$f":"IF(ISBLANK(G39),1,IFERROR(VLOOKUP(G39,Tipo!$C$12:$C$27,1,FALSE),\"NO\"))","v":"Prestación de servicios profesionales y de apoyo a la gestión, o para la ejecución de trabajos artísticos que sólo puedan encomendarse a determinadas personas naturales;"},"Inversión",{"$f":"IF(ISBLANK(K39),1,IFERROR(VLOOKUP(K39,Eje_Pilar_Prop!C21:C122,1,FALSE),\"NO\"))","v":"NO"},"SECOP II",1,"Bogotá Mejor para Todos"]
["CPS-029-2020",2020,"SECOP II","FDLS-CD-029-2020","Contratos de prestación de servicios","Contratación directa","Prestación de servicios profesionales y de apoyo a la gestión, o para la ejecución de trabajos artísticos que sólo puedan encomendarse a determinadas personas naturales;","PRESTAR SUS SERVICIOS COMO OPERARIO DE MAQUINARIA PESADA DE PROPIEDAD DEL FONDO DE DESARROLLO LOCAL DE SUMAPAZ QUE LE SEA ASIGNADA PARA LA REALIZACIÓN DE LABORES DE MANTENIMIENTO DE LA MALLA VIAL Y LAS ZONAS PÚBLICAS DE LA LOCALIDAD, ASÍ COMO ATENDER LAS EMERGENCIAS VIALES QUE SURJAN EN LA LOCALIDAD DE SUMAPAZ","Inversión","Bogotá Mejor para Todos",18,{"$f":"IF(ISERROR(VLOOKUP(K40,Eje_Pilar_Prop!$C$2:$E$104,2,FALSE)),\" \",VLOOKUP(K40,Eje_Pilar_Prop!$C$2:$E$104,2,FALSE))","v":"Mejor movilidad para todos"},{"$f":"IF(ISERROR(VLOOKUP(K40,Eje_Pilar_Prop!$C$2:$E$104,3,FALSE)),\" \",VLOOKUP(K40,Eje_Pilar_Prop!$C$2:$E$104,3,FALSE))","v":"Pilar 2 Democracía Urbana"},1364,80451743,"SALOMON PALACIOS ROMERO",6250000,null,null,null,null,6250000,6250000,"2020-03-04","2020-03-04","2020-05-18",75,null,"",null,null,null,null,null,"","x",null,1,null,{"$f":"IF(SUMPRODUCT((A$14:A40=A40)*(B$14:B40=B40)*(D$14:D40=D40))>1,0,1)","v":1},"Contratos de prestación de servicios","Contratación directa",{"$f":"IF(ISBLANK(G40),1,IFERROR(VLOOKUP(G40,Tipo!$C$12:$C$27,1,FALSE),\"NO\"))","v":"Prestación de servicios profesionales y de apoyo a la gestión, o para la ejecución de trabajos artísticos que sólo puedan encomendarse a determinadas personas naturales;"},"Inversión",{"$f":"IF(ISBLANK(K40),1,IFERROR(VLOOKUP(K40,Eje_Pilar_Prop!C22:C123,1,FALSE),\"NO\"))","v":"NO"},"SECOP II",1,"Bogotá Mejor para Todos"]
["CPS-030-2020",2020,"SECOP II","FDLS-CD-030-2020","Contratos de prestación de servicios","Contratación directa","Prestación de servicios profesionales y de apoyo a la gestión, o para la ejecución de trabajos artísticos que sólo puedan encomendarse a determinadas personas naturales;","PRESTAR SUS SERVICIOS COMO OPERARIO DE MAQUINARIA PESADA DE PROPIEDAD DEL FONDO DE DESARROLLO LOCAL DE SUMAPAZ QUE LE SEA ASIGNADO PARA LA REALIZACIÓN DE LABORES DE MANTENIMIENTO DE LA MALLA VIAL Y LAS ZONAS PÚBLICAS DE LA LOCALIDAD, ASÍ COMO ATENDER LAS EMERGENCIAS VIALES QUE SURJAN EN LA LOCALIDAD DE SUMAPAZ","Inversión","Bogotá Mejor para Todos",18,{"$f":"IF(ISERROR(VLOOKUP(K41,Eje_Pilar_Prop!$C$2:$E$104,2,FALSE)),\" \",VLOOKUP(K41,Eje_Pilar_Prop!$C$2:$E$104,2,FALSE))","v":"Mejor movilidad para todos"},{"$f":"IF(ISERROR(VLOOKUP(K41,Eje_Pilar_Prop!$C$2:$E$104,3,FALSE)),\" \",VLOOKUP(K41,Eje_Pilar_Prop!$C$2:$E$104,3,FALSE))","v":"Pilar 2 Democracía Urbana"},1364,1022938049,"ALEXANDER BUSTOS CHAVARRO",6250000,null,null,null,null,6250000,6250000,"2020-03-04","2020-03-04","2020-05-18",75,null,"",null,null,null,null,null,"","x",null,1,null,{"$f":"IF(SUMPRODUCT((A$14:A41=A41)*(B$14:B41=B41)*(D$14:D41=D41))>1,0,1)","v":1},"Contratos de prestación de servicios","Contratación directa",{"$f":"IF(ISBLANK(G41),1,IFERROR(VLOOKUP(G41,Tipo!$C$12:$C$27,1,FALSE),\"NO\"))","v":"Prestación de servicios profesionales y de apoyo a la gestión, o para la ejecución de trabajos artísticos que sólo puedan encomendarse a determinadas personas naturales;"},"Inversión",{"$f":"IF(ISBLANK(K41),1,IFERROR(VLOOKUP(K41,Eje_Pilar_Prop!C23:C124,1,FALSE),\"NO\"))","v":"NO"},"SECOP II",1,"Bogotá Mejor para Todos"]
["CPS-031-2020",2020,"SECOP II","FDLS-CD-031-2020","Contratos de prestación de servicios","Contratación directa","Prestación de servicios profesionales y de apoyo a la gestión, o para la ejecución de trabajos artísticos que sólo puedan encomendarse a determinadas personas naturales;","PRESTAR SUS SERVICIOS COMO OPERARIO DE MAQUINARIA PESADA DE PROPIEDAD DEL FONDO DE DESARROLLO LOCAL DE SUMAPAZ QUE LE SEA ASIGNADA PARA LA REALIZACIÓN DE LABORES DE MANTENIMIENTO DE LA MALLA VIAL Y LAS ZONAS PÚBLICAS DE LA LOCALIDAD, ASÍ COMO ATENDER LAS EMERGENCIAS VIALES QUE SURJAN EN LA LOCALIDAD DE SUMAPAZ","Inversión","Bogotá Mejor para Todos",18,{"$f":"IF(ISERROR(VLOOKUP(K42,Eje_Pilar_Prop!$C$2:$E$104,2,FALSE)),\" \",VLOOKUP(K42,Eje_Pilar_Prop!$C$2:$E$104,2,FALSE))","v":"Mejor movilidad para todos"},{"$f":"IF(ISERROR(VLOOKUP(K42,Eje_Pilar_Prop!$C$2:$E$104,3,FALSE)),\" \",VLOOKUP(K42,Eje_Pilar_Prop!$C$2:$E$104,3,FALSE))","v":"Pilar 2 Democracía Urbana"},1364,174188,"RUPERTO VILLALBA ROMAN",6250000,null,null,null,null,6250000,6250000,"2020-03-04","2020-03-04","2020-05-18",75,null,"",null,null,null,null,null,"","x",null,1,null,{"$f":"IF(SUMPRODUCT((A$14:A42=A42)*(B$14:B42=B42)*(D$14:D42=D42))>1,0,1)","v":1},"Contratos de prestación de servicios","Contratación directa",{"$f":"IF(ISBLANK(G42),1,IFERROR(VLOOKUP(G42,Tipo!$C$12:$C$27,1,FALSE),\"NO\"))","v":"Prestación de servicios profesionales y de apoyo a la gestión, o para la ejecución de trabajos artísticos que sólo puedan encomendarse a determinadas personas naturales;"},"Inversión",{"$f":"IF(ISBLANK(K42),1,IFERROR(VLOOKUP(K42,Eje_Pilar_Prop!C24:C125,1,FALSE),\"NO\"))","v":"NO"},"SECOP II",1,"Bogotá Mejor para Todos"]
["CPS-032-2020",2020,"SECOP II","FDLS-CD-032-2020","Contratos de prestación de servicios","Contratación directa","Prestación de servicios profesionales y de apoyo a la gestión, o para la ejecución de trabajos artísticos que sólo puedan encomendarse a determinadas personas naturales;","PRESTAR SUS SERVICIOS COMO OPERARIO DE MAQUINARIA PESADA DE PROPIEDAD DEL FONDO DE DESARROLLO LOCAL DE SUMAPAZ QUE LE SEA ASIGNADA PARA LA REALIZACIÓN DE LABORES DE MANTENIMIENTO DE LA MALLA VIAL Y LAS ZONAS PÚBLICAS DE LA LOCALIDAD, ASÍ COMO ATENDER LAS EMERGENCIAS VIALES QUE SURJAN EN LA LOCALIDAD DE SUMAPAZ","Inversión","Bogotá Mejor para Todos",18,{"$f":"IF(ISERROR(VLOOKUP(K43,Eje_Pilar_Prop!$C$2:$E$104,2,FALSE)),\" \",VLOOKUP(K43,Eje_Pilar_Prop!$C$2:$E$104,2,FALSE))","v":"Mejor movilidad para todos"},{"$f":"IF(ISERROR(VLOOKUP(K43,Eje_Pilar_Prop!$C$2:$E$104,3,FALSE)),\" \",VLOOKUP(K43,Eje_Pilar_Prop!$C$2:$E$104,3,FALSE))","v":"Pilar 2 Democracía Urbana"},1364,1032656287,"ALBEIRO BARBOSA CIFUENTES",6250000,null,null,null,null,6250000,6250000,"2020-03-05","2020-03-05","2020-05-19",75,null,"",null,null,null,null,null,"","x",null,1,null,{"$f":"IF(SUMPRODUCT((A$14:A43=A43)*(B$14:B43=B43)*(D$14:D43=D43))>1,0,1)","v":1},"Contratos de prestación de servicios","Contratación directa",{"$f":"IF(ISBLANK(G43),1,IFERROR(VLOOKUP(G43,Tipo!$C$12:$C$27,1,FALSE),\"NO\"))","v":"Prestación de servicios profesionales y de apoyo a la gestión, o para la ejecución de trabajos artísticos que sólo puedan encomendarse a determinadas personas naturales;"},"Inversión",{"$f":"IF(ISBLANK(K43),1,IFERROR(VLOOKUP(K43,Eje_Pilar_Prop!C25:C126,1,FALSE),\"NO\"))","v":"NO"},"SECOP II",1,"Bogotá Mejor para Todos"]
["CPS-033-2020",2020,"SECOP II","FDLS-CD-033-2020","Contratos de prestación de servicios","Contratación directa","Prestación de servicios profesionales y de apoyo a la gestión, o para la ejecución de trabajos artísticos que sólo puedan encomendarse a determinadas personas naturales;","PRESTAR SUS SERVICIOS COMO OPERARIO DE MAQUINARIA PESADA DE PROPIEDAD DEL FONDO DE DESARROLLO LOCAL DE SUMAPAZ QUE LE SEA ASIGNADA PARA LA REALIZACIÓN DE LABORES DE MANTENIMIENTO DE LA MALLA VIAL Y LAS ZONAS PÚBLICAS DE LA LOCALIDAD, ASÍ COMO ATENDER LAS EMERGENCIAS VIALES QUE SURJAN EN LA LOCALIDAD DE SUMAPAZ","Inversión","Bogotá Mejor para Todos",18,{"$f":"IF(ISERROR(VLOOKUP(K44,Eje_Pilar_Prop!$C$2:$E$104,2,FALSE)),\" \",VLOOKUP(K44,Eje_Pilar_Prop!$C$2:$E$104,2,FALSE))","v":"Mejor movilidad para todos"},{"$f":"IF(ISERROR(VLOOKUP(K44,Eje_Pilar_Prop!$C$2:$E$104,3,FALSE)),\" \",VLOOKUP(K44,Eje_Pilar_Prop!$C$2:$E$104,3,FALSE))","v":"Pilar 2 Democracía Urbana"},1364,79565214,"NEIDER MOLINA REY",6250000,null,null,null,null,6250000,6250000,"2020-03-04","2020-03-04","2020-05-18",75,null,"",null,null,null,null,null,"","x",null,1,null,{"$f":"IF(SUMPRODUCT((A$14:A44=A44)*(B$14:B44=B44)*(D$14:D44=D44))>1,0,1)","v":1},"Contratos de prestación de servicios","Contratación directa",{"$f":"IF(ISBLANK(G44),1,IFERROR(VLOOKUP(G44,Tipo!$C$12:$C$27,1,FALSE),\"NO\"))","v":"Prestación de servicios profesionales y de apoyo a la gestión, o para la ejecución de trabajos artísticos que sólo puedan encomendarse a determinadas personas naturales;"},"Inversión",{"$f":"IF(ISBLANK(K44),1,IFERROR(VLOOKUP(K44,Eje_Pilar_Prop!C26:C127,1,FALSE),\"NO\"))","v":"NO"},"SECOP II",1,"Bogotá Mejor para Todos"]
["CPS-034-2020",2020,"SECOP II","FDLS-CD-034-2020","Contratos de prestación de servicios","Contratación directa","Prestación de servicios profesionales y de apoyo a la gestión, o para la ejecución de trabajos artísticos que sólo puedan encomendarse a determinadas personas naturales;","PRESTAR SUS SERVICIOS COMO OPERARIO DE MAQUINARIA PESADA DE PROPIEDAD DEL FONDO DE DESARROLLO LOCAL DE SUMAPAZ QUE LE SEA ASIGNADA PARA LA REALIZACIÓN DE LABORES DE MANTENIMIENTO DE LA MALLA VIAL Y LAS ZONAS PÚBLICAS DE LA LOCALIDAD, ASÍ COMO ATENDER LAS EMERGENCIAS VIALES QUE SURJAN EN LA LOCALIDAD DE SUMAPAZ","Inversión","Bogotá Mejor para Todos",18,{"$f":"IF(ISERROR(VLOOKUP(K45,Eje_Pilar_Prop!$C$2:$E$104,2,FALSE)),\" \",VLOOKUP(K45,Eje_Pilar_Prop!$C$2:$E$104,2,FALSE))","v":"Mejor movilidad para todos"},{"$f":"IF(ISERROR(VLOOKUP(K45,Eje_Pilar_Prop!$C$2:$E$104,3,FALSE)),\" \",VLOOKUP(K45,Eje_Pilar_Prop!$C$2:$E$104,3,FALSE))","v":"Pilar 2 Democracía Urbana"},1364,79519512,"RAMIRO MARTINEZ HILARION",6250000,null,null,null,null,6250000,6250000,"2020-03-04","2020-03-04","2020-05-18",75,null,"",null,null,null,null,null,"","x",null,1,null,{"$f":"IF(SUMPRODUCT((A$14:A45=A45)*(B$14:B45=B45)*(D$14:D45=D45))>1,0,1)","v":1},"Contratos de prestación de servicios","Contratación directa",{"$f":"IF(ISBLANK(G45),1,IFERROR(VLOOKUP(G45,Tipo!$C$12:$C$27,1,FALSE),\"NO\"))","v":"Prestación de servicios profesionales y de apoyo a la gestión, o para la ejecución de trabajos artísticos que sólo puedan encomendarse a determinadas personas naturales;"},"Inversión",{"$f":"IF(ISBLANK(K45),1,IFERROR(VLOOKUP(K45,Eje_Pilar_Prop!C27:C128,1,FALSE),\"NO\"))","v":"NO"},"SECOP II",1,"Bogotá Mejor para Todos"]
["CPS-035-2020",2020,"SECOP II","FDLS-CD-035-2020","Contratos de prestación de servicios","Contratación directa","Prestación de servicios profesionales y de apoyo a la gestión, o para la ejecución de trabajos artísticos que sólo puedan encomendarse a determinadas personas naturales;","PRESTAR SUS SERVICIOS COMO OPERARIO DE MAQUINARIA PESADA DE PROPIEDAD DEL FONDO DE DESARROLLO LOCAL DE SUMAPAZ QUE LE SEA ASIGNADA PARA LA REALIZACIÓN DE LABORES DE MANTENIMIENTO DE LA MALLA VIAL Y LAS ZONAS PÚBLICAS DE LA LOCALIDAD, ASÍ COMO ATENDER LAS EMERGENCIAS VIALES QUE SURJAN EN LA LOCALIDAD DE SUMAPAZ","Inversión","Bogotá Mejor para Todos",18,{"$f":"IF(ISERROR(VLOOKUP(K46,Eje_Pilar_Prop!$C$2:$E$104,2,FALSE)),\" \",VLOOKUP(K46,Eje_Pilar_Prop!$C$2:$E$104,2,FALSE))","v":"Mejor movilidad para todos"},{"$f":"IF(ISERROR(VLOOKUP(K46,Eje_Pilar_Prop!$C$2:$E$104,3,FALSE)),\" \",VLOOKUP(K46,Eje_Pilar_Prop!$C$2:$E$104,3,FALSE))","v":"Pilar 2 Democracía Urbana"},1364,1033676728,"HECTOR ERNESTO GARCIA GARIBELLO",6250000,null,null,null,null,6250000,6250000,"2020-03-04","2020-03-04","2020-05-18",75,null,"",null,null,null,null,null,"","x",null,1,null,{"$f":"IF(SUMPRODUCT((A$14:A46=A46)*(B$14:B46=B46)*(D$14:D46=D46))>1,0,1)","v":1},"Contratos de prestación de servicios","Contratación directa",{"$f":"IF(ISBLANK(G46),1,IFERROR(VLOOKUP(G46,Tipo!$C$12:$C$27,1,FALSE),\"NO\"))","v":"Prestación de servicios profesionales y de apoyo a la gestión, o para la ejecución de trabajos artísticos que sólo puedan encomendarse a determinadas personas naturales;"},"Inversión",{"$f":"IF(ISBLANK(K46),1,IFERROR(VLOOKUP(K46,Eje_Pilar_Prop!C28:C129,1,FALSE),\"NO\"))","v":"NO"},"SECOP II",1,"Bogotá Mejor para Todos"]
["CPS-036-2020",2020,"SECOP II","FDLS-CD-036-2020","Contratos de prestación de servicios","Contratación directa","Prestación de servicios profesionales y de apoyo a la gestión, o para la ejecución de trabajos artísticos que sólo puedan encomendarse a determinadas personas naturales;","PRESTAR SUS SERVICIOS COMO OPERARIO DE MAQUINARIA PESADA DE PROPIEDAD DEL FONDO DE DESARROLLO LOCAL DE SUMAPAZ QUE LE SEA ASIGNADA PARA LA REALIZACIÓN DE LABORES DE MANTENIMIENTO DE LA MALLA VIAL Y LAS ZONAS PÚBLICAS DE LA LOCALIDAD, ASÍ COMO ATENDER LAS EMERGENCIAS VIALES QUE SURJAN EN LA LOCALIDAD DE SUMAPAZ","Inversión","Bogotá Mejor para Todos",18,{"$f":"IF(ISERROR(VLOOKUP(K47,Eje_Pilar_Prop!$C$2:$E$104,2,FALSE)),\" \",VLOOKUP(K47,Eje_Pilar_Prop!$C$2:$E$104,2,FALSE))","v":"Mejor movilidad para todos"},{"$f":"IF(ISERROR(VLOOKUP(K47,Eje_Pilar_Prop!$C$2:$E$104,3,FALSE)),\" \",VLOOKUP(K47,Eje_Pilar_Prop!$C$2:$E$104,3,FALSE))","v":"Pilar 2 Democracía Urbana"},1364,80452262,"GUSTAVO MARTINEZ HERNANDEZ",6250000,null,null,null,null,6250000,6250000,"2020-03-04","2020-03-04","2020-05-18",75,null,"",null,null,null,null,null,"","x",null,1,null,{"$f":"IF(SUMPRODUCT((A$14:A47=A47)*(B$14:B47=B47)*(D$14:D47=D47))>1,0,1)","v":1},"Contratos de prestación de servicios","Contratación directa",{"$f":"IF(ISBLANK(G47),1,IFERROR(VLOOKUP(G47,Tipo!$C$12:$C$27,1,FALSE),\"NO\"))","v":"Prestación de servicios profesionales y de apoyo a la gestión, o para la ejecución de trabajos artísticos que sólo puedan encomendarse a determinadas personas naturales;"},"Inversión",{"$f":"IF(ISBLANK(K47),1,IFERROR(VLOOKUP(K47,Eje_Pilar_Prop!C29:C130,1,FALSE),\"NO\"))","v":"NO"},"SECOP II",1,"Bogotá Mejor para Todos"]
["CPS-037-2020",2020,"SECOP II","FDLS-CD-037-2020","Contratos de prestación de servicios","Contratación directa","Prestación de servicios profesionales y de apoyo a la gestión, o para la ejecución de trabajos artísticos que sólo puedan encomendarse a determinadas personas naturales;","PRESTAR SUS SERVICIOS COMO OPERARIO DE MAQUINARIA PESADA DE PROPIEDAD DEL FONDO DE DESARROLLO LOCAL DE SUMAPAZ QUE LE SEA ASIGNADA PARA LA REALIZACIÓN DE LABORES DE MANTENIMIENTO DE LA MALLA VIAL Y LAS ZONAS PÚBLICAS DE LA LOCALIDAD, ASÍ COMO ATENDER LAS EMERGENCIAS VIALES QUE SURJAN EN LA LOCALIDAD DE SUMAPAZ","Inversión","Bogotá Mejor para Todos",18,{"$f":"IF(ISERROR(VLOOKUP(K48,Eje_Pilar_Prop!$C$2:$E$104,2,FALSE)),\" \",VLOOKUP(K48,Eje_Pilar_Prop!$C$2:$E$104,2,FALSE))","v":"Mejor movilidad para todos"},{"$f":"IF(ISERROR(VLOOKUP(K48,Eje_Pilar_Prop!$C$2:$E$104,3,FALSE)),\" \",VLOOKUP(K48,Eje_Pilar_Prop!$C$2:$E$104,3,FALSE))","v":"Pilar 2 Democracía Urbana"},1364,794622118,"ERNESTO GUEVARA GONZALEZ",6250000,null,null,null,null,6250000,6250000,"2020-03-04","2020-03-04","2020-05-18",75,null,"",null,null,null,null,null,"","x",null,1,null,{"$f":"IF(SUMPRODUCT((A$14:A48=A48)*(B$14:B48=B48)*(D$14:D48=D48))>1,0,1)","v":1},"Contratos de prestación de servicios","Contratación directa",{"$f":"IF(ISBLANK(G48),1,IFERROR(VLOOKUP(G48,Tipo!$C$12:$C$27,1,FALSE),\"NO\"))","v":"Prestación de servicios profesionales y de apoyo a la gestión, o para la ejecución de trabajos artísticos que sólo puedan encomendarse a determinadas personas naturales;"},"Inversión",{"$f":"IF(ISBLANK(K48),1,IFERROR(VLOOKUP(K48,Eje_Pilar_Prop!C30:C131,1,FALSE),\"NO\"))","v":"NO"},"SECOP II",1,"Bogotá Mejor para Todos"]
["CPS-038-2020",2020,"SECOP II","FDLS-CD-038-2020","Contratos de prestación de servicios","Contratación directa","Prestación de servicios profesionales y de apoyo a la gestión, o para la ejecución de trabajos artísticos que sólo puedan encomendarse a determinadas personas naturales;","PRESTAR SUS SERVICIOS COMO OPERARIO DE MAQUINARIA PESADA DE PROPIEDAD DEL FONDO DE DESARROLLO LOCAL DE SUMAPAZ QUE LE SEA ASIGNADA PARA LA REALIZACIÓN DE LABORES DE MANTENIMIENTO DE LA MALLA VIAL Y LAS ZONAS PÚBLICAS DE LA LOCALIDAD, ASÍ COMO ATENDER LAS EMERGENCIAS VIALES QUE SURJAN EN LA LOCALIDAD DE SUMAPAZ","Inversión","Bogotá Mejor para Todos",18,{"$f":"IF(ISERROR(VLOOKUP(K49,Eje_Pilar_Prop!$C$2:$E$104,2,FALSE)),\" \",VLOOKUP(K49,Eje_Pilar_Prop!$C$2:$E$104,2,FALSE))","v":"Mejor movilidad para todos"},{"$f":"IF(ISERROR(VLOOKUP(K49,Eje_Pilar_Prop!$C$2:$E$104,3,FALSE)),\" \",VLOOKUP(K49,Eje_Pilar_Prop!$C$2:$E$104,3,FALSE))","v":"Pilar 2 Democracía Urbana"},1364,80779602,"DEIVER ORLANDO ROMERO ROJAS",6250000,null,null,null,null,6250000,6250000,"2020-03-04","2020-03-04","2020-05-18",75,null,"",null,null,null,null,null,"","x",null,1,null,{"$f":"IF(SUMPRODUCT((A$14:A49=A49)*(B$14:B49=B49)*(D$14:D49=D49))>1,0,1)","v":1},"Contratos de prestación de servicios","Contratación directa",{"$f":"IF(ISBLANK(G49),1,IFERROR(VLOOKUP(G49,Tipo!$C$12:$C$27,1,FALSE),\"NO\"))","v":"Prestación de servicios profesionales y de apoyo a la gestión, o para la ejecución de trabajos artísticos que sólo puedan encomendarse a determinadas personas naturales;"},"Inversión",{"$f":"IF(ISBLANK(K49),1,IFERROR(VLOOKUP(K49,Eje_Pilar_Prop!C31:C132,1,FALSE),\"NO\"))","v":"NO"},"SECOP II",1,"Bogotá Mejor para Todos"]
["CPS-039-2020",2020,"SECOP II","FDLS-CD-039-2020","Contratos de prestación de servicios","Contratación directa","Prestación de servicios profesionales y de apoyo a la gestión, o para la ejecución de trabajos artísticos que sólo puedan encomendarse a determinadas personas naturales;","PRESTAR SUS SERVICIOS COMO CONDUCTOR DE VEHÍCULOS PESADOS DE PROPIEDAD DEL FONDO DE DESARROLLO LOCAL DE SUMAPAZ QUE LE SEA ASIGNADA PARA LA REALIZACIÓN DE LABORES DE MANTENIMIENTO DE LA MALLA VIAL Y LAS ZONAS PÚBLICAS DE LA LOCALIDAD, ASÍ COMO ATENDER LAS EMERGENCIAS VIALES QUE SURJAN EN LA LOCALIDAD DE SUMAPAZ","Inversión","Bogotá Mejor para Todos",18,{"$f":"IF(ISERROR(VLOOKUP(K50,Eje_Pilar_Prop!$C$2:$E$104,2,FALSE)),\" \",VLOOKUP(K50,Eje_Pilar_Prop!$C$2:$E$104,2,FALSE))","v":"Mejor movilidad para todos"},{"$f":"IF(ISERROR(VLOOKUP(K50,Eje_Pilar_Prop!$C$2:$E$104,3,FALSE)),\" \",VLOOKUP(K50,Eje_Pilar_Prop!$C$2:$E$104,3,FALSE))","v":"Pilar 2 Democracía Urbana"},1364,1007829181,"ELKIN ANDRES GARCIA CIFUENTES",6250000,null,null,null,null,6250000,6250000,"2020-03-04","2020-03-04","2020-05-18",75,null,"",null,null,null,null,null,"","x",null,1,null,{"$f":"IF(SUMPRODUCT((A$14:A50=A50)*(B$14:B50=B50)*(D$14:D50=D50))>1,0,1)","v":1},"Contratos de prestación de servicios","Contratación directa",{"$f":"IF(ISBLANK(G50),1,IFERROR(VLOOKUP(G50,Tipo!$C$12:$C$27,1,FALSE),\"NO\"))","v":"Prestación de servicios profesionales y de apoyo a la gestión, o para la ejecución de trabajos artísticos que sólo puedan encomendarse a determinadas personas naturales;"},"Inversión",{"$f":"IF(ISBLANK(K50),1,IFERROR(VLOOKUP(K50,Eje_Pilar_Prop!C32:C133,1,FALSE),\"NO\"))","v":"NO"},"SECOP II",1,"Bogotá Mejor para Todos"]
["CPS-040-2020",2020,"SECOP II","FDLS-CD-040-2020","Contratos de prestación de servicios","Contratación directa","Prestación de servicios profesionales y de apoyo a la gestión, o para la ejecución de trabajos artísticos que sólo puedan encomendarse a determinadas personas naturales;","PRESTAR SUS SERVICIOS COMO OPERARIO DE MAQUINARIA PESADA DE PROPIEDAD DEL FONDO DE DESARROLLO LOCAL DE SUMAPAZ QUE LE SEA ASIGNADA PARA LA REALIZACIÓN DE LABORES DE MANTENIMIENTO DE LA MALLA VIAL Y LAS ZONAS PÚBLICAS DE LA LOCALIDAD, ASÍ COMO ATENDER LAS EMERGENCIAS VIALES QUE SURJAN EN LA LOCALIDAD DE SUMAPAZ","Inversión","Bogotá Mejor para Todos",18,{"$f":"IF(ISERROR(VLOOKUP(K51,Eje_Pilar_Prop!$C$2:$E$104,2,FALSE)),\" \",VLOOKUP(K51,Eje_Pilar_Prop!$C$2:$E$104,2,FALSE))","v":"Mejor movilidad para todos"},{"$f":"IF(ISERROR(VLOOKUP(K51,Eje_Pilar_Prop!$C$2:$E$104,3,FALSE)),\" \",VLOOKUP(K51,Eje_Pilar_Prop!$C$2:$E$104,3,FALSE))","v":"Pilar 2 Democracía Urbana"},1364,79519630,"JOSE JAVIER PORRAS",6250000,null,null,null,null,6250000,6250000,"2020-03-04","2020-03-04","2020-05-18",75,null,"",null,null,null,null,null,"","x",null,1,null,{"$f":"IF(SUMPRODUCT((A$14:A51=A51)*(B$14:B51=B51)*(D$14:D51=D51))>1,0,1)","v":1},"Contratos de prestación de servicios","Contratación directa",{"$f":"IF(ISBLANK(G51),1,IFERROR(VLOOKUP(G51,Tipo!$C$12:$C$27,1,FALSE),\"NO\"))","v":"Prestación de servicios profesionales y de apoyo a la gestión, o para la ejecución de trabajos artísticos que sólo puedan encomendarse a determinadas personas naturales;"},"Inversión",{"$f":"IF(ISBLANK(K51),1,IFERROR(VLOOKUP(K51,Eje_Pilar_Prop!C33:C134,1,FALSE),\"NO\"))","v":"NO"},"SECOP II",1,"Bogotá Mejor para Todos"]
["CPS-041-2020",2020,"SECOP II","FDLS-CD-041-2020","Contratos de prestación de servicios","Contratación directa","Prestación de servicios profesionales y de apoyo a la gestión, o para la ejecución de trabajos artísticos que sólo puedan encomendarse a determinadas personas naturales;","PRESTAR SUS SERVICIOS COMO OPERARIO DE MAQUINARIA PESADA DE PROPIEDAD DEL FONDO DE DESARROLLO LOCAL DE SUMAPAZ QUE LE SEA ASIGNADA PARA LA REALIZACIÓN DE LABORES DE MANTENIMIENTO DE LA MALLA VIAL Y LAS ZONAS PÚBLICAS DE LA LOCALIDAD, ASÍ COMO ATENDER LAS EMERGENCIAS VIALES QUE SURJAN EN LA LOCALIDAD DE SUMAPAZ","Inversión","Bogotá Mejor para Todos",18,{"$f":"IF(ISERROR(VLOOKUP(K52,Eje_Pilar_Prop!$C$2:$E$104,2,FALSE)),\" \",VLOOKUP(K52,Eje_Pilar_Prop!$C$2:$E$104,2,FALSE))","v":"Mejor movilidad para todos"},{"$f":"IF(ISERROR(VLOOKUP(K52,Eje_Pilar_Prop!$C$2:$E$104,3,FALSE)),\" \",VLOOKUP(K52,Eje_Pilar_Prop!$C$2:$E$104,3,FALSE))","v":"Pilar 2 Democracía Urbana"},1364,1023017436,"LEONEL JESID MARTINEZ MARTINEZ",6250000,null,null,null,null,6250000,6250000,"2020-03-04","2020-03-04","2020-05-18",75,null,"",null,null,null,null,null,"","x",null,1,null,{"$f":"IF(SUMPRODUCT((A$14:A52=A52)*(B$14:B52=B52)*(D$14:D52=D52))>1,0,1)","v":1},"Contratos de prestación de servicios","Contratación directa",{"$f":"IF(ISBLANK(G52),1,IFERROR(VLOOKUP(G52,Tipo!$C$12:$C$27,1,FALSE),\"NO\"))","v":"Prestación de servicios profesionales y de apoyo a la gestión, o para la ejecución de trabajos artísticos que sólo puedan encomendarse a determinadas personas naturales;"},"Inversión",{"$f":"IF(ISBLANK(K52),1,IFERROR(VLOOKUP(K52,Eje_Pilar_Prop!C34:C135,1,FALSE),\"NO\"))","v":"NO"},"SECOP II",1,"Bogotá Mejor para Todos"]
["CPS-042-2020",2020,"SECOP II","FDLS-CD-042-2020","Contratos de prestación de servicios","Contratación directa","Prestación de servicios profesionales y de apoyo a la gestión, o para la ejecución de trabajos artísticos que sólo puedan encomendarse a determinadas personas naturales;","PRESTAR SUS SERVICIOS COMO CONDUCTOR DE VEHÍCULOS PESADOS DE PROPIEDAD DEL FONDO DE DESARROLLO LOCAL DE SUMAPAZ QUE LE SEA ASIGNADA PARA LA REALIZACIÓN DE LABORES DE MANTENIMIENTO DE LA MALLA VIAL Y LAS ZONAS PÚBLICAS DE LA LOCALIDAD, ASÍ COMO ATENDER LAS EMERGENCIAS VIALES QUE SURJAN EN LA LOCALIDAD DE SUMAPAZ","Inversión","Bogotá Mejor para Todos",18,{"$f":"IF(ISERROR(VLOOKUP(K53,Eje_Pilar_Prop!$C$2:$E$104,2,FALSE)),\" \",VLOOKUP(K53,Eje_Pilar_Prop!$C$2:$E$104,2,FALSE))","v":"Mejor movilidad para todos"},{"$f":"IF(ISERROR(VLOOKUP(K53,Eje_Pilar_Prop!$C$2:$E$104,3,FALSE)),\" \",VLOOKUP(K53,Eje_Pilar_Prop!$C$2:$E$104,3,FALSE))","v":"Pilar 2 Democracía Urbana"},1364,79632428,"ORLANDO HERNANDEZ MARTINEZ",6250000,null,null,null,null,6250000,6250000,"2020-03-04","2020-03-04","2020-05-18",75,null,"",null,null,null,null,null,"","x",null,1,null,{"$f":"IF(SUMPRODUCT((A$14:A53=A53)*(B$14:B53=B53)*(D$14:D53=D53))>1,0,1)","v":1},"Contratos de prestación de servicios","Contratación directa",{"$f":"IF(ISBLANK(G53),1,IFERROR(VLOOKUP(G53,Tipo!$C$12:$C$27,1,FALSE),\"NO\"))","v":"Prestación de servicios profesionales y de apoyo a la gestión, o para la ejecución de trabajos artísticos que sólo puedan encomendarse a determinadas personas naturales;"},"Inversión",{"$f":"IF(ISBLANK(K53),1,IFERROR(VLOOKUP(K53,Eje_Pilar_Prop!C35:C136,1,FALSE),\"NO\"))","v":"NO"},"SECOP II",1,"Bogotá Mejor para Todos"]
["CPS-043-2020",2020,"SECOP II","FDLS-CD-043-2020","Contratos de prestación de servicios","Contratación directa","Prestación de servicios profesionales y de apoyo a la gestión, o para la ejecución de trabajos artísticos que sólo puedan encomendarse a determinadas personas naturales;","APOYAR LA GESTIÓN DOCUMENTAL DE LA ALCALDÍA LOCAL DE SUMAPAZ EN LA IMPLEMENTACIÓN DE LOS PROCESOS DE CLASIFICACIÓN, ORDENACIÓN, SELECCIÓN NATURAL, FOLIACIÓN, IDENTIFICACIPON, LEVANTAMIENTO DE INVENTARIOS, ALMACENAMIENTO Y APLICACIÓN DE PROTOCOLOS DE ELIMINACIÓN Y TRANSFERENCIAS DOCUMENTALES.","Inversión","Bogotá Mejor para Todos",45,{"$f":"IF(ISERROR(VLOOKUP(K54,Eje_Pilar_Prop!$C$2:$E$104,2,FALSE)),\" \",VLOOKUP(K54,Eje_Pilar_Prop!$C$2:$E$104,2,FALSE))","v":"Gobernanza e influencia local, regional e internacional"},{"$f":"IF(ISERROR(VLOOKUP(K54,Eje_Pilar_Prop!$C$2:$E$104,3,FALSE)),\" \",VLOOKUP(K54,Eje_Pilar_Prop!$C$2:$E$104,3,FALSE))","v":"Eje Transversal 4 Gobierno Legitimo, Fortalecimiento Local y Eficiencia"},1375,1114398753,"MONICA GONZALEZ MEJIA",7500000,null,null,null,null,7500000,7333333,"2020-03-03","2020-03-03","2020-06-02",90,null,"",null,null,null,null,null,"","x",null,0.97777773333333329,null,{"$f":"IF(SUMPRODUCT((A$14:A54=A54)*(B$14:B54=B54)*(D$14:D54=D54))>1,0,1)","v":1},"Contratos de prestación de servicios","Contratación directa",{"$f":"IF(ISBLANK(G54),1,IFERROR(VLOOKUP(G54,Tipo!$C$12:$C$27,1,FALSE),\"NO\"))","v":"Prestación de servicios profesionales y de apoyo a la gestión, o para la ejecución de trabajos artísticos que sólo puedan encomendarse a determinadas personas naturales;"},"Inversión",{"$f":"IF(ISBLANK(K54),1,IFERROR(VLOOKUP(K54,Eje_Pilar_Prop!C36:C137,1,FALSE),\"NO\"))","v":45},"SECOP II",1,"Bogotá Mejor para Todos"]
["CPS-044-2020",2020,"SECOP II","FDLS-CD-044-2020","Contratos de prestación de servicios","Contratación directa","Prestación de servicios profesionales y de apoyo a la gestión, o para la ejecución de trabajos artísticos que sólo puedan encomendarse a determinadas personas naturales;","PRESTAR SUS SERVICIOS DE APOYO PARA REALIZAR ACTIVIDADES INHERENTES A LA GESTIÓN DOCUMENTAL DE LA ALCALDÍA LOCAL DE SUMAPAZ Y LA CORREGIDURÍA DE SAN JUAN.","Inversión","Bogotá Mejor para Todos",45,{"$f":"IF(ISERROR(VLOOKUP(K55,Eje_Pilar_Prop!$C$2:$E$104,2,FALSE)),\" \",VLOOKUP(K55,Eje_Pilar_Prop!$C$2:$E$104,2,FALSE))","v":"Gobernanza e influencia local, regional e internacional"},{"$f":"IF(ISERROR(VLOOKUP(K55,Eje_Pilar_Prop!$C$2:$E$104,3,FALSE)),\" \",VLOOKUP(K55,Eje_Pilar_Prop!$C$2:$E$104,3,FALSE))","v":"Eje Transversal 4 Gobierno Legitimo, Fortalecimiento Local y Eficiencia"},1375,1030673751,"\nANA MARÍA MOSQUERA PINTO",6000000,null,null,null,null,6000000,6000000,"2020-03-16","2020-03-16","2020-06-15",90,null,"",null,null,null,null,null,"","x",null,1,null,{"$f":"IF(SUMPRODUCT((A$14:A55=A55)*(B$14:B55=B55)*(D$14:D55=D55))>1,0,1)","v":1},"Contratos de prestación de servicios","Contratación directa",{"$f":"IF(ISBLANK(G55),1,IFERROR(VLOOKUP(G55,Tipo!$C$12:$C$27,1,FALSE),\"NO\"))","v":"Prestación de servicios profesionales y de apoyo a la gestión, o para la ejecución de trabajos artísticos que sólo puedan encomendarse a determinadas personas naturales;"},"Inversión",{"$f":"IF(ISBLANK(K55),1,IFERROR(VLOOKUP(K55,Eje_Pilar_Prop!C37:C138,1,FALSE),\"NO\"))","v":45},"SECOP II",1,"Bogotá Mejor para Todos"]
["CPS-045-2020",2020,"SECOP II","FDLS-CD-045-2020","Contratos de prestación de servicios","Contratación directa","Prestación de servicios profesionales y de apoyo a la gestión, o para la ejecución de trabajos artísticos que sólo puedan encomendarse a determinadas personas naturales;","PRESTACIÓN DE SERVICIOS DE APOYO PARA LAS CORREGIDURIAS DE NAZARETH Y BETANIA REALIZANDO ACTIVIDADES LOGÍSTICAS Y OPERATIVAS ATENDIENDO LINEAMIENTOS DE LAS DIFERENTES ÁREAS DE LA ADMINISTRACIÓN LOCAL EN LOS BIENES DE PROPIEDAD DEL FONDO DE DESARROLLO LOCAL Y/O DE LA ALCALDÍA LOCAL DE SUMAPAZ","Inversión","Bogotá Mejor para Todos",45,{"$f":"IF(ISERROR(VLOOKUP(K56,Eje_Pilar_Prop!$C$2:$E$104,2,FALSE)),\" \",VLOOKUP(K56,Eje_Pilar_Prop!$C$2:$E$104,2,FALSE))","v":"Gobernanza e influencia local, regional e internacional"},{"$f":"IF(ISERROR(VLOOKUP(K56,Eje_Pilar_Prop!$C$2:$E$104,3,FALSE)),\" \",VLOOKUP(K56,Eje_Pilar_Prop!$C$2:$E$104,3,FALSE))","v":"Eje Transversal 4 Gobierno Legitimo, Fortalecimiento Local y Eficiencia"},1375,19157189,"ENRIQUE HUERTAS",5250000,null,null,null,null,5250000,5250000,"2020-03-13","2020-03-13","2020-06-12",90,null,"",null,null,null,null,null,"","x",null,1,null,{"$f":"IF(SUMPRODUCT((A$14:A56=A56)*(B$14:B56=B56)*(D$14:D56=D56))>1,0,1)","v":1},"Contratos de prestación de servicios","Contratación directa",{"$f":"IF(ISBLANK(G56),1,IFERROR(VLOOKUP(G56,Tipo!$C$12:$C$27,1,FALSE),\"NO\"))","v":"Prestación de servicios profesionales y de apoyo a la gestión, o para la ejecución de trabajos artísticos que sólo puedan encomendarse a determinadas personas naturales;"},"Inversión",{"$f":"IF(ISBLANK(K56),1,IFERROR(VLOOKUP(K56,Eje_Pilar_Prop!C38:C139,1,FALSE),\"NO\"))","v":45},"SECOP II",1,"Bogotá Mejor para Todos"]
["CPS-046-2020",2020,"SECOP II","FDLS-CD-046-2020","Contratos de prestación de servicios","Contratación directa","Prestación de servicios profesionales y de apoyo a la gestión, o para la ejecución de trabajos artísticos que sólo puedan encomendarse a determinadas personas naturales;","PRESTAR LOS SERVICIOS PROFESIONALES JURÍDICOS PARA APOYAR LOS ASUNTOS LEGALES Y CONTRACTUALES DE LA ALCALDÍA LOCAL DE SUMAPAZ DE LOS PROYECTOS DE INVERSIÓN 1379, 1356, 1382, 1377, 1375 Y SEGUIMIENTO CUENTAS POR PAGAR Y ACTAS DE LIQUIDACIÓN","Inversión","Bogotá Mejor para Todos",45,{"$f":"IF(ISERROR(VLOOKUP(K57,Eje_Pilar_Prop!$C$2:$E$104,2,FALSE)),\" \",VLOOKUP(K57,Eje_Pilar_Prop!$C$2:$E$104,2,FALSE))","v":"Gobernanza e influencia local, regional e internacional"},{"$f":"IF(ISERROR(VLOOKUP(K57,Eje_Pilar_Prop!$C$2:$E$104,3,FALSE)),\" \",VLOOKUP(K57,Eje_Pilar_Prop!$C$2:$E$104,3,FALSE))","v":"Eje Transversal 4 Gobierno Legitimo, Fortalecimiento Local y Eficiencia"},1375,1030610164,"BRAHAN EDUARDO GARCIA LOPEZ",16500000,null,null,null,null,16500000,16500000,"2020-03-10","2020-03-10","2020-06-09",90,null,"",null,null,null,null,null,"","x",null,1,null,{"$f":"IF(SUMPRODUCT((A$14:A57=A57)*(B$14:B57=B57)*(D$14:D57=D57))>1,0,1)","v":1},"Contratos de prestación de servicios","Contratación directa",{"$f":"IF(ISBLANK(G57),1,IFERROR(VLOOKUP(G57,Tipo!$C$12:$C$27,1,FALSE),\"NO\"))","v":"Prestación de servicios profesionales y de apoyo a la gestión, o para la ejecución de trabajos artísticos que sólo puedan encomendarse a determinadas personas naturales;"},"Inversión",{"$f":"IF(ISBLANK(K57),1,IFERROR(VLOOKUP(K57,Eje_Pilar_Prop!C39:C140,1,FALSE),\"NO\"))","v":45},"SECOP II",1,"Bogotá Mejor para Todos"]
["CPS-047-2020",2020,"SECOP II","FDLS-CD-047-2020","Contratos de prestación de servicios","Contratación directa","Prestación de servicios profesionales y de apoyo a la gestión, o para la ejecución de trabajos artísticos que sólo puedan encomendarse a determinadas personas naturales;","PRESTACIÓN DE SERVICIOS DE APOYO PARA EL ÁREA DE GESTIÓN DE DESARROLLO LOCAL REALIZANDO ACTIVIDADES LOGÍSTICAS Y OPERATIVAS ATENDIENDO LOS LINEAMIENTOS DE LAS DIFERENTES ÁREAS DE LA ADMINISTRACIÓN LOCAL EN LOS BIENES DE PROPIEDAD DEL FONDO DE DESARROLLO LOCAL Y/O DE LA ALCALDÍA LOCAL DE SUMAPAZ","Inversión","Bogotá Mejor para Todos",45,{"$f":"IF(ISERROR(VLOOKUP(K58,Eje_Pilar_Prop!$C$2:$E$104,2,FALSE)),\" \",VLOOKUP(K58,Eje_Pilar_Prop!$C$2:$E$104,2,FALSE))","v":"Gobernanza e influencia local, regional e internacional"},{"$f":"IF(ISERROR(VLOOKUP(K58,Eje_Pilar_Prop!$C$2:$E$104,3,FALSE)),\" \",VLOOKUP(K58,Eje_Pilar_Prop!$C$2:$E$104,3,FALSE))","v":"Eje Transversal 4 Gobierno Legitimo, Fortalecimiento Local y Eficiencia"},1375,79358856,"LEOPOLDO MARTINEZ MARTINEZ",7500000,null,null,null,null,7500000,7500000,"2020-03-13","2020-03-13","2020-06-12",90,null,"",null,null,null,null,null,"","x",null,1,null,{"$f":"IF(SUMPRODUCT((A$14:A58=A58)*(B$14:B58=B58)*(D$14:D58=D58))>1,0,1)","v":1},"Contratos de prestación de servicios","Contratación directa",{"$f":"IF(ISBLANK(G58),1,IFERROR(VLOOKUP(G58,Tipo!$C$12:$C$27,1,FALSE),\"NO\"))","v":"Prestación de servicios profesionales y de apoyo a la gestión, o para la ejecución de trabajos artísticos que sólo puedan encomendarse a determinadas personas naturales;"},"Inversión",{"$f":"IF(ISBLANK(K58),1,IFERROR(VLOOKUP(K58,Eje_Pilar_Prop!C40:C141,1,FALSE),\"NO\"))","v":45},"SECOP II",1,"Bogotá Mejor para Todos"]
["CPS-48-2020",2020,"SECOP II","FDLS-CD-048-2020","Contratos de prestación de servicios","Contratación directa","Prestación de servicios profesionales y de apoyo a la gestión, o para la ejecución de trabajos artísticos que sólo puedan encomendarse a determinadas personas naturales;","PRESTAR SUS SERVICIOS COMO AYUDANTE DE LA MAQUINARIA PESADA DE PROPIEDAD DEL FONDO DE DESARROLLO LOCAL DE SUMAPAZ QUE LE SEA ASIGNADA PARA LA REALIZACIÓN DE LABORES DE MANTENIMIENTO Y MEJORAMIENTO DE LA MALLA VIAL, ZONAS PÚBLICAS , ASÍ COMO LA ATENCIÓN DE EMERGENCIAS VIALES QUE SURJAN EN LA LOCALIDAD DE SUMAPAZ","Inversión","Bogotá Mejor para Todos",18,{"$f":"IF(ISERROR(VLOOKUP(K59,Eje_Pilar_Prop!$C$2:$E$104,2,FALSE)),\" \",VLOOKUP(K59,Eje_Pilar_Prop!$C$2:$E$104,2,FALSE))","v":"Mejor movilidad para todos"},{"$f":"IF(ISERROR(VLOOKUP(K59,Eje_Pilar_Prop!$C$2:$E$104,3,FALSE)),\" \",VLOOKUP(K59,Eje_Pilar_Prop!$C$2:$E$104,3,FALSE))","v":"Pilar 2 Democracía Urbana"},1364,1032656406,"FABIAN LEONARDO PULIDO MORENO",6250000,null,null,null,null,6250000,6250000,"2020-03-17","2020-03-17","2020-06-16",75,null,"",null,null,null,null,null,"","x",null,1,null,{"$f":"IF(SUMPRODUCT((A$14:A59=A59)*(B$14:B59=B59)*(D$14:D59=D59))>1,0,1)","v":1},"Contratos de prestación de servicios","Contratación directa",{"$f":"IF(ISBLANK(G59),1,IFERROR(VLOOKUP(G59,Tipo!$C$12:$C$27,1,FALSE),\"NO\"))","v":"Prestación de servicios profesionales y de apoyo a la gestión, o para la ejecución de trabajos artísticos que sólo puedan encomendarse a determinadas personas naturales;"},"Inversión",{"$f":"IF(ISBLANK(K59),1,IFERROR(VLOOKUP(K59,Eje_Pilar_Prop!C41:C142,1,FALSE),\"NO\"))","v":"NO"},"SECOP II",1,"Bogotá Mejor para Todos"]
["CPS-049-2020",2020,"SECOP II","FDLS-CD-049-2020","Contratos de prestación de servicios","Contratación directa","Prestación de servicios profesionales y de apoyo a la gestión, o para la ejecución de trabajos artísticos que sólo puedan encomendarse a determinadas personas naturales;","PRESTAR SUS SERVICIOS COMO AYUDANTE DE LA MAQUINARIA PESADA DE PROPIEDAD DEL FONDO DE DESARROLLO LOCAL DE SUMAPAZ QUE LE SEA ASIGNADA PARA LA REALIZACIÓN DE LABORES DE MANTENIMIENTO Y MEJORAMIENTO DE LA MALLA VIAL, ZONAS PÚBLICAS , ASÍ COMO LA ATENCIÓN DE EMERGENCIAS VIALES QUE SURJAN EN LA LOCALIDAD DE SUMAPAZ","Inversión","Bogotá Mejor para Todos",18,{"$f":"IF(ISERROR(VLOOKUP(K60,Eje_Pilar_Prop!$C$2:$E$104,2,FALSE)),\" \",VLOOKUP(K60,Eje_Pilar_Prop!$C$2:$E$104,2,FALSE))","v":"Mejor movilidad para todos"},{"$f":"IF(ISERROR(VLOOKUP(K60,Eje_Pilar_Prop!$C$2:$E$104,3,FALSE)),\" \",VLOOKUP(K60,Eje_Pilar_Prop!$C$2:$E$104,3,FALSE))","v":"Pilar 2 Democracía Urbana"},1364,1023025796,"PABLO YESID RIOS HILARION ",6250000,null,null,null,null,6250000,6250000,"2020-03-17","2020-03-17","2020-05-31",75,null,"",null,null,null,null,null,"","x",null,1,null,{"$f":"IF(SUMPRODUCT((A$14:A60=A60)*(B$14:B60=B60)*(D$14:D60=D60))>1,0,1)","v":1},"Contratos de prestación de servicios","Contratación directa",{"$f":"IF(ISBLANK(G60),1,IFERROR(VLOOKUP(G60,Tipo!$C$12:$C$27,1,FALSE),\"NO\"))","v":"Prestación de servicios profesionales y de apoyo a la gestión, o para la ejecución de trabajos artísticos que sólo puedan encomendarse a determinadas personas naturales;"},"Inversión",{"$f":"IF(ISBLANK(K60),1,IFERROR(VLOOKUP(K60,Eje_Pilar_Prop!C42:C143,1,FALSE),\"NO\"))","v":"NO"},"SECOP II",1,"Bogotá Mejor para Todos"]
["CPS-050-2020",2020,"SECOP II","FDLS-CD-050-2020","Contratos de prestación de servicios","Contratación directa","Prestación de servicios profesionales y de apoyo a la gestión, o para la ejecución de trabajos artísticos que sólo puedan encomendarse a determinadas personas naturales;","PRESTAR SUS SERVICIOS COMO AYUDANTE DE LA MAQUINARIA PESADA DE PROPIEDAD DEL FONDO DE DESARROLLO LOCAL DE SUMAPAZ QUE LE SEA ASIGNADA PARA LA REALIZACIÓN DE LABORES DE MANTENIMIENTO Y MEJORAMIENTO DE LA MALLA VIAL, ZONAS PÚBLICAS , ASÍ COMO LA ATENCIÓN DE EMERGENCIAS VIALES QUE SURJAN EN LA LOCALIDAD DE SUMAPAZ","Inversión","Bogotá Mejor para Todos",18,{"$f":"IF(ISERROR(VLOOKUP(K61,Eje_Pilar_Prop!$C$2:$E$104,2,FALSE)),\" \",VLOOKUP(K61,Eje_Pilar_Prop!$C$2:$E$104,2,FALSE))","v":"Mejor movilidad para todos"},{"$f":"IF(ISERROR(VLOOKUP(K61,Eje_Pilar_Prop!$C$2:$E$104,3,FALSE)),\" \",VLOOKUP(K61,Eje_Pilar_Prop!$C$2:$E$104,3,FALSE))","v":"Pilar 2 Democracía Urbana"},1364,79887251,"FABIO MORENO TORRES ",6250000,null,null,null,null,6250000,6250000,"2020-03-17","2020-03-17","2020-05-31",75,null,"",null,null,null,null,null,"","x",null,1,null,{"$f":"IF(SUMPRODUCT((A$14:A61=A61)*(B$14:B61=B61)*(D$14:D61=D61))>1,0,1)","v":1},"Contratos de prestación de servicios","Contratación directa",{"$f":"IF(ISBLANK(G61),1,IFERROR(VLOOKUP(G61,Tipo!$C$12:$C$27,1,FALSE),\"NO\"))","v":"Prestación de servicios profesionales y de apoyo a la gestión, o para la ejecución de trabajos artísticos que sólo puedan encomendarse a determinadas personas naturales;"},"Inversión",{"$f":"IF(ISBLANK(K61),1,IFERROR(VLOOKUP(K61,Eje_Pilar_Prop!C43:C144,1,FALSE),\"NO\"))","v":"NO"},"SECOP II",1,"Bogotá Mejor para Todos"]
["CPS-051-2020",2020,"SECOP II","FDLS-CD-051-2020","Contratos de prestación de servicios","Contratación directa","Prestación de servicios profesionales y de apoyo a la gestión, o para la ejecución de trabajos artísticos que sólo puedan encomendarse a determinadas personas naturales;","PRESTAR SUS SERVICIOS COMO AYUDANTE DE LA MAQUINARIA PESADA DE PROPIEDAD DEL FONDO DE DESARROLLO LOCAL DE SUMAPAZ QUE LE SEA ASIGNADA PARA LA REALIZACIÓN DE LABORES DE MANTENIMIENTO Y MEJORAMIENTO DE LA MALLA VIAL, ZONAS PÚBLICAS, ASÍ COMO ATENDER LAS EMERGENCIAS VIALES QUE SURJAN EN LA LOCALIDAD DE SUMAPAZ","Inversión","Bogotá Mejor para Todos",18,{"$f":"IF(ISERROR(VLOOKUP(K62,Eje_Pilar_Prop!$C$2:$E$104,2,FALSE)),\" \",VLOOKUP(K62,Eje_Pilar_Prop!$C$2:$E$104,2,FALSE))","v":"Mejor movilidad para todos"},{"$f":"IF(ISERROR(VLOOKUP(K62,Eje_Pilar_Prop!$C$2:$E$104,3,FALSE)),\" \",VLOOKUP(K62,Eje_Pilar_Prop!$C$2:$E$104,3,FALSE))","v":"Pilar 2 Democracía Urbana"},1364,1069230738,"camilo andres susa cifuentes",6250000,null,null,null,null,6250000,6250000,"2020-03-19","2020-03-19","2020-06-02",75,null,"",null,null,null,null,null,"","x",null,1,null,{"$f":"IF(SUMPRODUCT((A$14:A62=A62)*(B$14:B62=B62)*(D$14:D62=D62))>1,0,1)","v":1},"Contratos de prestación de servicios","Contratación directa",{"$f":"IF(ISBLANK(G62),1,IFERROR(VLOOKUP(G62,Tipo!$C$12:$C$27,1,FALSE),\"NO\"))","v":"Prestación de servicios profesionales y de apoyo a la gestión, o para la ejecución de trabajos artísticos que sólo puedan encomendarse a determinadas personas naturales;"},"Inversión",{"$f":"IF(ISBLANK(K62),1,IFERROR(VLOOKUP(K62,Eje_Pilar_Prop!C44:C145,1,FALSE),\"NO\"))","v":"NO"},"SECOP II",1,"Bogotá Mejor para Todos"]
["CPS-052-2020",2020,"SECOP II","FDLS-CD-052-2020","Contratos de prestación de servicios","Contratación directa","Prestación de servicios profesionales y de apoyo a la gestión, o para la ejecución de trabajos artísticos que sólo puedan encomendarse a determinadas personas naturales;","PRESTAR SUS SERVICIOS COMO AYUDANTE DE LA MAQUINARIA PESADA DE PROPIEDAD DEL FONDO DE DESARROLLO LOCAL DE SUMAPAZ QUE LE SEA ASIGNADA PARA LA REALIZACIÓN DE LABORES DE MANTENIMIENTO Y MEJORAMIENTO DE LA MALLA VIAL, ZONAS PÚBLICAS , ASÍ COMO LA ATENCIÓN DE EMERGENCIAS VIALES QUE SURJAN EN LA LOCALIDAD DE SUMAPAZ","Inversión","Bogotá Mejor para Todos",18,{"$f":"IF(ISERROR(VLOOKUP(K63,Eje_Pilar_Prop!$C$2:$E$104,2,FALSE)),\" \",VLOOKUP(K63,Eje_Pilar_Prop!$C$2:$E$104,2,FALSE))","v":"Mejor movilidad para todos"},{"$f":"IF(ISERROR(VLOOKUP(K63,Eje_Pilar_Prop!$C$2:$E$104,3,FALSE)),\" \",VLOOKUP(K63,Eje_Pilar_Prop!$C$2:$E$104,3,FALSE))","v":"Pilar 2 Democracía Urbana"},1364,79216776,"ERISMENDIZ CASTELLANOS DIAZ",6250000,null,null,null,null,6250000,6250000,"2020-03-17","2020-03-17","2020-05-31",75,null,"",null,null,null,null,null,"","x",null,1,null,{"$f":"IF(SUMPRODUCT((A$14:A63=A63)*(B$14:B63=B63)*(D$14:D63=D63))>1,0,1)","v":1},"Contratos de prestación de servicios","Contratación directa",{"$f":"IF(ISBLANK(G63),1,IFERROR(VLOOKUP(G63,Tipo!$C$12:$C$27,1,FALSE),\"NO\"))","v":"Prestación de servicios profesionales y de apoyo a la gestión, o para la ejecución de trabajos artísticos que sólo puedan encomendarse a determinadas personas naturales;"},"Inversión",{"$f":"IF(ISBLANK(K63),1,IFERROR(VLOOKUP(K63,Eje_Pilar_Prop!C45:C146,1,FALSE),\"NO\"))","v":"NO"},"SECOP II",1,"Bogotá Mejor para Todos"]
["CPS-053-2020",2020,"SECOP II","FDLS-CD-053-2020","Contratos de prestación de servicios","Contratación directa","Prestación de servicios profesionales y de apoyo a la gestión, o para la ejecución de trabajos artísticos que sólo puedan encomendarse a determinadas personas naturales;","PRESTAR SUS SERVICIOS COMO AYUDANTE DE LA MAQUINARIA PESADA DE PROPIEDAD DEL FONDO DE DESARROLLO LOCAL DE SUMAPAZ QUE LE SEA ASIGNADA PARA LA REALIZACIÓN DE LABORES DE MANTENIMIENTO Y MEJORAMIENTO DE LA MALLA VIAL, ZONAS PÚBLICAS , ASÍ COMO LA ATENCIÓN DE EMERGENCIAS VIALES QUE SURJAN EN LA LOCALIDAD DE SUMAPAZ","Inversión","Bogotá Mejor para Todos",18,{"$f":"IF(ISERROR(VLOOKUP(K64,Eje_Pilar_Prop!$C$2:$E$104,2,FALSE)),\" \",VLOOKUP(K64,Eje_Pilar_Prop!$C$2:$E$104,2,FALSE))","v":"Mejor movilidad para todos"},{"$f":"IF(ISERROR(VLOOKUP(K64,Eje_Pilar_Prop!$C$2:$E$104,3,FALSE)),\" \",VLOOKUP(K64,Eje_Pilar_Prop!$C$2:$E$104,3,FALSE))","v":"Pilar 2 Democracía Urbana"},1364,80746510,"FREDDY ERNESTO BENAVIDES PALACIOS",6250000,null,null,null,null,6250000,6250000,"2020-03-19","2020-03-19","2020-06-02",75,null,"",null,null,null,null,null,"","x",null,1,null,{"$f":"IF(SUMPRODUCT((A$14:A64=A64)*(B$14:B64=B64)*(D$14:D64=D64))>1,0,1)","v":1},"Contratos de prestación de servicios","Contratación directa",{"$f":"IF(ISBLANK(G64),1,IFERROR(VLOOKUP(G64,Tipo!$C$12:$C$27,1,FALSE),\"NO\"))","v":"Prestación de servicios profesionales y de apoyo a la gestión, o para la ejecución de trabajos artísticos que sólo puedan encomendarse a determinadas personas naturales;"},"Inversión",{"$f":"IF(ISBLANK(K64),1,IFERROR(VLOOKUP(K64,Eje_Pilar_Prop!C46:C147,1,FALSE),\"NO\"))","v":"NO"},"SECOP II",1,"Bogotá Mejor para Todos"]
["CPS-054-2020",2020,"SECOP II","FDLS-CD-054-2020","Contratos de prestación de servicios","Contratación directa","Prestación de servicios profesionales y de apoyo a la gestión, o para la ejecución de trabajos artísticos que sólo puedan encomendarse a determinadas personas naturales;","\tPRESTAR SUS SERVICIOS COMO AYUDANTE DE LA MAQUINARIA PESADA DE PROPIEDAD DEL FONDO DE DESARROLLO LOCAL DE SUMAPAZ QUE LE SEA ASIGNADA PARA LA REALIZACIÓN DE LABORES DE MANTENIMIENTO Y MEJORAMIENTO DE LA MALLA VIAL, ZONAS PÚBLICAS, ASÍ COMO ATENDER LAS EMERGENCIAS VIALES QUE SURJAN EN LA LOCALIDAD DE SUMAPAZ","Inversión","Bogotá Mejor para Todos",18,{"$f":"IF(ISERROR(VLOOKUP(K65,Eje_Pilar_Prop!$C$2:$E$104,2,FALSE)),\" \",VLOOKUP(K65,Eje_Pilar_Prop!$C$2:$E$104,2,FALSE))","v":"Mejor movilidad para todos"},{"$f":"IF(ISERROR(VLOOKUP(K65,Eje_Pilar_Prop!$C$2:$E$104,3,FALSE)),\" \",VLOOKUP(K65,Eje_Pilar_Prop!$C$2:$E$104,3,FALSE))","v":"Pilar 2 Democracía Urbana"},1364,1070750533,"RAFAEL LARA SANABRIA",6250000,null,null,null,null,6250000,6250000,"2020-03-17","2020-03-17","2020-05-31",75,null,"",null,null,null,null,null,"","x",null,1,null,{"$f":"IF(SUMPRODUCT((A$14:A65=A65)*(B$14:B65=B65)*(D$14:D65=D65))>1,0,1)","v":1},"Contratos de prestación de servicios","Contratación directa",{"$f":"IF(ISBLANK(G65),1,IFERROR(VLOOKUP(G65,Tipo!$C$12:$C$27,1,FALSE),\"NO\"))","v":"Prestación de servicios profesionales y de apoyo a la gestión, o para la ejecución de trabajos artísticos que sólo puedan encomendarse a determinadas personas naturales;"},"Inversión",{"$f":"IF(ISBLANK(K65),1,IFERROR(VLOOKUP(K65,Eje_Pilar_Prop!C47:C148,1,FALSE),\"NO\"))","v":"NO"},"SECOP II",1,"Bogotá Mejor para Todos"]
["CPS-055-2020",2020,"SECOP II","FDLS-CD-055-2020","Contratos de prestación de servicios","Contratación directa","Prestación de servicios profesionales y de apoyo a la gestión, o para la ejecución de trabajos artísticos que sólo puedan encomendarse a determinadas personas naturales;","PRESTAR SUS SERVICIOS COMO AYUDANTE DE LA MAQUINARIA PESADA DE PROPIEDAD DEL FONDO DE DESARROLLO LOCAL DE SUMAPAZ QUE LE SEA ASIGNADA PARA LA REALIZACIÓN DE LABORES DE MANTENIMIENTO Y MEJORAMIENTO DE LA MALLA VIAL, ZONAS PÚBLICAS, ASÍ COMO ATENDER LAS EMERGENCIAS VIALES QUE SURJAN EN LA LOCALIDAD DE SUMAPAZ","Inversión","Bogotá Mejor para Todos",18,{"$f":"IF(ISERROR(VLOOKUP(K66,Eje_Pilar_Prop!$C$2:$E$104,2,FALSE)),\" \",VLOOKUP(K66,Eje_Pilar_Prop!$C$2:$E$104,2,FALSE))","v":"Mejor movilidad para todos"},{"$f":"IF(ISERROR(VLOOKUP(K66,Eje_Pilar_Prop!$C$2:$E$104,3,FALSE)),\" \",VLOOKUP(K66,Eje_Pilar_Prop!$C$2:$E$104,3,FALSE))","v":"Pilar 2 Democracía Urbana"},1364,1013598298,"CARLOS JAIR PEÑA PEÑA",6250000,null,null,null,null,6250000,6250000,"2020-03-17","2020-03-17","2020-05-31",75,null,"",null,null,null,null,null,"","x",null,1,null,{"$f":"IF(SUMPRODUCT((A$14:A66=A66)*(B$14:B66=B66)*(D$14:D66=D66))>1,0,1)","v":1},"Contratos de prestación de servicios","Contratación directa",{"$f":"IF(ISBLANK(G66),1,IFERROR(VLOOKUP(G66,Tipo!$C$12:$C$27,1,FALSE),\"NO\"))","v":"Prestación de servicios profesionales y de apoyo a la gestión, o para la ejecución de trabajos artísticos que sólo puedan encomendarse a determinadas personas naturales;"},"Inversión",{"$f":"IF(ISBLANK(K66),1,IFERROR(VLOOKUP(K66,Eje_Pilar_Prop!C48:C149,1,FALSE),\"NO\"))","v":"NO"},"SECOP II",1,"Bogotá Mejor para Todos"]
["CPS-056-2020",2020,"SECOP II","FDLS-CD-056-2020","Contratos de prestación de servicios","Contratación directa","Prestación de servicios profesionales y de apoyo a la gestión, o para la ejecución de trabajos artísticos que sólo puedan encomendarse a determinadas personas naturales;","PRESTAR SUS SERVICIOS COMO AUXILIAR ADMINISTRATIVO PARA EL ÁREA DE GESTIÓN DE DESARROLLO DE LA ALCALDÍA LOCAL DE SUMAPAZ","Inversión","Bogotá Mejor para Todos",45,{"$f":"IF(ISERROR(VLOOKUP(K67,Eje_Pilar_Prop!$C$2:$E$104,2,FALSE)),\" \",VLOOKUP(K67,Eje_Pilar_Prop!$C$2:$E$104,2,FALSE))","v":"Gobernanza e influencia local, regional e internacional"},{"$f":"IF(ISERROR(VLOOKUP(K67,Eje_Pilar_Prop!$C$2:$E$104,3,FALSE)),\" \",VLOOKUP(K67,Eje_Pilar_Prop!$C$2:$E$104,3,FALSE))","v":"Eje Transversal 4 Gobierno Legitimo, Fortalecimiento Local y Eficiencia"},1375,1010239115,"LAURA MELISSA GONZÁLEZ LÓPEZ",7500000,null,null,null,null,7500000,7500000,"2020-03-14","2020-03-14","2020-06-13",75,null,"",null,null,null,null,null,"","x",null,1,null,{"$f":"IF(SUMPRODUCT((A$14:A67=A67)*(B$14:B67=B67)*(D$14:D67=D67))>1,0,1)","v":1},"Contratos de prestación de servicios","Contratación directa",{"$f":"IF(ISBLANK(G67),1,IFERROR(VLOOKUP(G67,Tipo!$C$12:$C$27,1,FALSE),\"NO\"))","v":"Prestación de servicios profesionales y de apoyo a la gestión, o para la ejecución de trabajos artísticos que sólo puedan encomendarse a determinadas personas naturales;"},"Inversión",{"$f":"IF(ISBLANK(K67),1,IFERROR(VLOOKUP(K67,Eje_Pilar_Prop!C48:C150,1,FALSE),\"NO\"))","v":"NO"},"SECOP II",1,"Bogotá Mejor para Todos"]
["CPS-057-2020",2020,"SECOP II","FDLS-CD-057-2020","Contratos de prestación de servicios","Contratación directa","Prestación de servicios profesionales y de apoyo a la gestión, o para la ejecución de trabajos artísticos que sólo puedan encomendarse a determinadas personas naturales;","PRESTAR LOS SERVICIOS PROFESIONALES DE APOYO AL GRUPO DE GESTIÓN DE DESARROLLO LOCAL EN LOS TEMAS CONTABLES DEL FONDO DE DESARROLLO LOCAL DE SUMAPAZ","Inversión","Bogotá Mejor para Todos",45,{"$f":"IF(ISERROR(VLOOKUP(K68,Eje_Pilar_Prop!$C$2:$E$104,2,FALSE)),\" \",VLOOKUP(K68,Eje_Pilar_Prop!$C$2:$E$104,2,FALSE))","v":"Gobernanza e influencia local, regional e internacional"},{"$f":"IF(ISERROR(VLOOKUP(K68,Eje_Pilar_Prop!$C$2:$E$104,3,FALSE)),\" \",VLOOKUP(K68,Eje_Pilar_Prop!$C$2:$E$104,3,FALSE))","v":"Eje Transversal 4 Gobierno Legitimo, Fortalecimiento Local y Eficiencia"},1375,80095444,"YESID EDUARDO MARQUEZ GOMEZ",24000000,null,null,1,12000000,36000000,24000000,"2020-03-14","2020-03-14","2020-07-13",120,null,60,null,null,null,null,null,"","x",null,0.66666666666666663,null,{"$f":"IF(SUMPRODUCT((A$14:A68=A68)*(B$14:B68=B68)*(D$14:D68=D68))>1,0,1)","v":1},"Contratos de prestación de servicios","Contratación directa",{"$f":"IF(ISBLANK(G68),1,IFERROR(VLOOKUP(G68,Tipo!$C$12:$C$27,1,FALSE),\"NO\"))","v":"Prestación de servicios profesionales y de apoyo a la gestión, o para la ejecución de trabajos artísticos que sólo puedan encomendarse a determinadas personas naturales;"},"Inversión",{"$f":"IF(ISBLANK(K68),1,IFERROR(VLOOKUP(K68,Eje_Pilar_Prop!C48:C151,1,FALSE),\"NO\"))","v":"NO"},"SECOP II",1,"Bogotá Mejor para Todos"]
["CPS-058-2020",2020,"SECOP II","FDLS-CD-058-2020","Contratos de prestación de servicios","Contratación directa","Prestación de servicios profesionales y de apoyo a la gestión, o para la ejecución de trabajos artísticos que sólo puedan encomendarse a determinadas personas naturales;","PRESTAR LOS SERVICIOS PROFESIONALES PARA REALIZAR LA FORMULACIÓN, EVALUACIÓN, SEGUIMIENTO Y CONTROL DE PROYECTOS DE INVERSIÓN Y SEGUIMIENTO DE LOS PLANES, PROGRAMAS Y PROYECTOS DEL FONDO DE DESARROLLO LOCAL DE SUMAPAZ.","Inversión","Bogotá Mejor para Todos",45,{"$f":"IF(ISERROR(VLOOKUP(K69,Eje_Pilar_Prop!$C$2:$E$104,2,FALSE)),\" \",VLOOKUP(K69,Eje_Pilar_Prop!$C$2:$E$104,2,FALSE))","v":"Gobernanza e influencia local, regional e internacional"},{"$f":"IF(ISERROR(VLOOKUP(K69,Eje_Pilar_Prop!$C$2:$E$104,3,FALSE)),\" \",VLOOKUP(K69,Eje_Pilar_Prop!$C$2:$E$104,3,FALSE))","v":"Eje Transversal 4 Gobierno Legitimo, Fortalecimiento Local y Eficiencia"},1375,9770381,"JULIAN ANDRES CARVAJAL",16500000,null,null,null,null,16500000,16500000,"2020-03-26","2020-03-26","2020-06-25",90,null,"",null,null,null,null,null,"","x",null,1,null,{"$f":"IF(SUMPRODUCT((A$14:A69=A69)*(B$14:B69=B69)*(D$14:D69=D69))>1,0,1)","v":1},"Contratos de prestación de servicios","Contratación directa",{"$f":"IF(ISBLANK(G69),1,IFERROR(VLOOKUP(G69,Tipo!$C$12:$C$27,1,FALSE),\"NO\"))","v":"Prestación de servicios profesionales y de apoyo a la gestión, o para la ejecución de trabajos artísticos que sólo puedan encomendarse a determinadas personas naturales;"},"Inversión",{"$f":"IF(ISBLANK(K69),1,IFERROR(VLOOKUP(K69,Eje_Pilar_Prop!C48:C152,1,FALSE),\"NO\"))","v":"NO"},"SECOP II",1,"Bogotá Mejor para Todos"]
["CPS-059-2020",2020,"SECOP II","FDLS-CD-059-2020","Contratos de prestación de servicios","Contratación directa","Prestación de servicios profesionales y de apoyo a la gestión, o para la ejecución de trabajos artísticos que sólo puedan encomendarse a determinadas personas naturales;","“APOYAR AL EQUIPO DE PRENSA Y COMUNICACIONES DE LA ALCALDÍA LOCAL EN LA REALIZACIÓN DE PRODUCTOS Y PIEZAS DIGITALES, IMPRESAS Y PUBLICITARIAS DE GRAN FORMATO Y DE ANIMACIÓN GRÁFICA, ASÍ COMO APOYAR LA PRODUCCIÓN Y MONTAJE DE EVENTOS. ”","Inversión","Bogotá Mejor para Todos",45,{"$f":"IF(ISERROR(VLOOKUP(K70,Eje_Pilar_Prop!$C$2:$E$104,2,FALSE)),\" \",VLOOKUP(K70,Eje_Pilar_Prop!$C$2:$E$104,2,FALSE))","v":"Gobernanza e influencia local, regional e internacional"},{"$f":"IF(ISERROR(VLOOKUP(K70,Eje_Pilar_Prop!$C$2:$E$104,3,FALSE)),\" \",VLOOKUP(K70,Eje_Pilar_Prop!$C$2:$E$104,3,FALSE))","v":"Eje Transversal 4 Gobierno Legitimo, Fortalecimiento Local y Eficiencia"},1375,79399527,"TOMAS GUILLERMO VENEGAS JARAMILLO",16500000,null,null,null,null,16500000,16500000,"2020-03-27","2020-03-27","2020-06-26",90,null,"",null,null,null,null,null,"","x",null,1,null,{"$f":"IF(SUMPRODUCT((A$14:A70=A70)*(B$14:B70=B70)*(D$14:D70=D70))>1,0,1)","v":1},"Contratos de prestación de servicios","Contratación directa",{"$f":"IF(ISBLANK(G70),1,IFERROR(VLOOKUP(G70,Tipo!$C$12:$C$27,1,FALSE),\"NO\"))","v":"Prestación de servicios profesionales y de apoyo a la gestión, o para la ejecución de trabajos artísticos que sólo puedan encomendarse a determinadas personas naturales;"},"Inversión",{"$f":"IF(ISBLANK(K70),1,IFERROR(VLOOKUP(K70,Eje_Pilar_Prop!C48:C153,1,FALSE),\"NO\"))","v":"NO"},"SECOP II",1,"Bogotá Mejor para Todos"]
["CPS-060-2020",2020,"SECOP II","FDLS-CD-060-2020","Contratos de prestación de servicios","Contratación directa","Prestación de servicios profesionales y de apoyo a la gestión, o para la ejecución de trabajos artísticos que sólo puedan encomendarse a determinadas personas naturales;","Prestar sus servicios profesionales al Almacén del Fondo de Desarrollo Local de Sumapaz","Inversión","Bogotá Mejor para Todos",45,{"$f":"IF(ISERROR(VLOOKUP(K71,Eje_Pilar_Prop!$C$2:$E$104,2,FALSE)),\" \",VLOOKUP(K71,Eje_Pilar_Prop!$C$2:$E$104,2,FALSE))","v":"Gobernanza e influencia local, regional e internacional"},{"$f":"IF(ISERROR(VLOOKUP(K71,Eje_Pilar_Prop!$C$2:$E$104,3,FALSE)),\" \",VLOOKUP(K71,Eje_Pilar_Prop!$C$2:$E$104,3,FALSE))","v":"Eje Transversal 4 Gobierno Legitimo, Fortalecimiento Local y Eficiencia"},1375,1053803005,"YEINER GARCIA MARIN",12600000,null,null,null,null,12600000,12600000,"2020-03-27","2020-03-27","2020-06-26",90,null,"",null,null,null,null,null,"","x",null,1,null,{"$f":"IF(SUMPRODUCT((A$14:A71=A71)*(B$14:B71=B71)*(D$14:D71=D71))>1,0,1)","v":1},"Contratos de prestación de servicios","Contratación directa",{"$f":"IF(ISBLANK(G71),1,IFERROR(VLOOKUP(G71,Tipo!$C$12:$C$27,1,FALSE),\"NO\"))","v":"Prestación de servicios profesionales y de apoyo a la gestión, o para la ejecución de trabajos artísticos que sólo puedan encomendarse a determinadas personas naturales;"},"Inversión",{"$f":"IF(ISBLANK(K71),1,IFERROR(VLOOKUP(K71,Eje_Pilar_Prop!C49:C154,1,FALSE),\"NO\"))","v":"NO"},"SECOP II",1,"Bogotá Mejor para Todos"]
["CPS-061-2020",2020,"SECOP II","FDLS-CD-061.2020","Contratos de prestación de servicios","Contratación directa","Prestación de servicios profesionales y de apoyo a la gestión, o para la ejecución de trabajos artísticos que sólo puedan encomendarse a determinadas personas naturales;","“PRESTAR SUS SERVICIOS TÉCNICOS DE APOYO ADMINISTRATIVO AL ÁREA DE GESTIÓN DE DESARROLLO LOCAL DE LA ALCALDÍA LOCAL DE SUMAPAZ.”","Inversión","Bogotá Mejor para Todos",45,{"$f":"IF(ISERROR(VLOOKUP(K72,Eje_Pilar_Prop!$C$2:$E$104,2,FALSE)),\" \",VLOOKUP(K72,Eje_Pilar_Prop!$C$2:$E$104,2,FALSE))","v":"Gobernanza e influencia local, regional e internacional"},{"$f":"IF(ISERROR(VLOOKUP(K72,Eje_Pilar_Prop!$C$2:$E$104,3,FALSE)),\" \",VLOOKUP(K72,Eje_Pilar_Prop!$C$2:$E$104,3,FALSE))","v":"Eje Transversal 4 Gobierno Legitimo, Fortalecimiento Local y Eficiencia"},1375,52526839,"ANDREA DEL PILAR RAMIREZ NEUTO",11400000,null,null,null,null,11400000,11400000,"2020-03-27","2020-03-27","2020-06-26",90,null,"",null,null,null,null,null,"","x",null,1,null,{"$f":"IF(SUMPRODUCT((A$14:A72=A72)*(B$14:B72=B72)*(D$14:D72=D72))>1,0,1)","v":1},"Contratos de prestación de servicios","Contratación directa",{"$f":"IF(ISBLANK(G72),1,IFERROR(VLOOKUP(G72,Tipo!$C$12:$C$27,1,FALSE),\"NO\"))","v":"Prestación de servicios profesionales y de apoyo a la gestión, o para la ejecución de trabajos artísticos que sólo puedan encomendarse a determinadas personas naturales;"},"Inversión",{"$f":"IF(ISBLANK(K72),1,IFERROR(VLOOKUP(K72,Eje_Pilar_Prop!C50:C155,1,FALSE),\"NO\"))","v":"NO"},"SECOP II",1,"Bogotá Mejor para Todos"]
["CPS-062-2020",2020,"SECOP II","FDLS-CD-062-2020","Contratos de prestación de servicios","Contratación directa","Prestación de servicios profesionales y de apoyo a la gestión, o para la ejecución de trabajos artísticos que sólo puedan encomendarse a determinadas personas naturales;","PRESTAR LOS SERVICIOS PROFESIONALES PARA REALIZAR FORMULACIÓN, EVALUACIÓN, SEGUIMIENTO Y CONTROL DE PROYECTOS DE INVERSIÓN Y SEGUIMIENTO DE LOS PLANES, PROGRAMAS Y PROYECTOS DEL FONDO DE DESARROLLO LOCAL DE SUMAPAZ QUE LE SEAN DESIGNADOS","Inversión","Bogotá Mejor para Todos",45,{"$f":"IF(ISERROR(VLOOKUP(K73,Eje_Pilar_Prop!$C$2:$E$104,2,FALSE)),\" \",VLOOKUP(K73,Eje_Pilar_Prop!$C$2:$E$104,2,FALSE))","v":"Gobernanza e influencia local, regional e internacional"},{"$f":"IF(ISERROR(VLOOKUP(K73,Eje_Pilar_Prop!$C$2:$E$104,3,FALSE)),\" \",VLOOKUP(K73,Eje_Pilar_Prop!$C$2:$E$104,3,FALSE))","v":"Eje Transversal 4 Gobierno Legitimo, Fortalecimiento Local y Eficiencia"},1375,1023861638,"LUIS ALBERTO GALEANO ESCUCHA",16500000,null,null,null,null,16500000,16500000,"2020-03-27","2020-03-27","2020-06-26",90,null,"",null,null,null,null,null,"","x",null,1,null,{"$f":"IF(SUMPRODUCT((A$14:A73=A73)*(B$14:B73=B73)*(D$14:D73=D73))>1,0,1)","v":1},"Contratos de prestación de servicios","Contratación directa",{"$f":"IF(ISBLANK(G73),1,IFERROR(VLOOKUP(G73,Tipo!$C$12:$C$27,1,FALSE),\"NO\"))","v":"Prestación de servicios profesionales y de apoyo a la gestión, o para la ejecución de trabajos artísticos que sólo puedan encomendarse a determinadas personas naturales;"},"Inversión",{"$f":"IF(ISBLANK(K73),1,IFERROR(VLOOKUP(K73,Eje_Pilar_Prop!C51:C156,1,FALSE),\"NO\"))","v":"NO"},"SECOP II",1,"Bogotá Mejor para Todos"]
["CPS-063-2020",2020,"SECOP II","FDLS-CD-063-2020","Contratos de prestación de servicios","Contratación directa","Prestación de servicios profesionales y de apoyo a la gestión, o para la ejecución de trabajos artísticos que sólo puedan encomendarse a determinadas personas naturales;","\nPRESTAR SUS SERVICIOS COMO INSPECTOR DEL PARQUE AUTOMOTOR DE MAQUINARIA PESADA DE PROPÍEDAD DEL FONDO DE DESARROLLO LOCAL DE SUMAPAZ, EN LABORES DE MANTENIMIENTO Y MEJORAMIENTO DE LA MALLA VIAL Y SUS ZONAS PUBLICAS, Y ASI COMO LA ATENCION DE EMERGENCIAS VIALES QUE SURJAN EN LA LOCALIDAD DE SUMAPAZ.\n","Inversión","Bogotá Mejor para Todos",18,{"$f":"IF(ISERROR(VLOOKUP(K74,Eje_Pilar_Prop!$C$2:$E$104,2,FALSE)),\" \",VLOOKUP(K74,Eje_Pilar_Prop!$C$2:$E$104,2,FALSE))","v":"Mejor movilidad para todos"},{"$f":"IF(ISERROR(VLOOKUP(K74,Eje_Pilar_Prop!$C$2:$E$104,3,FALSE)),\" \",VLOOKUP(K74,Eje_Pilar_Prop!$C$2:$E$104,3,FALSE))","v":"Pilar 2 Democracía Urbana"},1364,7310938,"JORGE ALONSO JIMENEZ RAMOS",6250000,null,null,null,null,6250000,6250000,"2020-04-15","2020-04-15","2020-06-30",75,null,"",null,null,null,null,null,"","x",null,1,null,{"$f":"IF(SUMPRODUCT((A$14:A74=A74)*(B$14:B74=B74)*(D$14:D74=D74))>1,0,1)","v":1},"Contratos de prestación de servicios","Contratación directa",{"$f":"IF(ISBLANK(G74),1,IFERROR(VLOOKUP(G74,Tipo!$C$12:$C$27,1,FALSE),\"NO\"))","v":"Prestación de servicios profesionales y de apoyo a la gestión, o para la ejecución de trabajos artísticos que sólo puedan encomendarse a determinadas personas naturales;"},"Inversión",{"$f":"IF(ISBLANK(K74),1,IFERROR(VLOOKUP(K74,Eje_Pilar_Prop!C52:C157,1,FALSE),\"NO\"))","v":"NO"},"SECOP II",1,"Bogotá Mejor para Todos"]
["CPS-064-2020",2020,"SECOP II","FDLS-CD-064-2020","Contratos de prestación de servicios","Contratación directa","Prestación de servicios profesionales y de apoyo a la gestión, o para la ejecución de trabajos artísticos que sólo puedan encomendarse a determinadas personas naturales;","PRESTAR SUS SERVICIOS COMO INSPECTOR DEL PARQUE AUTOMOTOR DE MAQUINARIA PESADA DE PROPIEDAD DEL FONDO DE DESARROLLO LOCAL DE SUMAPAZ, EN LA REALIZACION DE LABORES DE MANTENIMIENTO Y MEJORAMIENTO DE LA MALLA VIAL Y SUS ZONAS PUBLICAS, ASI COMO EN LA ATENCION DE LAS EMERGENCIAS VIALES QUE SURJAN EN LA LOCALIDAD DE SUMAPAZ.","Inversión","Bogotá Mejor para Todos",18,{"$f":"IF(ISERROR(VLOOKUP(K75,Eje_Pilar_Prop!$C$2:$E$104,2,FALSE)),\" \",VLOOKUP(K75,Eje_Pilar_Prop!$C$2:$E$104,2,FALSE))","v":"Mejor movilidad para todos"},{"$f":"IF(ISERROR(VLOOKUP(K75,Eje_Pilar_Prop!$C$2:$E$104,3,FALSE)),\" \",VLOOKUP(K75,Eje_Pilar_Prop!$C$2:$E$104,3,FALSE))","v":"Pilar 2 Democracía Urbana"},1364,".79.727.160","VICTOR MANUEL RAMIREZ TORRES",6250000,null,null,null,null,6250000,6250000,"2020-04-14","2020-04-14","2020-06-29",75,null,"",null,null,null,null,null,"","x",null,1,null,{"$f":"IF(SUMPRODUCT((A$14:A75=A75)*(B$14:B75=B75)*(D$14:D75=D75))>1,0,1)","v":1},"Contratos de prestación de servicios","Contratación directa",{"$f":"IF(ISBLANK(G75),1,IFERROR(VLOOKUP(G75,Tipo!$C$12:$C$27,1,FALSE),\"NO\"))","v":"Prestación de servicios profesionales y de apoyo a la gestión, o para la ejecución de trabajos artísticos que sólo puedan encomendarse a determinadas personas naturales;"},"Inversión",{"$f":"IF(ISBLANK(K75),1,IFERROR(VLOOKUP(K75,Eje_Pilar_Prop!C53:C158,1,FALSE),\"NO\"))","v":"NO"},"SECOP II",1,"Bogotá Mejor para Todos"]
["CPS-065-2020",2020,"SECOP II","FDLS-CD-065-2020","Contratos de prestación de servicios","Contratación directa","Prestación de servicios profesionales y de apoyo a la gestión, o para la ejecución de trabajos artísticos que sólo puedan encomendarse a determinadas personas naturales;","APOYAR AL EQUIPO DE PRENSA Y COMUNICACIONES DE LA ALCALDÍA LOCAL MEDIANTE EL REGISTRO, LA EDICIÓN Y LA PRESENTACIÓN DE FOTOGRAFÍAS DE LOS ACONTECIMIENTOS, HECHOS Y EVENTOS DE LA ALCALDÍA LOCAL EN LOS MEDIOS DE COMUNICACIÓN, ESPECIALMENTE ESCRITOS, DIGITALES Y AUDIOVISUALES.","Inversión","Bogotá Mejor para Todos",45,{"$f":"IF(ISERROR(VLOOKUP(K76,Eje_Pilar_Prop!$C$2:$E$104,2,FALSE)),\" \",VLOOKUP(K76,Eje_Pilar_Prop!$C$2:$E$104,2,FALSE))","v":"Gobernanza e influencia local, regional e internacional"},{"$f":"IF(ISERROR(VLOOKUP(K76,Eje_Pilar_Prop!$C$2:$E$104,3,FALSE)),\" \",VLOOKUP(K76,Eje_Pilar_Prop!$C$2:$E$104,3,FALSE))","v":"Eje Transversal 4 Gobierno Legitimo, Fortalecimiento Local y Eficiencia"},1375,1032463497," JEFERSON ALEJANDRO MAYORGA ACEVEDO",16800000,null,null,null,null,16800000,16800000,"2020-04-20","2020-04-20","2020-08-19",120,null,"",null,null,null,null,null,"","x",null,1,null,{"$f":"IF(SUMPRODUCT((A$14:A76=A76)*(B$14:B76=B76)*(D$14:D76=D76))>1,0,1)","v":1},"Contratos de prestación de servicios","Contratación directa",{"$f":"IF(ISBLANK(G76),1,IFERROR(VLOOKUP(G76,Tipo!$C$12:$C$27,1,FALSE),\"NO\"))","v":"Prestación de servicios profesionales y de apoyo a la gestión, o para la ejecución de trabajos artísticos que sólo puedan encomendarse a determinadas personas naturales;"},"Inversión",{"$f":"IF(ISBLANK(K76),1,IFERROR(VLOOKUP(K76,Eje_Pilar_Prop!C54:C159,1,FALSE),\"NO\"))","v":"NO"},"SECOP II",1,"Bogotá Mejor para Todos"]
["CPS-066-2020",2020,"SECOP II","FDLS-CD-066-2020","Contratos de prestación de servicios","Contratación directa","Prestación de servicios profesionales y de apoyo a la gestión, o para la ejecución de trabajos artísticos que sólo puedan encomendarse a determinadas personas naturales;","PRESTAR LOS SERVICIOS PROFESIONALES JURÍDICOS PARA REALIZAR EL SEGUIMIENTO A TODOS LOS PROCESOS CONTRACTUALES PROYECTOS DE INVERSIÓN DEL FONDO DE DESARROLLO LOCAL DE SUMAPAZ EN EL MARCO DEL PLAN DE DESARROLLO LOCAL 2017-2020.","Inversión","Bogotá Mejor para Todos",45,{"$f":"IF(ISERROR(VLOOKUP(K77,Eje_Pilar_Prop!$C$2:$E$104,2,FALSE)),\" \",VLOOKUP(K77,Eje_Pilar_Prop!$C$2:$E$104,2,FALSE))","v":"Gobernanza e influencia local, regional e internacional"},{"$f":"IF(ISERROR(VLOOKUP(K77,Eje_Pilar_Prop!$C$2:$E$104,3,FALSE)),\" \",VLOOKUP(K77,Eje_Pilar_Prop!$C$2:$E$104,3,FALSE))","v":"Eje Transversal 4 Gobierno Legitimo, Fortalecimiento Local y Eficiencia"},1375,1023888264," MONICA DEL PILAR PARRA RANGEL",12600000,null,null,1,4200000,16800000,12600000,"2020-04-13","2020-04-13","2020-07-12",90,null,30,null,null,null,null,null,"","x",null,0.75,null,{"$f":"IF(SUMPRODUCT((A$14:A77=A77)*(B$14:B77=B77)*(D$14:D77=D77))>1,0,1)","v":1},"Contratos de prestación de servicios","Contratación directa",{"$f":"IF(ISBLANK(G77),1,IFERROR(VLOOKUP(G77,Tipo!$C$12:$C$27,1,FALSE),\"NO\"))","v":"Prestación de servicios profesionales y de apoyo a la gestión, o para la ejecución de trabajos artísticos que sólo puedan encomendarse a determinadas personas naturales;"},"Inversión",{"$f":"IF(ISBLANK(K77),1,IFERROR(VLOOKUP(K77,Eje_Pilar_Prop!C55:C160,1,FALSE),\"NO\"))","v":"NO"},"SECOP II",1,"Bogotá Mejor para Todos"]
["CPS-067-2020",2020,"SECOP II","FDLS-CD-067-2020","Contratos de prestación de servicios","Contratación directa","Prestación de servicios profesionales y de apoyo a la gestión, o para la ejecución de trabajos artísticos que sólo puedan encomendarse a determinadas personas naturales;","PRESTAR LOS SERVICIOS PROFESIONALES PARA REALIZAR FORMULACIÓN, EVALUACIÓN, SEGUIMIENTO Y CONTROL DE PROYECTOS DE INVERSIÓN Y SEGUIMIENTO DE LOS PLANES, PROGRAMAS Y PROYECTOS DEL FONDO DE DESARROLLO LOCAL DE SUMAPAZ QUE LE SEAN DESIGNADOS.","Inversión","Bogotá Mejor para Todos",45,{"$f":"IF(ISERROR(VLOOKUP(K78,Eje_Pilar_Prop!$C$2:$E$104,2,FALSE)),\" \",VLOOKUP(K78,Eje_Pilar_Prop!$C$2:$E$104,2,FALSE))","v":"Gobernanza e influencia local, regional e internacional"},{"$f":"IF(ISERROR(VLOOKUP(K78,Eje_Pilar_Prop!$C$2:$E$104,3,FALSE)),\" \",VLOOKUP(K78,Eje_Pilar_Prop!$C$2:$E$104,3,FALSE))","v":"Eje Transversal 4 Gobierno Legitimo, Fortalecimiento Local y Eficiencia"},1375,"1016062253\n"," JENNY MARCELA GONZALEZ MARTIN",16500000,null,null,null,null,16500000,16500000,"2020-04-16","2020-04-16","2020-07-15",90,null,"",null,null,null,null,null,"","x",null,1,null,{"$f":"IF(SUMPRODUCT((A$14:A78=A78)*(B$14:B78=B78)*(D$14:D78=D78))>1,0,1)","v":1},"Contratos de prestación de servicios","Contratación directa",{"$f":"IF(ISBLANK(G78),1,IFERROR(VLOOKUP(G78,Tipo!$C$12:$C$27,1,FALSE),\"NO\"))","v":"Prestación de servicios profesionales y de apoyo a la gestión, o para la ejecución de trabajos artísticos que sólo puedan encomendarse a determinadas personas naturales;"},"Inversión",{"$f":"IF(ISBLANK(K78),1,IFERROR(VLOOKUP(K78,Eje_Pilar_Prop!C56:C161,1,FALSE),\"NO\"))","v":"NO"},"SECOP II",1,{"$f":"IF(ISBLANK(J78),1,IFERROR(VLOOKUP(J78,pdd,1,FALSE),\"NO\"))","v":"Bogotá Mejor para Todos"}]
["CPS-068-2020",2020,"SECOP II","FDLS-CD-068-2020","Contratos de prestación de servicios","Contratación directa","Prestación de servicios profesionales y de apoyo a la gestión, o para la ejecución de trabajos artísticos que sólo puedan encomendarse a determinadas personas naturales;","APOYAR LA FORMULACIÓN, GESTIÓN Y SEGUIMIENTO DE ACTIVIDADES ENFOCADAS A LA GESTIÓN AMBIENTAL EXTERNA, ENCAMINADAS A LA MITIGACIÓN DE LOS DIFERENTES IMPACTOS AMBIENTALES Y LA CONSERVACIÓN DE LOS RECURSOS NATURALES DE LA LOCALIDAD DE SUMAPAZ.","Inversión","Bogotá Mejor para Todos",45,{"$f":"IF(ISERROR(VLOOKUP(K79,Eje_Pilar_Prop!$C$2:$E$104,2,FALSE)),\" \",VLOOKUP(K79,Eje_Pilar_Prop!$C$2:$E$104,2,FALSE))","v":"Gobernanza e influencia local, regional e internacional"},{"$f":"IF(ISERROR(VLOOKUP(K79,Eje_Pilar_Prop!$C$2:$E$104,3,FALSE)),\" \",VLOOKUP(K79,Eje_Pilar_Prop!$C$2:$E$104,3,FALSE))","v":"Eje Transversal 4 Gobierno Legitimo, Fortalecimiento Local y Eficiencia"},1375,52155157,"DALGY DANIT LEAL OJEDA ",20400000,null,null,null,null,20400000,20400000,"2020-04-15","2020-04-15","2020-07-14",90,null,"",null,null,null,null,null,"","x",null,1,null,{"$f":"IF(SUMPRODUCT((A$14:A79=A79)*(B$14:B79=B79)*(D$14:D79=D79))>1,0,1)","v":1},"Contratos de prestación de servicios","Contratación directa",{"$f":"IF(ISBLANK(G79),1,IFERROR(VLOOKUP(G79,Tipo!$C$12:$C$27,1,FALSE),\"NO\"))","v":"Prestación de servicios profesionales y de apoyo a la gestión, o para la ejecución de trabajos artísticos que sólo puedan encomendarse a determinadas personas naturales;"},"Inversión",{"$f":"IF(ISBLANK(K79),1,IFERROR(VLOOKUP(K79,Eje_Pilar_Prop!C57:C162,1,FALSE),\"NO\"))","v":"NO"},"SECOP II",1,"Bogotá Mejor para Todos"]
["CPS-069-2020",2020,"SECOP II","FDLS-CD-069--2020","Contratos de prestación de servicios","Contratación directa","Prestación de servicios profesionales y de apoyo a la gestión, o para la ejecución de trabajos artísticos que sólo puedan encomendarse a determinadas personas naturales;","PRESTAR LOS SERVICIOS PROFESIONALES ESPECIALIZADOS PARA EL DESPACHO DE LA ALCALDÍA LOCAL DE SUMAPAZ EN LAS DIFERENTES ETAPAS DE LOS PROCESOS ADMINISTRATIVOS Y OPERATIVOS PARA DAR CUMPLIMIENTO AL PLAN DE DESARROLLO LOCAL.","Inversión","Bogotá Mejor para Todos",45,{"$f":"IF(ISERROR(VLOOKUP(K80,Eje_Pilar_Prop!$C$2:$E$104,2,FALSE)),\" \",VLOOKUP(K80,Eje_Pilar_Prop!$C$2:$E$104,2,FALSE))","v":"Gobernanza e influencia local, regional e internacional"},{"$f":"IF(ISERROR(VLOOKUP(K80,Eje_Pilar_Prop!$C$2:$E$104,3,FALSE)),\" \",VLOOKUP(K80,Eje_Pilar_Prop!$C$2:$E$104,3,FALSE))","v":"Eje Transversal 4 Gobierno Legitimo, Fortalecimiento Local y Eficiencia"},1375," 39624329\n","VILMA AMPARO LOPEZ HERRERA ",28500000,null,null,null,null,28500000,28500000,"2020-04-15","2020-04-15","2020-07-14",90,null,"",null,null,null,null,null,"","x",null,1,null,{"$f":"IF(SUMPRODUCT((A$14:A80=A80)*(B$14:B80=B80)*(D$14:D80=D80))>1,0,1)","v":1},"Contratos de prestación de servicios","Contratación directa",{"$f":"IF(ISBLANK(G80),1,IFERROR(VLOOKUP(G80,Tipo!$C$12:$C$27,1,FALSE),\"NO\"))","v":"Prestación de servicios profesionales y de apoyo a la gestión, o para la ejecución de trabajos artísticos que sólo puedan encomendarse a determinadas personas naturales;"},"Inversión",{"$f":"IF(ISBLANK(K80),1,IFERROR(VLOOKUP(K80,Eje_Pilar_Prop!C58:C163,1,FALSE),\"NO\"))","v":"NO"},"SECOP II",1,"Bogotá Mejor para Todos"]
["CPS-070-2020",2020,"SECOP II","FDLS-CD-070-2020","Contratos de prestación de servicios","Contratación directa","Prestación de servicios profesionales y de apoyo a la gestión, o para la ejecución de trabajos artísticos que sólo puedan encomendarse a determinadas personas naturales;","PRESTAR SUS SERVICIOS PROFESIONALES A LA ALCALDÍA LOCAL DE SUMAPAZ, COMOADMINISTRADOR DE LA RED DE\nCOMPUTADORES DE LOS EQUIPOS DE PROPIEDAD O TENENCIA DEL FONDO DE DESARROLLO LOCAL DE SUMAPAZ Y REALIZAR LA ACTUALIZACIÓN DE LOS DATOS EN LOS\nDIFERENTES SISTEMAS DE INFORMACIÓN.","Inversión","Bogotá Mejor para Todos",45,{"$f":"IF(ISERROR(VLOOKUP(K81,Eje_Pilar_Prop!$C$2:$E$104,2,FALSE)),\" \",VLOOKUP(K81,Eje_Pilar_Prop!$C$2:$E$104,2,FALSE))","v":"Gobernanza e influencia local, regional e internacional"},{"$f":"IF(ISERROR(VLOOKUP(K81,Eje_Pilar_Prop!$C$2:$E$104,3,FALSE)),\" \",VLOOKUP(K81,Eje_Pilar_Prop!$C$2:$E$104,3,FALSE))","v":"Eje Transversal 4 Gobierno Legitimo, Fortalecimiento Local y Eficiencia"},1375,77183787,"YESID AFRANIO AMARIS OSPINO",16500000,null,null,1,5500000,22000000,16500000,"2020-04-21","2020-04-21","2020-07-20",90,null,30,null,null,null,null,null,"","x",null,0.75,null,{"$f":"IF(SUMPRODUCT((A$14:A81=A81)*(B$14:B81=B81)*(D$14:D81=D81))>1,0,1)","v":1},"Contratos de prestación de servicios","Contratación directa",{"$f":"IF(ISBLANK(G81),1,IFERROR(VLOOKUP(G81,Tipo!$C$12:$C$27,1,FALSE),\"NO\"))","v":"Prestación de servicios profesionales y de apoyo a la gestión, o para la ejecución de trabajos artísticos que sólo puedan encomendarse a determinadas personas naturales;"},"Inversión",{"$f":"IF(ISBLANK(K81),1,IFERROR(VLOOKUP(K81,Eje_Pilar_Prop!C59:C164,1,FALSE),\"NO\"))","v":"NO"},"SECOP II",1,"Bogotá Mejor para Todos"]
["CPS-071-2020",2020,"SECOP II","FDLS-CD-071-2020","Contratos de prestación de servicios","Contratación directa","Prestación de servicios profesionales y de apoyo a la gestión, o para la ejecución de trabajos artísticos que sólo puedan encomendarse a determinadas personas naturales;"," PRESTAR LOS SERVICIOS PROFESIONALES PARA REALIZAR FORMULACION, EVALUACION, SEGUIMIENTO Y CONTROL DE PROYECTOS DE INVERSION Y SEGUIMIENTOS DE LOS PLANES, PROGRAMAS Y PROYECTOS DEL FONDO DE DESARROLLO LOCAL DE SUMAPAZ","Inversión","Bogotá Mejor para Todos",45,{"$f":"IF(ISERROR(VLOOKUP(K82,Eje_Pilar_Prop!$C$2:$E$104,2,FALSE)),\" \",VLOOKUP(K82,Eje_Pilar_Prop!$C$2:$E$104,2,FALSE))","v":"Gobernanza e influencia local, regional e internacional"},{"$f":"IF(ISERROR(VLOOKUP(K82,Eje_Pilar_Prop!$C$2:$E$104,3,FALSE)),\" \",VLOOKUP(K82,Eje_Pilar_Prop!$C$2:$E$104,3,FALSE))","v":"Eje Transversal 4 Gobierno Legitimo, Fortalecimiento Local y Eficiencia"},1375,1077034483,"SANTIAGO HINCAPIE GARCIA",16800000,null,null,1,4200000,21000000,21000000,"2020-04-22","2020-04-22","2020-08-21",120,null,30,null,null,null,null,null,"","x",null,1,null,{"$f":"IF(SUMPRODUCT((A$14:A82=A82)*(B$14:B82=B82)*(D$14:D82=D82))>1,0,1)","v":1},"Contratos de prestación de servicios","Contratación directa",{"$f":"IF(ISBLANK(G82),1,IFERROR(VLOOKUP(G82,Tipo!$C$12:$C$27,1,FALSE),\"NO\"))","v":"Prestación de servicios profesionales y de apoyo a la gestión, o para la ejecución de trabajos artísticos que sólo puedan encomendarse a determinadas personas naturales;"},"Inversión",{"$f":"IF(ISBLANK(K82),1,IFERROR(VLOOKUP(K82,Eje_Pilar_Prop!C60:C165,1,FALSE),\"NO\"))","v":"NO"},"SECOP II",1,"Bogotá Mejor para Todos"]
["CPS-072-2020",2020,"SECOP II","FDLS-CD-072-2020","Contratos de prestación de servicios","Contratación directa","Prestación de servicios profesionales y de apoyo a la gestión, o para la ejecución de trabajos artísticos que sólo puedan encomendarse a determinadas personas naturales;","PRESTAR LOS SERVICIOS PROFESIONALES ESPECIALIZADOS PARA REALIZAR LA FORMULACIÓN, EVALUACIÓN, SEGUIMIENTO Y CONTROL DE PROYECTOS DE INVERSIÓN Y GASTOS DE FUNCIONAMIENTO DEL FONDO DE DESARROLLO LOCAL DE SUMAPAZ.","Inversión","Bogotá Mejor para Todos",45,{"$f":"IF(ISERROR(VLOOKUP(K83,Eje_Pilar_Prop!$C$2:$E$104,2,FALSE)),\" \",VLOOKUP(K83,Eje_Pilar_Prop!$C$2:$E$104,2,FALSE))","v":"Gobernanza e influencia local, regional e internacional"},{"$f":"IF(ISERROR(VLOOKUP(K83,Eje_Pilar_Prop!$C$2:$E$104,3,FALSE)),\" \",VLOOKUP(K83,Eje_Pilar_Prop!$C$2:$E$104,3,FALSE))","v":"Eje Transversal 4 Gobierno Legitimo, Fortalecimiento Local y Eficiencia"},1375,79779833,"MANUEL JOSE CASTANEDA DAGUER",22200000,null,null,null,null,22200000,15540000,"2020-04-28","2020-04-28","2020-07-27",90,null,"",null,null,null,null,null,"","x",null,0.7,null,{"$f":"IF(SUMPRODUCT((A$14:A83=A83)*(B$14:B83=B83)*(D$14:D83=D83))>1,0,1)","v":1},"Contratos de prestación de servicios","Contratación directa",{"$f":"IF(ISBLANK(G83),1,IFERROR(VLOOKUP(G83,Tipo!$C$12:$C$27,1,FALSE),\"NO\"))","v":"Prestación de servicios profesionales y de apoyo a la gestión, o para la ejecución de trabajos artísticos que sólo puedan encomendarse a determinadas personas naturales;"},"Inversión",{"$f":"IF(ISBLANK(K83),1,IFERROR(VLOOKUP(K83,Eje_Pilar_Prop!C61:C166,1,FALSE),\"NO\"))","v":"NO"},"SECOP II",1,"Bogotá Mejor para Todos"]
["CAR-073-2020",2020,"SECOP II","FDLS-CD-073-2020","Arrendamiento de bienes inmuebles","Contratación directa","Prestación de servicios profesionales y de apoyo a la gestión, o para la ejecución de trabajos artísticos que sólo puedan encomendarse a determinadas personas naturales;","ADQUIRIR A TÍTULO DE ARRENDAMIENTO UN (1) INMUEBLE PARA EL FUNCIONAMIENTO DE LA SEDE ADMINISTRATIVA DE LA ALCALDÍA LOCAL DE SUMAPAZ, INCLUIDO EL SERVICIO DE PARQUEADERO","Funcionamiento","Bogotá Mejor para Todos","NA",{"$f":"IF(ISERROR(VLOOKUP(K84,Eje_Pilar_Prop!$C$2:$E$104,2,FALSE)),\" \",VLOOKUP(K84,Eje_Pilar_Prop!$C$2:$E$104,2,FALSE))","v":" "},{"$f":"IF(ISERROR(VLOOKUP(K84,Eje_Pilar_Prop!$C$2:$E$104,3,FALSE)),\" \",VLOOKUP(K84,Eje_Pilar_Prop!$C$2:$E$104,3,FALSE))","v":" "},"NA","860041749-3","INMOBILIARIA COMERCIAL CRUZ Y PINZON LTDA",43329840,null,null,1,21664920,64994760,64994760,"2020-05-01","2020-05-01","2020-06-30",60,null,30,null,null,null,null,null,"","x",null,1,null,{"$f":"IF(SUMPRODUCT((A$14:A84=A84)*(B$14:B84=B84)*(D$14:D84=D84))>1,0,1)","v":1},"Arrendamiento de bienes inmuebles","Contratación directa",{"$f":"IF(ISBLANK(G84),1,IFERROR(VLOOKUP(G84,Tipo!$C$12:$C$27,1,FALSE),\"NO\"))","v":"Prestación de servicios profesionales y de apoyo a la gestión, o para la ejecución de trabajos artísticos que sólo puedan encomendarse a determinadas personas naturales;"},"Funcionamiento",{"$f":"IF(ISBLANK(K84),1,IFERROR(VLOOKUP(K84,Eje_Pilar_Prop!C62:C167,1,FALSE),\"NO\"))","v":"NO"},"SECOP II",1,"Bogotá Mejor para Todos"]
["CPS-074-2020",2020,"SECOP II","FDLS-CD-074-2020","Contratos de prestación de servicios","Contratación directa","Prestación de servicios profesionales y de apoyo a la gestión, o para la ejecución de trabajos artísticos que sólo puedan encomendarse a determinadas personas naturales;","PRESTAR LOS SERVICIOS Y REALIZAR LAS ACCIONES NECESARIAS PARA LA ATENCIÓN INTEGRAL, PROVISIÓN Y ENTREGA DE AYUDA HUMANITARIA Y ASISTENCIA PARA LA CONTINGENCIA DE LA POBLACIÓN POBRE Y VULNERABLE DE BOGOTÁ D.C., EN EL MARCO DE LA CONTENCIÓN Y MITIGACIÓN DEL COVID-19, LA DECLARATORIA DE EMERGENCIA SANITARIA EN TODO EL TERRITORIO NACIONAL Y LA CALAMIDAD PÚBLICA DECLARADA EN LA CIUDAD DE BOGOTÁ D.C., DE ACUERDO A LO ESTABLECIDO EN EL MANUAL OPERATIVO DEL SISTEMA DISTRITAL BOGOTÁ SOLIDARIA EN CASA.","Inversión","Bogotá Mejor para Todos",3,{"$f":"IF(ISERROR(VLOOKUP(K85,Eje_Pilar_Prop!$C$2:$E$104,2,FALSE)),\" \",VLOOKUP(K85,Eje_Pilar_Prop!$C$2:$E$104,2,FALSE))","v":"Igualdad y autonomía para una Bogotá incluyente"},{"$f":"IF(ISERROR(VLOOKUP(K85,Eje_Pilar_Prop!$C$2:$E$104,3,FALSE)),\" \",VLOOKUP(K85,Eje_Pilar_Prop!$C$2:$E$104,3,FALSE))","v":"Pilar 1 Igualdad de Calidad de Vida"},1334,"860.070.301-1","CRUZ ROJA COLOMBIANA SECCIONAL CUNDINAMARCA Y BOGOTÁ",76369322,null,null,null,null,76369322,72550856,"2020-05-15","2020-05-15","2020-09-14",120,null,"",null,null,null,null,null,"","x",null,0.9500000013094263,null,{"$f":"IF(SUMPRODUCT((A$14:A85=A85)*(B$14:B85=B85)*(D$14:D85=D85))>1,0,1)","v":1},"Contratos de prestación de servicios","Contratación directa",{"$f":"IF(ISBLANK(G85),1,IFERROR(VLOOKUP(G85,Tipo!$C$12:$C$27,1,FALSE),\"NO\"))","v":"Prestación de servicios profesionales y de apoyo a la gestión, o para la ejecución de trabajos artísticos que sólo puedan encomendarse a determinadas personas naturales;"},"Inversión",{"$f":"IF(ISBLANK(K85),1,IFERROR(VLOOKUP(K85,Eje_Pilar_Prop!C63:C168,1,FALSE),\"NO\"))","v":"NO"},{"$f":"IF(ISBLANK(C85),1,IFERROR(VLOOKUP(C85,SECOP,1,FALSE),\"NO\"))","v":"SECOP II"},1,"Bogotá Mejor para Todos"]
["CPS-075-2020",2020,"SECOP II","FDLS-CD-075-2020","Contratos de prestación de servicios","Contratación directa","Prestación de servicios profesionales y de apoyo a la gestión, o para la ejecución de trabajos artísticos que sólo puedan encomendarse a determinadas personas naturales;","PRESTAR LOS SERVICIOS PROFESIONALES AL DESPACHO DE LA ALCALDÍA LOCAL DE SUMAPAZ PARA EL CUMPLIMIENTO DEL PLAN DE DESARROLLO “SUMAPAZ EN PAZ, MÁS PRODUCTIVA Y AMBIENTAL PARA TODOS” 2017-2020.","Inversión","Bogotá Mejor para Todos",45,{"$f":"IF(ISERROR(VLOOKUP(K86,Eje_Pilar_Prop!$C$2:$E$104,2,FALSE)),\" \",VLOOKUP(K86,Eje_Pilar_Prop!$C$2:$E$104,2,FALSE))","v":"Gobernanza e influencia local, regional e internacional"},{"$f":"IF(ISERROR(VLOOKUP(K86,Eje_Pilar_Prop!$C$2:$E$104,3,FALSE)),\" \",VLOOKUP(K86,Eje_Pilar_Prop!$C$2:$E$104,3,FALSE))","v":"Eje Transversal 4 Gobierno Legitimo, Fortalecimiento Local y Eficiencia"},1375,"1,015,415,370","ANGIE CAROLINA PRIETO ALVARADO",16500000,null,null,1,8250000,24750000,24750000,"2020-06-04","2020-06-04","2020-09-03",90,null,45,null,null,null,null,null,"","x",null,1,null,{"$f":"IF(SUMPRODUCT((A$14:A86=A86)*(B$14:B86=B86)*(D$14:D86=D86))>1,0,1)","v":1},"Contratos de prestación de servicios","Contratación directa",{"$f":"IF(ISBLANK(G86),1,IFERROR(VLOOKUP(G86,Tipo!$C$12:$C$27,1,FALSE),\"NO\"))","v":"Prestación de servicios profesionales y de apoyo a la gestión, o para la ejecución de trabajos artísticos que sólo puedan encomendarse a determinadas personas naturales;"},"Inversión",{"$f":"IF(ISBLANK(K86),1,IFERROR(VLOOKUP(K86,Eje_Pilar_Prop!C64:C169,1,FALSE),\"NO\"))","v":"NO"},"SECOP II",1,"Bogotá Mejor para Todos"]
["CPS-076-2020",2020,"SECOP II","FDLS-CD-076-2020","Contratos de prestación de servicios","Contratación directa","Prestación de servicios profesionales y de apoyo a la gestión, o para la ejecución de trabajos artísticos que sólo puedan encomendarse a determinadas personas naturales;","Prestar sus servicios de apoyo administrativo al área de Gestión de Desarrollo Local para el área del CDI de la Alcaldía Local de Sumapaz.","Inversión","Bogotá Mejor para Todos",45,{"$f":"IF(ISERROR(VLOOKUP(K87,Eje_Pilar_Prop!$C$2:$E$104,2,FALSE)),\" \",VLOOKUP(K87,Eje_Pilar_Prop!$C$2:$E$104,2,FALSE))","v":"Gobernanza e influencia local, regional e internacional"},{"$f":"IF(ISERROR(VLOOKUP(K87,Eje_Pilar_Prop!$C$2:$E$104,3,FALSE)),\" \",VLOOKUP(K87,Eje_Pilar_Prop!$C$2:$E$104,3,FALSE))","v":"Eje Transversal 4 Gobierno Legitimo, Fortalecimiento Local y Eficiencia"},1375,91071370,"NELSON GONZALEZ CASTILLO",7500000,null,null,1,2500000,10000000,10000000,"2020-06-02","2020-06-02","2020-09-01",90,null,30,null,null,null,null,null,"","x",null,1,null,{"$f":"IF(SUMPRODUCT((A$14:A87=A87)*(B$14:B87=B87)*(D$14:D87=D87))>1,0,1)","v":1},"Contratos de prestación de servicios","Contratación directa",{"$f":"IF(ISBLANK(G87),1,IFERROR(VLOOKUP(G87,Tipo!$C$12:$C$27,1,FALSE),\"NO\"))","v":"Prestación de servicios profesionales y de apoyo a la gestión, o para la ejecución de trabajos artísticos que sólo puedan encomendarse a determinadas personas naturales;"},"Inversión",{"$f":"IF(ISBLANK(K87),1,IFERROR(VLOOKUP(K87,Eje_Pilar_Prop!C65:C170,1,FALSE),\"NO\"))","v":"NO"},"SECOP II",1,"Bogotá Mejor para Todos"]
["CPS-077-2020",2020,"SECOP II","FDLS-CD-077-2020","Contratos de prestación de servicios","Contratación directa","Prestación de servicios profesionales y de apoyo a la gestión, o para la ejecución de trabajos artísticos que sólo puedan encomendarse a determinadas personas naturales;","PRESTAR LOS SERVICIOS PROFESIONALES JURÍDICOS PARA APOYAR LOS ASUNTOS LEGALES,CONTRACTUALES Y POS-CONTRACTUALES DE LA ALCALDÍA LOCAL DE SUMAPAZ.","Inversión","Bogotá Mejor para Todos",45,{"$f":"IF(ISERROR(VLOOKUP(K88,Eje_Pilar_Prop!$C$2:$E$104,2,FALSE)),\" \",VLOOKUP(K88,Eje_Pilar_Prop!$C$2:$E$104,2,FALSE))","v":"Gobernanza e influencia local, regional e internacional"},{"$f":"IF(ISERROR(VLOOKUP(K88,Eje_Pilar_Prop!$C$2:$E$104,3,FALSE)),\" \",VLOOKUP(K88,Eje_Pilar_Prop!$C$2:$E$104,3,FALSE))","v":"Eje Transversal 4 Gobierno Legitimo, Fortalecimiento Local y Eficiencia"},1375,52900762,"JENNY CAROLINA GIRON CUERVO CEDIDO A LUISA FERNANDA SALAZAR JIMENEZ (CC:53122277)",16500000,null,null,null,null,16500000,16500000,"2020-05-21","2020-05-21","2020-08-20",90,null,"",null,null,null,null,null,"","x",null,1,null,{"$f":"IF(SUMPRODUCT((A$14:A88=A88)*(B$14:B88=B88)*(D$14:D88=D88))>1,0,1)","v":1},{"$f":"IF(ISBLANK(E88),1,IFERROR(VLOOKUP(E88,tipo,1,FALSE),\"NO\"))","v":"Contratos de prestación de servicios"},{"$f":"IF(ISBLANK(F88),1,IFERROR(VLOOKUP(F88,modal,1,FALSE),\"NO\"))","v":"Contratación directa"},{"$f":"IF(ISBLANK(G88),1,IFERROR(VLOOKUP(G88,Tipo!$C$12:$C$27,1,FALSE),\"NO\"))","v":"Prestación de servicios profesionales y de apoyo a la gestión, o para la ejecución de trabajos artísticos que sólo puedan encomendarse a determinadas personas naturales;"},{"$f":"IF(ISBLANK(I88),1,IFERROR(VLOOKUP(I88,afectacion,1,FALSE),\"NO\"))","v":"Inversión"},{"$f":"IF(ISBLANK(K88),1,IFERROR(VLOOKUP(K88,Eje_Pilar_Prop!C66:C171,1,FALSE),\"NO\"))","v":"NO"},"SECOP II",1,"Bogotá Mejor para Todos"]
["CPS-078-2020",2020,"SECOP II","FDLS-CD-078-2020","Contratos de prestación de servicios","Contratación directa","Prestación de servicios profesionales y de apoyo a la gestión, o para la ejecución de trabajos artísticos que sólo puedan encomendarse a determinadas personas naturales;","APOYAR LA FORMULACIÓN, GESTIÓN Y SEGUIMIENTO DE ACTIVIDADES ENFOCADAS A LA GESTIÓN AMBIENTAL EXTERNA, ENCAMINADA A LA MITIGACIÓN DE LOS DIFERENTES IMPACTOS AMBIENTALES Y LA CONSERVACIÓN DE LOS RECURSOS NATURALES DE LA LOCALIDAD DE SUMAPAZ","Inversión","Bogotá Mejor para Todos",45,{"$f":"IF(ISERROR(VLOOKUP(K89,Eje_Pilar_Prop!$C$2:$E$104,2,FALSE)),\" \",VLOOKUP(K89,Eje_Pilar_Prop!$C$2:$E$104,2,FALSE))","v":"Gobernanza e influencia local, regional e internacional"},{"$f":"IF(ISERROR(VLOOKUP(K89,Eje_Pilar_Prop!$C$2:$E$104,3,FALSE)),\" \",VLOOKUP(K89,Eje_Pilar_Prop!$C$2:$E$104,3,FALSE))","v":"Eje Transversal 4 Gobierno Legitimo, Fortalecimiento Local y Eficiencia"},1375,1026277892,"WILLIAM ANDRES HERRERA PABON",16500000,null,null,2,8250000,24750000,24750000,"2020-05-27","2020-05-27","2020-08-26",90,null,45,null,null,null,null,null,"","x",null,1,null,{"$f":"IF(SUMPRODUCT((A$14:A89=A89)*(B$14:B89=B89)*(D$14:D89=D89))>1,0,1)","v":1},"Contratos de prestación de servicios","Contratación directa",{"$f":"IF(ISBLANK(G89),1,IFERROR(VLOOKUP(G89,Tipo!$C$12:$C$27,1,FALSE),\"NO\"))","v":"Prestación de servicios profesionales y de apoyo a la gestión, o para la ejecución de trabajos artísticos que sólo puedan encomendarse a determinadas personas naturales;"},"Inversión",{"$f":"IF(ISBLANK(K89),1,IFERROR(VLOOKUP(K89,Eje_Pilar_Prop!C67:C172,1,FALSE),\"NO\"))","v":"NO"},"SECOP II",1,"Bogotá Mejor para Todos"]
["CPS-079-2020",2020,"SECOP II","FDLS-CD-079-2020","Contratos de prestación de servicios","Contratación directa","Prestación de servicios profesionales y de apoyo a la gestión, o para la ejecución de trabajos artísticos que sólo puedan encomendarse a determinadas personas naturales;","PRESTAR SUS SERVICIOS PROFESIONALES AL ÁREA GESTIÓN DE DESARROLLO LOCAL EN LOS PROYECTOS Y PROCESOS RELACIONADOS CON EL MANTENIMIENTO Y OPERATIVIDAD DEL PARQUE AUTOMOTOR DE PROPIEDAD DEL FDLS Y DEL QUE LLEGARE A SER RESPONSABLE","Inversión","Bogotá Mejor para Todos",18,{"$f":"IF(ISERROR(VLOOKUP(K90,Eje_Pilar_Prop!$C$2:$E$104,2,FALSE)),\" \",VLOOKUP(K90,Eje_Pilar_Prop!$C$2:$E$104,2,FALSE))","v":"Mejor movilidad para todos"},{"$f":"IF(ISERROR(VLOOKUP(K90,Eje_Pilar_Prop!$C$2:$E$104,3,FALSE)),\" \",VLOOKUP(K90,Eje_Pilar_Prop!$C$2:$E$104,3,FALSE))","v":"Pilar 2 Democracía Urbana"},1364,1019076465,"EDILSON ARGEMIRO PORRAS CABALLERO",12600000,null,null,null,null,12600000,12600000,"2020-05-20","2020-05-20","2020-08-19",90,null,"",null,null,null,null,null,"","x",null,1,null,{"$f":"IF(SUMPRODUCT((A$14:A90=A90)*(B$14:B90=B90)*(D$14:D90=D90))>1,0,1)","v":1},"Contratos de prestación de servicios","Contratación directa",{"$f":"IF(ISBLANK(G90),1,IFERROR(VLOOKUP(G90,Tipo!$C$12:$C$27,1,FALSE),\"NO\"))","v":"Prestación de servicios profesionales y de apoyo a la gestión, o para la ejecución de trabajos artísticos que sólo puedan encomendarse a determinadas personas naturales;"},"Inversión",{"$f":"IF(ISBLANK(K90),1,IFERROR(VLOOKUP(K90,Eje_Pilar_Prop!C68:C173,1,FALSE),\"NO\"))","v":"NO"},"SECOP II",1,"Bogotá Mejor para Todos"]
["CPS-080-2020",2020,"SECOP II","FDLS-CD-080-2020","Contratos de prestación de servicios","Contratación directa","Prestación de servicios profesionales y de apoyo a la gestión, o para la ejecución de trabajos artísticos que sólo puedan encomendarse a determinadas personas naturales;","PRESTAR LOS SERVICIOS COMO AUXILIAR ADMINISTRATIVO PARA LA CORREGIDURÍA DE BETANIA. ","Inversión","Bogotá Mejor para Todos",45,{"$f":"IF(ISERROR(VLOOKUP(K91,Eje_Pilar_Prop!$C$2:$E$104,2,FALSE)),\" \",VLOOKUP(K91,Eje_Pilar_Prop!$C$2:$E$104,2,FALSE))","v":"Gobernanza e influencia local, regional e internacional"},{"$f":"IF(ISERROR(VLOOKUP(K91,Eje_Pilar_Prop!$C$2:$E$104,3,FALSE)),\" \",VLOOKUP(K91,Eje_Pilar_Prop!$C$2:$E$104,3,FALSE))","v":"Eje Transversal 4 Gobierno Legitimo, Fortalecimiento Local y Eficiencia"},1375,1032656360,"DIANA LUCIA RAMIREZ MUÑOZ",6000000,null,null,1,3000000,9000000,9000000,"2020-06-02","2020-06-02","2020-09-01",90,null,45,null,null,null,null,null,"","x",null,1,null,{"$f":"IF(SUMPRODUCT((A$14:A91=A91)*(B$14:B91=B91)*(D$14:D91=D91))>1,0,1)","v":1},"Contratos de prestación de servicios","Contratación directa",{"$f":"IF(ISBLANK(G91),1,IFERROR(VLOOKUP(G91,Tipo!$C$12:$C$27,1,FALSE),\"NO\"))","v":"Prestación de servicios profesionales y de apoyo a la gestión, o para la ejecución de trabajos artísticos que sólo puedan encomendarse a determinadas personas naturales;"},"Inversión",{"$f":"IF(ISBLANK(K91),1,IFERROR(VLOOKUP(K91,Eje_Pilar_Prop!C69:C174,1,FALSE),\"NO\"))","v":"NO"},"SECOP II",1,"Bogotá Mejor para Todos"]
["CPS-081-2020",2020,"SECOP II","FDLS-CD-081-2020","Contratos de prestación de servicios","Contratación directa","Prestación de servicios profesionales y de apoyo a la gestión, o para la ejecución de trabajos artísticos que sólo puedan encomendarse a determinadas personas naturales;","PRESTAR LOS SERVICIOS COMO AUXILIAR ADMINISTRATIVO PARA LA CORREGIDURÍA DE NAZARETH.","Inversión","Bogotá Mejor para Todos",45,{"$f":"IF(ISERROR(VLOOKUP(K92,Eje_Pilar_Prop!$C$2:$E$104,2,FALSE)),\" \",VLOOKUP(K92,Eje_Pilar_Prop!$C$2:$E$104,2,FALSE))","v":"Gobernanza e influencia local, regional e internacional"},{"$f":"IF(ISERROR(VLOOKUP(K92,Eje_Pilar_Prop!$C$2:$E$104,3,FALSE)),\" \",VLOOKUP(K92,Eje_Pilar_Prop!$C$2:$E$104,3,FALSE))","v":"Eje Transversal 4 Gobierno Legitimo, Fortalecimiento Local y Eficiencia"},1375,1022943098,"GLORIA YOLANDA DIMATE RICO",6000000,null,null,2,3000000,{"$f":"+Q92+S92+U92","v":9000000},9000000,"2020-05-29","2020-05-29","2020-08-28",90,null,45,null,null,null,null,null,"","x",null,1,null,{"$f":"IF(SUMPRODUCT((A$14:A92=A92)*(B$14:B92=B92)*(D$14:D92=D92))>1,0,1)","v":1},"Contratos de prestación de servicios","Contratación directa",{"$f":"IF(ISBLANK(G92),1,IFERROR(VLOOKUP(G92,Tipo!$C$12:$C$27,1,FALSE),\"NO\"))","v":"Prestación de servicios profesionales y de apoyo a la gestión, o para la ejecución de trabajos artísticos que sólo puedan encomendarse a determinadas personas naturales;"},"Inversión",{"$f":"IF(ISBLANK(K92),1,IFERROR(VLOOKUP(K92,Eje_Pilar_Prop!C74:C175,1,FALSE),\"NO\"))","v":"NO"},"SECOP II",{"$f":"IF(OR(YEAR(X92)=2020,ISBLANK(X92)),1,\"NO\")","v":1},"Bogotá Mejor para Todos"]
["CPS-082-2020",2020,"SECOP II","FDLS-CD-082-2020","Contratos de prestación de servicios","Contratación directa","Prestación de servicios profesionales y de apoyo a la gestión, o para la ejecución de trabajos artísticos que sólo puedan encomendarse a determinadas personas naturales;","PRESTAR LOS SERVICIOS PROFESIONALES COORDINAR LA ARTICULACIÓN, ASISTENCIA Y ACOMPAÑAMIENTO DE LOS PROCESOS DE PLANEACIÓN LOCAL, PARA LA PROMOCIÓN DE LA PARTICIPACIÓN DE LAS MUJERES Y DE LA EQUIDAD DE GÉNERO, PARA MATERIALIZAR EN LA LOCALIDAD DE SUMAPAZ LAS ESTRATEGIAS DE TERRITORIALIZACIÓN Y TRAPRESTAR LOS SERVICIOS PROFESIONALES COORDINAR LA ARTICULACIÓN, ASISTENCIA Y ACOMPAÑAMIENTO DE LOS PROCESOS DE PLANEACIÓN LOCAL, PARA NSVERSALIZACIÓN DE LA POLÍTICA PÚBLICA DE MUJERES Y EQUIDAD DE GÉNERO","Inversión","Bogotá Mejor para Todos",45,{"$f":"IF(ISERROR(VLOOKUP(K93,Eje_Pilar_Prop!$C$2:$E$104,2,FALSE)),\" \",VLOOKUP(K93,Eje_Pilar_Prop!$C$2:$E$104,2,FALSE))","v":"Gobernanza e influencia local, regional e internacional"},{"$f":"IF(ISERROR(VLOOKUP(K93,Eje_Pilar_Prop!$C$2:$E$104,3,FALSE)),\" \",VLOOKUP(K93,Eje_Pilar_Prop!$C$2:$E$104,3,FALSE))","v":"Eje Transversal 4 Gobierno Legitimo, Fortalecimiento Local y Eficiencia"},1375,52008301,"ANA ROSA BAUTISTA RINCON",16500000,null,null,1,5500000,22000000,18333333,"2020-05-21","2020-05-21","2020-08-20",90,null,30,null,null,null,null,null,"","x",null,0.83333331818181822,null,{"$f":"IF(SUMPRODUCT((A$14:A93=A93)*(B$14:B93=B93)*(D$14:D93=D93))>1,0,1)","v":1},"Contratos de prestación de servicios","Contratación directa",{"$f":"IF(ISBLANK(G93),1,IFERROR(VLOOKUP(G93,Tipo!$C$12:$C$27,1,FALSE),\"NO\"))","v":"Prestación de servicios profesionales y de apoyo a la gestión, o para la ejecución de trabajos artísticos que sólo puedan encomendarse a determinadas personas naturales;"},"Inversión",{"$f":"IF(ISBLANK(K93),1,IFERROR(VLOOKUP(K93,Eje_Pilar_Prop!C75:C176,1,FALSE),\"NO\"))","v":"NO"},"SECOP II",1,"Bogotá Mejor para Todos"]
["CPS-083-2020",2020,"SECOP II","FDLS-CD-083-2020","Contratos de prestación de servicios","Contratación directa","Prestación de servicios profesionales y de apoyo a la gestión, o para la ejecución de trabajos artísticos que sólo puedan encomendarse a determinadas personas naturales;","Prestar los servicios de apoyo en las labores de oficios varios y notificación para la Cuenca del Rio Blanco.","Inversión","Bogotá Mejor para Todos",45,{"$f":"IF(ISERROR(VLOOKUP(K94,Eje_Pilar_Prop!$C$2:$E$104,2,FALSE)),\" \",VLOOKUP(K94,Eje_Pilar_Prop!$C$2:$E$104,2,FALSE))","v":"Gobernanza e influencia local, regional e internacional"},{"$f":"IF(ISERROR(VLOOKUP(K94,Eje_Pilar_Prop!$C$2:$E$104,3,FALSE)),\" \",VLOOKUP(K94,Eje_Pilar_Prop!$C$2:$E$104,3,FALSE))","v":"Eje Transversal 4 Gobierno Legitimo, Fortalecimiento Local y Eficiencia"},1375,1033767652,"IVAN DARIO CHINGATE MICAN",6000000,null,null,2,3000000,9000000,9000000,"2020-05-27","2020-05-27","2020-08-26",90,null,45,null,null,null,null,null,"","x",null,{"$f":"IF(ISERROR(W94/V94),\"-\",(W94/V94))","v":1},null,{"$f":"IF(SUMPRODUCT((A$14:A94=A94)*(B$14:B94=B94)*(D$14:D94=D94))>1,0,1)","v":1},"Contratos de prestación de servicios","Contratación directa",{"$f":"IF(ISBLANK(G94),1,IFERROR(VLOOKUP(G94,Tipo!$C$12:$C$27,1,FALSE),\"NO\"))","v":"Prestación de servicios profesionales y de apoyo a la gestión, o para la ejecución de trabajos artísticos que sólo puedan encomendarse a determinadas personas naturales;"},"Inversión",{"$f":"IF(ISBLANK(K94),1,IFERROR(VLOOKUP(K94,Eje_Pilar_Prop!C76:C177,1,FALSE),\"NO\"))","v":"NO"},"SECOP II",1,"Bogotá Mejor para Todos"]
["CPS-084-2020",2020,"SECOP II","FDLS-CD-084-2020","Contratos de prestación de servicios","Contratación directa","Prestación de servicios profesionales y de apoyo a la gestión, o para la ejecución de trabajos artísticos que sólo puedan encomendarse a determinadas personas naturales;","Prestar los servicios de apoyo en las labores de oficios varios y notificación para la Cuenca del Rio Sumapaz.","Inversión","Bogotá Mejor para Todos",45,{"$f":"IF(ISERROR(VLOOKUP(K95,Eje_Pilar_Prop!$C$2:$E$104,2,FALSE)),\" \",VLOOKUP(K95,Eje_Pilar_Prop!$C$2:$E$104,2,FALSE))","v":"Gobernanza e influencia local, regional e internacional"},{"$f":"IF(ISERROR(VLOOKUP(K95,Eje_Pilar_Prop!$C$2:$E$104,3,FALSE)),\" \",VLOOKUP(K95,Eje_Pilar_Prop!$C$2:$E$104,3,FALSE))","v":"Eje Transversal 4 Gobierno Legitimo, Fortalecimiento Local y Eficiencia"},1375,79975491,"GILBERTO RIVEROS ROMERO",6000000,null,null,2,3000000,9000000,7933333,"2020-06-02","2020-06-02","2020-09-01",90,null,45,null,null,null,null,null,"","x",null,0.88148144444444443,null,{"$f":"IF(SUMPRODUCT((A$14:A95=A95)*(B$14:B95=B95)*(D$14:D95=D95))>1,0,1)","v":1},"Contratos de prestación de servicios","Contratación directa",{"$f":"IF(ISBLANK(G95),1,IFERROR(VLOOKUP(G95,Tipo!$C$12:$C$27,1,FALSE),\"NO\"))","v":"Prestación de servicios profesionales y de apoyo a la gestión, o para la ejecución de trabajos artísticos que sólo puedan encomendarse a determinadas personas naturales;"},"Inversión",{"$f":"IF(ISBLANK(K95),1,IFERROR(VLOOKUP(K95,Eje_Pilar_Prop!C77:C178,1,FALSE),\"NO\"))","v":"NO"},"SECOP II",1,"Bogotá Mejor para Todos"]
["CPS-085-2020",2020,"SECOP II","FDLS-CD-085-2020","Contratos de prestación de servicios","Contratación directa","Prestación de servicios profesionales y de apoyo a la gestión, o para la ejecución de trabajos artísticos que sólo puedan encomendarse a determinadas personas naturales;","PRESTAR LOS SERVICIOS PROFESIONALES ESPECIALIZADOS AL ÁREA DE GESTIÓN DE DESARROLLO LOCAL EN LOS DIFERENTES COMPONENTES DE INFRAESTRUCTURA Y MALLA VIAL DE LA LOCALIDAD DE SUMAPAZ","Inversión","Bogotá Mejor para Todos",45,{"$f":"IF(ISERROR(VLOOKUP(K96,Eje_Pilar_Prop!$C$2:$E$104,2,FALSE)),\" \",VLOOKUP(K96,Eje_Pilar_Prop!$C$2:$E$104,2,FALSE))","v":"Gobernanza e influencia local, regional e internacional"},{"$f":"IF(ISERROR(VLOOKUP(K96,Eje_Pilar_Prop!$C$2:$E$104,3,FALSE)),\" \",VLOOKUP(K96,Eje_Pilar_Prop!$C$2:$E$104,3,FALSE))","v":"Eje Transversal 4 Gobierno Legitimo, Fortalecimiento Local y Eficiencia"},1375,52388518,"JOHANA ELIZABETH TRIANA HENAO",22500000,null,null,null,null,22500000,22500000,"2020-05-26","2020-05-26","2020-08-25",90,null,"",null,null,null,null,null,"","x",null,1,null,{"$f":"IF(SUMPRODUCT((A$14:A96=A96)*(B$14:B96=B96)*(D$14:D96=D96))>1,0,1)","v":1},"Contratos de prestación de servicios","Contratación directa",{"$f":"IF(ISBLANK(G96),1,IFERROR(VLOOKUP(G96,Tipo!$C$12:$C$27,1,FALSE),\"NO\"))","v":"Prestación de servicios profesionales y de apoyo a la gestión, o para la ejecución de trabajos artísticos que sólo puedan encomendarse a determinadas personas naturales;"},"Inversión",{"$f":"IF(ISBLANK(K96),1,IFERROR(VLOOKUP(K96,Eje_Pilar_Prop!C78:C179,1,FALSE),\"NO\"))","v":"NO"},"SECOP II",1,"Bogotá Mejor para Todos"]
["CPS-086-2020",2020,"SECOP II","FDLS-CD-086-2020","Contratos de prestación de servicios","Contratación directa","Prestación de servicios profesionales y de apoyo a la gestión, o para la ejecución de trabajos artísticos que sólo puedan encomendarse a determinadas personas naturales;","PRESTAR LOS SERVICIOS COMO TÉCNICO ADMINISTRATIVO AL SERVICIO DE LA JUNTA ADMINISTRADORA LOCAL DE SUMAPAZ ","Inversión","Bogotá Mejor para Todos",45,{"$f":"IF(ISERROR(VLOOKUP(K97,Eje_Pilar_Prop!$C$2:$E$104,2,FALSE)),\" \",VLOOKUP(K97,Eje_Pilar_Prop!$C$2:$E$104,2,FALSE))","v":"Gobernanza e influencia local, regional e internacional"},{"$f":"IF(ISERROR(VLOOKUP(K97,Eje_Pilar_Prop!$C$2:$E$104,3,FALSE)),\" \",VLOOKUP(K97,Eje_Pilar_Prop!$C$2:$E$104,3,FALSE))","v":"Eje Transversal 4 Gobierno Legitimo, Fortalecimiento Local y Eficiencia"},1375,52231511,"CARLA NIAMED LOZANO TAUTIVA",8700000,null,null,2,4350000,13050000,13050000,"2020-05-26","2020-05-26","2020-08-25",90,null,45,null,null,null,null,null,"","x",null,1,null,{"$f":"IF(SUMPRODUCT((A$14:A97=A97)*(B$14:B97=B97)*(D$14:D97=D97))>1,0,1)","v":1},"Contratos de prestación de servicios","Contratación directa",{"$f":"IF(ISBLANK(G97),1,IFERROR(VLOOKUP(G97,Tipo!$C$12:$C$27,1,FALSE),\"NO\"))","v":"Prestación de servicios profesionales y de apoyo a la gestión, o para la ejecución de trabajos artísticos que sólo puedan encomendarse a determinadas personas naturales;"},"Inversión",{"$f":"IF(ISBLANK(K97),1,IFERROR(VLOOKUP(K97,Eje_Pilar_Prop!C79:C180,1,FALSE),\"NO\"))","v":"NO"},"SECOP II",1,"Bogotá Mejor para Todos"]
["CPS-087-2020",2020,"SECOP II","FDLS-CD-087-2020","Contratos de prestación de servicios","Contratación directa","Prestación de servicios profesionales y de apoyo a la gestión, o para la ejecución de trabajos artísticos que sólo puedan encomendarse a determinadas personas naturales;","PRESTAR LOS SERVICIOS COMO AUXILIAR ADMINISTRATIVO AL SERVICIO DE LA JUNTA ADMINISTRADORA LOCAL DE SUMAPAZ","Inversión","Bogotá Mejor para Todos",45,{"$f":"IF(ISERROR(VLOOKUP(K98,Eje_Pilar_Prop!$C$2:$E$104,2,FALSE)),\" \",VLOOKUP(K98,Eje_Pilar_Prop!$C$2:$E$104,2,FALSE))","v":"Gobernanza e influencia local, regional e internacional"},{"$f":"IF(ISERROR(VLOOKUP(K98,Eje_Pilar_Prop!$C$2:$E$104,3,FALSE)),\" \",VLOOKUP(K98,Eje_Pilar_Prop!$C$2:$E$104,3,FALSE))","v":"Eje Transversal 4 Gobierno Legitimo, Fortalecimiento Local y Eficiencia"},1375,1030521003,"FREDY HUMBERTO PEÑA FORERO",7500000,null,null,2,3750000,11250000,11249667,"2020-05-26","2020-05-26","2020-08-25",90,null,45,null,null,null,null,null,"","x",null,0.99997040000000004,null,{"$f":"IF(SUMPRODUCT((A$14:A98=A98)*(B$14:B98=B98)*(D$14:D98=D98))>1,0,1)","v":1},"Contratos de prestación de servicios","Contratación directa",{"$f":"IF(ISBLANK(G98),1,IFERROR(VLOOKUP(G98,Tipo!$C$12:$C$27,1,FALSE),\"NO\"))","v":"Prestación de servicios profesionales y de apoyo a la gestión, o para la ejecución de trabajos artísticos que sólo puedan encomendarse a determinadas personas naturales;"},"Inversión",{"$f":"IF(ISBLANK(K98),1,IFERROR(VLOOKUP(K98,Eje_Pilar_Prop!C80:C181,1,FALSE),\"NO\"))","v":"NO"},"SECOP II",1,"Bogotá Mejor para Todos"]
["CPS-088-2020",2020,"SECOP II","FDLS-CD-088-2020","Contratos de prestación de servicios","Contratación directa","Prestación de servicios profesionales y de apoyo a la gestión, o para la ejecución de trabajos artísticos que sólo puedan encomendarse a determinadas personas naturales;","Prestar los servicios como auxiliar administrativo para la Corregiduría de San Juan.","Inversión","Bogotá Mejor para Todos",45,{"$f":"IF(ISERROR(VLOOKUP(K99,Eje_Pilar_Prop!$C$2:$E$104,2,FALSE)),\" \",VLOOKUP(K99,Eje_Pilar_Prop!$C$2:$E$104,2,FALSE))","v":"Gobernanza e influencia local, regional e internacional"},{"$f":"IF(ISERROR(VLOOKUP(K99,Eje_Pilar_Prop!$C$2:$E$104,3,FALSE)),\" \",VLOOKUP(K99,Eje_Pilar_Prop!$C$2:$E$104,3,FALSE))","v":"Eje Transversal 4 Gobierno Legitimo, Fortalecimiento Local y Eficiencia"},1375,1016031740,"DEICY AMPARO MORALES TORRES",6000000,null,null,2,3000000,9000000,8999999,"2020-06-02","2020-06-02","2020-09-01",90,null,45,null,null,null,null,null,"","x",null,0.99999988888888891,null,{"$f":"IF(SUMPRODUCT((A$14:A99=A99)*(B$14:B99=B99)*(D$14:D99=D99))>1,0,1)","v":1},"Contratos de prestación de servicios","Contratación directa",{"$f":"IF(ISBLANK(G99),1,IFERROR(VLOOKUP(G99,Tipo!$C$12:$C$27,1,FALSE),\"NO\"))","v":"Prestación de servicios profesionales y de apoyo a la gestión, o para la ejecución de trabajos artísticos que sólo puedan encomendarse a determinadas personas naturales;"},"Inversión",{"$f":"IF(ISBLANK(K99),1,IFERROR(VLOOKUP(K99,Eje_Pilar_Prop!C81:C182,1,FALSE),\"NO\"))","v":"NO"},"SECOP II",1,"Bogotá Mejor para Todos"]
["CPS-089-2020",2020,"SECOP II","FDLS-CD-089-2020","Contratos de prestación de servicios","Contratación directa","Prestación de servicios profesionales y de apoyo a la gestión, o para la ejecución de trabajos artísticos que sólo puedan encomendarse a determinadas personas naturales;","Prestar los servicios profesionales para la operación, prestación, seguimiento y cumplimiento de los procedimientos administrativos, operativos y programáticos del servicio social Apoyo Económico Tipo C, que contribuyan a la garantía de los derechos de la población mayor en el marco de la Política Pública Social para el Envejecimiento y la Vejez en el Distrito Capital a cargo de la Alcaldía Local de Sumapaz.","Inversión","Bogotá Mejor para Todos",3,{"$f":"IF(ISERROR(VLOOKUP(K100,Eje_Pilar_Prop!$C$2:$E$104,2,FALSE)),\" \",VLOOKUP(K100,Eje_Pilar_Prop!$C$2:$E$104,2,FALSE))","v":"Igualdad y autonomía para una Bogotá incluyente"},{"$f":"IF(ISERROR(VLOOKUP(K100,Eje_Pilar_Prop!$C$2:$E$104,3,FALSE)),\" \",VLOOKUP(K100,Eje_Pilar_Prop!$C$2:$E$104,3,FALSE))","v":"Pilar 1 Igualdad de Calidad de Vida"},1334,1023006378,"LEIDY PAOLA GONZALEZ PALACIOS",12600000,null,null,2,6300000,18900000,18900000,"2020-05-28","2020-05-28","2020-08-27",90,null,45,null,null,null,null,null,"","x",null,1,null,{"$f":"IF(SUMPRODUCT((A$14:A100=A100)*(B$14:B100=B100)*(D$14:D100=D100))>1,0,1)","v":1},"Contratos de prestación de servicios","Contratación directa",{"$f":"IF(ISBLANK(G100),1,IFERROR(VLOOKUP(G100,Tipo!$C$12:$C$27,1,FALSE),\"NO\"))","v":"Prestación de servicios profesionales y de apoyo a la gestión, o para la ejecución de trabajos artísticos que sólo puedan encomendarse a determinadas personas naturales;"},"Inversión",{"$f":"IF(ISBLANK(K100),1,IFERROR(VLOOKUP(K100,Eje_Pilar_Prop!C82:C183,1,FALSE),\"NO\"))","v":"NO"},"SECOP II",1,"Bogotá Mejor para Todos"]
["CPS-090-2020",2020,"SECOP II","FDLS-CD-090-2020","Contratos de prestación de servicios","Contratación directa","Prestación de servicios profesionales y de apoyo a la gestión, o para la ejecución de trabajos artísticos que sólo puedan encomendarse a determinadas personas naturales;","Prestar sus servicios como auxiliar de apoyo administrativo al área de Gestión Policiva de la Alcaldía Local de Sumapaz.","Inversión","Bogotá Mejor para Todos",45,{"$f":"IF(ISERROR(VLOOKUP(K101,Eje_Pilar_Prop!$C$2:$E$104,2,FALSE)),\" \",VLOOKUP(K101,Eje_Pilar_Prop!$C$2:$E$104,2,FALSE))","v":"Gobernanza e influencia local, regional e internacional"},{"$f":"IF(ISERROR(VLOOKUP(K101,Eje_Pilar_Prop!$C$2:$E$104,3,FALSE)),\" \",VLOOKUP(K101,Eje_Pilar_Prop!$C$2:$E$104,3,FALSE))","v":"Eje Transversal 4 Gobierno Legitimo, Fortalecimiento Local y Eficiencia"},1375,52524470,"MARCELA TORRES RAMIREZ",7500000,null,null,2,3750000,11250000,11249999,"2020-05-29","2020-05-29","2020-08-28",90,null,45,null,null,null,null,null,"","x",null,0.99999991111111108,null,{"$f":"IF(SUMPRODUCT((A$14:A101=A101)*(B$14:B101=B101)*(D$14:D101=D101))>1,0,1)","v":1},"Contratos de prestación de servicios","Contratación directa",{"$f":"IF(ISBLANK(G101),1,IFERROR(VLOOKUP(G101,Tipo!$C$12:$C$27,1,FALSE),\"NO\"))","v":"Prestación de servicios profesionales y de apoyo a la gestión, o para la ejecución de trabajos artísticos que sólo puedan encomendarse a determinadas personas naturales;"},"Inversión",{"$f":"IF(ISBLANK(K101),1,IFERROR(VLOOKUP(K101,Eje_Pilar_Prop!C83:C184,1,FALSE),\"NO\"))","v":"NO"},"SECOP II",1,"Bogotá Mejor para Todos"]
["CPS-091-2020",2020,"SECOP II","FDLS-CD-092-2020","Contratos de prestación de servicios","Contratación directa","Prestación de servicios profesionales y de apoyo a la gestión, o para la ejecución de trabajos artísticos que sólo puedan encomendarse a determinadas personas naturales;","PRESTAR SUS SERVICIOS COMO CONDUCTOR DE VEHÍCULOS PESADOS DE PROPIEDAD DEL FONDO DE DESARROLLO LOCAL DE SUMAPAZ QUE LE SEA ASIGNADA PARA LA REALIZACIÓN DE LABORES DE MANTENIMIENTO DE LA MALLA VIAL Y LAS ZONAS PÚBLICAS DE LA LOCALIDAD, ASÍ COMO ATENDER LAS EMERGENCIAS VIALES QUE SURJAN EN LA LOCALIDAD DE SUMAPAZ","Inversión","Bogotá Mejor para Todos",18,{"$f":"IF(ISERROR(VLOOKUP(K102,Eje_Pilar_Prop!$C$2:$E$104,2,FALSE)),\" \",VLOOKUP(K102,Eje_Pilar_Prop!$C$2:$E$104,2,FALSE))","v":"Mejor movilidad para todos"},{"$f":"IF(ISERROR(VLOOKUP(K102,Eje_Pilar_Prop!$C$2:$E$104,3,FALSE)),\" \",VLOOKUP(K102,Eje_Pilar_Prop!$C$2:$E$104,3,FALSE))","v":"Pilar 2 Democracía Urbana"},1364,79632428,"ORLANDO HERNANDEZ MARTINEZ",10000000,null,null,1,5000000,15000000,14166667,"2020-06-11","2020-06-11","2020-10-10",120,null,60,null,null,null,null,null,"","x",null,0.9444444666666667,null,{"$f":"IF(SUMPRODUCT((A$14:A102=A102)*(B$14:B102=B102)*(D$14:D102=D102))>1,0,1)","v":1},"Contratos de prestación de servicios","Contratación directa",{"$f":"IF(ISBLANK(G102),1,IFERROR(VLOOKUP(G102,Tipo!$C$12:$C$27,1,FALSE),\"NO\"))","v":"Prestación de servicios profesionales y de apoyo a la gestión, o para la ejecución de trabajos artísticos que sólo puedan encomendarse a determinadas personas naturales;"},"Inversión",{"$f":"IF(ISBLANK(K102),1,IFERROR(VLOOKUP(K102,Eje_Pilar_Prop!C84:C185,1,FALSE),\"NO\"))","v":"NO"},"SECOP II",1,"Bogotá Mejor para Todos"]
["CPS-092-2020",2020,"SECOP II","FDLS-CD-093-2020","Contratos de prestación de servicios","Contratación directa","Prestación de servicios profesionales y de apoyo a la gestión, o para la ejecución de trabajos artísticos que sólo puedan encomendarse a determinadas personas naturales;","PRESTAR SUS SERVICIOS COMO AYUDANTE DE LA  MAQUINARIA PESADA DE PROPIEDAD DEL FONDO DE DESARROLLO LOCAL DE SUMAPAZ QUE LE SEA ASIGNADA PARA LA REALIZACIÓN DE LABORES DE MANTENIMIENTO Y MEJORAMIENTO  DE LA MALLA VIAL, ZONAS PÚBLICAS , ASÍ COMO LA ATENCIÓN DE EMERGENCIAS VIALES  QUE SURJAN EN LA LOCALIDAD DE SUMAPAZ.","Inversión","Bogotá Mejor para Todos",18,{"$f":"IF(ISERROR(VLOOKUP(K103,Eje_Pilar_Prop!$C$2:$E$104,2,FALSE)),\" \",VLOOKUP(K103,Eje_Pilar_Prop!$C$2:$E$104,2,FALSE))","v":"Mejor movilidad para todos"},{"$f":"IF(ISERROR(VLOOKUP(K103,Eje_Pilar_Prop!$C$2:$E$104,3,FALSE)),\" \",VLOOKUP(K103,Eje_Pilar_Prop!$C$2:$E$104,3,FALSE))","v":"Pilar 2 Democracía Urbana"},1364,1013598298,"CARLOS JAIR PEÑA PEÑA",10000000,null,null,1,5000000,15000000,14083333,"2020-06-12","2020-06-12","2020-10-11",120,null,60,null,null,null,null,null,"","x",null,0.93888886666666671,null,{"$f":"IF(SUMPRODUCT((A$14:A103=A103)*(B$14:B103=B103)*(D$14:D103=D103))>1,0,1)","v":1},"Contratos de prestación de servicios","Contratación directa",{"$f":"IF(ISBLANK(G103),1,IFERROR(VLOOKUP(G103,Tipo!$C$12:$C$27,1,FALSE),\"NO\"))","v":"Prestación de servicios profesionales y de apoyo a la gestión, o para la ejecución de trabajos artísticos que sólo puedan encomendarse a determinadas personas naturales;"},"Inversión",{"$f":"IF(ISBLANK(K103),1,IFERROR(VLOOKUP(K103,Eje_Pilar_Prop!C85:C186,1,FALSE),\"NO\"))","v":"NO"},"SECOP II",1,"Bogotá Mejor para Todos"]
["CPS-093-2020",2020,"SECOP II","FDLS-CD-094-2020","Contratos de prestación de servicios","Contratación directa","Prestación de servicios profesionales y de apoyo a la gestión, o para la ejecución de trabajos artísticos que sólo puedan encomendarse a determinadas personas naturales;","PRESTAR SUS SERVICIOS COMO APOYO ADMINISTRATIVO AL ÁREA DE GESTIÓN DE DESARROLLO LOCAL DE LA ALCALDÍA LOCAL DE SUMAPAZ.","Inversión","Bogotá Mejor para Todos",18,{"$f":"IF(ISERROR(VLOOKUP(K104,Eje_Pilar_Prop!$C$2:$E$104,2,FALSE)),\" \",VLOOKUP(K104,Eje_Pilar_Prop!$C$2:$E$104,2,FALSE))","v":"Mejor movilidad para todos"},{"$f":"IF(ISERROR(VLOOKUP(K104,Eje_Pilar_Prop!$C$2:$E$104,3,FALSE)),\" \",VLOOKUP(K104,Eje_Pilar_Prop!$C$2:$E$104,3,FALSE))","v":"Pilar 2 Democracía Urbana"},1364,1015419501,"NATALIA SANCHEZ MARIN",7500000,null,null,1,2500000,10000000,7500000,"2020-06-05","2020-06-05","2020-09-04",90,null,0,null,null,null,null,null,"","x",null,0.75,null,{"$f":"IF(SUMPRODUCT((A$14:A104=A104)*(B$14:B104=B104)*(D$14:D104=D104))>1,0,1)","v":1},"Contratos de prestación de servicios","Contratación directa",{"$f":"IF(ISBLANK(G104),1,IFERROR(VLOOKUP(G104,Tipo!$C$12:$C$27,1,FALSE),\"NO\"))","v":"Prestación de servicios profesionales y de apoyo a la gestión, o para la ejecución de trabajos artísticos que sólo puedan encomendarse a determinadas personas naturales;"},"Inversión",{"$f":"IF(ISBLANK(K104),1,IFERROR(VLOOKUP(K104,Eje_Pilar_Prop!C86:C187,1,FALSE),\"NO\"))","v":"NO"},"SECOP II",1,"Bogotá Mejor para Todos"]
["CPS-094-2020",2020,"SECOP II","FDLS-CD-095-2020","Contratos de prestación de servicios","Contratación directa","Prestación de servicios profesionales y de apoyo a la gestión, o para la ejecución de trabajos artísticos que sólo puedan encomendarse a determinadas personas naturales;","PRESTAR LOS SERVICIOS PARA OPERAR EL VEHÍCULO ASIGNADO, REALIZANDO DE MANERA OPORTUNA EFICIENTE Y SEGURA LOS DESPLAZAMIENTOS DE LOS FUNCIONARIOS DEL FONDO DE DESARROLLO LOCAL DEL SUMAPAZ Y/O DEMÁS PERSONAL QUE REQUIERA SER TRASLADADO EN LA ZONA URBANA Y RURAL DE LA LOCALIDAD EN CUMPLIMIENTO DE LAS ACTIVIDADES PROPIAS DE LA ADMINISTRACIÓN LOCAL","Inversión","Bogotá Mejor para Todos",45,{"$f":"IF(ISERROR(VLOOKUP(K105,Eje_Pilar_Prop!$C$2:$E$104,2,FALSE)),\" \",VLOOKUP(K105,Eje_Pilar_Prop!$C$2:$E$104,2,FALSE))","v":"Gobernanza e influencia local, regional e internacional"},{"$f":"IF(ISERROR(VLOOKUP(K105,Eje_Pilar_Prop!$C$2:$E$104,3,FALSE)),\" \",VLOOKUP(K105,Eje_Pilar_Prop!$C$2:$E$104,3,FALSE))","v":"Eje Transversal 4 Gobierno Legitimo, Fortalecimiento Local y Eficiencia"},1375,1032656045,"EDUARDO DIMATE RICO",7500000,null,null,1,2500000,10000000,10000000,"2020-06-10","2020-06-10","2020-09-09",90,null,30,null,null,null,null,null,"","x",null,1,null,{"$f":"IF(SUMPRODUCT((A$14:A105=A105)*(B$14:B105=B105)*(D$14:D105=D105))>1,0,1)","v":1},"Contratos de prestación de servicios","Contratación directa",{"$f":"IF(ISBLANK(G105),1,IFERROR(VLOOKUP(G105,Tipo!$C$12:$C$27,1,FALSE),\"NO\"))","v":"Prestación de servicios profesionales y de apoyo a la gestión, o para la ejecución de trabajos artísticos que sólo puedan encomendarse a determinadas personas naturales;"},"Inversión",{"$f":"IF(ISBLANK(K105),1,IFERROR(VLOOKUP(K105,Eje_Pilar_Prop!C87:C188,1,FALSE),\"NO\"))","v":"NO"},"SECOP II",1,"Bogotá Mejor para Todos"]
["CPS-095-2020",2020,"SECOP II","FDLS-CD-096-2020","Contratos de prestación de servicios","Contratación directa","Prestación de servicios profesionales y de apoyo a la gestión, o para la ejecución de trabajos artísticos que sólo puedan encomendarse a determinadas personas naturales;","PRESTAR LOS SERVICIOS PROFESIONALES ESPECIALIZADOS AL ÁREA DE GESTIÓN DE DESARROLLO LOCAL PARA ADELANTAR LA FORMULACIÓN Y SEGUIMIENTO EN LOS COMPONENTES RELACIONADOS CON INFRAESTRUCTURA Y MALLA VIAL DE LA LOCALIDAD DE SUMAPAZ.","Inversión","Bogotá Mejor para Todos",18,{"$f":"IF(ISERROR(VLOOKUP(K106,Eje_Pilar_Prop!$C$2:$E$104,2,FALSE)),\" \",VLOOKUP(K106,Eje_Pilar_Prop!$C$2:$E$104,2,FALSE))","v":"Mejor movilidad para todos"},{"$f":"IF(ISERROR(VLOOKUP(K106,Eje_Pilar_Prop!$C$2:$E$104,3,FALSE)),\" \",VLOOKUP(K106,Eje_Pilar_Prop!$C$2:$E$104,3,FALSE))","v":"Pilar 2 Democracía Urbana"},1364,1019006008,"JUAN PABLO SANABRIA MORENO",22500000,null,null,1,7500000,30000000,30000000,"2020-06-08","2020-06-08","2020-09-07",90,null,30,null,null,null,null,null,"","x",null,1,null,{"$f":"IF(SUMPRODUCT((A$14:A106=A106)*(B$14:B106=B106)*(D$14:D106=D106))>1,0,1)","v":1},"Contratos de prestación de servicios","Contratación directa",{"$f":"IF(ISBLANK(G106),1,IFERROR(VLOOKUP(G106,Tipo!$C$12:$C$27,1,FALSE),\"NO\"))","v":"Prestación de servicios profesionales y de apoyo a la gestión, o para la ejecución de trabajos artísticos que sólo puedan encomendarse a determinadas personas naturales;"},"Inversión",{"$f":"IF(ISBLANK(K106),1,IFERROR(VLOOKUP(K106,Eje_Pilar_Prop!C88:C189,1,FALSE),\"NO\"))","v":"NO"},"SECOP II",1,"Bogotá Mejor para Todos"]
["CPS-096-2020",2020,"SECOP II","FDLS-CD-097-2020","Contratos de prestación de servicios","Contratación directa","Prestación de servicios profesionales y de apoyo a la gestión, o para la ejecución de trabajos artísticos que sólo puedan encomendarse a determinadas personas naturales;","Prestar los servicios para operar el vehículo asignado, realizando de manera oportuna eficiente y segura los desplazamientos de los funcionarios del Fondo de Desarrollo Local del Sumapaz y/o demás personal que requiera ser trasladado en la zona urbana y rural de la localidad en cumplimiento de las actividades propias de la administración local","Inversión","Bogotá Mejor para Todos",45,{"$f":"IF(ISERROR(VLOOKUP(K107,Eje_Pilar_Prop!$C$2:$E$104,2,FALSE)),\" \",VLOOKUP(K107,Eje_Pilar_Prop!$C$2:$E$104,2,FALSE))","v":"Gobernanza e influencia local, regional e internacional"},{"$f":"IF(ISERROR(VLOOKUP(K107,Eje_Pilar_Prop!$C$2:$E$104,3,FALSE)),\" \",VLOOKUP(K107,Eje_Pilar_Prop!$C$2:$E$104,3,FALSE))","v":"Eje Transversal 4 Gobierno Legitimo, Fortalecimiento Local y Eficiencia"},1375,19271225,"MAXIMILIANO LÓPEZ SUAREZ",7500000,null,null,1,2500000,10000000,10000000,"2020-06-10","2020-06-10","2020-09-09",90,null,30,null,null,null,null,null,"","x",null,1,null,{"$f":"IF(SUMPRODUCT((A$14:A107=A107)*(B$14:B107=B107)*(D$14:D107=D107))>1,0,1)","v":1},"Contratos de prestación de servicios","Contratación directa",{"$f":"IF(ISBLANK(G107),1,IFERROR(VLOOKUP(G107,Tipo!$C$12:$C$27,1,FALSE),\"NO\"))","v":"Prestación de servicios profesionales y de apoyo a la gestión, o para la ejecución de trabajos artísticos que sólo puedan encomendarse a determinadas personas naturales;"},"Inversión",{"$f":"IF(ISBLANK(K107),1,IFERROR(VLOOKUP(K107,Eje_Pilar_Prop!C89:C190,1,FALSE),\"NO\"))","v":"NO"},"SECOP II",1,"Bogotá Mejor para Todos"]
["CPS-097-2020",2020,"SECOP II","FDLS-CD-098-2020","Contratos de prestación de servicios","Contratación directa","Prestación de servicios profesionales y de apoyo a la gestión, o para la ejecución de trabajos artísticos que sólo puedan encomendarse a determinadas personas naturales;","Prestar sus servicios como operario de maquinaria pesada de propiedad del Fondo de Desarrollo Local de Sumapaz que le sea asignada para la realización de labores de mantenimiento de la malla vial y las zonas públicas de la localidad, así como atender las emergencias viales que surjan en la Localidad de Sumapaz","Inversión","Bogotá Mejor para Todos",18,{"$f":"IF(ISERROR(VLOOKUP(K108,Eje_Pilar_Prop!$C$2:$E$104,2,FALSE)),\" \",VLOOKUP(K108,Eje_Pilar_Prop!$C$2:$E$104,2,FALSE))","v":"Mejor movilidad para todos"},{"$f":"IF(ISERROR(VLOOKUP(K108,Eje_Pilar_Prop!$C$2:$E$104,3,FALSE)),\" \",VLOOKUP(K108,Eje_Pilar_Prop!$C$2:$E$104,3,FALSE))","v":"Pilar 2 Democracía Urbana"},1364,1022950747,"AUDER ORLANDO DIAZ RUBIANO",10000000,null,null,1,5000000,15000000,14250000,"2020-06-10","2020-06-10","2020-10-09",120,null,60,null,null,null,null,null,"","x",null,0.95,null,{"$f":"IF(SUMPRODUCT((A$14:A108=A108)*(B$14:B108=B108)*(D$14:D108=D108))>1,0,1)","v":1},"Contratos de prestación de servicios","Contratación directa",{"$f":"IF(ISBLANK(G108),1,IFERROR(VLOOKUP(G108,Tipo!$C$12:$C$27,1,FALSE),\"NO\"))","v":"Prestación de servicios profesionales y de apoyo a la gestión, o para la ejecución de trabajos artísticos que sólo puedan encomendarse a determinadas personas naturales;"},"Inversión",{"$f":"IF(ISBLANK(K108),1,IFERROR(VLOOKUP(K108,Eje_Pilar_Prop!C90:C191,1,FALSE),\"NO\"))","v":"NO"},"SECOP II",1,"Bogotá Mejor para Todos"]
["CPS-098-2020",2020,"SECOP II","FDLS-CD-099-2020","Contratos de prestación de servicios","Contratación directa","Prestación de servicios profesionales y de apoyo a la gestión, o para la ejecución de trabajos artísticos que sólo puedan encomendarse a determinadas personas naturales;","Prestar sus servicios como operario de maquinaria pesada de propiedad del Fondo de Desarrollo Local de Sumapaz que le sea asignada para la realización de labores de mantenimiento de la malla vial y las zonas públicas de la localidad, así como atender las emergencias viales que surjan en la Localidad de Sumapaz","Inversión","Bogotá Mejor para Todos",18,{"$f":"IF(ISERROR(VLOOKUP(K109,Eje_Pilar_Prop!$C$2:$E$104,2,FALSE)),\" \",VLOOKUP(K109,Eje_Pilar_Prop!$C$2:$E$104,2,FALSE))","v":"Mejor movilidad para todos"},{"$f":"IF(ISERROR(VLOOKUP(K109,Eje_Pilar_Prop!$C$2:$E$104,3,FALSE)),\" \",VLOOKUP(K109,Eje_Pilar_Prop!$C$2:$E$104,3,FALSE))","v":"Pilar 2 Democracía Urbana"},1364,80452262,"GUSTAVO MARTINEZ HERNANDEZ",10000000,null,null,1,5000000,15000000,14666667,"2020-06-05","2020-06-05","2020-10-04",120,null,60,null,null,null,null,null,"","x",null,0.97777780000000003,null,{"$f":"IF(SUMPRODUCT((A$14:A109=A109)*(B$14:B109=B109)*(D$14:D109=D109))>1,0,1)","v":1},"Contratos de prestación de servicios","Contratación directa",{"$f":"IF(ISBLANK(G109),1,IFERROR(VLOOKUP(G109,Tipo!$C$12:$C$27,1,FALSE),\"NO\"))","v":"Prestación de servicios profesionales y de apoyo a la gestión, o para la ejecución de trabajos artísticos que sólo puedan encomendarse a determinadas personas naturales;"},"Inversión",{"$f":"IF(ISBLANK(K109),1,IFERROR(VLOOKUP(K109,Eje_Pilar_Prop!C91:C192,1,FALSE),\"NO\"))","v":"NO"},"SECOP II",1,"Bogotá Mejor para Todos"]
["CPS-099-2020",2020,"SECOP II","FDLS-CD-100-2020","Contratos de prestación de servicios","Contratación directa","Prestación de servicios profesionales y de apoyo a la gestión, o para la ejecución de trabajos artísticos que sólo puedan encomendarse a determinadas personas naturales;","Prestar sus servicios como operario de maquinaria pesada de propiedad del Fondo de Desarrollo Local de Sumapaz que le sea asignada para la realización de labores de mantenimiento de la malla vial y las zonas públicas de la localidad, así como atender las emergencias viales que surjan en la Localidad de Sumapaz","Inversión","Bogotá Mejor para Todos",18,{"$f":"IF(ISERROR(VLOOKUP(K110,Eje_Pilar_Prop!$C$2:$E$104,2,FALSE)),\" \",VLOOKUP(K110,Eje_Pilar_Prop!$C$2:$E$104,2,FALSE))","v":"Mejor movilidad para todos"},{"$f":"IF(ISERROR(VLOOKUP(K110,Eje_Pilar_Prop!$C$2:$E$104,3,FALSE)),\" \",VLOOKUP(K110,Eje_Pilar_Prop!$C$2:$E$104,3,FALSE))","v":"Pilar 2 Democracía Urbana"},1364,79519512,"RAMIRO MARTINEZ HILARION",10000000,null,null,1,5000000,15000000,14666667,"2020-06-05","2020-06-05","2020-10-04",120,null,60,null,null,null,null,null,"","x",null,0.97777780000000003,null,{"$f":"IF(SUMPRODUCT((A$14:A110=A110)*(B$14:B110=B110)*(D$14:D110=D110))>1,0,1)","v":1},"Contratos de prestación de servicios","Contratación directa",{"$f":"IF(ISBLANK(G110),1,IFERROR(VLOOKUP(G110,Tipo!$C$12:$C$27,1,FALSE),\"NO\"))","v":"Prestación de servicios profesionales y de apoyo a la gestión, o para la ejecución de trabajos artísticos que sólo puedan encomendarse a determinadas personas naturales;"},"Inversión",{"$f":"IF(ISBLANK(K110),1,IFERROR(VLOOKUP(K110,Eje_Pilar_Prop!C92:C193,1,FALSE),\"NO\"))","v":"NO"},"SECOP II",1,"Bogotá Mejor para Todos"]
["CPS-100-2020",2020,"SECOP II","FDLS-CD-101-2020","Contratos de prestación de servicios","Contratación directa","Prestación de servicios profesionales y de apoyo a la gestión, o para la ejecución de trabajos artísticos que sólo puedan encomendarse a determinadas personas naturales;","Prestar sus servicios como operario de maquinaria pesada de propiedad del Fondo de Desarrollo Local de Sumapaz que le sea asignada para la realización de labores de mantenimiento de la malla vial y las zonas públicas de la localidad, así como atender las emergencias viales que surjan en la Localidad de Sumapaz","Inversión","Bogotá Mejor para Todos",18,{"$f":"IF(ISERROR(VLOOKUP(K111,Eje_Pilar_Prop!$C$2:$E$104,2,FALSE)),\" \",VLOOKUP(K111,Eje_Pilar_Prop!$C$2:$E$104,2,FALSE))","v":"Mejor movilidad para todos"},{"$f":"IF(ISERROR(VLOOKUP(K111,Eje_Pilar_Prop!$C$2:$E$104,3,FALSE)),\" \",VLOOKUP(K111,Eje_Pilar_Prop!$C$2:$E$104,3,FALSE))","v":"Pilar 2 Democracía Urbana"},1364,1022938049,"ALEXANDER BUSTOS CHAVARRO",10000000,null,null,1,5000000,15000000,14250000,"2020-06-10","2020-06-10","2020-10-09",120,null,60,null,null,null,null,null,"","x",null,0.95,null,{"$f":"IF(SUMPRODUCT((A$14:A111=A111)*(B$14:B111=B111)*(D$14:D111=D111))>1,0,1)","v":1},"Contratos de prestación de servicios","Contratación directa",{"$f":"IF(ISBLANK(G111),1,IFERROR(VLOOKUP(G111,Tipo!$C$12:$C$27,1,FALSE),\"NO\"))","v":"Prestación de servicios profesionales y de apoyo a la gestión, o para la ejecución de trabajos artísticos que sólo puedan encomendarse a determinadas personas naturales;"},"Inversión",{"$f":"IF(ISBLANK(K111),1,IFERROR(VLOOKUP(K111,Eje_Pilar_Prop!C93:C194,1,FALSE),\"NO\"))","v":"NO"},"SECOP II",1,"Bogotá Mejor para Todos"]
["CPS-101-2020",2020,"SECOP II","FDLS-CD-102-2020","Contratos de prestación de servicios","Contratación directa","Prestación de servicios profesionales y de apoyo a la gestión, o para la ejecución de trabajos artísticos que sólo puedan encomendarse a determinadas personas naturales;","PRESTAR SUS SERVICIOS COMO CONDUCTOR DE VEHÍCULOS PESADOS DE PROPIEDAD DEL FONDO DE DESARROLLO LOCAL DE SUMAPAZ QUE LE SEA ASIGNADA PARA LA REALIZACIÓN DE LABORES DE MANTENIMIENTO DE LA MALLA VIAL Y LAS ZONAS PÚBLICAS DE LA LOCALIDAD, ASÍ COMO ATENDER LAS EMERGENCIAS VIALES QUE SURJAN EN LA LOCALIDAD DE SUMAPAZ","Inversión","Bogotá Mejor para Todos",18,{"$f":"IF(ISERROR(VLOOKUP(K112,Eje_Pilar_Prop!$C$2:$E$104,2,FALSE)),\" \",VLOOKUP(K112,Eje_Pilar_Prop!$C$2:$E$104,2,FALSE))","v":"Mejor movilidad para todos"},{"$f":"IF(ISERROR(VLOOKUP(K112,Eje_Pilar_Prop!$C$2:$E$104,3,FALSE)),\" \",VLOOKUP(K112,Eje_Pilar_Prop!$C$2:$E$104,3,FALSE))","v":"Pilar 2 Democracía Urbana"},1364,79819241,"CARLOS JULIO PALACIOS RAMIREZ",10000000,null,null,1,5000000,15000000,14666667,"2020-06-05","2020-06-05","2020-10-04",120,null,60,null,null,null,null,null,"","x",null,0.97777780000000003,null,{"$f":"IF(SUMPRODUCT((A$14:A112=A112)*(B$14:B112=B112)*(D$14:D112=D112))>1,0,1)","v":1},"Contratos de prestación de servicios","Contratación directa",{"$f":"IF(ISBLANK(G112),1,IFERROR(VLOOKUP(G112,Tipo!$C$12:$C$27,1,FALSE),\"NO\"))","v":"Prestación de servicios profesionales y de apoyo a la gestión, o para la ejecución de trabajos artísticos que sólo puedan encomendarse a determinadas personas naturales;"},"Inversión",{"$f":"IF(ISBLANK(K112),1,IFERROR(VLOOKUP(K112,Eje_Pilar_Prop!C94:C195,1,FALSE),\"NO\"))","v":"NO"},"SECOP II",1,"Bogotá Mejor para Todos"]
["CPS-102-2020",2020,"SECOP II","FDLS-CD-103-2020","Contratos de prestación de servicios","Contratación directa","Prestación de servicios profesionales y de apoyo a la gestión, o para la ejecución de trabajos artísticos que sólo puedan encomendarse a determinadas personas naturales;","PRESTAR SUS SERVICIOS COMO CONDUCTOR DE VEHÍCULOS PESADOS DE PROPIEDAD DEL FONDO DE DESARROLLO LOCAL DE SUMAPAZ QUE LE SEA ASIGNADA PARA LA REALIZACIÓN DE LABORES DE MANTENIMIENTO DE LA MALLA VIAL Y LAS ZONAS PÚBLICAS DE LA LOCALIDAD, ASÍ COMO ATENDER LAS EMERGENCIAS VIALES QUE SURJAN EN LA LOCALIDAD DE SUMAPAZ","Inversión","Bogotá Mejor para Todos",18,{"$f":"IF(ISERROR(VLOOKUP(K113,Eje_Pilar_Prop!$C$2:$E$104,2,FALSE)),\" \",VLOOKUP(K113,Eje_Pilar_Prop!$C$2:$E$104,2,FALSE))","v":"Mejor movilidad para todos"},{"$f":"IF(ISERROR(VLOOKUP(K113,Eje_Pilar_Prop!$C$2:$E$104,3,FALSE)),\" \",VLOOKUP(K113,Eje_Pilar_Prop!$C$2:$E$104,3,FALSE))","v":"Pilar 2 Democracía Urbana"},1364,1032656348,"JHON EDUARD ROMERO MICAN",10000000,null,null,1,5000000,15000000,13500000,"2020-06-19","2020-06-19","2020-10-18",120,null,60,null,null,null,null,null,"","x",null,0.9,null,{"$f":"IF(SUMPRODUCT((A$14:A113=A113)*(B$14:B113=B113)*(D$14:D113=D113))>1,0,1)","v":1},"Contratos de prestación de servicios","Contratación directa",{"$f":"IF(ISBLANK(G113),1,IFERROR(VLOOKUP(G113,Tipo!$C$12:$C$27,1,FALSE),\"NO\"))","v":"Prestación de servicios profesionales y de apoyo a la gestión, o para la ejecución de trabajos artísticos que sólo puedan encomendarse a determinadas personas naturales;"},"Inversión",{"$f":"IF(ISBLANK(K113),1,IFERROR(VLOOKUP(K113,Eje_Pilar_Prop!C95:C196,1,FALSE),\"NO\"))","v":"NO"},"SECOP II",1,"Bogotá Mejor para Todos"]
["CPS-103-2020",2020,"SECOP II","FDLS-CD-104-2020","Contratos de prestación de servicios","Contratación directa","Prestación de servicios profesionales y de apoyo a la gestión, o para la ejecución de trabajos artísticos que sólo puedan encomendarse a determinadas personas naturales;","PRESTAR SUS SERVICIOS COMO CONDUCTOR DE VEHÍCULOS PESADOS DE PROPIEDAD DEL FONDO DE DESARROLLO LOCAL DE SUMAPAZ QUE LE SEA ASIGNADA PARA LA REALIZACIÓN DE LABORES DE MANTENIMIENTO DE LA MALLA VIAL Y LAS ZONAS PÚBLICAS DE LA LOCALIDAD, ASÍ COMO ATENDER LAS EMERGENCIAS VIALES QUE SURJAN EN LA LOCALIDAD DE SUMAPAZ","Inversión","Bogotá Mejor para Todos",18,{"$f":"IF(ISERROR(VLOOKUP(K114,Eje_Pilar_Prop!$C$2:$E$104,2,FALSE)),\" \",VLOOKUP(K114,Eje_Pilar_Prop!$C$2:$E$104,2,FALSE))","v":"Mejor movilidad para todos"},{"$f":"IF(ISERROR(VLOOKUP(K114,Eje_Pilar_Prop!$C$2:$E$104,3,FALSE)),\" \",VLOOKUP(K114,Eje_Pilar_Prop!$C$2:$E$104,3,FALSE))","v":"Pilar 2 Democracía Urbana"},1364,79632409,"GERMAN ROMERO ROMAN",10000000,null,null,1,5000000,15000000,14666667,"2020-06-05","2020-06-05","2020-10-04",120,null,60,null,null,null,null,null,"","x",null,0.97777780000000003,null,{"$f":"IF(SUMPRODUCT((A$14:A114=A114)*(B$14:B114=B114)*(D$14:D114=D114))>1,0,1)","v":1},"Contratos de prestación de servicios","Contratación directa",{"$f":"IF(ISBLANK(G114),1,IFERROR(VLOOKUP(G114,Tipo!$C$12:$C$27,1,FALSE),\"NO\"))","v":"Prestación de servicios profesionales y de apoyo a la gestión, o para la ejecución de trabajos artísticos que sólo puedan encomendarse a determinadas personas naturales;"},"Inversión",{"$f":"IF(ISBLANK(K114),1,IFERROR(VLOOKUP(K114,Eje_Pilar_Prop!C96:C197,1,FALSE),\"NO\"))","v":"NO"},"SECOP II",1,"Bogotá Mejor para Todos"]
["CPS-104-2020",2020,"SECOP II","FDSL-CD-108-2020","Contratos de prestación de servicios","Contratación directa","Prestación de servicios profesionales y de apoyo a la gestión, o para la ejecución de trabajos artísticos que sólo puedan encomendarse a determinadas personas naturales;","PRESTAR SUS SERVICIOS COMO CONDUCTOR DE VEHÍCULOS PESADOS DE PROPIEDAD DEL FONDO DE DESARROLLO LOCAL DE SUMAPAZ QUE LE SEA ASIGNADA PARA LA REALIZACIÓN DE LABORES DE MANTENIMIENTO DE LA MALLA VIAL Y LAS ZONAS PÚBLICAS DE LA LOCALIDAD, ASÍ COMO ATENDER LAS EMERGENCIAS VIALES QUE SURJAN EN LA LOCALIDAD DE SUMAPAZ","Inversión","Bogotá Mejor para Todos",18,{"$f":"IF(ISERROR(VLOOKUP(K115,Eje_Pilar_Prop!$C$2:$E$104,2,FALSE)),\" \",VLOOKUP(K115,Eje_Pilar_Prop!$C$2:$E$104,2,FALSE))","v":"Mejor movilidad para todos"},{"$f":"IF(ISERROR(VLOOKUP(K115,Eje_Pilar_Prop!$C$2:$E$104,3,FALSE)),\" \",VLOOKUP(K115,Eje_Pilar_Prop!$C$2:$E$104,3,FALSE))","v":"Pilar 2 Democracía Urbana"},1364,80877733,"HILBER VERGARA ROBAYO",10000000,null,null,1,5000000,15000000,13583333,"2020-06-18","2020-06-18","2020-10-17",120,null,60,null,null,null,null,null,"","x",null,0.90555553333333338,null,{"$f":"IF(SUMPRODUCT((A$14:A115=A115)*(B$14:B115=B115)*(D$14:D115=D115))>1,0,1)","v":1},"Contratos de prestación de servicios","Contratación directa",{"$f":"IF(ISBLANK(G115),1,IFERROR(VLOOKUP(G115,Tipo!$C$12:$C$27,1,FALSE),\"NO\"))","v":"Prestación de servicios profesionales y de apoyo a la gestión, o para la ejecución de trabajos artísticos que sólo puedan encomendarse a determinadas personas naturales;"},"Inversión",{"$f":"IF(ISBLANK(K115),1,IFERROR(VLOOKUP(K115,Eje_Pilar_Prop!C97:C198,1,FALSE),\"NO\"))","v":"NO"},"SECOP II",1,"Bogotá Mejor para Todos"]
["CPS-105-2020",2020,"SECOP II","FDLS-CD-106-2020","Contratos de prestación de servicios","Contratación directa","Prestación de servicios profesionales y de apoyo a la gestión, o para la ejecución de trabajos artísticos que sólo puedan encomendarse a determinadas personas naturales;","PRESTAR SUS SERVICIOS COMO AYUDANTE DE LA MAQUINARIA PESADA DE PROPIEDAD DEL FONDO DE DESARROLLO LOCAL DE SUMAPAZ QUE LE SEA ASIGNADA PARA LA REALIZACIÓN DE LABORES DE MANTENIMIENTO Y MEJORAMIENTO DE LA MALLA VIAL, ZONAS PÚBLICAS , ASÍ COMO LA ATENCIÓN DE EMERGENCIAS VIALES QUE SURJAN EN LA LOCALIDAD DE SUMAPAZ","Inversión","Bogotá Mejor para Todos",18,{"$f":"IF(ISERROR(VLOOKUP(K116,Eje_Pilar_Prop!$C$2:$E$104,2,FALSE)),\" \",VLOOKUP(K116,Eje_Pilar_Prop!$C$2:$E$104,2,FALSE))","v":"Mejor movilidad para todos"},{"$f":"IF(ISERROR(VLOOKUP(K116,Eje_Pilar_Prop!$C$2:$E$104,3,FALSE)),\" \",VLOOKUP(K116,Eje_Pilar_Prop!$C$2:$E$104,3,FALSE))","v":"Pilar 2 Democracía Urbana"},1364,80746510,"FREDDY ERNESTO BENAVIDES PALACIOS",10000000,null,null,1,5000000,15000000,14583333,"2020-06-06","2020-06-06","2020-10-05",120,null,60,null,null,null,null,null,"","x",null,0.97222220000000004,null,{"$f":"IF(SUMPRODUCT((A$14:A116=A116)*(B$14:B116=B116)*(D$14:D116=D116))>1,0,1)","v":1},"Contratos de prestación de servicios","Contratación directa",{"$f":"IF(ISBLANK(G116),1,IFERROR(VLOOKUP(G116,Tipo!$C$12:$C$27,1,FALSE),\"NO\"))","v":"Prestación de servicios profesionales y de apoyo a la gestión, o para la ejecución de trabajos artísticos que sólo puedan encomendarse a determinadas personas naturales;"},"Inversión",{"$f":"IF(ISBLANK(K116),1,IFERROR(VLOOKUP(K116,Eje_Pilar_Prop!C98:C199,1,FALSE),\"NO\"))","v":"NO"},"SECOP II",1,"Bogotá Mejor para Todos"]
["CPS-106-2020",2020,"SECOP II","FDLS-CD-105-2020","Contratos de prestación de servicios","Contratación directa","Prestación de servicios profesionales y de apoyo a la gestión, o para la ejecución de trabajos artísticos que sólo puedan encomendarse a determinadas personas naturales;","PRESTAR SUS SERVICIOS COMO OPERARIO DE MAQUINARIA PESADA DE PROPIEDAD DEL FONDO DE DESARROLLO LOCAL DE SUMAPAZ QUE LE SEA ASIGNADA PARA LA REALIZACIÓN DE LABORES DE MANTENIMIENTO DE LA MALLA VIAL Y LAS ZONAS PÚBLICAS DE LA LOCALIDAD, ASÍ COMO ATENDER LAS EMERGENCIAS VIALES QUE SURJAN EN LA LOCALIDAD DE SUMAPA","Inversión","Bogotá Mejor para Todos",18,{"$f":"IF(ISERROR(VLOOKUP(K117,Eje_Pilar_Prop!$C$2:$E$104,2,FALSE)),\" \",VLOOKUP(K117,Eje_Pilar_Prop!$C$2:$E$104,2,FALSE))","v":"Mejor movilidad para todos"},{"$f":"IF(ISERROR(VLOOKUP(K117,Eje_Pilar_Prop!$C$2:$E$104,3,FALSE)),\" \",VLOOKUP(K117,Eje_Pilar_Prop!$C$2:$E$104,3,FALSE))","v":"Pilar 2 Democracía Urbana"},1364,80779602,"DEIVER ORLANDO ROMERO ROJAS",10000000,null,null,1,5000000,15000000,14666667,"2020-06-05","2020-06-05","2020-10-04",120,null,60,null,null,null,null,null,"","x",null,0.97777780000000003,null,{"$f":"IF(SUMPRODUCT((A$14:A117=A117)*(B$14:B117=B117)*(D$14:D117=D117))>1,0,1)","v":1},"Contratos de prestación de servicios","Contratación directa",{"$f":"IF(ISBLANK(G117),1,IFERROR(VLOOKUP(G117,Tipo!$C$12:$C$27,1,FALSE),\"NO\"))","v":"Prestación de servicios profesionales y de apoyo a la gestión, o para la ejecución de trabajos artísticos que sólo puedan encomendarse a determinadas personas naturales;"},"Inversión",{"$f":"IF(ISBLANK(K117),1,IFERROR(VLOOKUP(K117,Eje_Pilar_Prop!C99:C200,1,FALSE),\"NO\"))","v":"NO"},"SECOP II",1,"Bogotá Mejor para Todos"]
["CPS-107-2020",2020,"SECOP II","FDLS-CD-109-2020","Contratos de prestación de servicios","Contratación directa","Prestación de servicios profesionales y de apoyo a la gestión, o para la ejecución de trabajos artísticos que sólo puedan encomendarse a determinadas personas naturales;","PRESTAR SUS SERVICIOS COMO OPERARIO DE MAQUINARIA PESADA DE PROPIEDAD DEL FONDO DE DESARROLLO LOCAL DE SUMAPAZ QUE LE SEA ASIGNADA PARA LA REALIZACIÓN DE LABORES DE MANTENIMIENTO DE LA MALLA VIAL Y LAS ZONAS PÚBLICAS DE LA LOCALIDAD, ASÍ COMO ATENDER LAS EMERGENCIAS VIALES QUE SURJAN EN LA LOCALIDAD DE SUMAPAZ","Inversión","Bogotá Mejor para Todos",18,{"$f":"IF(ISERROR(VLOOKUP(K118,Eje_Pilar_Prop!$C$2:$E$104,2,FALSE)),\" \",VLOOKUP(K118,Eje_Pilar_Prop!$C$2:$E$104,2,FALSE))","v":"Mejor movilidad para todos"},{"$f":"IF(ISERROR(VLOOKUP(K118,Eje_Pilar_Prop!$C$2:$E$104,3,FALSE)),\" \",VLOOKUP(K118,Eje_Pilar_Prop!$C$2:$E$104,3,FALSE))","v":"Pilar 2 Democracía Urbana"},1364,79519630,"JOSE JAVIER PORRAS",10000000,null,null,1,5000000,15000000,13666667,"2020-06-17","2020-06-17","2020-10-16",120,null,60,null,null,null,null,null,"","x",null,0.91111113333333338,null,{"$f":"IF(SUMPRODUCT((A$14:A118=A118)*(B$14:B118=B118)*(D$14:D118=D118))>1,0,1)","v":1},"Contratos de prestación de servicios","Contratación directa",{"$f":"IF(ISBLANK(G118),1,IFERROR(VLOOKUP(G118,Tipo!$C$12:$C$27,1,FALSE),\"NO\"))","v":"Prestación de servicios profesionales y de apoyo a la gestión, o para la ejecución de trabajos artísticos que sólo puedan encomendarse a determinadas personas naturales;"},"Inversión",{"$f":"IF(ISBLANK(K118),1,IFERROR(VLOOKUP(K118,Eje_Pilar_Prop!C100:C201,1,FALSE),\"NO\"))","v":"NO"},"SECOP II",1,"Bogotá Mejor para Todos"]
["CPS-108-2020",2020,"SECOP II","FDLS-CD-110-2020","Contratos de prestación de servicios","Contratación directa","Prestación de servicios profesionales y de apoyo a la gestión, o para la ejecución de trabajos artísticos que sólo puedan encomendarse a determinadas personas naturales;","PRESTAR SUS SERVICIOS COMO OPERARIO DE MAQUINARIA PESADA DE PROPIEDAD DEL FONDO DE DESARROLLO LOCAL DE SUMAPAZ QUE LE SEA ASIGNADA PARA LA REALIZACIÓN DE LABORES DE MANTENIMIENTO DE LA MALLA VIAL Y LAS ZONAS PÚBLICAS DE LA LOCALIDAD, ASÍ COMO ATENDER LAS EMERGENCIAS VIALES QUE SURJAN EN LA LOCALIDAD DE SUMAPAZ.","Inversión","Bogotá Mejor para Todos",18,{"$f":"IF(ISERROR(VLOOKUP(K119,Eje_Pilar_Prop!$C$2:$E$104,2,FALSE)),\" \",VLOOKUP(K119,Eje_Pilar_Prop!$C$2:$E$104,2,FALSE))","v":"Mejor movilidad para todos"},{"$f":"IF(ISERROR(VLOOKUP(K119,Eje_Pilar_Prop!$C$2:$E$104,3,FALSE)),\" \",VLOOKUP(K119,Eje_Pilar_Prop!$C$2:$E$104,3,FALSE))","v":"Pilar 2 Democracía Urbana"},1364,1023017436,"LEONEL JESID MARTINEZ MARTINEZ",10000000,null,null,1,5000000,15000000,14083333,"2020-06-12","2020-06-12","2020-10-11",120,null,60,null,null,null,null,null,"","x",null,0.93888886666666671,null,{"$f":"IF(SUMPRODUCT((A$14:A119=A119)*(B$14:B119=B119)*(D$14:D119=D119))>1,0,1)","v":1},"Contratos de prestación de servicios","Contratación directa",{"$f":"IF(ISBLANK(G119),1,IFERROR(VLOOKUP(G119,Tipo!$C$12:$C$27,1,FALSE),\"NO\"))","v":"Prestación de servicios profesionales y de apoyo a la gestión, o para la ejecución de trabajos artísticos que sólo puedan encomendarse a determinadas personas naturales;"},"Inversión",{"$f":"IF(ISBLANK(K119),1,IFERROR(VLOOKUP(K119,Eje_Pilar_Prop!C101:C202,1,FALSE),\"NO\"))","v":"NO"},"SECOP II",1,"Bogotá Mejor para Todos"]
["CPS-109-2020",2020,"SECOP II","FDLS-CD-111-2020","Contratos de prestación de servicios","Contratación directa","Prestación de servicios profesionales y de apoyo a la gestión, o para la ejecución de trabajos artísticos que sólo puedan encomendarse a determinadas personas naturales;","PRESTAR SUS SERVICIOS COMO CONDUCTOR DE VEHÍCULOS PESADOS DE PROPIEDAD DEL FONDO DE DESARROLLO LOCAL DE SUMAPAZ QUE LE SEA ASIGNADA PARA LA REALIZACIÓN DE LABORES DE MANTENIMIENTO DE LA MALLA VIAL Y LAS ZONAS PÚBLICAS DE LA LOCALIDAD, ASÍ COMO ATENDER LAS EMERGENCIAS VIALES QUE SURJAN EN LA LOCALIDAD DE SUMAPAZ","Inversión","Bogotá Mejor para Todos",18,{"$f":"IF(ISERROR(VLOOKUP(K120,Eje_Pilar_Prop!$C$2:$E$104,2,FALSE)),\" \",VLOOKUP(K120,Eje_Pilar_Prop!$C$2:$E$104,2,FALSE))","v":"Mejor movilidad para todos"},{"$f":"IF(ISERROR(VLOOKUP(K120,Eje_Pilar_Prop!$C$2:$E$104,3,FALSE)),\" \",VLOOKUP(K120,Eje_Pilar_Prop!$C$2:$E$104,3,FALSE))","v":"Pilar 2 Democracía Urbana"},1364,80747512,"HERNAN DARIO HERRERA MORALES",10000000,null,null,1,5000000,15000000,14166667,"2020-06-11","2020-06-11","2020-10-10",120,null,60,null,null,null,null,null,"","x",null,0.9444444666666667,null,{"$f":"IF(SUMPRODUCT((A$14:A120=A120)*(B$14:B120=B120)*(D$14:D120=D120))>1,0,1)","v":1},"Contratos de prestación de servicios","Contratación directa",{"$f":"IF(ISBLANK(G120),1,IFERROR(VLOOKUP(G120,Tipo!$C$12:$C$27,1,FALSE),\"NO\"))","v":"Prestación de servicios profesionales y de apoyo a la gestión, o para la ejecución de trabajos artísticos que sólo puedan encomendarse a determinadas personas naturales;"},"Inversión",{"$f":"IF(ISBLANK(K120),1,IFERROR(VLOOKUP(K120,Eje_Pilar_Prop!C102:C203,1,FALSE),\"NO\"))","v":"NO"},"SECOP II",1,"Bogotá Mejor para Todos"]
["CPS-110-2020",2020,"SECOP II","FDLS-CD-112-2020","Contratos de prestación de servicios","Contratación directa","Prestación de servicios profesionales y de apoyo a la gestión, o para la ejecución de trabajos artísticos que sólo puedan encomendarse a determinadas personas naturales;","PRESTAR SUS SERVICIOS COMO OPERARIO DE MAQUINARIA PESADA DE PROPIEDAD DEL FONDO DE DESARROLLO LOCAL DE SUMAPAZ QUE LE SEA ASIGNADA PARA LA REALIZACIÓN DE LABORES DE MANTENIMIENTO DE LA MALLA VIAL Y LAS ZONAS PÚBLICAS DE LA LOCALIDAD, ASÍ COMO ATENDER LAS EMERGENCIAS VIALES QUE SURJAN EN LA LOCALIDAD DE SUMAPAZ.","Inversión","Bogotá Mejor para Todos",18,{"$f":"IF(ISERROR(VLOOKUP(K121,Eje_Pilar_Prop!$C$2:$E$104,2,FALSE)),\" \",VLOOKUP(K121,Eje_Pilar_Prop!$C$2:$E$104,2,FALSE))","v":"Mejor movilidad para todos"},{"$f":"IF(ISERROR(VLOOKUP(K121,Eje_Pilar_Prop!$C$2:$E$104,3,FALSE)),\" \",VLOOKUP(K121,Eje_Pilar_Prop!$C$2:$E$104,3,FALSE))","v":"Pilar 2 Democracía Urbana"},1364,1032656287,"ALBEIRO BARBOSA CIFUENTES",10000000,null,null,1,5000000,15000000,14166167,"2020-06-11","2020-06-11","2020-10-10",120,null,60,null,null,null,null,null,"","x",null,0.94441113333333337,null,{"$f":"IF(SUMPRODUCT((A$14:A121=A121)*(B$14:B121=B121)*(D$14:D121=D121))>1,0,1)","v":1},"Contratos de prestación de servicios","Contratación directa",{"$f":"IF(ISBLANK(G121),1,IFERROR(VLOOKUP(G121,Tipo!$C$12:$C$27,1,FALSE),\"NO\"))","v":"Prestación de servicios profesionales y de apoyo a la gestión, o para la ejecución de trabajos artísticos que sólo puedan encomendarse a determinadas personas naturales;"},"Inversión",{"$f":"IF(ISBLANK(K121),1,IFERROR(VLOOKUP(K121,Eje_Pilar_Prop!C103:C204,1,FALSE),\"NO\"))","v":"NO"},"SECOP II",1,"Bogotá Mejor para Todos"]
["CPS-111-2020",2020,"SECOP II","FDLS-CD-113-2020","Contratos de prestación de servicios","Contratación directa","Prestación de servicios profesionales y de apoyo a la gestión, o para la ejecución de trabajos artísticos que sólo puedan encomendarse a determinadas personas naturales;","PRESTAR SUS SERVICIOS COMO OPERARIO DE MAQUINARIA PESADA DE PROPIEDAD DEL FONDO DE DESARROLLO LOCAL DE SUMAPAZ QUE LE SEA ASIGNADA PARA LA REALIZACIÓN DE LABORES DE MANTENIMIENTO DE LA MALLA VIAL Y LAS ZONAS PÚBLICAS DE LA LOCALIDAD, ASÍ COMO ATENDER LAS EMERGENCIAS VIALES QUE SURJAN EN LA LOCALIDAD DE SUMAPAZ.","Inversión","Bogotá Mejor para Todos",18,{"$f":"IF(ISERROR(VLOOKUP(K122,Eje_Pilar_Prop!$C$2:$E$104,2,FALSE)),\" \",VLOOKUP(K122,Eje_Pilar_Prop!$C$2:$E$104,2,FALSE))","v":"Mejor movilidad para todos"},{"$f":"IF(ISERROR(VLOOKUP(K122,Eje_Pilar_Prop!$C$2:$E$104,3,FALSE)),\" \",VLOOKUP(K122,Eje_Pilar_Prop!$C$2:$E$104,3,FALSE))","v":"Pilar 2 Democracía Urbana"},1364,174188,"RUPERTO VILLALBA ROMAN",10000000,null,null,1,5000000,15000000,13750000,"2020-06-16","2020-06-16","2020-10-15",120,null,60,null,null,null,null,null,"","x",null,0.91666666666666663,null,{"$f":"IF(SUMPRODUCT((A$14:A122=A122)*(B$14:B122=B122)*(D$14:D122=D122))>1,0,1)","v":1},"Contratos de prestación de servicios","Contratación directa",{"$f":"IF(ISBLANK(G122),1,IFERROR(VLOOKUP(G122,Tipo!$C$12:$C$27,1,FALSE),\"NO\"))","v":"Prestación de servicios profesionales y de apoyo a la gestión, o para la ejecución de trabajos artísticos que sólo puedan encomendarse a determinadas personas naturales;"},"Inversión",{"$f":"IF(ISBLANK(K122),1,IFERROR(VLOOKUP(K122,Eje_Pilar_Prop!C104:C205,1,FALSE),\"NO\"))","v":"NO"},"SECOP II",1,"Bogotá Mejor para Todos"]
["CPS-112-2020",2020,"SECOP II","FDLS-CD-114-2020","Contratos de prestación de servicios","Contratación directa","Prestación de servicios profesionales y de apoyo a la gestión, o para la ejecución de trabajos artísticos que sólo puedan encomendarse a determinadas personas naturales;","PRESTAR SUS SERVICIOS COMO CONDUCTOR DE VEHÍCULOS PESADOS DE PROPIEDAD DEL FONDO DE DESARROLLO LOCAL DE SUMAPAZ QUE LE SEA ASIGNADA PARA LA REALIZACIÓN DE LABORES DE MANTENIMIENTO DE LA MALLA VIAL Y LAS ZONAS PÚBLICAS DE LA LOCALIDAD, ASÍ COMO ATENDER LAS EMERGENCIAS VIALES QUE SURJAN EN LA LOCALIDAD DE SUMAPAZ","Inversión","Bogotá Mejor para Todos",18,{"$f":"IF(ISERROR(VLOOKUP(K123,Eje_Pilar_Prop!$C$2:$E$104,2,FALSE)),\" \",VLOOKUP(K123,Eje_Pilar_Prop!$C$2:$E$104,2,FALSE))","v":"Mejor movilidad para todos"},{"$f":"IF(ISERROR(VLOOKUP(K123,Eje_Pilar_Prop!$C$2:$E$104,3,FALSE)),\" \",VLOOKUP(K123,Eje_Pilar_Prop!$C$2:$E$104,3,FALSE))","v":"Pilar 2 Democracía Urbana"},1364,1007829181,"ELKIN ANDRES GARCIA CIFUENTES",10000000,null,null,1,5000000,15000000,14166667,"2020-06-11","2020-06-11","2020-10-10",120,null,60,null,null,null,null,null,"","x",null,0.9444444666666667,null,{"$f":"IF(SUMPRODUCT((A$14:A123=A123)*(B$14:B123=B123)*(D$14:D123=D123))>1,0,1)","v":1},"Contratos de prestación de servicios","Contratación directa",{"$f":"IF(ISBLANK(G123),1,IFERROR(VLOOKUP(G123,Tipo!$C$12:$C$27,1,FALSE),\"NO\"))","v":"Prestación de servicios profesionales y de apoyo a la gestión, o para la ejecución de trabajos artísticos que sólo puedan encomendarse a determinadas personas naturales;"},"Inversión",{"$f":"IF(ISBLANK(K123),1,IFERROR(VLOOKUP(K123,Eje_Pilar_Prop!C105:C206,1,FALSE),\"NO\"))","v":"NO"},"SECOP II",1,"Bogotá Mejor para Todos"]
["CPS-113-2020",2020,"SECOP II","FDLS-CD-115-2020","Contratos de prestación de servicios","Contratación directa","Prestación de servicios profesionales y de apoyo a la gestión, o para la ejecución de trabajos artísticos que sólo puedan encomendarse a determinadas personas naturales;","PRESTAR SUS SERVICIOS COMO CONDUCTOR DE VEHÍCULOS PESADOS DE PROPIEDAD DEL FONDO DE DESARROLLO LOCAL DE SUMAPAZ QUE LE SEA ASIGNADA PARA LA REALIZACIÓN DE LABORES DE MANTENIMIENTO DE LA MALLA VIAL Y LAS ZONAS PÚBLICAS DE LA LOCALIDAD, ASÍ COMO ATENDER LAS EMERGENCIAS VIALES QUE SURJAN EN LA LOCALIDAD DE SUMAPAZ","Inversión","Bogotá Mejor para Todos",18,{"$f":"IF(ISERROR(VLOOKUP(K124,Eje_Pilar_Prop!$C$2:$E$104,2,FALSE)),\" \",VLOOKUP(K124,Eje_Pilar_Prop!$C$2:$E$104,2,FALSE))","v":"Mejor movilidad para todos"},{"$f":"IF(ISERROR(VLOOKUP(K124,Eje_Pilar_Prop!$C$2:$E$104,3,FALSE)),\" \",VLOOKUP(K124,Eje_Pilar_Prop!$C$2:$E$104,3,FALSE))","v":"Pilar 2 Democracía Urbana"},1364,80489721,"ARNOLDO RAMIREZ MALAGON",10000000,null,null,1,5000000,15000000,13666667,"2020-06-17","2020-06-17","2020-10-16",120,null,60,null,null,null,null,null,"","x",null,0.91111113333333338,null,{"$f":"IF(SUMPRODUCT((A$14:A124=A124)*(B$14:B124=B124)*(D$14:D124=D124))>1,0,1)","v":1},"Contratos de prestación de servicios","Contratación directa",{"$f":"IF(ISBLANK(G124),1,IFERROR(VLOOKUP(G124,Tipo!$C$12:$C$27,1,FALSE),\"NO\"))","v":"Prestación de servicios profesionales y de apoyo a la gestión, o para la ejecución de trabajos artísticos que sólo puedan encomendarse a determinadas personas naturales;"},"Inversión",{"$f":"IF(ISBLANK(K124),1,IFERROR(VLOOKUP(K124,Eje_Pilar_Prop!C106:C207,1,FALSE),\"NO\"))","v":"NO"},"SECOP II",1,"Bogotá Mejor para Todos"]
["CPS-114-2020",2020,"SECOP II","FDLS-CD-116-2020","Contratos de prestación de servicios","Contratación directa","Prestación de servicios profesionales y de apoyo a la gestión, o para la ejecución de trabajos artísticos que sólo puedan encomendarse a determinadas personas naturales;","PRESTAR SUS SERVICIOS COMO CONDUCTOR DE VEHÍCULOS PESADOS DE PROPIEDAD DEL FONDO DE DESARROLLO LOCAL DE SUMAPAZ QUE LE SEA ASIGNADA PARA LA REALIZACIÓN DE LABORES DE MANTENIMIENTO DE LA MALLA VIAL Y LAS ZONAS PÚBLICAS DE LA LOCALIDAD, ASÍ COMO ATENDER LAS EMERGENCIAS VIALES QUE SURJAN EN LA LOCALIDAD DE SUMAPAZ","Inversión","Bogotá Mejor para Todos",18,{"$f":"IF(ISERROR(VLOOKUP(K125,Eje_Pilar_Prop!$C$2:$E$104,2,FALSE)),\" \",VLOOKUP(K125,Eje_Pilar_Prop!$C$2:$E$104,2,FALSE))","v":"Mejor movilidad para todos"},{"$f":"IF(ISERROR(VLOOKUP(K125,Eje_Pilar_Prop!$C$2:$E$104,3,FALSE)),\" \",VLOOKUP(K125,Eje_Pilar_Prop!$C$2:$E$104,3,FALSE))","v":"Pilar 2 Democracía Urbana"},1364,1032656406,"FABIAN LEONARDO PULIDO MORENO",10000000,null,null,1,5000000,15000000,13666667,"2020-06-17","2020-06-17","2020-10-16",120,null,60,null,null,null,null,null,"","x",null,0.91111113333333338,null,{"$f":"IF(SUMPRODUCT((A$14:A125=A125)*(B$14:B125=B125)*(D$14:D125=D125))>1,0,1)","v":1},"Contratos de prestación de servicios","Contratación directa",{"$f":"IF(ISBLANK(G125),1,IFERROR(VLOOKUP(G125,Tipo!$C$12:$C$27,1,FALSE),\"NO\"))","v":"Prestación de servicios profesionales y de apoyo a la gestión, o para la ejecución de trabajos artísticos que sólo puedan encomendarse a determinadas personas naturales;"},"Inversión",{"$f":"IF(ISBLANK(K125),1,IFERROR(VLOOKUP(K125,Eje_Pilar_Prop!C107:C208,1,FALSE),\"NO\"))","v":"NO"},"SECOP II",1,"Bogotá Mejor para Todos"]
["CPS-115-2020",2020,"SECOP II","FDLS-CD-117-2020","Contratos de prestación de servicios","Contratación directa","Prestación de servicios profesionales y de apoyo a la gestión, o para la ejecución de trabajos artísticos que sólo puedan encomendarse a determinadas personas naturales;","PRESTAR SUS SERVICIOS COMO CONDUCTOR DE VEHÍCULOS PESADOS DE PROPIEDAD DEL FONDO DE DESARROLLO LOCAL DE SUMAPAZ QUE LE SEA ASIGNADA PARA LA REALIZACIÓN DE LABORES DE MANTENIMIENTO DE LA MALLA VIAL Y LAS ZONAS PÚBLICAS DE LA LOCALIDAD, ASÍ COMO ATENDER LAS EMERGENCIAS VIALES QUE SURJAN EN LA LOCALIDAD DE SUMAPAZ","Inversión","Bogotá Mejor para Todos",18,{"$f":"IF(ISERROR(VLOOKUP(K126,Eje_Pilar_Prop!$C$2:$E$104,2,FALSE)),\" \",VLOOKUP(K126,Eje_Pilar_Prop!$C$2:$E$104,2,FALSE))","v":"Mejor movilidad para todos"},{"$f":"IF(ISERROR(VLOOKUP(K126,Eje_Pilar_Prop!$C$2:$E$104,3,FALSE)),\" \",VLOOKUP(K126,Eje_Pilar_Prop!$C$2:$E$104,3,FALSE))","v":"Pilar 2 Democracía Urbana"},1364,1022924525,"MOISES DELGADO VERGARA",10000000,null,null,1,5000000,15000000,13666667,"2020-06-17","2020-06-17","2020-10-16",120,null,60,null,null,null,null,null,"","x",null,0.91111113333333338,null,{"$f":"IF(SUMPRODUCT((A$14:A126=A126)*(B$14:B126=B126)*(D$14:D126=D126))>1,0,1)","v":1},"Contratos de prestación de servicios","Contratación directa",{"$f":"IF(ISBLANK(G126),1,IFERROR(VLOOKUP(G126,Tipo!$C$12:$C$27,1,FALSE),\"NO\"))","v":"Prestación de servicios profesionales y de apoyo a la gestión, o para la ejecución de trabajos artísticos que sólo puedan encomendarse a determinadas personas naturales;"},"Inversión",{"$f":"IF(ISBLANK(K126),1,IFERROR(VLOOKUP(K126,Eje_Pilar_Prop!C108:C209,1,FALSE),\"NO\"))","v":"NO"},"SECOP II",1,"Bogotá Mejor para Todos"]
["CPS-116-2020",2020,"SECOP II","FDLS-CD-118-2020","Contratos de prestación de servicios","Contratación directa","Prestación de servicios profesionales y de apoyo a la gestión, o para la ejecución de trabajos artísticos que sólo puedan encomendarse a determinadas personas naturales;","PRESTAR SUS SERVICIOS COMO OPERARIO DE MAQUINARIA PESADA DE PROPIEDAD DEL FONDO DE DESARROLLO LOCAL DE SUMAPAZ QUE LE SEA ASIGNADA PARA LA REALIZACIÓN DE LABORES DE MANTENIMIENTO DE LA MALLA VIAL Y LAS ZONAS PÚBLICAS DE LA LOCALIDAD, ASÍ COMO ATENDER LAS EMERGENCIAS VIALES QUE SURJAN EN LA LOCALIDAD DE SUMAPAZ.","Inversión","Bogotá Mejor para Todos",18,{"$f":"IF(ISERROR(VLOOKUP(K127,Eje_Pilar_Prop!$C$2:$E$104,2,FALSE)),\" \",VLOOKUP(K127,Eje_Pilar_Prop!$C$2:$E$104,2,FALSE))","v":"Mejor movilidad para todos"},{"$f":"IF(ISERROR(VLOOKUP(K127,Eje_Pilar_Prop!$C$2:$E$104,3,FALSE)),\" \",VLOOKUP(K127,Eje_Pilar_Prop!$C$2:$E$104,3,FALSE))","v":"Pilar 2 Democracía Urbana"},1364,1033676728,"HECTOR ERNESTO GARCIA GARIBELLO",10000000,null,null,1,5000000,15000000,13583333,"2020-06-18","2020-06-18","2020-10-17",120,null,60,null,null,null,null,null,"","x",null,0.90555553333333338,null,{"$f":"IF(SUMPRODUCT((A$14:A127=A127)*(B$14:B127=B127)*(D$14:D127=D127))>1,0,1)","v":1},"Contratos de prestación de servicios","Contratación directa",{"$f":"IF(ISBLANK(G127),1,IFERROR(VLOOKUP(G127,Tipo!$C$12:$C$27,1,FALSE),\"NO\"))","v":"Prestación de servicios profesionales y de apoyo a la gestión, o para la ejecución de trabajos artísticos que sólo puedan encomendarse a determinadas personas naturales;"},"Inversión",{"$f":"IF(ISBLANK(K127),1,IFERROR(VLOOKUP(K127,Eje_Pilar_Prop!C109:C210,1,FALSE),\"NO\"))","v":"NO"},"SECOP II",1,"Bogotá Mejor para Todos"]
["CPS-117-2020",2020,"SECOP II","FDLS-CD-119-2020","Contratos de prestación de servicios","Contratación directa","Prestación de servicios profesionales y de apoyo a la gestión, o para la ejecución de trabajos artísticos que sólo puedan encomendarse a determinadas personas naturales;","PRESTAR SUS SERVICIOS COMO OPERARIO DE MAQUINARIA PESADA DE PROPIEDAD DEL FONDO DE DESARROLLO LOCAL DE SUMAPAZ QUE LE SEA ASIGNADA PARA LA REALIZACIÓN DE LABORES DE MANTENIMIENTO DE LA MALLA VIAL Y LAS ZONAS PÚBLICAS DE LA LOCALIDAD, ASÍ COMO ATENDER LAS EMERGENCIAS VIALES QUE SURJAN EN LA LOCALIDAD DE SUMAPAZ.","Inversión","Bogotá Mejor para Todos",18,{"$f":"IF(ISERROR(VLOOKUP(K128,Eje_Pilar_Prop!$C$2:$E$104,2,FALSE)),\" \",VLOOKUP(K128,Eje_Pilar_Prop!$C$2:$E$104,2,FALSE))","v":"Mejor movilidad para todos"},{"$f":"IF(ISERROR(VLOOKUP(K128,Eje_Pilar_Prop!$C$2:$E$104,3,FALSE)),\" \",VLOOKUP(K128,Eje_Pilar_Prop!$C$2:$E$104,3,FALSE))","v":"Pilar 2 Democracía Urbana"},1364,79565214,"NEIDER MOLINA REY",10000000,null,null,1,5000000,15000000,13750000,"2020-06-16","2020-06-16","2020-10-15",120,null,60,null,null,null,null,null,"","x",null,0.91666666666666663,null,{"$f":"IF(SUMPRODUCT((A$14:A128=A128)*(B$14:B128=B128)*(D$14:D128=D128))>1,0,1)","v":1},"Contratos de prestación de servicios","Contratación directa",{"$f":"IF(ISBLANK(G128),1,IFERROR(VLOOKUP(G128,Tipo!$C$12:$C$27,1,FALSE),\"NO\"))","v":"Prestación de servicios profesionales y de apoyo a la gestión, o para la ejecución de trabajos artísticos que sólo puedan encomendarse a determinadas personas naturales;"},"Inversión",{"$f":"IF(ISBLANK(K128),1,IFERROR(VLOOKUP(K128,Eje_Pilar_Prop!C110:C211,1,FALSE),\"NO\"))","v":"NO"},"SECOP II",1,"Bogotá Mejor para Todos"]
["CPS-118-2020",2020,"SECOP II","FDLS-CD-120-2020","Contratos de prestación de servicios","Contratación directa","Prestación de servicios profesionales y de apoyo a la gestión, o para la ejecución de trabajos artísticos que sólo puedan encomendarse a determinadas personas naturales;","PRESTAR LOS SERVICIOS PROFESIONALES PARA EL DESPACHO DE LA ALCALDIA LOCAL DE SUMAPAZ EN LAS DIFERENTES ETAPAS DE LOS PROCESOS ADMINISTRATIVOS Y OPERATIVOS PARA DAR CUMPLIMIENTO AL PLAN DE DESARROLLO LOCAL","Inversión","Bogotá Mejor para Todos",45,{"$f":"IF(ISERROR(VLOOKUP(K129,Eje_Pilar_Prop!$C$2:$E$104,2,FALSE)),\" \",VLOOKUP(K129,Eje_Pilar_Prop!$C$2:$E$104,2,FALSE))","v":"Gobernanza e influencia local, regional e internacional"},{"$f":"IF(ISERROR(VLOOKUP(K129,Eje_Pilar_Prop!$C$2:$E$104,3,FALSE)),\" \",VLOOKUP(K129,Eje_Pilar_Prop!$C$2:$E$104,3,FALSE))","v":"Eje Transversal 4 Gobierno Legitimo, Fortalecimiento Local y Eficiencia"},1375,1030610164,"BRAHAN EDUARDO GARCIA LOPEZ",43550000,null,null,1,6500000,50050000,37050000,"2020-06-10","2020-06-10","2020-12-31",201,null,30,null,null,null,null,null,"","x",null,0.74025974025974028,null,{"$f":"IF(SUMPRODUCT((A$14:A129=A129)*(B$14:B129=B129)*(D$14:D129=D129))>1,0,1)","v":1},"Contratos de prestación de servicios","Contratación directa",{"$f":"IF(ISBLANK(G129),1,IFERROR(VLOOKUP(G129,Tipo!$C$12:$C$27,1,FALSE),\"NO\"))","v":"Prestación de servicios profesionales y de apoyo a la gestión, o para la ejecución de trabajos artísticos que sólo puedan encomendarse a determinadas personas naturales;"},"Inversión",{"$f":"IF(ISBLANK(K129),1,IFERROR(VLOOKUP(K129,Eje_Pilar_Prop!C111:C212,1,FALSE),\"NO\"))","v":"NO"},"SECOP II",1,"Bogotá Mejor para Todos"]
["CPS-119-2020",2020,"SECOP II","FDLS-CD-121-2020","Contratos de prestación de servicios","Contratación directa","Prestación de servicios profesionales y de apoyo a la gestión, o para la ejecución de trabajos artísticos que sólo puedan encomendarse a determinadas personas naturales;","PRESTAR SUS SERVICIOS COMO OPERARIO DE MAQUINARIA PESADA DE PROPIEDAD DEL FONDO DE DESARROLLO LOCAL DE SUMAPAZ QUE LE SEA ASIGNADA PARA LA REALIZACIÓN DE LABORES DE MANTENIMIENTO DE LA MALLA VIAL Y LAS ZONAS PÚBLICAS DE LA LOCALIDAD, ASÍ COMO ATENDER LAS EMERGENCIAS VIALES QUE SURJAN EN LA LOCALIDAD DE SUMAPAZ.","Inversión","Bogotá Mejor para Todos",18,{"$f":"IF(ISERROR(VLOOKUP(K130,Eje_Pilar_Prop!$C$2:$E$104,2,FALSE)),\" \",VLOOKUP(K130,Eje_Pilar_Prop!$C$2:$E$104,2,FALSE))","v":"Mejor movilidad para todos"},{"$f":"IF(ISERROR(VLOOKUP(K130,Eje_Pilar_Prop!$C$2:$E$104,3,FALSE)),\" \",VLOOKUP(K130,Eje_Pilar_Prop!$C$2:$E$104,3,FALSE))","v":"Pilar 2 Democracía Urbana"},1364,80451743,"SALOMON PALACIOS ROMERO",10000000,null,null,1,5000000,15000000,13583333,"2020-06-18","2020-06-18","2020-10-17",120,null,60,null,null,null,null,null,"","x",null,0.90555553333333338,null,{"$f":"IF(SUMPRODUCT((A$14:A130=A130)*(B$14:B130=B130)*(D$14:D130=D130))>1,0,1)","v":1},"Contratos de prestación de servicios","Contratación directa",{"$f":"IF(ISBLANK(G130),1,IFERROR(VLOOKUP(G130,Tipo!$C$12:$C$27,1,FALSE),\"NO\"))","v":"Prestación de servicios profesionales y de apoyo a la gestión, o para la ejecución de trabajos artísticos que sólo puedan encomendarse a determinadas personas naturales;"},"Inversión",{"$f":"IF(ISBLANK(K130),1,IFERROR(VLOOKUP(K130,Eje_Pilar_Prop!C112:C213,1,FALSE),\"NO\"))","v":"NO"},"SECOP II",1,"Bogotá Mejor para Todos"]
["CPS-120-2020",2020,"SECOP II","FDLS-CD-122-2020","Contratos de prestación de servicios","Contratación directa","Prestación de servicios profesionales y de apoyo a la gestión, o para la ejecución de trabajos artísticos que sólo puedan encomendarse a determinadas personas naturales;","PRESTAR SUS SERVICIOS COMO CONDUCTOR DE VEHÍCULOS PESADOS DE PROPIEDAD DEL FONDO DE DESARROLLO LOCAL DE SUMAPAZ QUE LE SEA ASIGNADA PARA LA REALIZACIÓN DE LABORES DE MANTENIMIENTO DE LA MALLA VIAL Y LAS ZONAS PÚBLICAS DE LA LOCALIDAD, ASÍ COMO ATENDER LAS EMERGENCIAS VIALES QUE SURJAN EN LA LOCALIDAD DE SUMAPAZ","Inversión","Bogotá Mejor para Todos",18,{"$f":"IF(ISERROR(VLOOKUP(K131,Eje_Pilar_Prop!$C$2:$E$104,2,FALSE)),\" \",VLOOKUP(K131,Eje_Pilar_Prop!$C$2:$E$104,2,FALSE))","v":"Mejor movilidad para todos"},{"$f":"IF(ISERROR(VLOOKUP(K131,Eje_Pilar_Prop!$C$2:$E$104,3,FALSE)),\" \",VLOOKUP(K131,Eje_Pilar_Prop!$C$2:$E$104,3,FALSE))","v":"Pilar 2 Democracía Urbana"},1364,80452901,"NILSON LOPEZ RAMIREZ",10000000,null,null,1,5000000,15000000,13750000,"2020-06-16","2020-06-16","2020-10-15",120,null,60,null,null,null,null,null,"","x",null,0.91666666666666663,null,{"$f":"IF(SUMPRODUCT((A$14:A131=A131)*(B$14:B131=B131)*(D$14:D131=D131))>1,0,1)","v":1},"Contratos de prestación de servicios","Contratación directa",{"$f":"IF(ISBLANK(G131),1,IFERROR(VLOOKUP(G131,Tipo!$C$12:$C$27,1,FALSE),\"NO\"))","v":"Prestación de servicios profesionales y de apoyo a la gestión, o para la ejecución de trabajos artísticos que sólo puedan encomendarse a determinadas personas naturales;"},"Inversión",{"$f":"IF(ISBLANK(K131),1,IFERROR(VLOOKUP(K131,Eje_Pilar_Prop!C113:C214,1,FALSE),\"NO\"))","v":"NO"},"SECOP II",1,"Bogotá Mejor para Todos"]
["CPS-121-2020",2020,"SECOP II","FDLS-CD-123-2020","Contratos de prestación de servicios","Contratación directa","Prestación de servicios profesionales y de apoyo a la gestión, o para la ejecución de trabajos artísticos que sólo puedan encomendarse a determinadas personas naturales;","PRESTAR SUS SERVICIOS COMO AYUDANTE DE LA MAQUINARIA PESADA DE PROPIEDAD DEL FONDO DE DESARROLLO LOCAL DE SUMAPAZ QUE LE SEA ASIGNADA PARA LA REALIZACIÓN DE LABORES DE MANTENIMIENTO Y MEJORAMIENTO DE LA MALLA VIAL, ZONAS PÚBLICAS , ASÍ COMO LA ATENCIÓN DE EMERGENCIAS VIALES QUE SURJAN EN LA LOCALIDAD DE SUMAPAZ","Inversión","Bogotá Mejor para Todos",18,{"$f":"IF(ISERROR(VLOOKUP(K132,Eje_Pilar_Prop!$C$2:$E$104,2,FALSE)),\" \",VLOOKUP(K132,Eje_Pilar_Prop!$C$2:$E$104,2,FALSE))","v":"Mejor movilidad para todos"},{"$f":"IF(ISERROR(VLOOKUP(K132,Eje_Pilar_Prop!$C$2:$E$104,3,FALSE)),\" \",VLOOKUP(K132,Eje_Pilar_Prop!$C$2:$E$104,3,FALSE))","v":"Pilar 2 Democracía Urbana"},1364,1023025796,"PABLO YESID RIOS HILARION ",10000000,null,null,1,5000000,15000000,13583333,"2020-06-18","2020-06-18","2020-10-17",120,null,60,null,null,null,null,null,"","x",null,0.90555553333333338,null,{"$f":"IF(SUMPRODUCT((A$14:A132=A132)*(B$14:B132=B132)*(D$14:D132=D132))>1,0,1)","v":1},"Contratos de prestación de servicios","Contratación directa",{"$f":"IF(ISBLANK(G132),1,IFERROR(VLOOKUP(G132,Tipo!$C$12:$C$27,1,FALSE),\"NO\"))","v":"Prestación de servicios profesionales y de apoyo a la gestión, o para la ejecución de trabajos artísticos que sólo puedan encomendarse a determinadas personas naturales;"},"Inversión",{"$f":"IF(ISBLANK(K132),1,IFERROR(VLOOKUP(K132,Eje_Pilar_Prop!C114:C215,1,FALSE),\"NO\"))","v":"NO"},"SECOP II",1,"Bogotá Mejor para Todos"]
["CPS-122-2020",2020,"SECOP II","FDLS-CD-124-2020","Contratos de prestación de servicios","Contratación directa","Prestación de servicios profesionales y de apoyo a la gestión, o para la ejecución de trabajos artísticos que sólo puedan encomendarse a determinadas personas naturales;","PRESTAR SUS SERVICIOS COMO OPERARIO DE MAQUINARIA PESADA DE PROPIEDAD DEL FONDO DE DESARROLLO LOCAL DE SUMAPAZ QUE LE SEA ASIGNADA PARA LA REALIZACIÓN DE LABORES DE MANTENIMIENTO DE LA MALLA VIAL Y LAS ZONAS PÚBLICAS DE LA LOCALIDAD, ASÍ COMO ATENDER LAS EMERGENCIAS VIALES QUE SURJAN EN LA LOCALIDAD DE SUMAPAZ.","Inversión","Bogotá Mejor para Todos",18,{"$f":"IF(ISERROR(VLOOKUP(K133,Eje_Pilar_Prop!$C$2:$E$104,2,FALSE)),\" \",VLOOKUP(K133,Eje_Pilar_Prop!$C$2:$E$104,2,FALSE))","v":"Mejor movilidad para todos"},{"$f":"IF(ISERROR(VLOOKUP(K133,Eje_Pilar_Prop!$C$2:$E$104,3,FALSE)),\" \",VLOOKUP(K133,Eje_Pilar_Prop!$C$2:$E$104,3,FALSE))","v":"Pilar 2 Democracía Urbana"},1364,79462118,"ERNESTO GUEVARA GONZALEZ",10000000,null,null,1,5000000,15000000,13583333,"2020-06-18","2020-06-18","2020-10-17",120,null,60,null,null,null,null,null,"","x",null,0.90555553333333338,null,{"$f":"IF(SUMPRODUCT((A$14:A133=A133)*(B$14:B133=B133)*(D$14:D133=D133))>1,0,1)","v":1},"Contratos de prestación de servicios","Contratación directa",{"$f":"IF(ISBLANK(G133),1,IFERROR(VLOOKUP(G133,Tipo!$C$12:$C$27,1,FALSE),\"NO\"))","v":"Prestación de servicios profesionales y de apoyo a la gestión, o para la ejecución de trabajos artísticos que sólo puedan encomendarse a determinadas personas naturales;"},"Inversión",{"$f":"IF(ISBLANK(K133),1,IFERROR(VLOOKUP(K133,Eje_Pilar_Prop!C115:C216,1,FALSE),\"NO\"))","v":"NO"},"SECOP II",1,"Bogotá Mejor para Todos"]
["CPS-123-2020",2020,"SECOP II","FDLS-CD-125-2020","Contratos de prestación de servicios","Contratación directa","Prestación de servicios profesionales y de apoyo a la gestión, o para la ejecución de trabajos artísticos que sólo puedan encomendarse a determinadas personas naturales;","PRESTAR SUS SERVICIOS COMO AYUDANTE DE LA MAQUINARIA PESADA DE PROPIEDAD DEL FONDO DE DESARROLLO LOCAL DE SUMAPAZ QUE LE SEA ASIGNADA PARA LA REALIZACIÓN DE LABORES DE MANTENIMIENTO Y MEJORAMIENTO DE LA MALLA VIAL, ZONAS PÚBLICAS , ASÍ COMO LA ATENCIÓN DE EMERGENCIAS VIALES QUE SURJAN EN LA LOCALIDAD DE SUMAPAZ","Inversión","Bogotá Mejor para Todos",18,{"$f":"IF(ISERROR(VLOOKUP(K134,Eje_Pilar_Prop!$C$2:$E$104,2,FALSE)),\" \",VLOOKUP(K134,Eje_Pilar_Prop!$C$2:$E$104,2,FALSE))","v":"Mejor movilidad para todos"},{"$f":"IF(ISERROR(VLOOKUP(K134,Eje_Pilar_Prop!$C$2:$E$104,3,FALSE)),\" \",VLOOKUP(K134,Eje_Pilar_Prop!$C$2:$E$104,3,FALSE))","v":"Pilar 2 Democracía Urbana"},1364,1032656063,"LUIS ENRIQUE MARTINEZ BENAVIDES",10000000,null,null,1,5000000,15000000,13500000,"2020-06-19","2020-06-19","2020-10-18",120,null,60,null,null,null,null,null,"","x",null,0.9,null,{"$f":"IF(SUMPRODUCT((A$14:A134=A134)*(B$14:B134=B134)*(D$14:D134=D134))>1,0,1)","v":1},"Contratos de prestación de servicios","Contratación directa",{"$f":"IF(ISBLANK(G134),1,IFERROR(VLOOKUP(G134,Tipo!$C$12:$C$27,1,FALSE),\"NO\"))","v":"Prestación de servicios profesionales y de apoyo a la gestión, o para la ejecución de trabajos artísticos que sólo puedan encomendarse a determinadas personas naturales;"},"Inversión",{"$f":"IF(ISBLANK(K134),1,IFERROR(VLOOKUP(K134,Eje_Pilar_Prop!C116:C217,1,FALSE),\"NO\"))","v":"NO"},"SECOP II",1,"Bogotá Mejor para Todos"]
["CPS-124-2020",2020,"SECOP II","FDLS-CD-126-2020","Contratos de prestación de servicios","Contratación directa","Prestación de servicios profesionales y de apoyo a la gestión, o para la ejecución de trabajos artísticos que sólo puedan encomendarse a determinadas personas naturales;","PRESTAR SUS SERVICIOS COMO AYUDANTE DE LA MAQUINARIA PESADA DE PROPIEDAD DEL FONDO DE DESARROLLO LOCAL DE SUMAPAZ QUE LE SEA ASIGNADA PARA LA REALIZACIÓN DE LABORES DE MANTENIMIENTO Y MEJORAMIENTO DE LA MALLA VIAL, ZONAS PÚBLICAS , ASÍ COMO LA ATENCIÓN DE EMERGENCIAS VIALES QUE SURJAN EN LA LOCALIDAD DE SUMAPAZ","Inversión","Bogotá Mejor para Todos",18,{"$f":"IF(ISERROR(VLOOKUP(K135,Eje_Pilar_Prop!$C$2:$E$104,2,FALSE)),\" \",VLOOKUP(K135,Eje_Pilar_Prop!$C$2:$E$104,2,FALSE))","v":"Mejor movilidad para todos"},{"$f":"IF(ISERROR(VLOOKUP(K135,Eje_Pilar_Prop!$C$2:$E$104,3,FALSE)),\" \",VLOOKUP(K135,Eje_Pilar_Prop!$C$2:$E$104,3,FALSE))","v":"Pilar 2 Democracía Urbana"},1364,1070750533,"RAFAEL LARA SANABRIA",10000000,null,null,1,5000000,15000000,13583333,"2020-06-18","2020-06-18","2020-10-17",120,null,60,null,null,null,null,null,"","x",null,0.90555553333333338,null,{"$f":"IF(SUMPRODUCT((A$14:A135=A135)*(B$14:B135=B135)*(D$14:D135=D135))>1,0,1)","v":1},"Contratos de prestación de servicios","Contratación directa",{"$f":"IF(ISBLANK(G135),1,IFERROR(VLOOKUP(G135,Tipo!$C$12:$C$27,1,FALSE),\"NO\"))","v":"Prestación de servicios profesionales y de apoyo a la gestión, o para la ejecución de trabajos artísticos que sólo puedan encomendarse a determinadas personas naturales;"},"Inversión",{"$f":"IF(ISBLANK(K135),1,IFERROR(VLOOKUP(K135,Eje_Pilar_Prop!C117:C218,1,FALSE),\"NO\"))","v":"NO"},"SECOP II",1,"Bogotá Mejor para Todos"]
["CPS-125-2020",2020,"SECOP II","FDLS-CD-129-2020","Contratos de prestación de servicios","Contratación directa","Prestación de servicios profesionales y de apoyo a la gestión, o para la ejecución de trabajos artísticos que sólo puedan encomendarse a determinadas personas naturales;","Prestar los servicios profesionales para la formulación, evaluación, seguimiento y control del proyecto de inversión \"Mejores condiciones para el acceso al agua potable\", entre otros proyectos de inversión.","Inversión","Bogotá Mejor para Todos",18,{"$f":"IF(ISERROR(VLOOKUP(K136,Eje_Pilar_Prop!$C$2:$E$104,2,FALSE)),\" \",VLOOKUP(K136,Eje_Pilar_Prop!$C$2:$E$104,2,FALSE))","v":"Mejor movilidad para todos"},{"$f":"IF(ISERROR(VLOOKUP(K136,Eje_Pilar_Prop!$C$2:$E$104,3,FALSE)),\" \",VLOOKUP(K136,Eje_Pilar_Prop!$C$2:$E$104,3,FALSE))","v":"Pilar 2 Democracía Urbana"},1364,1012370432,"WILDER CENTENO BELTRAN",16500000,null,null,null,null,16500000,13750000,"2020-06-16","2020-06-16","2020-09-15",90,null,"",null,null,null,null,null,"","x",null,0.83333333333333337,null,{"$f":"IF(SUMPRODUCT((A$14:A136=A136)*(B$14:B136=B136)*(D$14:D136=D136))>1,0,1)","v":1},"Contratos de prestación de servicios","Contratación directa",{"$f":"IF(ISBLANK(G136),1,IFERROR(VLOOKUP(G136,Tipo!$C$12:$C$27,1,FALSE),\"NO\"))","v":"Prestación de servicios profesionales y de apoyo a la gestión, o para la ejecución de trabajos artísticos que sólo puedan encomendarse a determinadas personas naturales;"},"Inversión",{"$f":"IF(ISBLANK(K136),1,IFERROR(VLOOKUP(K136,Eje_Pilar_Prop!C118:C219,1,FALSE),\"NO\"))","v":"NO"},"SECOP II",1,"Bogotá Mejor para Todos"]
["CPS-126-2020",2020,"SECOP II","FDLS-CD-128-2020","Contratos de prestación de servicios","Contratación directa","Prestación de servicios profesionales y de apoyo a la gestión, o para la ejecución de trabajos artísticos que sólo puedan encomendarse a determinadas personas naturales;","PRESTAR SUS SERVICIOS COMO AYUDANTE DE LA MAQUINARIA PESADA DE PROPIEDAD DEL FONDO DE DESARROLLO LOCAL DE SUMAPAZ QUE LE SEA ASIGNADA PARA LA REALIZACIÓN DE LABORES DE MANTENIMIENTO Y MEJORAMIENTO DE LA MALLA VIAL, ZONAS PÚBLICAS , ASÍ COMO LA ATENCIÓN DE EMERGENCIAS VIALES QUE SURJAN EN LA LOCALIDAD DE SUMAPAZ","Inversión","Bogotá Mejor para Todos",18,{"$f":"IF(ISERROR(VLOOKUP(K137,Eje_Pilar_Prop!$C$2:$E$104,2,FALSE)),\" \",VLOOKUP(K137,Eje_Pilar_Prop!$C$2:$E$104,2,FALSE))","v":"Mejor movilidad para todos"},{"$f":"IF(ISERROR(VLOOKUP(K137,Eje_Pilar_Prop!$C$2:$E$104,3,FALSE)),\" \",VLOOKUP(K137,Eje_Pilar_Prop!$C$2:$E$104,3,FALSE))","v":"Pilar 2 Democracía Urbana"},1364,1069230738,"CAMILO ANDRES SUSA CIFUENTES CEDIDO A YILBER ADAMES\nRAMIREZ CC: 1.69.749.786",10000000,null,null,1,5000000,15000000,13500000,"2020-06-18","2020-06-18","2020-10-17",120,null,60,null,null,null,null,null,"","x",null,0.9,null,{"$f":"IF(SUMPRODUCT((A$14:A137=A137)*(B$14:B137=B137)*(D$14:D137=D137))>1,0,1)","v":1},"Contratos de prestación de servicios","Contratación directa",{"$f":"IF(ISBLANK(G137),1,IFERROR(VLOOKUP(G137,Tipo!$C$12:$C$27,1,FALSE),\"NO\"))","v":"Prestación de servicios profesionales y de apoyo a la gestión, o para la ejecución de trabajos artísticos que sólo puedan encomendarse a determinadas personas naturales;"},"Inversión",{"$f":"IF(ISBLANK(K137),1,IFERROR(VLOOKUP(K137,Eje_Pilar_Prop!C119:C220,1,FALSE),\"NO\"))","v":"NO"},"SECOP II",1,"Bogotá Mejor para Todos"]
["CPS-127-2020",2020,"SECOP II","FDLS-CD-127-2020","Contratos de prestación de servicios","Contratación directa","Prestación de servicios profesionales y de apoyo a la gestión, o para la ejecución de trabajos artísticos que sólo puedan encomendarse a determinadas personas naturales;","PRESTAR LOS SERVICIOS PROFESIONALES PARA REALIZAR LA FORMULACIÓN, SEGUIMIENTO A LA EJECUCIÓN Y LIQUIDACIÓN DE LOS COMPONENTES QUE SE DERIVEN PROYECTO DE INVERSIÓN \"SUMAPAZ DIGITAL\"","Inversión","Bogotá Mejor para Todos",36,{"$f":"IF(ISERROR(VLOOKUP(K138,Eje_Pilar_Prop!$C$2:$E$104,2,FALSE)),\" \",VLOOKUP(K138,Eje_Pilar_Prop!$C$2:$E$104,2,FALSE))","v":"Bogotá, una ciudad digital"},{"$f":"IF(ISERROR(VLOOKUP(K138,Eje_Pilar_Prop!$C$2:$E$104,3,FALSE)),\" \",VLOOKUP(K138,Eje_Pilar_Prop!$C$2:$E$104,3,FALSE))","v":"Eje Transversal 2 Desarrollo Económico basado en el conocimiento"},1368,80125822,"WOLFRANG LIZANDRO PULIDO AVENDAÑO",16500000,null,null,null,null,16500000,16500000,"2020-06-16","2020-06-16","2020-09-15",90,null,"",null,null,null,null,null,"","x",null,1,null,{"$f":"IF(SUMPRODUCT((A$14:A138=A138)*(B$14:B138=B138)*(D$14:D138=D138))>1,0,1)","v":1},"Contratos de prestación de servicios","Contratación directa",{"$f":"IF(ISBLANK(G138),1,IFERROR(VLOOKUP(G138,Tipo!$C$12:$C$27,1,FALSE),\"NO\"))","v":"Prestación de servicios profesionales y de apoyo a la gestión, o para la ejecución de trabajos artísticos que sólo puedan encomendarse a determinadas personas naturales;"},"Inversión",{"$f":"IF(ISBLANK(K138),1,IFERROR(VLOOKUP(K138,Eje_Pilar_Prop!C120:C221,1,FALSE),\"NO\"))","v":"NO"},"SECOP II",1,"Bogotá Mejor para Todos"]
["CPS-128-2020",2020,"SECOP II","FDLS-CD-130-2020","Contratos de prestación de servicios","Contratación directa","Prestación de servicios profesionales y de apoyo a la gestión, o para la ejecución de trabajos artísticos que sólo puedan encomendarse a determinadas personas naturales;","PRESTAR SUS SERVICIOS COMO AYUDANTE DE LA MAQUINARIA PESADA DE PROPIEDAD DEL FONDO DE DESARROLLO LOCAL DE SUMAPAZ QUE LE SEA ASIGNADA PARA LA REALIZACIÓN DE LABORES DE MANTENIMIENTO Y MEJORAMIENTO DE LA MALLA VIAL, ZONAS PÚBLICAS , ASÍ COMO LA ATENCIÓN DE EMERGENCIAS VIALES QUE SURJAN EN LA LOCALIDAD DE SUMAPAZ","Inversión","Bogotá Mejor para Todos",18,{"$f":"IF(ISERROR(VLOOKUP(K139,Eje_Pilar_Prop!$C$2:$E$104,2,FALSE)),\" \",VLOOKUP(K139,Eje_Pilar_Prop!$C$2:$E$104,2,FALSE))","v":"Mejor movilidad para todos"},{"$f":"IF(ISERROR(VLOOKUP(K139,Eje_Pilar_Prop!$C$2:$E$104,3,FALSE)),\" \",VLOOKUP(K139,Eje_Pilar_Prop!$C$2:$E$104,3,FALSE))","v":"Pilar 2 Democracía Urbana"},1364," 79.216.776","ERISMENDIZ CASTELLANOS DIAZ",10000000,null,null,1,5000000,15000000,13583333,"2020-06-18","2020-06-18","2020-10-17",120,null,60,null,null,null,null,null,"","x",null,0.90555553333333338,null,{"$f":"IF(SUMPRODUCT((A$14:A139=A139)*(B$14:B139=B139)*(D$14:D139=D139))>1,0,1)","v":1},"Contratos de prestación de servicios","Contratación directa",{"$f":"IF(ISBLANK(G139),1,IFERROR(VLOOKUP(G139,Tipo!$C$12:$C$27,1,FALSE),\"NO\"))","v":"Prestación de servicios profesionales y de apoyo a la gestión, o para la ejecución de trabajos artísticos que sólo puedan encomendarse a determinadas personas naturales;"},"Inversión",{"$f":"IF(ISBLANK(K139),1,IFERROR(VLOOKUP(K139,Eje_Pilar_Prop!C121:C222,1,FALSE),\"NO\"))","v":"NO"},"SECOP II",1,"Bogotá Mejor para Todos"]
["CPS-129-2020",2020,"SECOP II","FDLS-CD-131-2020","Contratos de prestación de servicios","Contratación directa","Prestación de servicios profesionales y de apoyo a la gestión, o para la ejecución de trabajos artísticos que sólo puedan encomendarse a determinadas personas naturales;","PRESTAR LOS SERVICIOS PARA OPERAR EL VEHÍCULO ASIGNADO, REALIZANDO DE MANERA OPORTUNA EFICIENTE Y SEGURA LOS DESPLAZAMIENTOS DE LOS FUNCIONARIOS DEL FONDO DE DESARROLLO LOCAL DEL SUMAPAZ Y/O DEMÁS PERSONAL QUE REQUIERA SER TRASLADADO EN LA ZONA URBANA Y RURAL DE LA LOCALIDAD EN CUMPLIMIENTO DE LAS ACTIVIDADES PROPIAS DE LA ADMINISTRACIÓN LOCAL.","Inversión","Bogotá Mejor para Todos",45,{"$f":"IF(ISERROR(VLOOKUP(K140,Eje_Pilar_Prop!$C$2:$E$104,2,FALSE)),\" \",VLOOKUP(K140,Eje_Pilar_Prop!$C$2:$E$104,2,FALSE))","v":"Gobernanza e influencia local, regional e internacional"},{"$f":"IF(ISERROR(VLOOKUP(K140,Eje_Pilar_Prop!$C$2:$E$104,3,FALSE)),\" \",VLOOKUP(K140,Eje_Pilar_Prop!$C$2:$E$104,3,FALSE))","v":"Eje Transversal 4 Gobierno Legitimo, Fortalecimiento Local y Eficiencia"},1375,11388875,"WILLIAM OSWALDO RUBIANO TELLEZ",16250000,null,null,1,2500000,18750000,13750000,"2020-06-16","2020-06-16","2020-12-31",195,null,30,null,null,null,null,null,"","x",null,0.73333333333333328,null,{"$f":"IF(SUMPRODUCT((A$14:A140=A140)*(B$14:B140=B140)*(D$14:D140=D140))>1,0,1)","v":1},"Contratos de prestación de servicios","Contratación directa",{"$f":"IF(ISBLANK(G140),1,IFERROR(VLOOKUP(G140,Tipo!$C$12:$C$27,1,FALSE),\"NO\"))","v":"Prestación de servicios profesionales y de apoyo a la gestión, o para la ejecución de trabajos artísticos que sólo puedan encomendarse a determinadas personas naturales;"},"Inversión",{"$f":"IF(ISBLANK(K140),1,IFERROR(VLOOKUP(K140,Eje_Pilar_Prop!C122:C223,1,FALSE),\"NO\"))","v":"NO"},"SECOP II",1,"Bogotá Mejor para Todos"]
["CPS-130-2020",2020,"SECOP II","FDLS-CD-132-2020","Contratos de prestación de servicios","Contratación directa","Prestación de servicios profesionales y de apoyo a la gestión, o para la ejecución de trabajos artísticos que sólo puedan encomendarse a determinadas personas naturales;","APOYAR TECNICAMENTE A LOS RESPONSABLES E INTEGRANTES DE LOS PROCESOS DE IMPLEMENTACIÓN DE HERRAMIENTAS DE GESTIÓN, SIGUIENDO LOS LIENAMIENTOS METODOLOGICOS ESTABLECIDOS POR LA OFICINA ASESORA DE PLANEACION DE LA SECRETARIA DISTRITAL DE GOBIERNO.","Inversión","Bogotá Mejor para Todos",45,{"$f":"IF(ISERROR(VLOOKUP(K141,Eje_Pilar_Prop!$C$2:$E$104,2,FALSE)),\" \",VLOOKUP(K141,Eje_Pilar_Prop!$C$2:$E$104,2,FALSE))","v":"Gobernanza e influencia local, regional e internacional"},{"$f":"IF(ISERROR(VLOOKUP(K141,Eje_Pilar_Prop!$C$2:$E$104,3,FALSE)),\" \",VLOOKUP(K141,Eje_Pilar_Prop!$C$2:$E$104,3,FALSE))","v":"Eje Transversal 4 Gobierno Legitimo, Fortalecimiento Local y Eficiencia"},1375,52211430,"GLORIA ESPERANZA PIRAJON TEJEDOR",16500000,null,null,1,5500000,22000000,22000000,"2020-06-18","2020-06-18","2020-09-17",90,null,30,null,null,null,null,null,"","x",null,1,null,{"$f":"IF(SUMPRODUCT((A$14:A141=A141)*(B$14:B141=B141)*(D$14:D141=D141))>1,0,1)","v":1},"Contratos de prestación de servicios","Contratación directa",{"$f":"IF(ISBLANK(G141),1,IFERROR(VLOOKUP(G141,Tipo!$C$12:$C$27,1,FALSE),\"NO\"))","v":"Prestación de servicios profesionales y de apoyo a la gestión, o para la ejecución de trabajos artísticos que sólo puedan encomendarse a determinadas personas naturales;"},"Inversión",{"$f":"IF(ISBLANK(K141),1,IFERROR(VLOOKUP(K141,Eje_Pilar_Prop!C123:C224,1,FALSE),\"NO\"))","v":"NO"},"SECOP II",1,"Bogotá Mejor para Todos"]
["CPS-131-2020",2020,"SECOP II","FDLS-CD-133-2020","Contratos de prestación de servicios","Contratación directa","Prestación de servicios profesionales y de apoyo a la gestión, o para la ejecución de trabajos artísticos que sólo puedan encomendarse a determinadas personas naturales;","PRESTAR SUS SERVICIOS COMO AYUDANTE DE LA MAQUINARIA PESADA DE PROPIEDAD DEL FONDO DE DESARROLLO LOCAL DE SUMAPAZ QUE LE SEA ASIGNADA PARA LA REALIZACIÓN DE LABORES DE MANTENIMIENTO Y MEJORAMIENTO DE LA MALLA VIAL, ZONAS PÚBLICAS , ASÍ COMO LA ATENCIÓN DE EMERGENCIAS VIALES QUE SURJAN EN LA LOCALIDAD DE SUMAPAZ","Inversión","Bogotá Mejor para Todos",18,{"$f":"IF(ISERROR(VLOOKUP(K142,Eje_Pilar_Prop!$C$2:$E$104,2,FALSE)),\" \",VLOOKUP(K142,Eje_Pilar_Prop!$C$2:$E$104,2,FALSE))","v":"Mejor movilidad para todos"},{"$f":"IF(ISERROR(VLOOKUP(K142,Eje_Pilar_Prop!$C$2:$E$104,3,FALSE)),\" \",VLOOKUP(K142,Eje_Pilar_Prop!$C$2:$E$104,3,FALSE))","v":"Pilar 2 Democracía Urbana"},1364,79887251,"FABIO MORENO TORRES ",10000000,null,null,1,5000000,15000000,13583333,"2020-06-18","2020-06-18","2020-10-17",120,null,60,null,null,null,null,null,"","x",null,0.90555553333333338,null,{"$f":"IF(SUMPRODUCT((A$14:A142=A142)*(B$14:B142=B142)*(D$14:D142=D142))>1,0,1)","v":1},"Contratos de prestación de servicios","Contratación directa",{"$f":"IF(ISBLANK(G142),1,IFERROR(VLOOKUP(G142,Tipo!$C$12:$C$27,1,FALSE),\"NO\"))","v":"Prestación de servicios profesionales y de apoyo a la gestión, o para la ejecución de trabajos artísticos que sólo puedan encomendarse a determinadas personas naturales;"},"Inversión",{"$f":"IF(ISBLANK(K142),1,IFERROR(VLOOKUP(K142,Eje_Pilar_Prop!C124:C225,1,FALSE),\"NO\"))","v":"NO"},"SECOP II",1,{"$f":"IF(ISBLANK(J142),1,IFERROR(VLOOKUP(J142,pdd,1,FALSE),\"NO\"))","v":"Bogotá Mejor para Todos"}]
["CPS-132-2020",2020,"SECOP II","FDLS-CD-136-2020","Contratos de prestación de servicios","Contratación directa","Prestación de servicios profesionales y de apoyo a la gestión, o para la ejecución de trabajos artísticos que sólo puedan encomendarse a determinadas personas naturales;","PRESTAR SERVICIOS PROFESIONALES PARA COORDINAR, LIDERAR Y ASESORAR LOS PLANES Y ESTRATEGIAS DE COMUNICACIÓN INTERNA Y EXTERNA PARA LA DIVULGACIÓN DE LOS PROGRAMAS, PROYECTOS Y ACTIVIDADES DE LA ALCALDÍA LOCAL DE SUMAPAZ","Inversión","Bogotá Mejor para Todos",45,{"$f":"IF(ISERROR(VLOOKUP(K143,Eje_Pilar_Prop!$C$2:$E$104,2,FALSE)),\" \",VLOOKUP(K143,Eje_Pilar_Prop!$C$2:$E$104,2,FALSE))","v":"Gobernanza e influencia local, regional e internacional"},{"$f":"IF(ISERROR(VLOOKUP(K143,Eje_Pilar_Prop!$C$2:$E$104,3,FALSE)),\" \",VLOOKUP(K143,Eje_Pilar_Prop!$C$2:$E$104,3,FALSE))","v":"Eje Transversal 4 Gobierno Legitimo, Fortalecimiento Local y Eficiencia"},1375,1069726671,"PABLO CAMILO CRUZ BAQUERO CEDIDO A: SILVANA  LORENA SANCHEZ PINEDA CC:1026562610 (RECIBIO A PARTIR DEL 5 DE AGOSTO DE 2020)",16500000,null,null,1,5500000,22000000,21999999,"2020-07-02","2020-07-02","2020-10-01",90,null,30,null,null,null,null,null,"","x",null,0.99999995454545454,null,{"$f":"IF(SUMPRODUCT((A$14:A143=A143)*(B$14:B143=B143)*(D$14:D143=D143))>1,0,1)","v":1},"Contratos de prestación de servicios","Contratación directa",{"$f":"IF(ISBLANK(G143),1,IFERROR(VLOOKUP(G143,Tipo!$C$12:$C$27,1,FALSE),\"NO\"))","v":"Prestación de servicios profesionales y de apoyo a la gestión, o para la ejecución de trabajos artísticos que sólo puedan encomendarse a determinadas personas naturales;"},"Inversión",{"$f":"IF(ISBLANK(K143),1,IFERROR(VLOOKUP(K143,Eje_Pilar_Prop!C125:C226,1,FALSE),\"NO\"))","v":"NO"},"SECOP II",1,"Bogotá Mejor para Todos"]
["CSE-133-2020",2020,"SECOP II","FDLS-CSE-091-2020","Seguros","Selección abreviada","Selección abreviada por menor cuantía ","CONTRATAR LOS SEGUROS QUE AMPAREN LOS INTERESES PATRIMONIALES ACTUALES Y FUTUROS, ASÍ COMO LOS BIENES DE PROPIEDAD DE LA ALCALDIA LOCAL DE SUMAPAZ, QUE ESTÉN BAJO SU RESPONSABILIDAD Y CUSTODIA Y AQUELLOS QUE SEAN ADQUIRIDOS PARA DESARROLLAR LAS FUNCIONES INHERENTES A SU ACTIVIDAD, ASI COMO CUALQUIER OTRA PÓLIZA DE SEGUROS QUE REQUIERA LA ENTIDAD EN EL DESARROLLO DE SU ACTIVIDAD","Funcionamiento","Bogotá Mejor para Todos","NA",{"$f":"IF(ISERROR(VLOOKUP(K144,Eje_Pilar_Prop!$C$2:$E$104,2,FALSE)),\" \",VLOOKUP(K144,Eje_Pilar_Prop!$C$2:$E$104,2,FALSE))","v":" "},{"$f":"IF(ISERROR(VLOOKUP(K144,Eje_Pilar_Prop!$C$2:$E$104,3,FALSE)),\" \",VLOOKUP(K144,Eje_Pilar_Prop!$C$2:$E$104,3,FALSE))","v":" "},"NA","860.524.654-6","ASEGURADORA SOLIDARIA DE COLOMBIA ENTIDAD COOPERATIVA",191688044,null,null,null,null,191688044,0,"2020-06-24","2020-06-24","2021-06-23","219 DÍAS Y 365 DÍAS PARA SOAT",null,"",null,null,null,null,null,"x","",null,0,null,{"$f":"IF(SUMPRODUCT((A$14:A144=A144)*(B$14:B144=B144)*(D$14:D144=D144))>1,0,1)","v":1},"Seguros","Selección abreviada",{"$f":"IF(ISBLANK(G144),1,IFERROR(VLOOKUP(G144,Tipo!$C$12:$C$27,1,FALSE),\"NO\"))","v":"Selección abreviada por menor cuantía "},"Funcionamiento",{"$f":"IF(ISBLANK(K144),1,IFERROR(VLOOKUP(K144,Eje_Pilar_Prop!C126:C227,1,FALSE),\"NO\"))","v":"NO"},"SECOP II",1,"Bogotá Mejor para Todos"]
["CPS-134-2020",2020,"SECOP II","FDLS-CD-137-2020","Contratos de prestación de servicios","Contratación directa","Prestación de servicios profesionales y de apoyo a la gestión, o para la ejecución de trabajos artísticos que sólo puedan encomendarse a determinadas personas naturales;","PRESTAR SUS SERVICIOS COMO APOYO ADMINISTRATIVO AL ÁREA DE CONTRATACIÓN  DE LA ALCALDÍA LOCAL DE SUMAPAZ.","Inversión","Bogotá Mejor para Todos",45,{"$f":"IF(ISERROR(VLOOKUP(K145,Eje_Pilar_Prop!$C$2:$E$104,2,FALSE)),\" \",VLOOKUP(K145,Eje_Pilar_Prop!$C$2:$E$104,2,FALSE))","v":"Gobernanza e influencia local, regional e internacional"},{"$f":"IF(ISERROR(VLOOKUP(K145,Eje_Pilar_Prop!$C$2:$E$104,3,FALSE)),\" \",VLOOKUP(K145,Eje_Pilar_Prop!$C$2:$E$104,3,FALSE))","v":"Eje Transversal 4 Gobierno Legitimo, Fortalecimiento Local y Eficiencia"},1375,1020839818,"PAULA NATALIA FARFAN PAEZ",15000000,null,null,1,2916667,17916667,12916667,"2020-06-26","2020-06-26","2020-12-25",180,null,36,null,null,null,null,null,"","x",null,0.72093023775013509,null,{"$f":"IF(SUMPRODUCT((A$14:A145=A145)*(B$14:B145=B145)*(D$14:D145=D145))>1,0,1)","v":1},"Contratos de prestación de servicios","Contratación directa",{"$f":"IF(ISBLANK(G145),1,IFERROR(VLOOKUP(G145,Tipo!$C$12:$C$27,1,FALSE),\"NO\"))","v":"Prestación de servicios profesionales y de apoyo a la gestión, o para la ejecución de trabajos artísticos que sólo puedan encomendarse a determinadas personas naturales;"},"Inversión",{"$f":"IF(ISBLANK(K145),1,IFERROR(VLOOKUP(K145,Eje_Pilar_Prop!C127:C228,1,FALSE),\"NO\"))","v":"NO"},"SECOP II",1,"Bogotá Mejor para Todos"]
["CPS-135-2020",2020,"SECOP II","FDLS-CD-138-2020","Contratos de prestación de servicios","Contratación directa","Prestación de servicios profesionales y de apoyo a la gestión, o para la ejecución de trabajos artísticos que sólo puedan encomendarse a determinadas personas naturales;","PRESTAR SUS SERVICIOS COMO AUXILIAR ADMINISTRATIVO PARA EL ÁREA DE GESTIÓN DE DESARROLLO DE LA ALCALDÍA LOCAL DE SUMAPAZ","Inversión","Bogotá Mejor para Todos",45,{"$f":"IF(ISERROR(VLOOKUP(K146,Eje_Pilar_Prop!$C$2:$E$104,2,FALSE)),\" \",VLOOKUP(K146,Eje_Pilar_Prop!$C$2:$E$104,2,FALSE))","v":"Gobernanza e influencia local, regional e internacional"},{"$f":"IF(ISERROR(VLOOKUP(K146,Eje_Pilar_Prop!$C$2:$E$104,3,FALSE)),\" \",VLOOKUP(K146,Eje_Pilar_Prop!$C$2:$E$104,3,FALSE))","v":"Eje Transversal 4 Gobierno Legitimo, Fortalecimiento Local y Eficiencia"},1375,1010239115,"LAURA MELISSA GONZÁLEZ LÓPEZ",16250000,null,null,null,null,16250000,12583333,"2020-06-30","2020-06-30","2021-01-13",195,null,"",null,null,null,null,null,"","x",null,0.77435895384615383,null,{"$f":"IF(SUMPRODUCT((A$14:A146=A146)*(B$14:B146=B146)*(D$14:D146=D146))>1,0,1)","v":1},"Contratos de prestación de servicios","Contratación directa",{"$f":"IF(ISBLANK(G146),1,IFERROR(VLOOKUP(G146,Tipo!$C$12:$C$27,1,FALSE),\"NO\"))","v":"Prestación de servicios profesionales y de apoyo a la gestión, o para la ejecución de trabajos artísticos que sólo puedan encomendarse a determinadas personas naturales;"},"Inversión",{"$f":"IF(ISBLANK(K146),1,IFERROR(VLOOKUP(K146,Eje_Pilar_Prop!C128:C229,1,FALSE),\"NO\"))","v":"NO"},"SECOP II",1,"Bogotá Mejor para Todos"]
["CPS-136-2020",2020,"SECOP II","FDLS-CD-139-2020","Contratos de prestación de servicios","Contratación directa","Prestación de servicios profesionales y de apoyo a la gestión, o para la ejecución de trabajos artísticos que sólo puedan encomendarse a determinadas personas naturales;","PRESTAR SUS SERVICIOS COMO INSPECTOR DEL PARQUE AUTOMOTOR DE MAQUINARIA PESADA DE PROPIEDAD DEL FONDO DE DESARROLLO LOCAL DE SUMAPAZ, EN LA REALIZACION DE LABORES DE MANTENIMIENTO Y MEJORAMIENTO DE LA MALLA VIAL Y SUS ZONAS PUBLICAS, ASI COMO EN LA ATENCIÓN DE LAS EMERGENCIAS VIALES QUE SURJAN EN LA LOCALIDAD DE SUMAPAZ","Inversión","Bogotá Mejor para Todos",18,{"$f":"IF(ISERROR(VLOOKUP(K147,Eje_Pilar_Prop!$C$2:$E$104,2,FALSE)),\" \",VLOOKUP(K147,Eje_Pilar_Prop!$C$2:$E$104,2,FALSE))","v":"Mejor movilidad para todos"},{"$f":"IF(ISERROR(VLOOKUP(K147,Eje_Pilar_Prop!$C$2:$E$104,3,FALSE)),\" \",VLOOKUP(K147,Eje_Pilar_Prop!$C$2:$E$104,3,FALSE))","v":"Pilar 2 Democracía Urbana"},1364,7310938,"JORGE ALONSO JIMENEZ RAMOS",10000000,null,null,1,5000000,15000000,12416667,"2020-07-02","2020-07-02","2020-11-01",120,null,60,null,null,null,null,null,"","x",null,0.82777780000000001,null,{"$f":"IF(SUMPRODUCT((A$14:A147=A147)*(B$14:B147=B147)*(D$14:D147=D147))>1,0,1)","v":1},"Contratos de prestación de servicios","Contratación directa",{"$f":"IF(ISBLANK(G147),1,IFERROR(VLOOKUP(G147,Tipo!$C$12:$C$27,1,FALSE),\"NO\"))","v":"Prestación de servicios profesionales y de apoyo a la gestión, o para la ejecución de trabajos artísticos que sólo puedan encomendarse a determinadas personas naturales;"},"Inversión",{"$f":"IF(ISBLANK(K147),1,IFERROR(VLOOKUP(K147,Eje_Pilar_Prop!C129:C230,1,FALSE),\"NO\"))","v":"NO"},"SECOP II",1,"Bogotá Mejor para Todos"]
["CPS-137-2020",2020,"SECOP II","FDLS-CD-140-2020","Contratos de prestación de servicios","Contratación directa","Prestación de servicios profesionales y de apoyo a la gestión, o para la ejecución de trabajos artísticos que sólo puedan encomendarse a determinadas personas naturales;","PRESTAR SUS SERVICIOS COMO INSPECTOR DEL PARQUE AUTOMOTOR DE MAQUINARIA PESADA DE PROPIEDAD DEL FONDO DE DESARROLLO LOCAL DE SUMAPAZ, EN LA REALIZACION DE LABORES DE MANTENIMIENTO Y MEJORAMIENTO DE LA MALLA VIAL Y SUS ZONAS PUBLICAS, ASI COMO EN LA ATENCIÓN DE LAS EMERGENCIAS VIALES QUE SURJAN EN LA LOCALIDAD DE SUMAPAZ","Inversión","Bogotá Mejor para Todos",18,{"$f":"IF(ISERROR(VLOOKUP(K148,Eje_Pilar_Prop!$C$2:$E$104,2,FALSE)),\" \",VLOOKUP(K148,Eje_Pilar_Prop!$C$2:$E$104,2,FALSE))","v":"Mejor movilidad para todos"},{"$f":"IF(ISERROR(VLOOKUP(K148,Eje_Pilar_Prop!$C$2:$E$104,3,FALSE)),\" \",VLOOKUP(K148,Eje_Pilar_Prop!$C$2:$E$104,3,FALSE))","v":"Pilar 2 Democracía Urbana"},1364,79727760,"VICTOR MANUEL RAMIREZ TORRES",10000000,null,null,1,5000000,15000000,12416667,"2020-07-02","2020-07-02","2020-11-01",120,null,60,null,null,null,null,null,"","x",null,0.82777780000000001,null,{"$f":"IF(SUMPRODUCT((A$14:A148=A148)*(B$14:B148=B148)*(D$14:D148=D148))>1,0,1)","v":1},"Contratos de prestación de servicios","Contratación directa",{"$f":"IF(ISBLANK(G148),1,IFERROR(VLOOKUP(G148,Tipo!$C$12:$C$27,1,FALSE),\"NO\"))","v":"Prestación de servicios profesionales y de apoyo a la gestión, o para la ejecución de trabajos artísticos que sólo puedan encomendarse a determinadas personas naturales;"},"Inversión",{"$f":"IF(ISBLANK(K148),1,IFERROR(VLOOKUP(K148,Eje_Pilar_Prop!C130:C231,1,FALSE),\"NO\"))","v":"NO"},"SECOP II",1,"Bogotá Mejor para Todos"]
["CPS-138-2020",2020,"SECOP II","FDLS-CD-141-2020","Contratos de prestación de servicios","Contratación directa","Prestación de servicios profesionales y de apoyo a la gestión, o para la ejecución de trabajos artísticos que sólo puedan encomendarse a determinadas personas naturales;","Prestar los servicios profesionales para realizar la formulación, evaluación, seguimiento y control de proyectos de inversión y seguimiento de los planes, programas y proyectos del Fondo de Desarrollo Local de Sumapaz","Inversión","Bogotá Mejor para Todos",45,{"$f":"IF(ISERROR(VLOOKUP(K149,Eje_Pilar_Prop!$C$2:$E$104,2,FALSE)),\" \",VLOOKUP(K149,Eje_Pilar_Prop!$C$2:$E$104,2,FALSE))","v":"Gobernanza e influencia local, regional e internacional"},{"$f":"IF(ISERROR(VLOOKUP(K149,Eje_Pilar_Prop!$C$2:$E$104,3,FALSE)),\" \",VLOOKUP(K149,Eje_Pilar_Prop!$C$2:$E$104,3,FALSE))","v":"Eje Transversal 4 Gobierno Legitimo, Fortalecimiento Local y Eficiencia"},1375,9770381,"JULIAN ANDRES CARVAJAL",33000000,null,null,1,5133333,38133333,32663333,"2020-07-03","2020-07-03","2021-01-03",180,null,28,null,null,null,null,null,"","x",null,0.85655594280206249,null,{"$f":"IF(SUMPRODUCT((A$14:A149=A149)*(B$14:B149=B149)*(D$14:D149=D149))>1,0,1)","v":1},"Contratos de prestación de servicios","Contratación directa",{"$f":"IF(ISBLANK(G149),1,IFERROR(VLOOKUP(G149,Tipo!$C$12:$C$27,1,FALSE),\"NO\"))","v":"Prestación de servicios profesionales y de apoyo a la gestión, o para la ejecución de trabajos artísticos que sólo puedan encomendarse a determinadas personas naturales;"},"Inversión",{"$f":"IF(ISBLANK(K149),1,IFERROR(VLOOKUP(K149,Eje_Pilar_Prop!C131:C232,1,FALSE),\"NO\"))","v":"NO"},{"$f":"IF(ISBLANK(C149),1,IFERROR(VLOOKUP(C149,SECOP,1,FALSE),\"NO\"))","v":"SECOP II"},1,"Bogotá Mejor para Todos"]
["CPS-139-2020",2020,"SECOP II","FDLS-CD-142-2020","Contratos de prestación de servicios","Contratación directa","Prestación de servicios profesionales y de apoyo a la gestión, o para la ejecución de trabajos artísticos que sólo puedan encomendarse a determinadas personas naturales;","PRESTAR LOS SERVICIOS PROFESIONALES ESPECIALIZADOS PARA REALIZAR FORMULACIÓN, EVALUACIÓN, SEGUIMIENTO Y CONTROL DE PROYECTOS DE INVERSIÓN Y SEGUIMIENTO DE LOS PLANES, PROGRAMAS Y PROYECTOS DEL FONDO DE DESARROLLO LOCAL DE SUMAPAZ QUE LE SEAN DESIGNADOS.","Inversión","Bogotá Mejor para Todos",11,{"$f":"IF(ISERROR(VLOOKUP(K150,Eje_Pilar_Prop!$C$2:$E$104,2,FALSE)),\" \",VLOOKUP(K150,Eje_Pilar_Prop!$C$2:$E$104,2,FALSE))","v":"Mejores oportunidades para el desarrollo a través de la cultura, la recreación y el deporte"},{"$f":"IF(ISERROR(VLOOKUP(K150,Eje_Pilar_Prop!$C$2:$E$104,3,FALSE)),\" \",VLOOKUP(K150,Eje_Pilar_Prop!$C$2:$E$104,3,FALSE))","v":"Pilar 1 Igualdad de Calidad de Vida"},1353,1023861638,"LUIS ALBERTO GALEANO ESCUCHA",42000000,null,null,1,7000000,49000000,35000000,"2020-07-01","2020-07-01","2020-12-31",180,null,30,null,null,null,null,null,"","x",null,0.7142857142857143,null,{"$f":"IF(SUMPRODUCT((A$14:A150=A150)*(B$14:B150=B150)*(D$14:D150=D150))>1,0,1)","v":1},"Contratos de prestación de servicios","Contratación directa",{"$f":"IF(ISBLANK(G150),1,IFERROR(VLOOKUP(G150,Tipo!$C$12:$C$27,1,FALSE),\"NO\"))","v":"Prestación de servicios profesionales y de apoyo a la gestión, o para la ejecución de trabajos artísticos que sólo puedan encomendarse a determinadas personas naturales;"},"Inversión",{"$f":"IF(ISBLANK(K150),1,IFERROR(VLOOKUP(K150,Eje_Pilar_Prop!C132:C233,1,FALSE),\"NO\"))","v":"NO"},"SECOP II",1,"Bogotá Mejor para Todos"]
["CPS-140-2020",2020,"SECOP II","FDLS-CD-143-2020","Contratos de prestación de servicios","Contratación directa","Prestación de servicios profesionales y de apoyo a la gestión, o para la ejecución de trabajos artísticos que sólo puedan encomendarse a determinadas personas naturales;","PRESTAR LOS SERVICIOS DE APOYO COMO GESTOR/A SOCIAL PARA ADELANTAR ACCIONES QUE PROMUEVAN EL FORTALECIMIENTO Y LA PARTICIPACION SOCIAL Y COMUNITARIA EN LA LOCALIDAD DE SUMAPAZ","Inversión","Bogotá Mejor para Todos",45,{"$f":"IF(ISERROR(VLOOKUP(K151,Eje_Pilar_Prop!$C$2:$E$104,2,FALSE)),\" \",VLOOKUP(K151,Eje_Pilar_Prop!$C$2:$E$104,2,FALSE))","v":"Gobernanza e influencia local, regional e internacional"},{"$f":"IF(ISERROR(VLOOKUP(K151,Eje_Pilar_Prop!$C$2:$E$104,3,FALSE)),\" \",VLOOKUP(K151,Eje_Pilar_Prop!$C$2:$E$104,3,FALSE))","v":"Eje Transversal 4 Gobierno Legitimo, Fortalecimiento Local y Eficiencia"},1377,1032656552,"LEIDY JOHANNA ROMERO PASTOR",3500000,null,null,1,1750000,5250000,5250000,"2020-07-06","2020-07-06","2020-09-05",60,null,30,null,null,null,null,null,"","x",null,1,null,{"$f":"IF(SUMPRODUCT((A$14:A151=A151)*(B$14:B151=B151)*(D$14:D151=D151))>1,0,1)","v":1},"Contratos de prestación de servicios","Contratación directa",{"$f":"IF(ISBLANK(G151),1,IFERROR(VLOOKUP(G151,Tipo!$C$12:$C$27,1,FALSE),\"NO\"))","v":"Prestación de servicios profesionales y de apoyo a la gestión, o para la ejecución de trabajos artísticos que sólo puedan encomendarse a determinadas personas naturales;"},"Inversión",{"$f":"IF(ISBLANK(K151),1,IFERROR(VLOOKUP(K151,Eje_Pilar_Prop!C133:C234,1,FALSE),\"NO\"))","v":"NO"},"SECOP II",1,"Bogotá Mejor para Todos"]
["CPS-141-2020",2020,"SECOP II","FDLS-CD-144-2020","Contratos de prestación de servicios","Contratación directa","Prestación de servicios profesionales y de apoyo a la gestión, o para la ejecución de trabajos artísticos que sólo puedan encomendarse a determinadas personas naturales;","PRESTAR LOS SERVICIOS DE APOYO COMO GESTOR/A SOCIAL PARA ADELANTAR ACCIONES QUE PROMUEVAN EL FORTALECIMIENTO Y LA PARTICIPACION SOCIAL Y COMUNITARIA EN LA LOCALIDAD DE SUMAPAZ","Inversión","Bogotá Mejor para Todos",45,{"$f":"IF(ISERROR(VLOOKUP(K152,Eje_Pilar_Prop!$C$2:$E$104,2,FALSE)),\" \",VLOOKUP(K152,Eje_Pilar_Prop!$C$2:$E$104,2,FALSE))","v":"Gobernanza e influencia local, regional e internacional"},{"$f":"IF(ISERROR(VLOOKUP(K152,Eje_Pilar_Prop!$C$2:$E$104,3,FALSE)),\" \",VLOOKUP(K152,Eje_Pilar_Prop!$C$2:$E$104,3,FALSE))","v":"Eje Transversal 4 Gobierno Legitimo, Fortalecimiento Local y Eficiencia"},1377,1032656544,"ELSA FARONE VILLALOBOS CHINGATE",3500000,null,null,1,1750000,5250000,5250000,"2020-07-06","2020-07-06","2020-09-05",60,null,30,null,null,null,null,null,"","x",null,1,null,{"$f":"IF(SUMPRODUCT((A$14:A152=A152)*(B$14:B152=B152)*(D$14:D152=D152))>1,0,1)","v":1},{"$f":"IF(ISBLANK(E152),1,IFERROR(VLOOKUP(E152,tipo,1,FALSE),\"NO\"))","v":"Contratos de prestación de servicios"},{"$f":"IF(ISBLANK(F152),1,IFERROR(VLOOKUP(F152,modal,1,FALSE),\"NO\"))","v":"Contratación directa"},{"$f":"IF(ISBLANK(G152),1,IFERROR(VLOOKUP(G152,Tipo!$C$12:$C$27,1,FALSE),\"NO\"))","v":"Prestación de servicios profesionales y de apoyo a la gestión, o para la ejecución de trabajos artísticos que sólo puedan encomendarse a determinadas personas naturales;"},{"$f":"IF(ISBLANK(I152),1,IFERROR(VLOOKUP(I152,afectacion,1,FALSE),\"NO\"))","v":"Inversión"},{"$f":"IF(ISBLANK(K152),1,IFERROR(VLOOKUP(K152,Eje_Pilar_Prop!C134:C235,1,FALSE),\"NO\"))","v":"NO"},"SECOP II",1,"Bogotá Mejor para Todos"]
["CPS-142-2020",2020,"SECOP II","FDLS-CD-145-2020","Contratos de prestación de servicios","Contratación directa","Prestación de servicios profesionales y de apoyo a la gestión, o para la ejecución de trabajos artísticos que sólo puedan encomendarse a determinadas personas naturales;","PRESTAR LOS SERVICIOS DE APOYO COMO GESTOR/A SOCIAL PARA ADELANTAR ACCIONES QUE PROMUEVAN EL FORTALECIMIENTO Y LA PARTICIPACION SOCIAL Y COMUNITARIA EN LA LOCALIDAD DE SUMAPAZ","Inversión","Bogotá Mejor para Todos",45,{"$f":"IF(ISERROR(VLOOKUP(K153,Eje_Pilar_Prop!$C$2:$E$104,2,FALSE)),\" \",VLOOKUP(K153,Eje_Pilar_Prop!$C$2:$E$104,2,FALSE))","v":"Gobernanza e influencia local, regional e internacional"},{"$f":"IF(ISERROR(VLOOKUP(K153,Eje_Pilar_Prop!$C$2:$E$104,3,FALSE)),\" \",VLOOKUP(K153,Eje_Pilar_Prop!$C$2:$E$104,3,FALSE))","v":"Eje Transversal 4 Gobierno Legitimo, Fortalecimiento Local y Eficiencia"},1377,1022966845,"YURANI CASTELLANOS SANABRIA",3500000,null,null,1,1750000,5250000,5250000,"2020-07-06","2020-07-06","2020-09-05",60,null,30,null,null,null,null,null,"","x",null,1,null,{"$f":"IF(SUMPRODUCT((A$14:A153=A153)*(B$14:B153=B153)*(D$14:D153=D153))>1,0,1)","v":1},"Contratos de prestación de servicios","Contratación directa",{"$f":"IF(ISBLANK(G153),1,IFERROR(VLOOKUP(G153,Tipo!$C$12:$C$27,1,FALSE),\"NO\"))","v":"Prestación de servicios profesionales y de apoyo a la gestión, o para la ejecución de trabajos artísticos que sólo puedan encomendarse a determinadas personas naturales;"},"Inversión",{"$f":"IF(ISBLANK(K153),1,IFERROR(VLOOKUP(K153,Eje_Pilar_Prop!C135:C236,1,FALSE),\"NO\"))","v":"NO"},"SECOP II",1,"Bogotá Mejor para Todos"]
["CPS-143-2020",2020,"SECOP II","FDLS-CD-146-2020","Contratos de prestación de servicios","Contratación directa","Prestación de servicios profesionales y de apoyo a la gestión, o para la ejecución de trabajos artísticos que sólo puedan encomendarse a determinadas personas naturales;","PRESTAR LOS SERVICIOS DE APOYO COMO GESTOR/A SOCIAL PARA ADELANTAR ACCIONES QUE PROMUEVAN EL FORTALECIMIENTO Y LA PARTICIPACION SOCIAL Y COMUNITARIA EN LA LOCALIDAD DE SUMAPAZ","Inversión","Bogotá Mejor para Todos",45,{"$f":"IF(ISERROR(VLOOKUP(K154,Eje_Pilar_Prop!$C$2:$E$104,2,FALSE)),\" \",VLOOKUP(K154,Eje_Pilar_Prop!$C$2:$E$104,2,FALSE))","v":"Gobernanza e influencia local, regional e internacional"},{"$f":"IF(ISERROR(VLOOKUP(K154,Eje_Pilar_Prop!$C$2:$E$104,3,FALSE)),\" \",VLOOKUP(K154,Eje_Pilar_Prop!$C$2:$E$104,3,FALSE))","v":"Eje Transversal 4 Gobierno Legitimo, Fortalecimiento Local y Eficiencia"},1377,52373257,"CLARIBEL MARTINEZ HILARION",3500000,null,null,1,1750000,5250000,4958333,"2020-07-06","2020-07-06","2020-09-05",60,null,30,null,null,null,null,null,"","x",null,0.94444438095238092,null,{"$f":"IF(SUMPRODUCT((A$14:A154=A154)*(B$14:B154=B154)*(D$14:D154=D154))>1,0,1)","v":1},"Contratos de prestación de servicios","Contratación directa",{"$f":"IF(ISBLANK(G154),1,IFERROR(VLOOKUP(G154,Tipo!$C$12:$C$27,1,FALSE),\"NO\"))","v":"Prestación de servicios profesionales y de apoyo a la gestión, o para la ejecución de trabajos artísticos que sólo puedan encomendarse a determinadas personas naturales;"},"Inversión",{"$f":"IF(ISBLANK(K154),1,IFERROR(VLOOKUP(K154,Eje_Pilar_Prop!C136:C237,1,FALSE),\"NO\"))","v":"NO"},"SECOP II",1,"Bogotá Mejor para Todos"]
["CPS-144-2020",2020,"SECOP II","FDLS-CD-147-2020","Contratos de prestación de servicios","Contratación directa","Prestación de servicios profesionales y de apoyo a la gestión, o para la ejecución de trabajos artísticos que sólo puedan encomendarse a determinadas personas naturales;","PRESTAR LOS SERVICIOS PROFESIONALES PARA ADELANTAR ACCIONES QUE PROMUEVAN EL\nFORTALECIMIENTO Y LA PARTICIPACION SOCIAL Y COMUNITARIA EN LA LOCALIDAD DE\nSUMAPAZ\n","Inversión","Bogotá Mejor para Todos",45,{"$f":"IF(ISERROR(VLOOKUP(K155,Eje_Pilar_Prop!$C$2:$E$104,2,FALSE)),\" \",VLOOKUP(K155,Eje_Pilar_Prop!$C$2:$E$104,2,FALSE))","v":"Gobernanza e influencia local, regional e internacional"},{"$f":"IF(ISERROR(VLOOKUP(K155,Eje_Pilar_Prop!$C$2:$E$104,3,FALSE)),\" \",VLOOKUP(K155,Eje_Pilar_Prop!$C$2:$E$104,3,FALSE))","v":"Eje Transversal 4 Gobierno Legitimo, Fortalecimiento Local y Eficiencia"},1377,80779609,"FREDY ALBERTO BAQUERO MICAN",8400000,null,null,1,4200000,12600000,12600000,"2020-07-10","2020-07-10","2020-09-09",60,null,30,null,null,null,null,null,"","x",null,1,null,{"$f":"IF(SUMPRODUCT((A$14:A155=A155)*(B$14:B155=B155)*(D$14:D155=D155))>1,0,1)","v":1},"Contratos de prestación de servicios","Contratación directa",{"$f":"IF(ISBLANK(G155),1,IFERROR(VLOOKUP(G155,Tipo!$C$12:$C$27,1,FALSE),\"NO\"))","v":"Prestación de servicios profesionales y de apoyo a la gestión, o para la ejecución de trabajos artísticos que sólo puedan encomendarse a determinadas personas naturales;"},"Inversión",{"$f":"IF(ISBLANK(K155),1,IFERROR(VLOOKUP(K155,Eje_Pilar_Prop!C137:C238,1,FALSE),\"NO\"))","v":"NO"},"SECOP II",1,"Bogotá Mejor para Todos"]
["CPS-145-2020",2020,"SECOP II","FDLS-CD-148-2020","Contratos de prestación de servicios","Contratación directa","Prestación de servicios profesionales y de apoyo a la gestión, o para la ejecución de trabajos artísticos que sólo puedan encomendarse a determinadas personas naturales;","PRESTAR LOS SERVICIOS PROFESIONALES PARA ADELANTAR ACCIONES QUE PROMUEVAN EL\nFORTALECIMIENTO Y LA PARTICIPACION SOCIAL Y COMUNITARIA EN LA LOCALIDAD DE\nSUMAPAZ\n","Inversión","Bogotá Mejor para Todos",45,{"$f":"IF(ISERROR(VLOOKUP(K156,Eje_Pilar_Prop!$C$2:$E$104,2,FALSE)),\" \",VLOOKUP(K156,Eje_Pilar_Prop!$C$2:$E$104,2,FALSE))","v":"Gobernanza e influencia local, regional e internacional"},{"$f":"IF(ISERROR(VLOOKUP(K156,Eje_Pilar_Prop!$C$2:$E$104,3,FALSE)),\" \",VLOOKUP(K156,Eje_Pilar_Prop!$C$2:$E$104,3,FALSE))","v":"Eje Transversal 4 Gobierno Legitimo, Fortalecimiento Local y Eficiencia"},1377,1022971492,"JHON FREDY PARADA MACANA",8400000,null,null,1,4200000,12600000,12600000,"2020-07-10","2020-07-10","2020-09-09",60,null,30,null,null,null,null,null,"","x",null,1,null,{"$f":"IF(SUMPRODUCT((A$14:A156=A156)*(B$14:B156=B156)*(D$14:D156=D156))>1,0,1)","v":1},"Contratos de prestación de servicios","Contratación directa",{"$f":"IF(ISBLANK(G156),1,IFERROR(VLOOKUP(G156,Tipo!$C$12:$C$27,1,FALSE),\"NO\"))","v":"Prestación de servicios profesionales y de apoyo a la gestión, o para la ejecución de trabajos artísticos que sólo puedan encomendarse a determinadas personas naturales;"},"Inversión",{"$f":"IF(ISBLANK(K156),1,IFERROR(VLOOKUP(K156,Eje_Pilar_Prop!C138:C239,1,FALSE),\"NO\"))","v":"NO"},"SECOP II",{"$f":"IF(OR(YEAR(X156)=2020,ISBLANK(X156)),1,\"NO\")","v":1},"Bogotá Mejor para Todos"]
["CPS-146-2020",2020,"SECOP II","FDLS-CD-149-2020","Contratos de prestación de servicios","Contratación directa","Prestación de servicios profesionales y de apoyo a la gestión, o para la ejecución de trabajos artísticos que sólo puedan encomendarse a determinadas personas naturales;","PRESTAR LOS SERVICIOS PROFESIONALES PARA ADELANTAR ACCIONES QUE PROMUEVAN EL\nFORTALECIMIENTO Y LA PARTICIPACION SOCIAL Y COMUNITARIA EN LA LOCALIDAD DE\nSUMAPAZ\n","Inversión","Bogotá Mejor para Todos",45,{"$f":"IF(ISERROR(VLOOKUP(K157,Eje_Pilar_Prop!$C$2:$E$104,2,FALSE)),\" \",VLOOKUP(K157,Eje_Pilar_Prop!$C$2:$E$104,2,FALSE))","v":"Gobernanza e influencia local, regional e internacional"},{"$f":"IF(ISERROR(VLOOKUP(K157,Eje_Pilar_Prop!$C$2:$E$104,3,FALSE)),\" \",VLOOKUP(K157,Eje_Pilar_Prop!$C$2:$E$104,3,FALSE))","v":"Eje Transversal 4 Gobierno Legitimo, Fortalecimiento Local y Eficiencia"},1377,52463042,"YESMIN IZQUIERDO MORENO",8400000,null,null,1,4200000,12600000,12600000,"2020-07-10","2020-07-10","2020-09-09",60,null,30,null,null,null,null,null,"","x",null,1,null,{"$f":"IF(SUMPRODUCT((A$14:A157=A157)*(B$14:B157=B157)*(D$14:D157=D157))>1,0,1)","v":1},"Contratos de prestación de servicios","Contratación directa",{"$f":"IF(ISBLANK(G157),1,IFERROR(VLOOKUP(G157,Tipo!$C$12:$C$27,1,FALSE),\"NO\"))","v":"Prestación de servicios profesionales y de apoyo a la gestión, o para la ejecución de trabajos artísticos que sólo puedan encomendarse a determinadas personas naturales;"},"Inversión",{"$f":"IF(ISBLANK(K157),1,IFERROR(VLOOKUP(K157,Eje_Pilar_Prop!C139:C240,1,FALSE),\"NO\"))","v":"NO"},"SECOP II",1,"Bogotá Mejor para Todos"]
["CPS-147-2020",2020,"SECOP II","FDLS-CD-150-2020","Contratos de prestación de servicios","Contratación directa","Prestación de servicios profesionales y de apoyo a la gestión, o para la ejecución de trabajos artísticos que sólo puedan encomendarse a determinadas personas naturales;","PRESTAR LOS SERVICIOS DE APOYO COMO GESTOR/A SOCIAL PARA ADELANTAR ACCIONES QUE PROMUEVAN EL FORTALECIMIENTO Y LA PARTICIPACION SOCIAL Y COMUNITARIA EN LA LOCALIDAD DE SUMAPAZ","Inversión","Bogotá Mejor para Todos",45,{"$f":"IF(ISERROR(VLOOKUP(K158,Eje_Pilar_Prop!$C$2:$E$104,2,FALSE)),\" \",VLOOKUP(K158,Eje_Pilar_Prop!$C$2:$E$104,2,FALSE))","v":"Gobernanza e influencia local, regional e internacional"},{"$f":"IF(ISERROR(VLOOKUP(K158,Eje_Pilar_Prop!$C$2:$E$104,3,FALSE)),\" \",VLOOKUP(K158,Eje_Pilar_Prop!$C$2:$E$104,3,FALSE))","v":"Eje Transversal 4 Gobierno Legitimo, Fortalecimiento Local y Eficiencia"},1377,1032656505,"CARLOS ANDRES PINZON DIAZ",3500000,null,null,1,1750000,5250000,5249999,"2020-07-06","2020-07-06","2020-09-05",60,null,30,null,null,null,null,null,"","x",null,{"$f":"IF(ISERROR(W158/V158),\"-\",(W158/V158))","v":0.99999980952380951},null,{"$f":"IF(SUMPRODUCT((A$14:A158=A158)*(B$14:B158=B158)*(D$14:D158=D158))>1,0,1)","v":1},"Contratos de prestación de servicios","Contratación directa",{"$f":"IF(ISBLANK(G158),1,IFERROR(VLOOKUP(G158,Tipo!$C$12:$C$27,1,FALSE),\"NO\"))","v":"Prestación de servicios profesionales y de apoyo a la gestión, o para la ejecución de trabajos artísticos que sólo puedan encomendarse a determinadas personas naturales;"},"Inversión",{"$f":"IF(ISBLANK(K158),1,IFERROR(VLOOKUP(K158,Eje_Pilar_Prop!C140:C241,1,FALSE),\"NO\"))","v":"NO"},"SECOP II",1,"Bogotá Mejor para Todos"]
["CPS-148-2020",2020,"SECOP II","FDLS-CD-151-2020","Contratos de prestación de servicios","Contratación directa","Prestación de servicios profesionales y de apoyo a la gestión, o para la ejecución de trabajos artísticos que sólo puedan encomendarse a determinadas personas naturales;","PRESTAR LOS SERVICIOS PROFESIONALES PARA ADELANTAR ACCIONES QUE PROMUEVAN EL\nFORTALECIMIENTO Y LA PARTICIPACION SOCIAL Y COMUNITARIA EN LA LOCALIDAD DE\nSUMAPAZ\n","Inversión","Bogotá Mejor para Todos",45,{"$f":"IF(ISERROR(VLOOKUP(K159,Eje_Pilar_Prop!$C$2:$E$104,2,FALSE)),\" \",VLOOKUP(K159,Eje_Pilar_Prop!$C$2:$E$104,2,FALSE))","v":"Gobernanza e influencia local, regional e internacional"},{"$f":"IF(ISERROR(VLOOKUP(K159,Eje_Pilar_Prop!$C$2:$E$104,3,FALSE)),\" \",VLOOKUP(K159,Eje_Pilar_Prop!$C$2:$E$104,3,FALSE))","v":"Eje Transversal 4 Gobierno Legitimo, Fortalecimiento Local y Eficiencia"},1377,1013613113,"RAFAEL REINALDO ROMERO ROMERO",8400000,null,null,1,4200000,{"$f":"+Q159+S159+U159","v":12600000},11340000,"2020-07-10","2020-07-10","2020-09-09",60,null,30,null,null,null,null,null,"","x",null,0.9,null,{"$f":"IF(SUMPRODUCT((A$14:A159=A159)*(B$14:B159=B159)*(D$14:D159=D159))>1,0,1)","v":1},"Contratos de prestación de servicios","Contratación directa",{"$f":"IF(ISBLANK(G159),1,IFERROR(VLOOKUP(G159,Tipo!$C$12:$C$27,1,FALSE),\"NO\"))","v":"Prestación de servicios profesionales y de apoyo a la gestión, o para la ejecución de trabajos artísticos que sólo puedan encomendarse a determinadas personas naturales;"},"Inversión",{"$f":"IF(ISBLANK(K159),1,IFERROR(VLOOKUP(K159,Eje_Pilar_Prop!C141:C242,1,FALSE),\"NO\"))","v":"NO"},"SECOP II",1,"Bogotá Mejor para Todos"]
["CPS-149-2020",2020,"SECOP II","FDLS-CD-152-2020","Contratos de prestación de servicios","Contratación directa","Prestación de servicios profesionales y de apoyo a la gestión, o para la ejecución de trabajos artísticos que sólo puedan encomendarse a determinadas personas naturales;","Apoyar al equipo de prensa y comunicaciones de laAlcaldía Local en la realización de productos y piezasdigitales, impresas y publicitarias de gran formato yde animación gráfica, así como apoyar la produccióny montaje de eventos","Inversión","Bogotá Mejor para Todos",45,{"$f":"IF(ISERROR(VLOOKUP(K160,Eje_Pilar_Prop!$C$2:$E$104,2,FALSE)),\" \",VLOOKUP(K160,Eje_Pilar_Prop!$C$2:$E$104,2,FALSE))","v":"Gobernanza e influencia local, regional e internacional"},{"$f":"IF(ISERROR(VLOOKUP(K160,Eje_Pilar_Prop!$C$2:$E$104,3,FALSE)),\" \",VLOOKUP(K160,Eje_Pilar_Prop!$C$2:$E$104,3,FALSE))","v":"Eje Transversal 4 Gobierno Legitimo, Fortalecimiento Local y Eficiencia"},1375,79399527,"TOMAS GUILLERMO VENEGAS JARAMILLO",33000000,null,null,null,null,33000000,32083333,"2020-07-06","2020-07-06","2021-01-05",180,null,"",null,null,null,null,null,"","x",null,0.97222221212121207,null,{"$f":"IF(SUMPRODUCT((A$14:A160=A160)*(B$14:B160=B160)*(D$14:D160=D160))>1,0,1)","v":1},"Contratos de prestación de servicios","Contratación directa",{"$f":"IF(ISBLANK(G160),1,IFERROR(VLOOKUP(G160,Tipo!$C$12:$C$27,1,FALSE),\"NO\"))","v":"Prestación de servicios profesionales y de apoyo a la gestión, o para la ejecución de trabajos artísticos que sólo puedan encomendarse a determinadas personas naturales;"},"Inversión",{"$f":"IF(ISBLANK(K160),1,IFERROR(VLOOKUP(K160,Eje_Pilar_Prop!C142:C243,1,FALSE),\"NO\"))","v":"NO"},"SECOP II",1,"Bogotá Mejor para Todos"]
["CPS-150-2020",2020,"SECOP II","FDLS-CD-153-2020","Contratos de prestación de servicios","Contratación directa","Prestación de servicios profesionales y de apoyo a la gestión, o para la ejecución de trabajos artísticos que sólo puedan encomendarse a determinadas personas naturales;","PRESTAR LOS SERVICIOS DE APOYO COMO GESTOR/A SOCIAL PARA ADELANTAR ACCIONES QUE PROMUEVAN EL FORTALECIMIENTO Y LA PARTICIPACION SOCIAL Y COMUNITARIA EN LA LOCALIDAD DE SUMAPAZ","Inversión","Bogotá Mejor para Todos",45,{"$f":"IF(ISERROR(VLOOKUP(K161,Eje_Pilar_Prop!$C$2:$E$104,2,FALSE)),\" \",VLOOKUP(K161,Eje_Pilar_Prop!$C$2:$E$104,2,FALSE))","v":"Gobernanza e influencia local, regional e internacional"},{"$f":"IF(ISERROR(VLOOKUP(K161,Eje_Pilar_Prop!$C$2:$E$104,3,FALSE)),\" \",VLOOKUP(K161,Eje_Pilar_Prop!$C$2:$E$104,3,FALSE))","v":"Eje Transversal 4 Gobierno Legitimo, Fortalecimiento Local y Eficiencia"},1377,1023009879,"ERIKA MARCELA ROMERO PEREZ",3500000,null,null,1,1750000,5250000,4725000,"2020-07-10","2020-07-10","2020-09-09",60,null,30,null,null,null,null,null,"","x",null,0.9,null,{"$f":"IF(SUMPRODUCT((A$14:A161=A161)*(B$14:B161=B161)*(D$14:D161=D161))>1,0,1)","v":1},"Contratos de prestación de servicios","Contratación directa",{"$f":"IF(ISBLANK(G161),1,IFERROR(VLOOKUP(G161,Tipo!$C$12:$C$27,1,FALSE),\"NO\"))","v":"Prestación de servicios profesionales y de apoyo a la gestión, o para la ejecución de trabajos artísticos que sólo puedan encomendarse a determinadas personas naturales;"},"Inversión",{"$f":"IF(ISBLANK(K161),1,IFERROR(VLOOKUP(K161,Eje_Pilar_Prop!C143:C244,1,FALSE),\"NO\"))","v":"NO"},"SECOP II",1,"Bogotá Mejor para Todos"]
["CPS-151-2020",2020,"SECOP II","FDLS-CD-154-2020","Contratos de prestación de servicios","Contratación directa","Prestación de servicios profesionales y de apoyo a la gestión, o para la ejecución de trabajos artísticos que sólo puedan encomendarse a determinadas personas naturales;","PRESTAR LOS SERVICIOS DE APOYO COMO GESTOR/A SOCIAL PARA ADELANTAR ACCIONES QUE PROMUEVAN EL FORTALECIMIENTO Y LA PARTICIPACION SOCIAL Y COMUNITARIA EN LA LOCALIDAD DE SUMAPAZ","Inversión","Bogotá Mejor para Todos",45,{"$f":"IF(ISERROR(VLOOKUP(K162,Eje_Pilar_Prop!$C$2:$E$104,2,FALSE)),\" \",VLOOKUP(K162,Eje_Pilar_Prop!$C$2:$E$104,2,FALSE))","v":"Gobernanza e influencia local, regional e internacional"},{"$f":"IF(ISERROR(VLOOKUP(K162,Eje_Pilar_Prop!$C$2:$E$104,3,FALSE)),\" \",VLOOKUP(K162,Eje_Pilar_Prop!$C$2:$E$104,3,FALSE))","v":"Eje Transversal 4 Gobierno Legitimo, Fortalecimiento Local y Eficiencia"},1377,1032656457,"WILLIAM LUPERCIO DIMATE RICO",3500000,null,null,1,1750000,5250000,5250000,"2020-07-06","2020-07-06","2020-09-05",60,null,30,null,null,null,null,null,"","x",null,1,null,{"$f":"IF(SUMPRODUCT((A$14:A162=A162)*(B$14:B162=B162)*(D$14:D162=D162))>1,0,1)","v":1},"Contratos de prestación de servicios","Contratación directa",{"$f":"IF(ISBLANK(G162),1,IFERROR(VLOOKUP(G162,Tipo!$C$12:$C$27,1,FALSE),\"NO\"))","v":"Prestación de servicios profesionales y de apoyo a la gestión, o para la ejecución de trabajos artísticos que sólo puedan encomendarse a determinadas personas naturales;"},"Inversión",{"$f":"IF(ISBLANK(K162),1,IFERROR(VLOOKUP(K162,Eje_Pilar_Prop!C144:C245,1,FALSE),\"NO\"))","v":"NO"},"SECOP II",1,"Bogotá Mejor para Todos"]
["CPS-152-2020",2020,"SECOP II","FDLS-CD-155-2020","Contratos de prestación de servicios","Contratación directa","Prestación de servicios profesionales y de apoyo a la gestión, o para la ejecución de trabajos artísticos que sólo puedan encomendarse a determinadas personas naturales;","PRESTAR LOS SERVICIOS DE APOYO COMO GESTOR/A SOCIAL PARA ADELANTAR ACCIONES QUE PROMUEVAN EL FORTALECIMIENTO Y LA PARTICIPACION SOCIAL Y COMUNITARIA EN LA LOCALIDAD DE SUMAPAZ","Inversión","Bogotá Mejor para Todos",45,{"$f":"IF(ISERROR(VLOOKUP(K163,Eje_Pilar_Prop!$C$2:$E$104,2,FALSE)),\" \",VLOOKUP(K163,Eje_Pilar_Prop!$C$2:$E$104,2,FALSE))","v":"Gobernanza e influencia local, regional e internacional"},{"$f":"IF(ISERROR(VLOOKUP(K163,Eje_Pilar_Prop!$C$2:$E$104,3,FALSE)),\" \",VLOOKUP(K163,Eje_Pilar_Prop!$C$2:$E$104,3,FALSE))","v":"Eje Transversal 4 Gobierno Legitimo, Fortalecimiento Local y Eficiencia"},1377,52294340,"YANETH MOTAVITA",3500000,null,null,1,1750000,5250000,4958333,"2020-07-06","2020-07-06","2020-09-05",60,null,30,null,null,null,null,null,"","x",null,0.94444438095238092,null,{"$f":"IF(SUMPRODUCT((A$14:A163=A163)*(B$14:B163=B163)*(D$14:D163=D163))>1,0,1)","v":1},"Contratos de prestación de servicios","Contratación directa",{"$f":"IF(ISBLANK(G163),1,IFERROR(VLOOKUP(G163,Tipo!$C$12:$C$27,1,FALSE),\"NO\"))","v":"Prestación de servicios profesionales y de apoyo a la gestión, o para la ejecución de trabajos artísticos que sólo puedan encomendarse a determinadas personas naturales;"},"Inversión",{"$f":"IF(ISBLANK(K163),1,IFERROR(VLOOKUP(K163,Eje_Pilar_Prop!C145:C246,1,FALSE),\"NO\"))","v":"NO"},"SECOP II",1,"Bogotá Mejor para Todos"]
["CPS-153-2020",2020,"SECOP II","FDLS-CD-156-2020","Contratos de prestación de servicios","Contratación directa","Prestación de servicios profesionales y de apoyo a la gestión, o para la ejecución de trabajos artísticos que sólo puedan encomendarse a determinadas personas naturales;","PRESTAR LOS SERVICIOS DE APOYO COMO GESTOR/A SOCIAL PARA ADELANTAR ACCIONES QUE PROMUEVAN EL FORTALECIMIENTO Y LA PARTICIPACION SOCIAL Y COMUNITARIA EN LA LOCALIDAD DE SUMAPAZ","Inversión","Bogotá Mejor para Todos",45,{"$f":"IF(ISERROR(VLOOKUP(K164,Eje_Pilar_Prop!$C$2:$E$104,2,FALSE)),\" \",VLOOKUP(K164,Eje_Pilar_Prop!$C$2:$E$104,2,FALSE))","v":"Gobernanza e influencia local, regional e internacional"},{"$f":"IF(ISERROR(VLOOKUP(K164,Eje_Pilar_Prop!$C$2:$E$104,3,FALSE)),\" \",VLOOKUP(K164,Eje_Pilar_Prop!$C$2:$E$104,3,FALSE))","v":"Eje Transversal 4 Gobierno Legitimo, Fortalecimiento Local y Eficiencia"},1377,1072896239,"NORBEY DANILO MARTINEZ MORALES",3500000,null,null,1,1750000,5250000,5250000,"2020-07-09","2020-07-09","2020-09-08",60,null,30,null,null,null,null,null,"","x",null,1,null,{"$f":"IF(SUMPRODUCT((A$14:A164=A164)*(B$14:B164=B164)*(D$14:D164=D164))>1,0,1)","v":1},"Contratos de prestación de servicios","Contratación directa",{"$f":"IF(ISBLANK(G164),1,IFERROR(VLOOKUP(G164,Tipo!$C$12:$C$27,1,FALSE),\"NO\"))","v":"Prestación de servicios profesionales y de apoyo a la gestión, o para la ejecución de trabajos artísticos que sólo puedan encomendarse a determinadas personas naturales;"},"Inversión",{"$f":"IF(ISBLANK(K164),1,IFERROR(VLOOKUP(K164,Eje_Pilar_Prop!C146:C247,1,FALSE),\"NO\"))","v":"NO"},"SECOP II",1,"Bogotá Mejor para Todos"]
["CPS-154-2020",2020,"SECOP II","FDLS-CD-157-2020","Contratos de prestación de servicios","Contratación directa","Prestación de servicios profesionales y de apoyo a la gestión, o para la ejecución de trabajos artísticos que sólo puedan encomendarse a determinadas personas naturales;","PRESTAR LOS SERVICIOS DE APOYO COMO GESTOR/A SOCIAL PARA ADELANTAR ACCIONES QUE PROMUEVAN EL FORTALECIMIENTO Y LA PARTICIPACION SOCIAL Y COMUNITARIA EN LA LOCALIDAD DE SUMAPAZ","Inversión","Bogotá Mejor para Todos",45,{"$f":"IF(ISERROR(VLOOKUP(K165,Eje_Pilar_Prop!$C$2:$E$104,2,FALSE)),\" \",VLOOKUP(K165,Eje_Pilar_Prop!$C$2:$E$104,2,FALSE))","v":"Gobernanza e influencia local, regional e internacional"},{"$f":"IF(ISERROR(VLOOKUP(K165,Eje_Pilar_Prop!$C$2:$E$104,3,FALSE)),\" \",VLOOKUP(K165,Eje_Pilar_Prop!$C$2:$E$104,3,FALSE))","v":"Eje Transversal 4 Gobierno Legitimo, Fortalecimiento Local y Eficiencia"},1377,1032656565,"YUDI YINETH REY RIOS",3500000,null,null,1,1750000,5250000,5250000,"2020-07-10","2020-07-10","2020-09-09",60,null,30,null,null,null,null,null,"","x",null,1,null,{"$f":"IF(SUMPRODUCT((A$14:A165=A165)*(B$14:B165=B165)*(D$14:D165=D165))>1,0,1)","v":1},"Contratos de prestación de servicios","Contratación directa",{"$f":"IF(ISBLANK(G165),1,IFERROR(VLOOKUP(G165,Tipo!$C$12:$C$27,1,FALSE),\"NO\"))","v":"Prestación de servicios profesionales y de apoyo a la gestión, o para la ejecución de trabajos artísticos que sólo puedan encomendarse a determinadas personas naturales;"},"Inversión",{"$f":"IF(ISBLANK(K165),1,IFERROR(VLOOKUP(K165,Eje_Pilar_Prop!C147:C248,1,FALSE),\"NO\"))","v":"NO"},"SECOP II",1,"Bogotá Mejor para Todos"]
["CPS-155-2020",2020,"SECOP II","FDLS-CD-158-2020","Contratos de prestación de servicios","Contratación directa","Prestación de servicios profesionales y de apoyo a la gestión, o para la ejecución de trabajos artísticos que sólo puedan encomendarse a determinadas personas naturales;","PRESTAR LOS SERVICIOS DE APOYO COMO GESTOR/A SOCIAL PARA ADELANTAR ACCIONES QUE PROMUEVAN EL FORTALECIMIENTO Y LA PARTICIPACION SOCIAL Y COMUNITARIA EN LA LOCALIDAD DE SUMAPAZ","Inversión","Bogotá Mejor para Todos",45,{"$f":"IF(ISERROR(VLOOKUP(K166,Eje_Pilar_Prop!$C$2:$E$104,2,FALSE)),\" \",VLOOKUP(K166,Eje_Pilar_Prop!$C$2:$E$104,2,FALSE))","v":"Gobernanza e influencia local, regional e internacional"},{"$f":"IF(ISERROR(VLOOKUP(K166,Eje_Pilar_Prop!$C$2:$E$104,3,FALSE)),\" \",VLOOKUP(K166,Eje_Pilar_Prop!$C$2:$E$104,3,FALSE))","v":"Eje Transversal 4 Gobierno Legitimo, Fortalecimiento Local y Eficiencia"},1377,39767738,"HERMELINDA MELO ESPINOZA",3500000,null,null,null,null,3500000,3499999,"2020-07-06","2020-07-06","2020-09-05",60,null,"",null,null,null,null,null,"","x",null,0.99999971428571433,null,{"$f":"IF(SUMPRODUCT((A$14:A166=A166)*(B$14:B166=B166)*(D$14:D166=D166))>1,0,1)","v":1},"Contratos de prestación de servicios","Contratación directa",{"$f":"IF(ISBLANK(G166),1,IFERROR(VLOOKUP(G166,Tipo!$C$12:$C$27,1,FALSE),\"NO\"))","v":"Prestación de servicios profesionales y de apoyo a la gestión, o para la ejecución de trabajos artísticos que sólo puedan encomendarse a determinadas personas naturales;"},"Inversión",{"$f":"IF(ISBLANK(K166),1,IFERROR(VLOOKUP(K166,Eje_Pilar_Prop!C148:C249,1,FALSE),\"NO\"))","v":"NO"},"SECOP II",1,"Bogotá Mejor para Todos"]
["CPS-156-2020",2020,"SECOP II","FDLS-CD-159-2020","Contratos de prestación de servicios","Contratación directa","Prestación de servicios profesionales y de apoyo a la gestión, o para la ejecución de trabajos artísticos que sólo puedan encomendarse a determinadas personas naturales;","PRESTAR LOS SERVICIOS DE APOYO COMO GESTOR/A SOCIAL PARA ADELANTAR ACCIONES QUE PROMUEVAN EL FORTALECIMIENTO Y LA PARTICIPACION SOCIAL Y COMUNITARIA EN LA LOCALIDAD DE SUMAPAZ","Inversión","Bogotá Mejor para Todos",45,{"$f":"IF(ISERROR(VLOOKUP(K167,Eje_Pilar_Prop!$C$2:$E$104,2,FALSE)),\" \",VLOOKUP(K167,Eje_Pilar_Prop!$C$2:$E$104,2,FALSE))","v":"Gobernanza e influencia local, regional e internacional"},{"$f":"IF(ISERROR(VLOOKUP(K167,Eje_Pilar_Prop!$C$2:$E$104,3,FALSE)),\" \",VLOOKUP(K167,Eje_Pilar_Prop!$C$2:$E$104,3,FALSE))","v":"Eje Transversal 4 Gobierno Legitimo, Fortalecimiento Local y Eficiencia"},1377,1007664930,"BRYAM DANIEL TORRES RIVEROS",3500000,null,null,1,1750000,5250000,1458333,"2020-07-06","2020-07-06","2020-09-05",60,null,30,null,null,null,null,null,"","x",null,0.27777771428571429,null,{"$f":"IF(SUMPRODUCT((A$14:A167=A167)*(B$14:B167=B167)*(D$14:D167=D167))>1,0,1)","v":1},"Contratos de prestación de servicios","Contratación directa",{"$f":"IF(ISBLANK(G167),1,IFERROR(VLOOKUP(G167,Tipo!$C$12:$C$27,1,FALSE),\"NO\"))","v":"Prestación de servicios profesionales y de apoyo a la gestión, o para la ejecución de trabajos artísticos que sólo puedan encomendarse a determinadas personas naturales;"},"Inversión",{"$f":"IF(ISBLANK(K167),1,IFERROR(VLOOKUP(K167,Eje_Pilar_Prop!C149:C250,1,FALSE),\"NO\"))","v":"NO"},"SECOP II",1,"Bogotá Mejor para Todos"]
["CPS-157-2020",2020,"SECOP II","FDLS-CD-160-2020","Contratos de prestación de servicios","Contratación directa","Prestación de servicios profesionales y de apoyo a la gestión, o para la ejecución de trabajos artísticos que sólo puedan encomendarse a determinadas personas naturales;","PRESTAR LOS SERVICIOS DE APOYO COMO GESTOR/A SOCIAL PARA ADELANTAR ACCIONES QUE PROMUEVAN EL FORTALECIMIENTO Y LA PARTICIPACION SOCIAL Y COMUNITARIA EN LA LOCALIDAD DE SUMAPAZ","Inversión","Bogotá Mejor para Todos",45,{"$f":"IF(ISERROR(VLOOKUP(K168,Eje_Pilar_Prop!$C$2:$E$104,2,FALSE)),\" \",VLOOKUP(K168,Eje_Pilar_Prop!$C$2:$E$104,2,FALSE))","v":"Gobernanza e influencia local, regional e internacional"},{"$f":"IF(ISERROR(VLOOKUP(K168,Eje_Pilar_Prop!$C$2:$E$104,3,FALSE)),\" \",VLOOKUP(K168,Eje_Pilar_Prop!$C$2:$E$104,3,FALSE))","v":"Eje Transversal 4 Gobierno Legitimo, Fortalecimiento Local y Eficiencia"},1377,1003671153,"MARLY YUDEYBY CRUZ",3500000,null,null,1,1750000,5250000,0,"2020-07-10","2020-07-10","2020-09-09",60,null,30,null,null,null,null,null,"","x",null,0,null,{"$f":"IF(SUMPRODUCT((A$14:A168=A168)*(B$14:B168=B168)*(D$14:D168=D168))>1,0,1)","v":1},"Contratos de prestación de servicios","Contratación directa",{"$f":"IF(ISBLANK(G168),1,IFERROR(VLOOKUP(G168,Tipo!$C$12:$C$27,1,FALSE),\"NO\"))","v":"Prestación de servicios profesionales y de apoyo a la gestión, o para la ejecución de trabajos artísticos que sólo puedan encomendarse a determinadas personas naturales;"},"Inversión",{"$f":"IF(ISBLANK(K168),1,IFERROR(VLOOKUP(K168,Eje_Pilar_Prop!C150:C251,1,FALSE),\"NO\"))","v":"NO"},"SECOP II",1,"Bogotá Mejor para Todos"]
["CPS-158-2020",2020,"SECOP II","FDLS-CD-161-2020","Contratos de prestación de servicios","Contratación directa","Prestación de servicios profesionales y de apoyo a la gestión, o para la ejecución de trabajos artísticos que sólo puedan encomendarse a determinadas personas naturales;","PRESTAR LOS SERVICIOS DE APOYO COMO GESTOR/A SOCIAL PARA ADELANTAR ACCIONES QUE PROMUEVAN EL FORTALECIMIENTO Y LA PARTICIPACION SOCIAL Y COMUNITARIA EN LA LOCALIDAD DE SUMAPAZ","Inversión","Bogotá Mejor para Todos",45,{"$f":"IF(ISERROR(VLOOKUP(K169,Eje_Pilar_Prop!$C$2:$E$104,2,FALSE)),\" \",VLOOKUP(K169,Eje_Pilar_Prop!$C$2:$E$104,2,FALSE))","v":"Gobernanza e influencia local, regional e internacional"},{"$f":"IF(ISERROR(VLOOKUP(K169,Eje_Pilar_Prop!$C$2:$E$104,3,FALSE)),\" \",VLOOKUP(K169,Eje_Pilar_Prop!$C$2:$E$104,3,FALSE))","v":"Eje Transversal 4 Gobierno Legitimo, Fortalecimiento Local y Eficiencia"},1377,1022976217,"ARLEIDY YURANI RIVEROS GARZON",3500000,null,null,1,1750000,5250000,3383334,"2020-07-17","2020-07-17","2020-09-16",60,null,30,null,null,null,null,null,"","x",null,0.64444457142857148,null,{"$f":"IF(SUMPRODUCT((A$14:A169=A169)*(B$14:B169=B169)*(D$14:D169=D169))>1,0,1)","v":1},"Contratos de prestación de servicios","Contratación directa",{"$f":"IF(ISBLANK(G169),1,IFERROR(VLOOKUP(G169,Tipo!$C$12:$C$27,1,FALSE),\"NO\"))","v":"Prestación de servicios profesionales y de apoyo a la gestión, o para la ejecución de trabajos artísticos que sólo puedan encomendarse a determinadas personas naturales;"},"Inversión",{"$f":"IF(ISBLANK(K169),1,IFERROR(VLOOKUP(K169,Eje_Pilar_Prop!C151:C252,1,FALSE),\"NO\"))","v":"NO"},"SECOP II",1,"Bogotá Mejor para Todos"]
["CPS-159-2020",2020,"SECOP II","FDLS-CD-162-2020","Contratos de prestación de servicios","Contratación directa","Prestación de servicios profesionales y de apoyo a la gestión, o para la ejecución de trabajos artísticos que sólo puedan encomendarse a determinadas personas naturales;","PRESTACION DE SERVICIOS DE APOYO PARA EL ÁREA DE GESTIÓN DE DESARROLLO LOCAL REALIZANDO ACTIVIDADES LOGÍSTICAS Y OPERATIVAS ATENDIENDO LOS LINEAMIENTOS DE LAS DIFERENTES ÁREAS DE LA ADMINISTRACIÓN LOCAL EN LOS BIENES DE PROPIEDAD DEL FONDO DE DESARROLLO LOCAL Y/O DE LA ALCALDÍA LOCAL DE SUMAPAZ","Inversión","Bogotá Mejor para Todos",45,{"$f":"IF(ISERROR(VLOOKUP(K170,Eje_Pilar_Prop!$C$2:$E$104,2,FALSE)),\" \",VLOOKUP(K170,Eje_Pilar_Prop!$C$2:$E$104,2,FALSE))","v":"Gobernanza e influencia local, regional e internacional"},{"$f":"IF(ISERROR(VLOOKUP(K170,Eje_Pilar_Prop!$C$2:$E$104,3,FALSE)),\" \",VLOOKUP(K170,Eje_Pilar_Prop!$C$2:$E$104,3,FALSE))","v":"Eje Transversal 4 Gobierno Legitimo, Fortalecimiento Local y Eficiencia"},1375,79358856,"LEOPOLDO MARTINEZ MARTINEZ",7500000,null,null,null,null,7500000,7500000,"2020-07-10","2020-07-10","2020-10-09",90,null,"",null,null,null,null,null,"","x",null,1,null,{"$f":"IF(SUMPRODUCT((A$14:A170=A170)*(B$14:B170=B170)*(D$14:D170=D170))>1,0,1)","v":1},"Contratos de prestación de servicios","Contratación directa",{"$f":"IF(ISBLANK(G170),1,IFERROR(VLOOKUP(G170,Tipo!$C$12:$C$27,1,FALSE),\"NO\"))","v":"Prestación de servicios profesionales y de apoyo a la gestión, o para la ejecución de trabajos artísticos que sólo puedan encomendarse a determinadas personas naturales;"},"Inversión",{"$f":"IF(ISBLANK(K170),1,IFERROR(VLOOKUP(K170,Eje_Pilar_Prop!C152:C253,1,FALSE),\"NO\"))","v":"NO"},"SECOP II",1,"Bogotá Mejor para Todos"]
["CPS-160-2020",2020,"SECOP II","FDLS-CD-163-2020","Contratos de prestación de servicios","Contratación directa","Prestación de servicios profesionales y de apoyo a la gestión, o para la ejecución de trabajos artísticos que sólo puedan encomendarse a determinadas personas naturales;","PRESTAR LOS SERVICIOS DE APOYO COMO SISTEMATIZADOR PARA ADELANTAR ACCIONES QUE PROMUEVAN EL FORTALECIMIENTO Y LA PARTICIPACION SOCIAL Y COMUNITARIA EN LA LOCALIDAD DE SUMAPAZ","Inversión","Bogotá Mejor para Todos",45,{"$f":"IF(ISERROR(VLOOKUP(K171,Eje_Pilar_Prop!$C$2:$E$104,2,FALSE)),\" \",VLOOKUP(K171,Eje_Pilar_Prop!$C$2:$E$104,2,FALSE))","v":"Gobernanza e influencia local, regional e internacional"},{"$f":"IF(ISERROR(VLOOKUP(K171,Eje_Pilar_Prop!$C$2:$E$104,3,FALSE)),\" \",VLOOKUP(K171,Eje_Pilar_Prop!$C$2:$E$104,3,FALSE))","v":"Eje Transversal 4 Gobierno Legitimo, Fortalecimiento Local y Eficiencia"},1377,1004005465,"DIANA CONSTANZA CASTAÑEDA MORALES",1750000,null,null,null,null,1750000,1750000,"2020-07-10","2020-07-10","2020-08-09",30,null,"",null,null,null,null,null,"","x",null,1,null,{"$f":"IF(SUMPRODUCT((A$14:A171=A171)*(B$14:B171=B171)*(D$14:D171=D171))>1,0,1)","v":1},"Contratos de prestación de servicios","Contratación directa",{"$f":"IF(ISBLANK(G171),1,IFERROR(VLOOKUP(G171,Tipo!$C$12:$C$27,1,FALSE),\"NO\"))","v":"Prestación de servicios profesionales y de apoyo a la gestión, o para la ejecución de trabajos artísticos que sólo puedan encomendarse a determinadas personas naturales;"},"Inversión",{"$f":"IF(ISBLANK(K171),1,IFERROR(VLOOKUP(K171,Eje_Pilar_Prop!C153:C254,1,FALSE),\"NO\"))","v":"NO"},"SECOP II",1,"Bogotá Mejor para Todos"]
["CPS-161-2020",2020,"SECOP II","FDLS-CD-164-2020","Contratos de prestación de servicios","Contratación directa","Prestación de servicios profesionales y de apoyo a la gestión, o para la ejecución de trabajos artísticos que sólo puedan encomendarse a determinadas personas naturales;","PRESTAR LOS SERVICIOS DE APOYO COMO SISTEMATIZADOR PARA ADELANTAR ACCIONES QUE PROMUEVAN EL FORTALECIMIENTO Y LA PARTICIPACION SOCIAL Y COMUNITARIA EN LA LOCALIDAD DE SUMAPAZ","Inversión","Bogotá Mejor para Todos",45,{"$f":"IF(ISERROR(VLOOKUP(K172,Eje_Pilar_Prop!$C$2:$E$104,2,FALSE)),\" \",VLOOKUP(K172,Eje_Pilar_Prop!$C$2:$E$104,2,FALSE))","v":"Gobernanza e influencia local, regional e internacional"},{"$f":"IF(ISERROR(VLOOKUP(K172,Eje_Pilar_Prop!$C$2:$E$104,3,FALSE)),\" \",VLOOKUP(K172,Eje_Pilar_Prop!$C$2:$E$104,3,FALSE))","v":"Eje Transversal 4 Gobierno Legitimo, Fortalecimiento Local y Eficiencia"},1377,1069737202,"AIDA LORENA TORRES GUZMAN",1750000,null,null,null,null,1750000,1750000,"2020-07-13","2020-07-13","2020-08-12",30,null,"",null,null,null,null,null,"","x",null,1,null,{"$f":"IF(SUMPRODUCT((A$14:A172=A172)*(B$14:B172=B172)*(D$14:D172=D172))>1,0,1)","v":1},"Contratos de prestación de servicios","Contratación directa",{"$f":"IF(ISBLANK(G172),1,IFERROR(VLOOKUP(G172,Tipo!$C$12:$C$27,1,FALSE),\"NO\"))","v":"Prestación de servicios profesionales y de apoyo a la gestión, o para la ejecución de trabajos artísticos que sólo puedan encomendarse a determinadas personas naturales;"},"Inversión",{"$f":"IF(ISBLANK(K172),1,IFERROR(VLOOKUP(K172,Eje_Pilar_Prop!C154:C255,1,FALSE),\"NO\"))","v":"NO"},"SECOP II",1,"Bogotá Mejor para Todos"]
["CPS-162-2020              (CO1.PCCNTR.1703466)",2020,"SECOP II","FDLS-CD-165-2020","Contratos de prestación de servicios","Contratación directa","Prestación de servicios profesionales y de apoyo a la gestión, o para la ejecución de trabajos artísticos que sólo puedan encomendarse a determinadas personas naturales;","PRESTAR LOS SERVICIOS DE APOYO A LOS ARCHIVOS DE GESTIÓN DE LA ENTIDAD EN LA IMPLEMENTACIÓN DE LOS PROCESOS DE CLASIFICACIÓN, ORDENACIÓN, SELECCIÓN NATURAL, FOLIACIÓN, IDENTIFICACIÓN, LEVANTAMIENTO DE INVENTARIOS, ALMACENAMIENTO Y APLICACIÓN DE PROTOCOLOS DE ELIMINACIÓN Y TRANSFERENCIAS DOCUMENTALES DE LA ALCALDÍA LOCAL DE SUMAPAZ","Inversión","Bogotá Mejor para Todos",45,{"$f":"IF(ISERROR(VLOOKUP(K173,Eje_Pilar_Prop!$C$2:$E$104,2,FALSE)),\" \",VLOOKUP(K173,Eje_Pilar_Prop!$C$2:$E$104,2,FALSE))","v":"Gobernanza e influencia local, regional e internacional"},{"$f":"IF(ISERROR(VLOOKUP(K173,Eje_Pilar_Prop!$C$2:$E$104,3,FALSE)),\" \",VLOOKUP(K173,Eje_Pilar_Prop!$C$2:$E$104,3,FALSE))","v":"Eje Transversal 4 Gobierno Legitimo, Fortalecimiento Local y Eficiencia"},1375,1032452416,"LICETH ANDREA VARGAS VANEGAS ",12500000,null,null,1,3666667,16166667,11417000,"2020-07-17","2020-07-17","2020-12-16",150,null,45,null,null,null,null,null,"","x",null,0.70620617100605831,null,{"$f":"IF(SUMPRODUCT((A$14:A173=A173)*(B$14:B173=B173)*(D$14:D173=D173))>1,0,1)","v":1},"Contratos de prestación de servicios","Contratación directa",{"$f":"IF(ISBLANK(G173),1,IFERROR(VLOOKUP(G173,Tipo!$C$12:$C$27,1,FALSE),\"NO\"))","v":"Prestación de servicios profesionales y de apoyo a la gestión, o para la ejecución de trabajos artísticos que sólo puedan encomendarse a determinadas personas naturales;"},"Inversión",{"$f":"IF(ISBLANK(K173),1,IFERROR(VLOOKUP(K173,Eje_Pilar_Prop!C155:C256,1,FALSE),\"NO\"))","v":"NO"},"SECOP II",1,"Bogotá Mejor para Todos"]
["CPS-163-2020",2020,"SECOP II","FDLS-CD-166-2020","Contratos de prestación de servicios","Contratación directa","Prestación de servicios profesionales y de apoyo a la gestión, o para la ejecución de trabajos artísticos que sólo puedan encomendarse a determinadas personas naturales;","Prestar los servicios para operar el vehículo asignado, realizando de manera oportuna eficiente y segura los desplazamientos de los funcionarios del Fondo de Desarrollo Local del Sumapaz y/o demás personal que requiera ser trasladado en la zona urbana y rural de la localidad en cumplimiento de las actividades propias de la administración local.","Inversión","Bogotá Mejor para Todos",45,{"$f":"IF(ISERROR(VLOOKUP(K174,Eje_Pilar_Prop!$C$2:$E$104,2,FALSE)),\" \",VLOOKUP(K174,Eje_Pilar_Prop!$C$2:$E$104,2,FALSE))","v":"Gobernanza e influencia local, regional e internacional"},{"$f":"IF(ISERROR(VLOOKUP(K174,Eje_Pilar_Prop!$C$2:$E$104,3,FALSE)),\" \",VLOOKUP(K174,Eje_Pilar_Prop!$C$2:$E$104,3,FALSE))","v":"Eje Transversal 4 Gobierno Legitimo, Fortalecimiento Local y Eficiencia"},1375,79816851,"WILLIAM EDUARDO MICAN VASQUEZ",12500000,null,null,1,3250000,15750000,10750000,"2020-07-22","2020-07-22","2020-12-21",150,null,40,null,null,null,null,null,"","x",null,0.68253968253968256,null,{"$f":"IF(SUMPRODUCT((A$14:A174=A174)*(B$14:B174=B174)*(D$14:D174=D174))>1,0,1)","v":1},"Contratos de prestación de servicios","Contratación directa",{"$f":"IF(ISBLANK(G174),1,IFERROR(VLOOKUP(G174,Tipo!$C$12:$C$27,1,FALSE),\"NO\"))","v":"Prestación de servicios profesionales y de apoyo a la gestión, o para la ejecución de trabajos artísticos que sólo puedan encomendarse a determinadas personas naturales;"},"Inversión",{"$f":"IF(ISBLANK(K174),1,IFERROR(VLOOKUP(K174,Eje_Pilar_Prop!C156:C257,1,FALSE),\"NO\"))","v":"NO"},"SECOP II",1,"Bogotá Mejor para Todos"]
["CPS-164-2020",2020,"SECOP II","FDLS-CD-167-2020","Contratos de prestación de servicios","Contratación directa","Prestación de servicios profesionales y de apoyo a la gestión, o para la ejecución de trabajos artísticos que sólo puedan encomendarse a determinadas personas naturales;","Prestar los servicios para operar el vehículo asignado, realizando de manera oportuna eficiente y segura los desplazamientos de los funcionarios del Fondo de Desarrollo Local del Sumapaz y/o demás personal que requiera ser trasladado en la zona urbana y rural de la localidad en cumplimiento de las actividades propias de la administración local.","Inversión","Bogotá Mejor para Todos",45,{"$f":"IF(ISERROR(VLOOKUP(K175,Eje_Pilar_Prop!$C$2:$E$104,2,FALSE)),\" \",VLOOKUP(K175,Eje_Pilar_Prop!$C$2:$E$104,2,FALSE))","v":"Gobernanza e influencia local, regional e internacional"},{"$f":"IF(ISERROR(VLOOKUP(K175,Eje_Pilar_Prop!$C$2:$E$104,3,FALSE)),\" \",VLOOKUP(K175,Eje_Pilar_Prop!$C$2:$E$104,3,FALSE))","v":"Eje Transversal 4 Gobierno Legitimo, Fortalecimiento Local y Eficiencia"},1375,79632420,"MARLON RAMIREZ ROMAN",12500000,null,null,1,1750000,14250000,11750000,"2020-08-10","2020-08-10","2021-01-09",150,null,22,null,null,null,null,null,"","x",null,0.82456140350877194,null,{"$f":"IF(SUMPRODUCT((A$14:A175=A175)*(B$14:B175=B175)*(D$14:D175=D175))>1,0,1)","v":1},"Contratos de prestación de servicios","Contratación directa",{"$f":"IF(ISBLANK(G175),1,IFERROR(VLOOKUP(G175,Tipo!$C$12:$C$27,1,FALSE),\"NO\"))","v":"Prestación de servicios profesionales y de apoyo a la gestión, o para la ejecución de trabajos artísticos que sólo puedan encomendarse a determinadas personas naturales;"},"Inversión",{"$f":"IF(ISBLANK(K175),1,IFERROR(VLOOKUP(K175,Eje_Pilar_Prop!C157:C258,1,FALSE),\"NO\"))","v":"NO"},"SECOP II",1,"Bogotá Mejor para Todos"]
["CPS-165-2020",2020,"SECOP II","FDLS-CD-168-2020","Contratos de prestación de servicios","Contratación directa","Prestación de servicios profesionales y de apoyo a la gestión, o para la ejecución de trabajos artísticos que sólo puedan encomendarse a determinadas personas naturales;","Prestar los servicios para operar el vehículo asignado, realizando de manera oportuna eficiente y segura los desplazamientos de los funcionarios del Fondo de Desarrollo Local del Sumapaz y/o demás personal que requiera ser trasladado en la zona urbana y rural de la localidad en cumplimiento de las actividades propias de la administración local.","Inversión","Bogotá Mejor para Todos",45,{"$f":"IF(ISERROR(VLOOKUP(K176,Eje_Pilar_Prop!$C$2:$E$104,2,FALSE)),\" \",VLOOKUP(K176,Eje_Pilar_Prop!$C$2:$E$104,2,FALSE))","v":"Gobernanza e influencia local, regional e internacional"},{"$f":"IF(ISERROR(VLOOKUP(K176,Eje_Pilar_Prop!$C$2:$E$104,3,FALSE)),\" \",VLOOKUP(K176,Eje_Pilar_Prop!$C$2:$E$104,3,FALSE))","v":"Eje Transversal 4 Gobierno Legitimo, Fortalecimiento Local y Eficiencia"},1375,1032656249,"ANGEL RODRIGO MUÑOZ",12500000,null,null,1,3333333,15833333,13333333,"2020-07-21","2020-07-21","2020-12-20",150,null,41,null,null,null,null,null,"","x",null,0.84210525983379492,null,{"$f":"IF(SUMPRODUCT((A$14:A176=A176)*(B$14:B176=B176)*(D$14:D176=D176))>1,0,1)","v":1},"Contratos de prestación de servicios","Contratación directa",{"$f":"IF(ISBLANK(G176),1,IFERROR(VLOOKUP(G176,Tipo!$C$12:$C$27,1,FALSE),\"NO\"))","v":"Prestación de servicios profesionales y de apoyo a la gestión, o para la ejecución de trabajos artísticos que sólo puedan encomendarse a determinadas personas naturales;"},"Inversión",{"$f":"IF(ISBLANK(K176),1,IFERROR(VLOOKUP(K176,Eje_Pilar_Prop!C158:C259,1,FALSE),\"NO\"))","v":"NO"},"SECOP II",1,"Bogotá Mejor para Todos"]
["CPS-166-2020",2020,"SECOP II","FDLS-SAMC-134-2020","Contratos de prestación de servicios","Selección abreviada","Selección abreviada por menor cuantía ","CONTRATAR LA PRESTACIÓN DE SERVICIOS DE APOYO METODOLÓGICO Y LOGÍSTICO PARA LA PARTICIPACIÓN DE ORGANIZACIONES ESTRATÉGICAS INSTITUCIONALES EN LA LOCALIDAD DE SUMAPAZ","Inversión","Bogotá Mejor para Todos",45,{"$f":"IF(ISERROR(VLOOKUP(K177,Eje_Pilar_Prop!$C$2:$E$104,2,FALSE)),\" \",VLOOKUP(K177,Eje_Pilar_Prop!$C$2:$E$104,2,FALSE))","v":"Gobernanza e influencia local, regional e internacional"},{"$f":"IF(ISERROR(VLOOKUP(K177,Eje_Pilar_Prop!$C$2:$E$104,3,FALSE)),\" \",VLOOKUP(K177,Eje_Pilar_Prop!$C$2:$E$104,3,FALSE))","v":"Eje Transversal 4 Gobierno Legitimo, Fortalecimiento Local y Eficiencia"},1377,"900.360.948-5","CORPORACIÓN COLECTIVO DIGERATI",93464905,null,null,1,46732453,140197358,140197357,"2020-07-24","2020-07-24","2020-10-23",90,null,14,null,null,null,null,null,"","x",null,0.99999999286719798,null,{"$f":"IF(SUMPRODUCT((A$14:A177=A177)*(B$14:B177=B177)*(D$14:D177=D177))>1,0,1)","v":1},"Contratos de prestación de servicios","Selección abreviada",{"$f":"IF(ISBLANK(G177),1,IFERROR(VLOOKUP(G177,Tipo!$C$12:$C$27,1,FALSE),\"NO\"))","v":"Selección abreviada por menor cuantía "},"Inversión",{"$f":"IF(ISBLANK(K177),1,IFERROR(VLOOKUP(K177,Eje_Pilar_Prop!C159:C260,1,FALSE),\"NO\"))","v":"NO"},"SECOP II",1,"Bogotá Mejor para Todos"]
["CAR-167-2020",2020,"SECOP II","FDLS-CD-170-2020","Arrendamiento de bienes inmuebles","Contratación directa","Prestación de servicios profesionales y de apoyo a la gestión, o para la ejecución de trabajos artísticos que sólo puedan encomendarse a determinadas personas naturales;","ADQUIRIR A TÍTULO DE ARRENDAMIENTO UN (1) INMUEBLE PARA EL FUNCIONAMIENTO DE LA SEDE ADMINISTRATIVA DE LA ALCALDÍA LOCAL DE SUMAPAZ, INCLUIDO EL SERVICIO DE PARQUEADERO","Funcionamiento","Bogotá Mejor para Todos","NA",{"$f":"IF(ISERROR(VLOOKUP(K178,Eje_Pilar_Prop!$C$2:$E$104,2,FALSE)),\" \",VLOOKUP(K178,Eje_Pilar_Prop!$C$2:$E$104,2,FALSE))","v":" "},{"$f":"IF(ISERROR(VLOOKUP(K178,Eje_Pilar_Prop!$C$2:$E$104,3,FALSE)),\" \",VLOOKUP(K178,Eje_Pilar_Prop!$C$2:$E$104,3,FALSE))","v":" "},"NA","860041749-3","INMOBILIARIA COMERCIAL CRUZ Y PINZON LTDA",21664920,null,null,null,null,21664920,21664920,"2020-08-01","2020-08-01","2020-08-31",30,null,"",null,null,null,null,null,"","x",null,1,null,{"$f":"IF(SUMPRODUCT((A$14:A178=A178)*(B$14:B178=B178)*(D$14:D178=D178))>1,0,1)","v":1},"Arrendamiento de bienes inmuebles","Contratación directa",{"$f":"IF(ISBLANK(G178),1,IFERROR(VLOOKUP(G178,Tipo!$C$12:$C$27,1,FALSE),\"NO\"))","v":"Prestación de servicios profesionales y de apoyo a la gestión, o para la ejecución de trabajos artísticos que sólo puedan encomendarse a determinadas personas naturales;"},"Funcionamiento",{"$f":"IF(ISBLANK(K178),1,IFERROR(VLOOKUP(K178,Eje_Pilar_Prop!C160:C261,1,FALSE),\"NO\"))","v":"NO"},"SECOP II",1,"Bogotá Mejor para Todos"]
["CPS-168-2020",2020,"SECOP II","FDLS-CD-171-2020","Contratos de prestación de servicios","Contratación directa","Prestación de servicios profesionales y de apoyo a la gestión, o para la ejecución de trabajos artísticos que sólo puedan encomendarse a determinadas personas naturales;","PRESTAR SUS SERVICIOS COMO TÉCNICO DE APOYO ADMINISTRATIVO AL ÁREA DE GESTIÓN DE DESARROLLO LOCAL DE LA ALCALDÍA LOCAL DE SUMAPAZ","Inversión","Bogotá Mejor para Todos",45,{"$f":"IF(ISERROR(VLOOKUP(K179,Eje_Pilar_Prop!$C$2:$E$104,2,FALSE)),\" \",VLOOKUP(K179,Eje_Pilar_Prop!$C$2:$E$104,2,FALSE))","v":"Gobernanza e influencia local, regional e internacional"},{"$f":"IF(ISERROR(VLOOKUP(K179,Eje_Pilar_Prop!$C$2:$E$104,3,FALSE)),\" \",VLOOKUP(K179,Eje_Pilar_Prop!$C$2:$E$104,3,FALSE))","v":"Eje Transversal 4 Gobierno Legitimo, Fortalecimiento Local y Eficiencia"},1375,52603721,"SANDRA MILENA RODRIGUEZ SASTOQUE",19250000,null,null,1,3465000,22715000,15015000,"2020-08-04","2020-08-04","2021-01-03",150,null,28,null,null,null,null,null,"","x",null,0.66101694915254239,null,{"$f":"IF(SUMPRODUCT((A$14:A179=A179)*(B$14:B179=B179)*(D$14:D179=D179))>1,0,1)","v":1},"Contratos de prestación de servicios","Contratación directa",{"$f":"IF(ISBLANK(G179),1,IFERROR(VLOOKUP(G179,Tipo!$C$12:$C$27,1,FALSE),\"NO\"))","v":"Prestación de servicios profesionales y de apoyo a la gestión, o para la ejecución de trabajos artísticos que sólo puedan encomendarse a determinadas personas naturales;"},"Inversión",{"$f":"IF(ISBLANK(K179),1,IFERROR(VLOOKUP(K179,Eje_Pilar_Prop!C161:C262,1,FALSE),\"NO\"))","v":"NO"},"SECOP II",1,"Bogotá Mejor para Todos"]
["CPS-169-2020",2020,"SECOP II","FDLS-CD-172-2020","Contratos de prestación de servicios","Contratación directa","Prestación de servicios profesionales y de apoyo a la gestión, o para la ejecución de trabajos artísticos que sólo puedan encomendarse a determinadas personas naturales;","PRESTAR LOS SERVICIOS PROFESIONALES PARA EL DESPACHO DE LA ALCALDIA LOCAL DE SUMAPAZ EN LAS DIFERENTES ETAPAS DE LOS PROCESOS ADMINISTRATIVOS, FINANCIEROS Y OPERATIVOS PARA DAR CUMPLIMIENTO AL PLAN DE DESARROLLO LOCAL","Inversión","Bogotá Mejor para Todos",45,{"$f":"IF(ISERROR(VLOOKUP(K180,Eje_Pilar_Prop!$C$2:$E$104,2,FALSE)),\" \",VLOOKUP(K180,Eje_Pilar_Prop!$C$2:$E$104,2,FALSE))","v":"Gobernanza e influencia local, regional e internacional"},{"$f":"IF(ISERROR(VLOOKUP(K180,Eje_Pilar_Prop!$C$2:$E$104,3,FALSE)),\" \",VLOOKUP(K180,Eje_Pilar_Prop!$C$2:$E$104,3,FALSE))","v":"Eje Transversal 4 Gobierno Legitimo, Fortalecimiento Local y Eficiencia"},1375,39682218,"GEMA ORTEGA TRUJILLO",36500000,null,null,1,6570000,43070000,35770000,"2020-08-04","2020-08-04","2021-01-03",150,null,28,null,null,null,null,null,"","x",null,0.83050847457627119,null,{"$f":"IF(SUMPRODUCT((A$14:A180=A180)*(B$14:B180=B180)*(D$14:D180=D180))>1,0,1)","v":1},"Contratos de prestación de servicios","Contratación directa",{"$f":"IF(ISBLANK(G180),1,IFERROR(VLOOKUP(G180,Tipo!$C$12:$C$27,1,FALSE),\"NO\"))","v":"Prestación de servicios profesionales y de apoyo a la gestión, o para la ejecución de trabajos artísticos que sólo puedan encomendarse a determinadas personas naturales;"},"Inversión",{"$f":"IF(ISBLANK(K180),1,IFERROR(VLOOKUP(K180,Eje_Pilar_Prop!C162:C263,1,FALSE),\"NO\"))","v":"NO"},"SECOP II",1,"Bogotá Mejor para Todos"]
["CPS-170-2020",2020,"SECOP II","FDLS-CD-173-2020","Contratos de prestación de servicios","Contratación directa","Prestación de servicios profesionales y de apoyo a la gestión, o para la ejecución de trabajos artísticos que sólo puedan encomendarse a determinadas personas naturales;","Prestar los servicios profesionales para realizar formulación, evaluación, seguimiento y control de proyectos de inversión y seguimiento de los planes, programas y proyectos del Fondo de Desarrollo Local de Sumapaz que le sean designados. ","Inversión","Bogotá Mejor para Todos",45,{"$f":"IF(ISERROR(VLOOKUP(K181,Eje_Pilar_Prop!$C$2:$E$104,2,FALSE)),\" \",VLOOKUP(K181,Eje_Pilar_Prop!$C$2:$E$104,2,FALSE))","v":"Gobernanza e influencia local, regional e internacional"},{"$f":"IF(ISERROR(VLOOKUP(K181,Eje_Pilar_Prop!$C$2:$E$104,3,FALSE)),\" \",VLOOKUP(K181,Eje_Pilar_Prop!$C$2:$E$104,3,FALSE))","v":"Eje Transversal 4 Gobierno Legitimo, Fortalecimiento Local y Eficiencia"},1375,1016062253," JENNY MARCELA GONZALEZ MARTIN",27500000,null,null,1,3666667,31166667,25666666,"2020-08-11","2020-08-11","2021-01-10",150,null,21,null,null,null,null,null,"","x",null,0.82352938156653066,null,{"$f":"IF(SUMPRODUCT((A$14:A181=A181)*(B$14:B181=B181)*(D$14:D181=D181))>1,0,1)","v":1},"Contratos de prestación de servicios","Contratación directa",{"$f":"IF(ISBLANK(G181),1,IFERROR(VLOOKUP(G181,Tipo!$C$12:$C$27,1,FALSE),\"NO\"))","v":"Prestación de servicios profesionales y de apoyo a la gestión, o para la ejecución de trabajos artísticos que sólo puedan encomendarse a determinadas personas naturales;"},"Inversión",{"$f":"IF(ISBLANK(K181),1,IFERROR(VLOOKUP(K181,Eje_Pilar_Prop!C163:C264,1,FALSE),\"NO\"))","v":"NO"},"SECOP II",1,"Bogotá Mejor para Todos"]
["CPS-171-2020",2020,"SECOP II","FDLS-CD-175-2020","Contratos de prestación de servicios","Contratación directa","Prestación de servicios profesionales y de apoyo a la gestión, o para la ejecución de trabajos artísticos que sólo puedan encomendarse a determinadas personas naturales;","“Prestar los servicios  Profesionales al Área de Gestión de Desarrollo Local para realizar la formulación y seguimiento a los proyectos de inversión y/o componentes que le sean designados”.","Inversión","Bogotá Mejor para Todos",18,{"$f":"IF(ISERROR(VLOOKUP(K182,Eje_Pilar_Prop!$C$2:$E$104,2,FALSE)),\" \",VLOOKUP(K182,Eje_Pilar_Prop!$C$2:$E$104,2,FALSE))","v":"Mejor movilidad para todos"},{"$f":"IF(ISERROR(VLOOKUP(K182,Eje_Pilar_Prop!$C$2:$E$104,3,FALSE)),\" \",VLOOKUP(K182,Eje_Pilar_Prop!$C$2:$E$104,3,FALSE))","v":"Pilar 2 Democracía Urbana"},1364,79636802,"OSCAR NICOLAS AVILA RUBIANO",27500000,null,null,null,null,27500000,17233332,"2020-08-14","2020-08-14","2021-01-13",150,null,"",null,null,null,null,null,"","x",null,0.62666661818181824,null,{"$f":"IF(SUMPRODUCT((A$14:A182=A182)*(B$14:B182=B182)*(D$14:D182=D182))>1,0,1)","v":1},"Contratos de prestación de servicios","Contratación directa",{"$f":"IF(ISBLANK(G182),1,IFERROR(VLOOKUP(G182,Tipo!$C$12:$C$27,1,FALSE),\"NO\"))","v":"Prestación de servicios profesionales y de apoyo a la gestión, o para la ejecución de trabajos artísticos que sólo puedan encomendarse a determinadas personas naturales;"},"Inversión",{"$f":"IF(ISBLANK(K182),1,IFERROR(VLOOKUP(K182,Eje_Pilar_Prop!C164:C265,1,FALSE),\"NO\"))","v":"NO"},"SECOP II",1,"Bogotá Mejor para Todos"]
["CPS-172-2020",2020,"SECOP II","FDLS-CD-176-2020","Contratos de prestación de servicios","Contratación directa","Prestación de servicios profesionales y de apoyo a la gestión, o para la ejecución de trabajos artísticos que sólo puedan encomendarse a determinadas personas naturales;","PRESTAR LOS SERVICIOS DE APOYO LOGÍSTICO Y OPERATIVO PARA LA ALCALDÍA LOCAL DE SUMAPAZ, EN ESPECIAL EN LAS CORREGIDURÍAS DE NAZARETH Y BETANIA","Inversión","Bogotá Mejor para Todos",45,{"$f":"IF(ISERROR(VLOOKUP(K183,Eje_Pilar_Prop!$C$2:$E$104,2,FALSE)),\" \",VLOOKUP(K183,Eje_Pilar_Prop!$C$2:$E$104,2,FALSE))","v":"Gobernanza e influencia local, regional e internacional"},{"$f":"IF(ISERROR(VLOOKUP(K183,Eje_Pilar_Prop!$C$2:$E$104,3,FALSE)),\" \",VLOOKUP(K183,Eje_Pilar_Prop!$C$2:$E$104,3,FALSE))","v":"Eje Transversal 4 Gobierno Legitimo, Fortalecimiento Local y Eficiencia"},1375,19157189,"ENRIQUE HUERTAS",10000000,null,null,null,null,10000000,8866666,"2020-08-18","2020-08-18","2021-01-17",150,null,"",null,null,null,null,null,"","x",null,0.88666659999999997,null,{"$f":"IF(SUMPRODUCT((A$14:A183=A183)*(B$14:B183=B183)*(D$14:D183=D183))>1,0,1)","v":1},"Contratos de prestación de servicios","Contratación directa",{"$f":"IF(ISBLANK(G183),1,IFERROR(VLOOKUP(G183,Tipo!$C$12:$C$27,1,FALSE),\"NO\"))","v":"Prestación de servicios profesionales y de apoyo a la gestión, o para la ejecución de trabajos artísticos que sólo puedan encomendarse a determinadas personas naturales;"},"Inversión",{"$f":"IF(ISBLANK(K183),1,IFERROR(VLOOKUP(K183,Eje_Pilar_Prop!C165:C266,1,FALSE),\"NO\"))","v":"NO"},"SECOP II",1,"Bogotá Mejor para Todos"]
["CPS-173-2020",2020,"SECOP II","FDLS-CD-177-2020","Contratos de prestación de servicios","Contratación directa","Prestación de servicios profesionales y de apoyo a la gestión, o para la ejecución de trabajos artísticos que sólo puedan encomendarse a determinadas personas naturales;","PRESTAR LOS SERVICIOS COMO AUXILIAR ADMINISTRATIVO PARA EL CENTRO DE SERVICIOS DE SANTA ROSA.","Inversión","Bogotá Mejor para Todos",45,{"$f":"IF(ISERROR(VLOOKUP(K184,Eje_Pilar_Prop!$C$2:$E$104,2,FALSE)),\" \",VLOOKUP(K184,Eje_Pilar_Prop!$C$2:$E$104,2,FALSE))","v":"Gobernanza e influencia local, regional e internacional"},{"$f":"IF(ISERROR(VLOOKUP(K184,Eje_Pilar_Prop!$C$2:$E$104,3,FALSE)),\" \",VLOOKUP(K184,Eje_Pilar_Prop!$C$2:$E$104,3,FALSE))","v":"Eje Transversal 4 Gobierno Legitimo, Fortalecimiento Local y Eficiencia"},1375,1023019730," EDISON FERNEY MARTINEZ MOLINA",10000000,null,null,1,1133333,11133333,9133333,"2020-08-14","2020-08-14","2021-01-13",150,null,18,null,null,null,null,null,"","x",null,0.82035927605866099,null,{"$f":"IF(SUMPRODUCT((A$14:A184=A184)*(B$14:B184=B184)*(D$14:D184=D184))>1,0,1)","v":1},"Contratos de prestación de servicios","Contratación directa",{"$f":"IF(ISBLANK(G184),1,IFERROR(VLOOKUP(G184,Tipo!$C$12:$C$27,1,FALSE),\"NO\"))","v":"Prestación de servicios profesionales y de apoyo a la gestión, o para la ejecución de trabajos artísticos que sólo puedan encomendarse a determinadas personas naturales;"},"Inversión",{"$f":"IF(ISBLANK(K184),1,IFERROR(VLOOKUP(K184,Eje_Pilar_Prop!C166:C267,1,FALSE),\"NO\"))","v":"NO"},"SECOP II",1,"Bogotá Mejor para Todos"]
["CPS-174-2020",2020,"SECOP II","FDLS-MC-169-2020","Contratos de prestación de servicios","Contratación mínima cuantia","Prestación de servicios profesionales y de apoyo a la gestión, o para la ejecución de trabajos artísticos que sólo puedan encomendarse a determinadas personas naturales;","Prestar los servicios de monitoreo vehicular integral por GPS para los vehículos de propiedad o tenencia del Fondo de Desarrollo Local de Sumapaz","Inversión","Bogotá Mejor para Todos",45,{"$f":"IF(ISERROR(VLOOKUP(K185,Eje_Pilar_Prop!$C$2:$E$104,2,FALSE)),\" \",VLOOKUP(K185,Eje_Pilar_Prop!$C$2:$E$104,2,FALSE))","v":"Gobernanza e influencia local, regional e internacional"},{"$f":"IF(ISERROR(VLOOKUP(K185,Eje_Pilar_Prop!$C$2:$E$104,3,FALSE)),\" \",VLOOKUP(K185,Eje_Pilar_Prop!$C$2:$E$104,3,FALSE))","v":"Eje Transversal 4 Gobierno Legitimo, Fortalecimiento Local y Eficiencia"},1375,"900465924-0","VISATEL  DE COLOMBIA S.A.S.",14350000,null,null,null,null,14350000,5251035,"2020-08-12","2020-08-12","2021-05-11",270,null,"",null,null,null,null,null,"x","",null,0.36592578397212544,null,{"$f":"IF(SUMPRODUCT((A$14:A185=A185)*(B$14:B185=B185)*(D$14:D185=D185))>1,0,1)","v":1},"Contratos de prestación de servicios","Contratación mínima cuantia",{"$f":"IF(ISBLANK(G185),1,IFERROR(VLOOKUP(G185,Tipo!$C$12:$C$27,1,FALSE),\"NO\"))","v":"Prestación de servicios profesionales y de apoyo a la gestión, o para la ejecución de trabajos artísticos que sólo puedan encomendarse a determinadas personas naturales;"},"Inversión",{"$f":"IF(ISBLANK(K185),1,IFERROR(VLOOKUP(K185,Eje_Pilar_Prop!C167:C268,1,FALSE),\"NO\"))","v":"NO"},"SECOP II",1,"Bogotá Mejor para Todos"]
["CPS-175-2020",2020,"SECOP II","FDLS-CD-178-2020","Contratos de prestación de servicios","Contratación directa","Prestación de servicios profesionales y de apoyo a la gestión, o para la ejecución de trabajos artísticos que sólo puedan encomendarse a determinadas personas naturales;","Prestar los servicios profesionales jurídicos para apoyar los asuntos legales, contractuales y pos-contractuales de la alcaldía local de Sumapaz","Inversión","Bogotá Mejor para Todos",45,{"$f":"IF(ISERROR(VLOOKUP(K186,Eje_Pilar_Prop!$C$2:$E$104,2,FALSE)),\" \",VLOOKUP(K186,Eje_Pilar_Prop!$C$2:$E$104,2,FALSE))","v":"Gobernanza e influencia local, regional e internacional"},{"$f":"IF(ISERROR(VLOOKUP(K186,Eje_Pilar_Prop!$C$2:$E$104,3,FALSE)),\" \",VLOOKUP(K186,Eje_Pilar_Prop!$C$2:$E$104,3,FALSE))","v":"Eje Transversal 4 Gobierno Legitimo, Fortalecimiento Local y Eficiencia"},1375,52900762,"JENNY CAROLINA GIRÓN CUERVO",32500000,null,null,1,3900000,36400000,29900000,"2020-08-13","2020-08-13","2021-01-12",150,null,19,null,null,null,null,null,"","x",null,0.8214285714285714,null,{"$f":"IF(SUMPRODUCT((A$14:A186=A186)*(B$14:B186=B186)*(D$14:D186=D186))>1,0,1)","v":1},"Contratos de prestación de servicios","Contratación directa",{"$f":"IF(ISBLANK(G186),1,IFERROR(VLOOKUP(G186,Tipo!$C$12:$C$27,1,FALSE),\"NO\"))","v":"Prestación de servicios profesionales y de apoyo a la gestión, o para la ejecución de trabajos artísticos que sólo puedan encomendarse a determinadas personas naturales;"},"Inversión",{"$f":"IF(ISBLANK(K186),1,IFERROR(VLOOKUP(K186,Eje_Pilar_Prop!C168:C269,1,FALSE),\"NO\"))","v":"NO"},"SECOP II",1,"Bogotá Mejor para Todos"]
["CPS-176-2020",2020,"SECOP II","FDLS-CD-179-2020","Contratos de prestación de servicios","Contratación directa","Prestación de servicios profesionales y de apoyo a la gestión, o para la ejecución de trabajos artísticos que sólo puedan encomendarse a determinadas personas naturales;","PRESTAR LOS SERVICIOS PROFESIONALES PARA REALIZAR FORMULACIÓN, EVALUACIÓN, SEGUIMIENTO Y CONTROL DE PROYECTOS DE INVERSIÓN Y SEGUIMIENTO DE LOS PLANES, PROGRAMAS Y PROYECTOS DEL FONDO DE DESARROLLO LOCAL DE SUMAPAZ QUE LE SEAN DESIGNADOS.","Inversión","Bogotá Mejor para Todos",11,{"$f":"IF(ISERROR(VLOOKUP(K187,Eje_Pilar_Prop!$C$2:$E$104,2,FALSE)),\" \",VLOOKUP(K187,Eje_Pilar_Prop!$C$2:$E$104,2,FALSE))","v":"Mejores oportunidades para el desarrollo a través de la cultura, la recreación y el deporte"},{"$f":"IF(ISERROR(VLOOKUP(K187,Eje_Pilar_Prop!$C$2:$E$104,3,FALSE)),\" \",VLOOKUP(K187,Eje_Pilar_Prop!$C$2:$E$104,3,FALSE))","v":"Pilar 1 Igualdad de Calidad de Vida"},1353,". 28.723.701 ","LUZ YOLANDA LEÓN FLOREZ",27500000,null,null,null,null,27500000,18866666,"2020-08-18","2020-08-18","2021-01-17",150,null,"",null,null,null,null,null,"","x",null,0.68606058181818186,null,{"$f":"IF(SUMPRODUCT((A$14:A187=A187)*(B$14:B187=B187)*(D$14:D187=D187))>1,0,1)","v":1},"Contratos de prestación de servicios","Contratación directa",{"$f":"IF(ISBLANK(G187),1,IFERROR(VLOOKUP(G187,Tipo!$C$12:$C$27,1,FALSE),\"NO\"))","v":"Prestación de servicios profesionales y de apoyo a la gestión, o para la ejecución de trabajos artísticos que sólo puedan encomendarse a determinadas personas naturales;"},"Inversión",{"$f":"IF(ISBLANK(K187),1,IFERROR(VLOOKUP(K187,Eje_Pilar_Prop!C169:C270,1,FALSE),\"NO\"))","v":"NO"},"SECOP II",1,"Bogotá Mejor para Todos"]
["CPS-177-2020",2020,"SECOP II","FDLS-CD-180-2020","Contratos de prestación de servicios","Contratación directa","Prestación de servicios profesionales y de apoyo a la gestión, o para la ejecución de trabajos artísticos que sólo puedan encomendarse a determinadas personas naturales;","PRESTAR LOS SERVICIOS PROFESIONALES JURIDICOS PARA APOYAR LOS ASUNTOS LEGALES, CONTRACTUALES Y POSCONTRACTULAES DE LA ALCALDÍA LOCAL DE SUMAPAZ","Inversión","Bogotá Mejor para Todos",45,{"$f":"IF(ISERROR(VLOOKUP(K188,Eje_Pilar_Prop!$C$2:$E$104,2,FALSE)),\" \",VLOOKUP(K188,Eje_Pilar_Prop!$C$2:$E$104,2,FALSE))","v":"Gobernanza e influencia local, regional e internacional"},{"$f":"IF(ISERROR(VLOOKUP(K188,Eje_Pilar_Prop!$C$2:$E$104,3,FALSE)),\" \",VLOOKUP(K188,Eje_Pilar_Prop!$C$2:$E$104,3,FALSE))","v":"Eje Transversal 4 Gobierno Legitimo, Fortalecimiento Local y Eficiencia"},1375,1023888264,"MONICA DEL PILAR PARRA RANGEL CEDIDO A PATRICIA ABRIL OSPITIA (CC:52,380,146) (RECIBE CESION EL 8 DE SEPTIEMBRE DE 2020)",27500000,null,null,1,3116667,30616667,18333334,"2020-08-14","2020-08-14","2021-01-13",150,null,18,null,null,null,null,null,"","x",null,0.59880241046486216,null,{"$f":"IF(SUMPRODUCT((A$14:A188=A188)*(B$14:B188=B188)*(D$14:D188=D188))>1,0,1)","v":1},"Contratos de prestación de servicios","Contratación directa",{"$f":"IF(ISBLANK(G188),1,IFERROR(VLOOKUP(G188,Tipo!$C$12:$C$27,1,FALSE),\"NO\"))","v":"Prestación de servicios profesionales y de apoyo a la gestión, o para la ejecución de trabajos artísticos que sólo puedan encomendarse a determinadas personas naturales;"},"Inversión",{"$f":"IF(ISBLANK(K188),1,IFERROR(VLOOKUP(K188,Eje_Pilar_Prop!C170:C271,1,FALSE),\"NO\"))","v":"NO"},"SECOP II",1,"Bogotá Mejor para Todos"]
["CPS-178-2020",2020,"SECOP II","FDLS-CD-181-2020","Contratos de prestación de servicios","Contratación directa","Prestación de servicios profesionales y de apoyo a la gestión, o para la ejecución de trabajos artísticos que sólo puedan encomendarse a determinadas personas naturales;","PRESTAR LOS SERVICIOS PROFESIONALES JURIDICOS PARA APOYAR LOS ASUNTOS LEGALES, CONTRACTUALES Y POSCONTRACTULAES DE LA ALCALDÍA LOCAL DE SUMAPAZ","Inversión","Bogotá Mejor para Todos",45,{"$f":"IF(ISERROR(VLOOKUP(K189,Eje_Pilar_Prop!$C$2:$E$104,2,FALSE)),\" \",VLOOKUP(K189,Eje_Pilar_Prop!$C$2:$E$104,2,FALSE))","v":"Gobernanza e influencia local, regional e internacional"},{"$f":"IF(ISERROR(VLOOKUP(K189,Eje_Pilar_Prop!$C$2:$E$104,3,FALSE)),\" \",VLOOKUP(K189,Eje_Pilar_Prop!$C$2:$E$104,3,FALSE))","v":"Eje Transversal 4 Gobierno Legitimo, Fortalecimiento Local y Eficiencia"},1375,80854693,"JOSE RICARDO TAUTIVA GARZÓN",27500000,null,null,1,3116667,30616667,25116667,"2020-08-14","2020-08-14","2021-01-13",150,null,18,null,null,null,null,null,"","x",null,0.82035928339293107,null,{"$f":"IF(SUMPRODUCT((A$14:A189=A189)*(B$14:B189=B189)*(D$14:D189=D189))>1,0,1)","v":1},"Contratos de prestación de servicios","Contratación directa",{"$f":"IF(ISBLANK(G189),1,IFERROR(VLOOKUP(G189,Tipo!$C$12:$C$27,1,FALSE),\"NO\"))","v":"Prestación de servicios profesionales y de apoyo a la gestión, o para la ejecución de trabajos artísticos que sólo puedan encomendarse a determinadas personas naturales;"},"Inversión",{"$f":"IF(ISBLANK(K189),1,IFERROR(VLOOKUP(K189,Eje_Pilar_Prop!C171:C272,1,FALSE),\"NO\"))","v":"NO"},"SECOP II",1,"Bogotá Mejor para Todos"]
["CPS-179-2020",2020,"SECOP II","FDLS-CD-182-2020","Contratos de prestación de servicios","Contratación directa","Prestación de servicios profesionales y de apoyo a la gestión, o para la ejecución de trabajos artísticos que sólo puedan encomendarse a determinadas personas naturales;","Prestar sus servicios profesionales de apoyo al área de contratación y preparar las respuestas a derechos\nde petición y demás solicitudes que se radiquen en el Fondo de Desarrollo Local de Sumapaz. ","Inversión","Bogotá Mejor para Todos",45,{"$f":"IF(ISERROR(VLOOKUP(K190,Eje_Pilar_Prop!$C$2:$E$104,2,FALSE)),\" \",VLOOKUP(K190,Eje_Pilar_Prop!$C$2:$E$104,2,FALSE))","v":"Gobernanza e influencia local, regional e internacional"},{"$f":"IF(ISERROR(VLOOKUP(K190,Eje_Pilar_Prop!$C$2:$E$104,3,FALSE)),\" \",VLOOKUP(K190,Eje_Pilar_Prop!$C$2:$E$104,3,FALSE))","v":"Eje Transversal 4 Gobierno Legitimo, Fortalecimiento Local y Eficiencia"},1375,1020802394,"JESSICA  JULIETH CARDONA JARAMILLO",21000000,null,null,1,2380000,23380000,19180000,"2020-08-14","2020-08-14","2021-01-13",150,null,18,null,null,null,null,null,"","x",null,0.82035928143712578,null,{"$f":"IF(SUMPRODUCT((A$14:A190=A190)*(B$14:B190=B190)*(D$14:D190=D190))>1,0,1)","v":1},"Contratos de prestación de servicios","Contratación directa",{"$f":"IF(ISBLANK(G190),1,IFERROR(VLOOKUP(G190,Tipo!$C$12:$C$27,1,FALSE),\"NO\"))","v":"Prestación de servicios profesionales y de apoyo a la gestión, o para la ejecución de trabajos artísticos que sólo puedan encomendarse a determinadas personas naturales;"},"Inversión",{"$f":"IF(ISBLANK(K190),1,IFERROR(VLOOKUP(K190,Eje_Pilar_Prop!C172:C273,1,FALSE),\"NO\"))","v":"NO"},"SECOP II",1,"Bogotá Mejor para Todos"]
["CPS-180-2020",2020,"SECOP II","FDLS-CD-183-2020","Contratos de prestación de servicios","Contratación directa","Prestación de servicios profesionales y de apoyo a la gestión, o para la ejecución de trabajos artísticos que sólo puedan encomendarse a determinadas personas naturales;","Prestar sus servicios como\nTécnico de apoyo administrativo al proyecto 1334, del área de Gestión de Desarrollo\nLocal de la Alcaldía Local de Sumapaz","Inversión","Bogotá Mejor para Todos",3,{"$f":"IF(ISERROR(VLOOKUP(K191,Eje_Pilar_Prop!$C$2:$E$104,2,FALSE)),\" \",VLOOKUP(K191,Eje_Pilar_Prop!$C$2:$E$104,2,FALSE))","v":"Igualdad y autonomía para una Bogotá incluyente"},{"$f":"IF(ISERROR(VLOOKUP(K191,Eje_Pilar_Prop!$C$2:$E$104,3,FALSE)),\" \",VLOOKUP(K191,Eje_Pilar_Prop!$C$2:$E$104,3,FALSE))","v":"Pilar 1 Igualdad de Calidad de Vida"},1334,1022998108,"CRISTIAN ANDRES VASQUEZ CHINGATE",14900000,null,null,null,null,14900000,10231333,"2020-08-18","2020-08-18","2021-01-17",150,null,"",null,null,null,null,null,"","x",null,0.686666644295302,null,{"$f":"IF(SUMPRODUCT((A$14:A191=A191)*(B$14:B191=B191)*(D$14:D191=D191))>1,0,1)","v":1},"Contratos de prestación de servicios","Contratación directa",{"$f":"IF(ISBLANK(G191),1,IFERROR(VLOOKUP(G191,Tipo!$C$12:$C$27,1,FALSE),\"NO\"))","v":"Prestación de servicios profesionales y de apoyo a la gestión, o para la ejecución de trabajos artísticos que sólo puedan encomendarse a determinadas personas naturales;"},"Inversión",{"$f":"IF(ISBLANK(K191),1,IFERROR(VLOOKUP(K191,Eje_Pilar_Prop!C173:C274,1,FALSE),\"NO\"))","v":"NO"},"SECOP II",1,"Bogotá Mejor para Todos"]
["CPS-181-2020",2020,"SECOP II","FDLS-CD-184-2020","Contratos de prestación de servicios","Contratación directa","Prestación de servicios profesionales y de apoyo a la gestión, o para la ejecución de trabajos artísticos que sólo puedan encomendarse a determinadas personas naturales;","Prestar los servicios profesionales al Área de Gestión de Desarrollo Local, en los procesos administrativos y operativos para dar cumplimiento al Plan de Desarrollo Local ","Inversión","Bogotá Mejor para Todos",45,{"$f":"IF(ISERROR(VLOOKUP(K192,Eje_Pilar_Prop!$C$2:$E$104,2,FALSE)),\" \",VLOOKUP(K192,Eje_Pilar_Prop!$C$2:$E$104,2,FALSE))","v":"Gobernanza e influencia local, regional e internacional"},{"$f":"IF(ISERROR(VLOOKUP(K192,Eje_Pilar_Prop!$C$2:$E$104,3,FALSE)),\" \",VLOOKUP(K192,Eje_Pilar_Prop!$C$2:$E$104,3,FALSE))","v":"Eje Transversal 4 Gobierno Legitimo, Fortalecimiento Local y Eficiencia"},1375,1019088970,"KAREN VIVIANA GONZALEZ ARIZA",16800000,null,null,1,5180000,21980000,16800000,"2020-08-24","2020-08-24","2020-12-23",120,null,38,null,null,null,null,null,"","x",null,0.76433121019108285,null,{"$f":"IF(SUMPRODUCT((A$14:A192=A192)*(B$14:B192=B192)*(D$14:D192=D192))>1,0,1)","v":1},"Contratos de prestación de servicios","Contratación directa",{"$f":"IF(ISBLANK(G192),1,IFERROR(VLOOKUP(G192,Tipo!$C$12:$C$27,1,FALSE),\"NO\"))","v":"Prestación de servicios profesionales y de apoyo a la gestión, o para la ejecución de trabajos artísticos que sólo puedan encomendarse a determinadas personas naturales;"},"Inversión",{"$f":"IF(ISBLANK(K192),1,IFERROR(VLOOKUP(K192,Eje_Pilar_Prop!C174:C275,1,FALSE),\"NO\"))","v":"NO"},"SECOP II",1,"Bogotá Mejor para Todos"]
["CPS-182-2020",2020,"SECOP II","FDLS-CD-185-2020","Contratos de prestación de servicios","Contratación directa","Prestación de servicios profesionales y de apoyo a la gestión, o para la ejecución de trabajos artísticos que sólo puedan encomendarse a determinadas personas naturales;","Prestar los servicios profesionales especializados para realizar formulación, evaluación, seguimiento y control del proyecto de inversión “Desarrollo Rural Sostenible y Campesino” y seguimiento de los planes, programas y proyectos del Fondo de Desarrollo Local de Sumapaz","Inversión","Bogotá Mejor para Todos",41,{"$f":"IF(ISERROR(VLOOKUP(K193,Eje_Pilar_Prop!$C$2:$E$104,2,FALSE)),\" \",VLOOKUP(K193,Eje_Pilar_Prop!$C$2:$E$104,2,FALSE))","v":"Desarrollo rural sostenible"},{"$f":"IF(ISERROR(VLOOKUP(K193,Eje_Pilar_Prop!$C$2:$E$104,3,FALSE)),\" \",VLOOKUP(K193,Eje_Pilar_Prop!$C$2:$E$104,3,FALSE))","v":"Eje Transversal 3 Sostenibilidad Ambiental basada en la eficiencia energética"},1382,52155157,"DALGY DANIT LEAL OJEDA",37500000,null,null,1,3250000,40750000,25750000,"2020-08-18","2020-08-18","2021-01-17",150,null,14,null,null,null,null,null,"","x",null,0.63190184049079756,null,{"$f":"IF(SUMPRODUCT((A$14:A193=A193)*(B$14:B193=B193)*(D$14:D193=D193))>1,0,1)","v":1},"Contratos de prestación de servicios","Contratación directa",{"$f":"IF(ISBLANK(G193),1,IFERROR(VLOOKUP(G193,Tipo!$C$12:$C$27,1,FALSE),\"NO\"))","v":"Prestación de servicios profesionales y de apoyo a la gestión, o para la ejecución de trabajos artísticos que sólo puedan encomendarse a determinadas personas naturales;"},"Inversión",{"$f":"IF(ISBLANK(K193),1,IFERROR(VLOOKUP(K193,Eje_Pilar_Prop!C175:C276,1,FALSE),\"NO\"))","v":"NO"},"SECOP II",1,"Bogotá Mejor para Todos"]
["CPS-183-2020",2020,"SECOP II","FDLS-CD-186-2020.","Contratos de prestación de servicios","Contratación directa","Prestación de servicios profesionales y de apoyo a la gestión, o para la ejecución de trabajos artísticos que sólo puedan encomendarse a determinadas personas naturales;","Prestar los servicios como\nAuxiliar administrativo para el área de Gestión de Desarrollo Local, en los temas de\nInfraestructura, de la Alcaldía local de Sumapaz","Inversión","Bogotá Mejor para Todos",18,{"$f":"IF(ISERROR(VLOOKUP(K194,Eje_Pilar_Prop!$C$2:$E$104,2,FALSE)),\" \",VLOOKUP(K194,Eje_Pilar_Prop!$C$2:$E$104,2,FALSE))","v":"Mejor movilidad para todos"},{"$f":"IF(ISERROR(VLOOKUP(K194,Eje_Pilar_Prop!$C$2:$E$104,3,FALSE)),\" \",VLOOKUP(K194,Eje_Pilar_Prop!$C$2:$E$104,3,FALSE))","v":"Pilar 2 Democracía Urbana"},1364,1020800402,"KRISTIAN EDUARDO ACOSTA ADAMES",10000000,null,null,null,null,10000000,6466667,"2020-08-24","2020-08-24","2021-01-23",150,null,"",null,null,null,null,null,"","x",null,0.64666670000000004,null,{"$f":"IF(SUMPRODUCT((A$14:A194=A194)*(B$14:B194=B194)*(D$14:D194=D194))>1,0,1)","v":1},"Contratos de prestación de servicios","Contratación directa",{"$f":"IF(ISBLANK(G194),1,IFERROR(VLOOKUP(G194,Tipo!$C$12:$C$27,1,FALSE),\"NO\"))","v":"Prestación de servicios profesionales y de apoyo a la gestión, o para la ejecución de trabajos artísticos que sólo puedan encomendarse a determinadas personas naturales;"},"Inversión",{"$f":"IF(ISBLANK(K194),1,IFERROR(VLOOKUP(K194,Eje_Pilar_Prop!C176:C277,1,FALSE),\"NO\"))","v":"NO"},"SECOP II",1,"Bogotá Mejor para Todos"]
["CPS-184-2020",2020,"SECOP II","FDLS-CD-187-2020","Contratos de prestación de servicios","Contratación directa","Prestación de servicios profesionales y de apoyo a la gestión, o para la ejecución de trabajos artísticos que sólo puedan encomendarse a determinadas personas naturales;","Prestar los servicios como\nAuxiliar administrativo para el área de Parque Automotor","Inversión","Bogotá Mejor para Todos",18,{"$f":"IF(ISERROR(VLOOKUP(K195,Eje_Pilar_Prop!$C$2:$E$104,2,FALSE)),\" \",VLOOKUP(K195,Eje_Pilar_Prop!$C$2:$E$104,2,FALSE))","v":"Mejor movilidad para todos"},{"$f":"IF(ISERROR(VLOOKUP(K195,Eje_Pilar_Prop!$C$2:$E$104,3,FALSE)),\" \",VLOOKUP(K195,Eje_Pilar_Prop!$C$2:$E$104,3,FALSE))","v":"Pilar 2 Democracía Urbana"},1364,52558577,"GLORIA ISABEL AGUILERA ACOSTA",12500000,null,null,1,916667,13416667,10916667,"2020-08-20","2020-08-20","2021-01-19",150,null,12,null,null,null,null,null,"","x",null,0.81366460090274284,null,{"$f":"IF(SUMPRODUCT((A$14:A195=A195)*(B$14:B195=B195)*(D$14:D195=D195))>1,0,1)","v":1},"Contratos de prestación de servicios","Contratación directa",{"$f":"IF(ISBLANK(G195),1,IFERROR(VLOOKUP(G195,Tipo!$C$12:$C$27,1,FALSE),\"NO\"))","v":"Prestación de servicios profesionales y de apoyo a la gestión, o para la ejecución de trabajos artísticos que sólo puedan encomendarse a determinadas personas naturales;"},"Inversión",{"$f":"IF(ISBLANK(K195),1,IFERROR(VLOOKUP(K195,Eje_Pilar_Prop!C177:C278,1,FALSE),\"NO\"))","v":"NO"},"SECOP II",1,"Bogotá Mejor para Todos"]
["CPS-185-2020",2020,"SECOP II","FDLS-CD-188-2020","Contratos de prestación de servicios","Contratación directa","Prestación de servicios profesionales y de apoyo a la gestión, o para la ejecución de trabajos artísticos que sólo puedan encomendarse a determinadas personas naturales;","Prestar los servicios\nde apoyo administrativo al despacho del alcalde Local de Sumapaz","Inversión","Bogotá Mejor para Todos",45,{"$f":"IF(ISERROR(VLOOKUP(K196,Eje_Pilar_Prop!$C$2:$E$104,2,FALSE)),\" \",VLOOKUP(K196,Eje_Pilar_Prop!$C$2:$E$104,2,FALSE))","v":"Gobernanza e influencia local, regional e internacional"},{"$f":"IF(ISERROR(VLOOKUP(K196,Eje_Pilar_Prop!$C$2:$E$104,3,FALSE)),\" \",VLOOKUP(K196,Eje_Pilar_Prop!$C$2:$E$104,3,FALSE))","v":"Eje Transversal 4 Gobierno Legitimo, Fortalecimiento Local y Eficiencia"},1375,1075237430,"KAREN SOFIA SILVA PRADA",17500000,null,null,1,1516667,19016667,12016667,"2020-08-18","2020-08-18","2021-01-17",150,null,14,null,null,null,null,null,"","x",null,0.631901846943,null,{"$f":"IF(SUMPRODUCT((A$14:A196=A196)*(B$14:B196=B196)*(D$14:D196=D196))>1,0,1)","v":1},"Contratos de prestación de servicios","Contratación directa",{"$f":"IF(ISBLANK(G196),1,IFERROR(VLOOKUP(G196,Tipo!$C$12:$C$27,1,FALSE),\"NO\"))","v":"Prestación de servicios profesionales y de apoyo a la gestión, o para la ejecución de trabajos artísticos que sólo puedan encomendarse a determinadas personas naturales;"},"Inversión",{"$f":"IF(ISBLANK(K196),1,IFERROR(VLOOKUP(K196,Eje_Pilar_Prop!C178:C279,1,FALSE),\"NO\"))","v":"NO"},"SECOP II",1,"Bogotá Mejor para Todos"]
["CPS-186-2020",2020,"SECOP II","FDLS-CD-189-2020","Contratos de prestación de servicios","Contratación directa","Prestación de servicios profesionales y de apoyo a la gestión, o para la ejecución de trabajos artísticos que sólo puedan encomendarse a determinadas personas naturales;","Prestar sus servicios profesionales al Almacén del Fondo de Desarrollo Local de Sumapaz. ","Inversión","Bogotá Mejor para Todos",45,{"$f":"IF(ISERROR(VLOOKUP(K197,Eje_Pilar_Prop!$C$2:$E$104,2,FALSE)),\" \",VLOOKUP(K197,Eje_Pilar_Prop!$C$2:$E$104,2,FALSE))","v":"Gobernanza e influencia local, regional e internacional"},{"$f":"IF(ISERROR(VLOOKUP(K197,Eje_Pilar_Prop!$C$2:$E$104,3,FALSE)),\" \",VLOOKUP(K197,Eje_Pilar_Prop!$C$2:$E$104,3,FALSE))","v":"Eje Transversal 4 Gobierno Legitimo, Fortalecimiento Local y Eficiencia"},1375,1053803005,"YEINER GARCIA MARIN",21000000,null,null,null,null,21000000,18200000,"2020-08-21","2020-08-21","2021-01-20",150,null,"",null,null,null,null,null,"","x",null,0.8666666666666667,null,{"$f":"IF(SUMPRODUCT((A$14:A197=A197)*(B$14:B197=B197)*(D$14:D197=D197))>1,0,1)","v":1},"Contratos de prestación de servicios","Contratación directa",{"$f":"IF(ISBLANK(G197),1,IFERROR(VLOOKUP(G197,Tipo!$C$12:$C$27,1,FALSE),\"NO\"))","v":"Prestación de servicios profesionales y de apoyo a la gestión, o para la ejecución de trabajos artísticos que sólo puedan encomendarse a determinadas personas naturales;"},"Inversión",{"$f":"IF(ISBLANK(K197),1,IFERROR(VLOOKUP(K197,Eje_Pilar_Prop!C179:C280,1,FALSE),\"NO\"))","v":"NO"},"SECOP II",1,"Bogotá Mejor para Todos"]
["CPS-187-2020",2020,"SECOP II","FDLS-CD-190-2020","Contratos de prestación de servicios","Contratación directa","Prestación de servicios profesionales y de apoyo a la gestión, o para la ejecución de trabajos artísticos que sólo puedan encomendarse a determinadas personas naturales;","PRESTAR SUS SERVICIOS PROFESIONALES DE APOYO AL ÁREA DE GESTIÓN DE DESARROLLO\nLOCAL DE LA ALCALDÍA LOCAL DE SUMAPAZ","Inversión","Bogotá Mejor para Todos",45,{"$f":"IF(ISERROR(VLOOKUP(K198,Eje_Pilar_Prop!$C$2:$E$104,2,FALSE)),\" \",VLOOKUP(K198,Eje_Pilar_Prop!$C$2:$E$104,2,FALSE))","v":"Gobernanza e influencia local, regional e internacional"},{"$f":"IF(ISERROR(VLOOKUP(K198,Eje_Pilar_Prop!$C$2:$E$104,3,FALSE)),\" \",VLOOKUP(K198,Eje_Pilar_Prop!$C$2:$E$104,3,FALSE))","v":"Eje Transversal 4 Gobierno Legitimo, Fortalecimiento Local y Eficiencia"},1375,52526839,"ANDREA DEL PILAR RAMIREZ NEUTO",19350000,null,null,null,null,19350000,12126000,"2020-08-27","2020-08-27","2021-01-26",150,null,"",null,null,null,null,null,"","x",null,0.62666666666666671,null,{"$f":"IF(SUMPRODUCT((A$14:A198=A198)*(B$14:B198=B198)*(D$14:D198=D198))>1,0,1)","v":1},"Contratos de prestación de servicios","Contratación directa",{"$f":"IF(ISBLANK(G198),1,IFERROR(VLOOKUP(G198,Tipo!$C$12:$C$27,1,FALSE),\"NO\"))","v":"Prestación de servicios profesionales y de apoyo a la gestión, o para la ejecución de trabajos artísticos que sólo puedan encomendarse a determinadas personas naturales;"},"Inversión",{"$f":"IF(ISBLANK(K198),1,IFERROR(VLOOKUP(K198,Eje_Pilar_Prop!C180:C281,1,FALSE),\"NO\"))","v":"NO"},"SECOP II",1,"Bogotá Mejor para Todos"]
["CPS-188-2020",2020,"SECOP II","FDLS-CD-191-2020","Contratos de prestación de servicios","Contratación directa","Prestación de servicios profesionales y de apoyo a la gestión, o para la ejecución de trabajos artísticos que sólo puedan encomendarse a determinadas personas naturales;","Prestar los servicios como Auxiliar administrativo para el Área de Gestión de Desarrollo Local de la Alcaldía Local de Sumapaz","Inversión","Bogotá Mejor para Todos",45,{"$f":"IF(ISERROR(VLOOKUP(K199,Eje_Pilar_Prop!$C$2:$E$104,2,FALSE)),\" \",VLOOKUP(K199,Eje_Pilar_Prop!$C$2:$E$104,2,FALSE))","v":"Gobernanza e influencia local, regional e internacional"},{"$f":"IF(ISERROR(VLOOKUP(K199,Eje_Pilar_Prop!$C$2:$E$104,3,FALSE)),\" \",VLOOKUP(K199,Eje_Pilar_Prop!$C$2:$E$104,3,FALSE))","v":"Eje Transversal 4 Gobierno Legitimo, Fortalecimiento Local y Eficiencia"},1375,1032485087,"JUAN PABLO ROA CUERVO",10000000,null,null,1,3416667,13416667,10916667,"2020-08-20","2020-08-20","2020-12-19",120,null,42,null,null,null,null,null,"","x",null,0.81366460090274284,null,{"$f":"IF(SUMPRODUCT((A$14:A199=A199)*(B$14:B199=B199)*(D$14:D199=D199))>1,0,1)","v":1},"Contratos de prestación de servicios","Contratación directa",{"$f":"IF(ISBLANK(G199),1,IFERROR(VLOOKUP(G199,Tipo!$C$12:$C$27,1,FALSE),\"NO\"))","v":"Prestación de servicios profesionales y de apoyo a la gestión, o para la ejecución de trabajos artísticos que sólo puedan encomendarse a determinadas personas naturales;"},"Inversión",{"$f":"IF(ISBLANK(K199),1,IFERROR(VLOOKUP(K199,Eje_Pilar_Prop!C181:C282,1,FALSE),\"NO\"))","v":"NO"},"SECOP II",1,"Bogotá Mejor para Todos"]
["CPS-189-2020",2020,"SECOP II","FDLS-CD-192-2020","Contratos de prestación de servicios","Contratación directa","Prestación de servicios profesionales y de apoyo a la gestión, o para la ejecución de trabajos artísticos que sólo puedan encomendarse a determinadas personas naturales;","Prestar los servicios de apoyo a la gestión documental de la Alcaldía Local en la implementación de los procesos de clasificación, ordenación, selección natural, foliación, identificación, levantamiento de inventarios, almacenamiento y aplicación de protocolos de eliminación y transferencias documentales","Inversión","Bogotá Mejor para Todos",45,{"$f":"IF(ISERROR(VLOOKUP(K200,Eje_Pilar_Prop!$C$2:$E$104,2,FALSE)),\" \",VLOOKUP(K200,Eje_Pilar_Prop!$C$2:$E$104,2,FALSE))","v":"Gobernanza e influencia local, regional e internacional"},{"$f":"IF(ISERROR(VLOOKUP(K200,Eje_Pilar_Prop!$C$2:$E$104,3,FALSE)),\" \",VLOOKUP(K200,Eje_Pilar_Prop!$C$2:$E$104,3,FALSE))","v":"Eje Transversal 4 Gobierno Legitimo, Fortalecimiento Local y Eficiencia"},1375,1012413960,"JANEIRY ROMERO HERNANDEZ",10000000,null,null,1,3083333,13083333,8083333,"2020-08-24","2020-08-24","2020-12-23",120,null,38,null,null,null,null,null,"","x",null,0.61783438516775502,null,{"$f":"IF(SUMPRODUCT((A$14:A200=A200)*(B$14:B200=B200)*(D$14:D200=D200))>1,0,1)","v":1},"Contratos de prestación de servicios","Contratación directa",{"$f":"IF(ISBLANK(G200),1,IFERROR(VLOOKUP(G200,Tipo!$C$12:$C$27,1,FALSE),\"NO\"))","v":"Prestación de servicios profesionales y de apoyo a la gestión, o para la ejecución de trabajos artísticos que sólo puedan encomendarse a determinadas personas naturales;"},"Inversión",{"$f":"IF(ISBLANK(K200),1,IFERROR(VLOOKUP(K200,Eje_Pilar_Prop!C182:C283,1,FALSE),\"NO\"))","v":"NO"},"SECOP II",1,"Bogotá Mejor para Todos"]
["CPS-190-2020",2020,"SECOP II","FDLS-CD-193-2020","Contratos de prestación de servicios","Contratación directa","Prestación de servicios profesionales y de apoyo a la gestión, o para la ejecución de trabajos artísticos que sólo puedan encomendarse a determinadas personas naturales;","“Prestar los servicios\nprofesionales para la operación, prestación, seguimiento y cumplimiento de los\nprocedimientos administrativos, operativos y programáticos del Servicio Apoyo\nEconómico Tipo C, que contribuyan a la garantía de los derechos de la población mayor\nen el marco de la Política Pública Social para el Envejecimiento y la Vejez 1 en el\nDistrito Capital a cargo de la Alcaldía Local de Sumapaz”.","Inversión","Bogotá Mejor para Todos",3,{"$f":"IF(ISERROR(VLOOKUP(K201,Eje_Pilar_Prop!$C$2:$E$104,2,FALSE)),\" \",VLOOKUP(K201,Eje_Pilar_Prop!$C$2:$E$104,2,FALSE))","v":"Igualdad y autonomía para una Bogotá incluyente"},{"$f":"IF(ISERROR(VLOOKUP(K201,Eje_Pilar_Prop!$C$2:$E$104,3,FALSE)),\" \",VLOOKUP(K201,Eje_Pilar_Prop!$C$2:$E$104,3,FALSE))","v":"Pilar 1 Igualdad de Calidad de Vida"},1334,52372021,"MILENY HILARION RIOS",16800000,null,null,1,980000,17780000,13580000,"2020-08-24","2020-08-24","2020-12-23",120,null,8,null,null,null,null,null,"","x",null,0.76377952755905509,null,{"$f":"IF(SUMPRODUCT((A$14:A201=A201)*(B$14:B201=B201)*(D$14:D201=D201))>1,0,1)","v":1},"Contratos de prestación de servicios","Contratación directa",{"$f":"IF(ISBLANK(G201),1,IFERROR(VLOOKUP(G201,Tipo!$C$12:$C$27,1,FALSE),\"NO\"))","v":"Prestación de servicios profesionales y de apoyo a la gestión, o para la ejecución de trabajos artísticos que sólo puedan encomendarse a determinadas personas naturales;"},"Inversión",{"$f":"IF(ISBLANK(K201),1,IFERROR(VLOOKUP(K201,Eje_Pilar_Prop!C183:C284,1,FALSE),\"NO\"))","v":"NO"},"SECOP II",1,"Bogotá Mejor para Todos"]
["CPS-191-2020",2020,"SECOP II","FDLS-CD-194-2020","Contratos de prestación de servicios","Contratación directa","Prestación de servicios profesionales y de apoyo a la gestión, o para la ejecución de trabajos artísticos que sólo puedan encomendarse a determinadas personas naturales;","“Prestar los servicios\nprofesionales para apoyar la formulación, gestión y seguimiento de las actividades\nenfocadas a promover el desarrollo rural sostenible en la localidad de Sumapaz”","Inversión","Bogotá Mejor para Todos",45,{"$f":"IF(ISERROR(VLOOKUP(K202,Eje_Pilar_Prop!$C$2:$E$104,2,FALSE)),\" \",VLOOKUP(K202,Eje_Pilar_Prop!$C$2:$E$104,2,FALSE))","v":"Gobernanza e influencia local, regional e internacional"},{"$f":"IF(ISERROR(VLOOKUP(K202,Eje_Pilar_Prop!$C$2:$E$104,3,FALSE)),\" \",VLOOKUP(K202,Eje_Pilar_Prop!$C$2:$E$104,3,FALSE))","v":"Eje Transversal 4 Gobierno Legitimo, Fortalecimiento Local y Eficiencia"},1375,79266150,"GUILLERMO ENRIQUE MONTAÑO CALDERON",27500000,null,null,null,null,27500000,17783333,"2020-08-24","2020-08-24","2021-01-23",150,null,"",null,null,null,null,null,"","x",null,0.64666665454545458,null,{"$f":"IF(SUMPRODUCT((A$14:A202=A202)*(B$14:B202=B202)*(D$14:D202=D202))>1,0,1)","v":1},"Contratos de prestación de servicios","Contratación directa",{"$f":"IF(ISBLANK(G202),1,IFERROR(VLOOKUP(G202,Tipo!$C$12:$C$27,1,FALSE),\"NO\"))","v":"Prestación de servicios profesionales y de apoyo a la gestión, o para la ejecución de trabajos artísticos que sólo puedan encomendarse a determinadas personas naturales;"},"Inversión",{"$f":"IF(ISBLANK(K202),1,IFERROR(VLOOKUP(K202,Eje_Pilar_Prop!C184:C285,1,FALSE),\"NO\"))","v":"NO"},"SECOP II",1,"Bogotá Mejor para Todos"]
["CPS-192-2020",2020,"SECOP II","FDLS-CD-195-2020","Contratos de prestación de servicios","Contratación directa","Prestación de servicios profesionales y de apoyo a la gestión, o para la ejecución de trabajos artísticos que sólo puedan encomendarse a determinadas personas naturales;","“Prestar los servicios\nprofesionales jurídicos para apoyar los asuntos legales, contractuales y pos-\ncontractuales de la alcaldía local de Sumapaz”.","Inversión","Bogotá Mejor para Todos",45,{"$f":"IF(ISERROR(VLOOKUP(K203,Eje_Pilar_Prop!$C$2:$E$104,2,FALSE)),\" \",VLOOKUP(K203,Eje_Pilar_Prop!$C$2:$E$104,2,FALSE))","v":"Gobernanza e influencia local, regional e internacional"},{"$f":"IF(ISERROR(VLOOKUP(K203,Eje_Pilar_Prop!$C$2:$E$104,3,FALSE)),\" \",VLOOKUP(K203,Eje_Pilar_Prop!$C$2:$E$104,3,FALSE))","v":"Eje Transversal 4 Gobierno Legitimo, Fortalecimiento Local y Eficiencia"},1375,53122277,"LUISA FERNANDA SALAZAR JIMENEZ",22000000,null,null,1,6783333,28783333,23283333,"2020-08-24","2020-08-24","2020-12-23",120,null,38,null,null,null,null,null,"","x",null,0.80891719523934213,null,{"$f":"IF(SUMPRODUCT((A$14:A203=A203)*(B$14:B203=B203)*(D$14:D203=D203))>1,0,1)","v":1},"Contratos de prestación de servicios","Contratación directa",{"$f":"IF(ISBLANK(G203),1,IFERROR(VLOOKUP(G203,Tipo!$C$12:$C$27,1,FALSE),\"NO\"))","v":"Prestación de servicios profesionales y de apoyo a la gestión, o para la ejecución de trabajos artísticos que sólo puedan encomendarse a determinadas personas naturales;"},"Inversión",{"$f":"IF(ISBLANK(K203),1,IFERROR(VLOOKUP(K203,Eje_Pilar_Prop!C185:C286,1,FALSE),\"NO\"))","v":"NO"},"SECOP II",1,"Bogotá Mejor para Todos"]
["CPS-193-2020",2020,"SECOP II","FDLS-CD-196-2020","Contratos de prestación de servicios","Contratación directa","Prestación de servicios profesionales y de apoyo a la gestión, o para la ejecución de trabajos artísticos que sólo puedan encomendarse a determinadas personas naturales;","“Prestar los servicios\nde apoyo a la gestión documental de la Alcaldía Local en la implementación de\nlos procesos de clasificación, ordenación, selección natural, foliación,\nidentificación, levantamiento de inventarios, almacenamiento y aplicación de\nprotocolos de eliminación y transferencias documentales”","Inversión","Bogotá Mejor para Todos",45,{"$f":"IF(ISERROR(VLOOKUP(K204,Eje_Pilar_Prop!$C$2:$E$104,2,FALSE)),\" \",VLOOKUP(K204,Eje_Pilar_Prop!$C$2:$E$104,2,FALSE))","v":"Gobernanza e influencia local, regional e internacional"},{"$f":"IF(ISERROR(VLOOKUP(K204,Eje_Pilar_Prop!$C$2:$E$104,3,FALSE)),\" \",VLOOKUP(K204,Eje_Pilar_Prop!$C$2:$E$104,3,FALSE))","v":"Eje Transversal 4 Gobierno Legitimo, Fortalecimiento Local y Eficiencia"},1375,51876508,"DORIS CRISTINA GARCIA ADARVE CESION A ERIKA CONSUELO MICAN VASQUEZ (CC:1022963853)",10000000,null,null,null,null,10000000,8333333,"2020-08-21","2020-08-21","2020-12-20",120,null,"",null,null,null,null,null,"","x",null,0.83333330000000005,null,{"$f":"IF(SUMPRODUCT((A$14:A204=A204)*(B$14:B204=B204)*(D$14:D204=D204))>1,0,1)","v":1},"Contratos de prestación de servicios","Contratación directa",{"$f":"IF(ISBLANK(G204),1,IFERROR(VLOOKUP(G204,Tipo!$C$12:$C$27,1,FALSE),\"NO\"))","v":"Prestación de servicios profesionales y de apoyo a la gestión, o para la ejecución de trabajos artísticos que sólo puedan encomendarse a determinadas personas naturales;"},"Inversión",{"$f":"IF(ISBLANK(K204),1,IFERROR(VLOOKUP(K204,Eje_Pilar_Prop!C186:C287,1,FALSE),\"NO\"))","v":"NO"},"SECOP II",1,"Bogotá Mejor para Todos"]
["CPS-194-2020",2020,"SECOP II","FDLS-197-2020","Contratos de prestación de servicios","Contratación directa","Prestación de servicios profesionales y de apoyo a la gestión, o para la ejecución de trabajos artísticos que sólo puedan encomendarse a determinadas personas naturales;","Prestar los servicios\nprofesionales especializados para realizar la formulación, evaluación, seguimiento y\ncontrol de proyectos de inversión y gastos de funcionamiento del Fondo de Desarrollo\nLocal de Sumapaz","Inversión","Bogotá Mejor para Todos",45,{"$f":"IF(ISERROR(VLOOKUP(K205,Eje_Pilar_Prop!$C$2:$E$104,2,FALSE)),\" \",VLOOKUP(K205,Eje_Pilar_Prop!$C$2:$E$104,2,FALSE))","v":"Gobernanza e influencia local, regional e internacional"},{"$f":"IF(ISERROR(VLOOKUP(K205,Eje_Pilar_Prop!$C$2:$E$104,3,FALSE)),\" \",VLOOKUP(K205,Eje_Pilar_Prop!$C$2:$E$104,3,FALSE))","v":"Eje Transversal 4 Gobierno Legitimo, Fortalecimiento Local y Eficiencia"},1375,79779833,"MANUEL JOSE CASTAÑEDA DAGUER",29600000,null,null,null,null,29600000,0,"2020-08-24","2020-08-24","2020-12-23",120,null,"",null,null,null,null,null,"","x",null,0,null,{"$f":"IF(SUMPRODUCT((A$14:A205=A205)*(B$14:B205=B205)*(D$14:D205=D205))>1,0,1)","v":1},"Contratos de prestación de servicios","Contratación directa",{"$f":"IF(ISBLANK(G205),1,IFERROR(VLOOKUP(G205,Tipo!$C$12:$C$27,1,FALSE),\"NO\"))","v":"Prestación de servicios profesionales y de apoyo a la gestión, o para la ejecución de trabajos artísticos que sólo puedan encomendarse a determinadas personas naturales;"},"Inversión",{"$f":"IF(ISBLANK(K205),1,IFERROR(VLOOKUP(K205,Eje_Pilar_Prop!C187:C288,1,FALSE),\"NO\"))","v":"NO"},"SECOP II",1,"Bogotá Mejor para Todos"]
["CPS-195-2020",2020,"SECOP II","FDLS-CD-198-2020","Contratos de prestación de servicios","Contratación directa","Prestación de servicios profesionales y de apoyo a la gestión, o para la ejecución de trabajos artísticos que sólo puedan encomendarse a determinadas personas naturales;","Prestar sus servicios\nprofesionales como administrador de la Red de la Alcaldía Local de Sumapaz y realizar\nla actualización de los datos en los diferentes sistemas de información","Inversión","Bogotá Mejor para Todos",45,{"$f":"IF(ISERROR(VLOOKUP(K206,Eje_Pilar_Prop!$C$2:$E$104,2,FALSE)),\" \",VLOOKUP(K206,Eje_Pilar_Prop!$C$2:$E$104,2,FALSE))","v":"Gobernanza e influencia local, regional e internacional"},{"$f":"IF(ISERROR(VLOOKUP(K206,Eje_Pilar_Prop!$C$2:$E$104,3,FALSE)),\" \",VLOOKUP(K206,Eje_Pilar_Prop!$C$2:$E$104,3,FALSE))","v":"Eje Transversal 4 Gobierno Legitimo, Fortalecimiento Local y Eficiencia"},1375,77183787,"YESID AFRANIO AMARIS OSPINO",22000000,null,null,1,6783333,28783333,23283333,"2020-08-24","2020-08-24","2020-12-23",120,null,38,null,null,null,null,null,"","x",null,0.80891719523934213,null,{"$f":"IF(SUMPRODUCT((A$14:A206=A206)*(B$14:B206=B206)*(D$14:D206=D206))>1,0,1)","v":1},"Contratos de prestación de servicios","Contratación directa",{"$f":"IF(ISBLANK(G206),1,IFERROR(VLOOKUP(G206,Tipo!$C$12:$C$27,1,FALSE),\"NO\"))","v":"Prestación de servicios profesionales y de apoyo a la gestión, o para la ejecución de trabajos artísticos que sólo puedan encomendarse a determinadas personas naturales;"},"Inversión",{"$f":"IF(ISBLANK(K206),1,IFERROR(VLOOKUP(K206,Eje_Pilar_Prop!C188:C289,1,FALSE),\"NO\"))","v":"NO"},"SECOP II",1,{"$f":"IF(ISBLANK(J206),1,IFERROR(VLOOKUP(J206,pdd,1,FALSE),\"NO\"))","v":"Bogotá Mejor para Todos"}]
["CPS-196-2020",2020,"SECOP II","FDLS-CD-199-2020","Contratos de prestación de servicios","Contratación directa","Prestación de servicios profesionales y de apoyo a la gestión, o para la ejecución de trabajos artísticos que sólo puedan encomendarse a determinadas personas naturales;","Prestar los servicios\nde apoyo a la gestión documental de la Alcaldía Local en la implementación de\nlos procesos de clasificación, ordenación, selección natural, foliación,\nidentificación, levantamiento de inventarios, almacenamiento y aplicación de\nprotocolos de eliminación y transferencias documentales","Inversión","Bogotá Mejor para Todos",45,{"$f":"IF(ISERROR(VLOOKUP(K207,Eje_Pilar_Prop!$C$2:$E$104,2,FALSE)),\" \",VLOOKUP(K207,Eje_Pilar_Prop!$C$2:$E$104,2,FALSE))","v":"Gobernanza e influencia local, regional e internacional"},{"$f":"IF(ISERROR(VLOOKUP(K207,Eje_Pilar_Prop!$C$2:$E$104,3,FALSE)),\" \",VLOOKUP(K207,Eje_Pilar_Prop!$C$2:$E$104,3,FALSE))","v":"Eje Transversal 4 Gobierno Legitimo, Fortalecimiento Local y Eficiencia"},1375,1073606208,"DIANA MERALDA OVIEDO\nRODRIGUEZ",10000000,null,null,1,3083333,13083333,8033333,"2020-08-24","2020-08-24","23/12/202",120,null,38,null,null,null,null,null,"","x",null,0.6140127290194326,null,{"$f":"IF(SUMPRODUCT((A$14:A207=A207)*(B$14:B207=B207)*(D$14:D207=D207))>1,0,1)","v":1},"Contratos de prestación de servicios","Contratación directa",{"$f":"IF(ISBLANK(G207),1,IFERROR(VLOOKUP(G207,Tipo!$C$12:$C$27,1,FALSE),\"NO\"))","v":"Prestación de servicios profesionales y de apoyo a la gestión, o para la ejecución de trabajos artísticos que sólo puedan encomendarse a determinadas personas naturales;"},"Inversión",{"$f":"IF(ISBLANK(K207),1,IFERROR(VLOOKUP(K207,Eje_Pilar_Prop!C189:C290,1,FALSE),\"NO\"))","v":"NO"},"SECOP II",1,"Bogotá Mejor para Todos"]
["CPS-197-2020",2020,"SECOP II","FDLS-CD-200-2020","Contratos de prestación de servicios","Contratación directa","Prestación de servicios profesionales y de apoyo a la gestión, o para la ejecución de trabajos artísticos que sólo puedan encomendarse a determinadas personas naturales;","Prestar sus servicios\nprofesionales de apoyo al Área de Gestión de Desarrollo Local en los temas contables y\npresupuestales del fondo de desarrollo local de Sumapaz","Inversión","Bogotá Mejor para Todos",45,{"$f":"IF(ISERROR(VLOOKUP(K208,Eje_Pilar_Prop!$C$2:$E$104,2,FALSE)),\" \",VLOOKUP(K208,Eje_Pilar_Prop!$C$2:$E$104,2,FALSE))","v":"Gobernanza e influencia local, regional e internacional"},{"$f":"IF(ISERROR(VLOOKUP(K208,Eje_Pilar_Prop!$C$2:$E$104,3,FALSE)),\" \",VLOOKUP(K208,Eje_Pilar_Prop!$C$2:$E$104,3,FALSE))","v":"Eje Transversal 4 Gobierno Legitimo, Fortalecimiento Local y Eficiencia"},1375,79639287,"ELKIN RAUL OSWALDO CASTAÑEDA DURAN",24000000,null,null,1,7400000,31400000,19400000,"2020-08-24","2020-08-24","2020-12-23",120,null,38,null,null,null,null,null,"","x",null,0.61783439490445857,null,{"$f":"IF(SUMPRODUCT((A$14:A208=A208)*(B$14:B208=B208)*(D$14:D208=D208))>1,0,1)","v":1},"Contratos de prestación de servicios","Contratación directa",{"$f":"IF(ISBLANK(G208),1,IFERROR(VLOOKUP(G208,Tipo!$C$12:$C$27,1,FALSE),\"NO\"))","v":"Prestación de servicios profesionales y de apoyo a la gestión, o para la ejecución de trabajos artísticos que sólo puedan encomendarse a determinadas personas naturales;"},"Inversión",{"$f":"IF(ISBLANK(K208),1,IFERROR(VLOOKUP(K208,Eje_Pilar_Prop!C190:C291,1,FALSE),\"NO\"))","v":"NO"},"SECOP II",1,"Bogotá Mejor para Todos"]
["CPS-198-2020",2020,"SECOP II","FDLS-CD-201-2020","Contratos de prestación de servicios","Contratación directa","Prestación de servicios profesionales y de apoyo a la gestión, o para la ejecución de trabajos artísticos que sólo puedan encomendarse a determinadas personas naturales;","PRESTAR SUS SERVICIOS PROFESIONALES AL ÁREA GESTIÓN DE DESARROLLO LOCAL, PARA\nREALIZA LA FORMULACIÓN Y SEGUIMIENTO A LOS DIFERENTES PROCESOS RELACIONADOS CON\nLA INFRAESTRUCTURA DE LA LOCALIDAD DE SUMAPAZ","Inversión","Bogotá Mejor para Todos",18,{"$f":"IF(ISERROR(VLOOKUP(K209,Eje_Pilar_Prop!$C$2:$E$104,2,FALSE)),\" \",VLOOKUP(K209,Eje_Pilar_Prop!$C$2:$E$104,2,FALSE))","v":"Mejor movilidad para todos"},{"$f":"IF(ISERROR(VLOOKUP(K209,Eje_Pilar_Prop!$C$2:$E$104,3,FALSE)),\" \",VLOOKUP(K209,Eje_Pilar_Prop!$C$2:$E$104,3,FALSE))","v":"Pilar 2 Democracía Urbana"},1364,1032443028,"LUIS ESTEBAN MAHECHA ESPITIA",22000000,null,null,1,6783333,28783333,23283333,"2020-08-24","2020-08-24","2020-12-23",120,null,38,null,null,null,null,null,"","x",null,0.80891719523934213,null,{"$f":"IF(SUMPRODUCT((A$14:A209=A209)*(B$14:B209=B209)*(D$14:D209=D209))>1,0,1)","v":1},"Contratos de prestación de servicios","Contratación directa",{"$f":"IF(ISBLANK(G209),1,IFERROR(VLOOKUP(G209,Tipo!$C$12:$C$27,1,FALSE),\"NO\"))","v":"Prestación de servicios profesionales y de apoyo a la gestión, o para la ejecución de trabajos artísticos que sólo puedan encomendarse a determinadas personas naturales;"},"Inversión",{"$f":"IF(ISBLANK(K209),1,IFERROR(VLOOKUP(K209,Eje_Pilar_Prop!C191:C292,1,FALSE),\"NO\"))","v":"NO"},"SECOP II",1,"Bogotá Mejor para Todos"]
["CPS-199-2020",2020,"SECOP II","FDLS-CD-202-2020","Contratos de prestación de servicios","Contratación directa","Prestación de servicios profesionales y de apoyo a la gestión, o para la ejecución de trabajos artísticos que sólo puedan encomendarse a determinadas personas naturales;","Prestar sus servicios\nprofesionales al Área Gestión de Desarrollo Local, relacionados con los proyectos y\ntemas técnicos y operativos del parque automotor de propiedad del FDLS","Inversión","Bogotá Mejor para Todos",18,{"$f":"IF(ISERROR(VLOOKUP(K210,Eje_Pilar_Prop!$C$2:$E$104,2,FALSE)),\" \",VLOOKUP(K210,Eje_Pilar_Prop!$C$2:$E$104,2,FALSE))","v":"Mejor movilidad para todos"},{"$f":"IF(ISERROR(VLOOKUP(K210,Eje_Pilar_Prop!$C$2:$E$104,3,FALSE)),\" \",VLOOKUP(K210,Eje_Pilar_Prop!$C$2:$E$104,3,FALSE))","v":"Pilar 2 Democracía Urbana"},1364,1019076465,"EDILSON  ARGEMIRO PORRAS CABALLERO",22000000,null,null,1,6783333,28783333,0,"2020-08-24","2020-08-24","2020-12-23",120,null,38,null,null,null,null,null,"","x",null,0,null,{"$f":"IF(SUMPRODUCT((A$14:A210=A210)*(B$14:B210=B210)*(D$14:D210=D210))>1,0,1)","v":1},"Contratos de prestación de servicios","Contratación directa",{"$f":"IF(ISBLANK(G210),1,IFERROR(VLOOKUP(G210,Tipo!$C$12:$C$27,1,FALSE),\"NO\"))","v":"Prestación de servicios profesionales y de apoyo a la gestión, o para la ejecución de trabajos artísticos que sólo puedan encomendarse a determinadas personas naturales;"},"Inversión",{"$f":"IF(ISBLANK(K210),1,IFERROR(VLOOKUP(K210,Eje_Pilar_Prop!C192:C293,1,FALSE),\"NO\"))","v":"NO"},"SECOP II",1,"Bogotá Mejor para Todos"]
["CPS-200-2020",2020,"SECOP II","FDLS-203-2020","Contratos de prestación de servicios","Contratación directa","Prestación de servicios profesionales y de apoyo a la gestión, o para la ejecución de trabajos artísticos que sólo puedan encomendarse a determinadas personas naturales;","Prestar los servicios\nprofesionales jurídicos para apoyar los asuntos legales, contractuales y pos-\ncontractuales de la alcaldía local de Sumapaz","Inversión","Bogotá Mejor para Todos",45,{"$f":"IF(ISERROR(VLOOKUP(K211,Eje_Pilar_Prop!$C$2:$E$104,2,FALSE)),\" \",VLOOKUP(K211,Eje_Pilar_Prop!$C$2:$E$104,2,FALSE))","v":"Gobernanza e influencia local, regional e internacional"},{"$f":"IF(ISERROR(VLOOKUP(K211,Eje_Pilar_Prop!$C$2:$E$104,3,FALSE)),\" \",VLOOKUP(K211,Eje_Pilar_Prop!$C$2:$E$104,3,FALSE))","v":"Eje Transversal 4 Gobierno Legitimo, Fortalecimiento Local y Eficiencia"},1375,1020796899,"MARIA CAMILA DIAZ MENCO",22000000,null,null,1,6783333,28783333,23283333,"2020-08-24","2020-08-24","2020-12-23",120,null,38,null,null,null,null,null,"","x",null,0.80891719523934213,null,{"$f":"IF(SUMPRODUCT((A$14:A211=A211)*(B$14:B211=B211)*(D$14:D211=D211))>1,0,1)","v":1},"Contratos de prestación de servicios","Contratación directa",{"$f":"IF(ISBLANK(G211),1,IFERROR(VLOOKUP(G211,Tipo!$C$12:$C$27,1,FALSE),\"NO\"))","v":"Prestación de servicios profesionales y de apoyo a la gestión, o para la ejecución de trabajos artísticos que sólo puedan encomendarse a determinadas personas naturales;"},"Inversión",{"$f":"IF(ISBLANK(K211),1,IFERROR(VLOOKUP(K211,Eje_Pilar_Prop!C193:C294,1,FALSE),\"NO\"))","v":"NO"},"SECOP II",1,"Bogotá Mejor para Todos"]
["CPS-201-2020",2020,"SECOP II","FDLS-CD-204-2020","Contratos de prestación de servicios","Contratación directa","Prestación de servicios profesionales y de apoyo a la gestión, o para la ejecución de trabajos artísticos que sólo puedan encomendarse a determinadas personas naturales;","“PRESTAR LOS SERVICIOS COMO CONDUCTOR DE VEHÍCULOS LIVIANOS DE PROPIEDAD DEL FONDO DE\nDESARROLLO LOCAL DE SUMAPAZ","Inversión","Bogotá Mejor para Todos",45,{"$f":"IF(ISERROR(VLOOKUP(K212,Eje_Pilar_Prop!$C$2:$E$104,2,FALSE)),\" \",VLOOKUP(K212,Eje_Pilar_Prop!$C$2:$E$104,2,FALSE))","v":"Gobernanza e influencia local, regional e internacional"},{"$f":"IF(ISERROR(VLOOKUP(K212,Eje_Pilar_Prop!$C$2:$E$104,3,FALSE)),\" \",VLOOKUP(K212,Eje_Pilar_Prop!$C$2:$E$104,3,FALSE))","v":"Eje Transversal 4 Gobierno Legitimo, Fortalecimiento Local y Eficiencia"},1375,79763739,"WILLIAN FERNANDO PORRAS LOPEZ",12500000,null,null,null,null,12500000,10583333,"2020-08-24","2020-08-24","2021-01-23",150,null,"",null,null,null,null,null,"","x",null,0.84666664000000003,null,{"$f":"IF(SUMPRODUCT((A$14:A212=A212)*(B$14:B212=B212)*(D$14:D212=D212))>1,0,1)","v":1},"Contratos de prestación de servicios","Contratación directa",{"$f":"IF(ISBLANK(G212),1,IFERROR(VLOOKUP(G212,Tipo!$C$12:$C$27,1,FALSE),\"NO\"))","v":"Prestación de servicios profesionales y de apoyo a la gestión, o para la ejecución de trabajos artísticos que sólo puedan encomendarse a determinadas personas naturales;"},"Inversión",{"$f":"IF(ISBLANK(K212),1,IFERROR(VLOOKUP(K212,Eje_Pilar_Prop!C194:C295,1,FALSE),\"NO\"))","v":"NO"},"SECOP II",1,"Bogotá Mejor para Todos"]
["CPS-202-2020",2020,"SECOP II","FDLS-CD-205-2020","Contratos de prestación de servicios","Contratación directa","Prestación de servicios profesionales y de apoyo a la gestión, o para la ejecución de trabajos artísticos que sólo puedan encomendarse a determinadas personas naturales;","Prestar los servicios\nprofesionales para apoyar la formulación, gestión y seguimiento de los Proyectos de\nInversión de la Alcaldía Local de Sumapaz que le sean asignados","Inversión","Bogotá Mejor para Todos",45,{"$f":"IF(ISERROR(VLOOKUP(K213,Eje_Pilar_Prop!$C$2:$E$104,2,FALSE)),\" \",VLOOKUP(K213,Eje_Pilar_Prop!$C$2:$E$104,2,FALSE))","v":"Gobernanza e influencia local, regional e internacional"},{"$f":"IF(ISERROR(VLOOKUP(K213,Eje_Pilar_Prop!$C$2:$E$104,3,FALSE)),\" \",VLOOKUP(K213,Eje_Pilar_Prop!$C$2:$E$104,3,FALSE))","v":"Eje Transversal 4 Gobierno Legitimo, Fortalecimiento Local y Eficiencia"},1375,1048205442,"ROSA MARIA MENDOZA DE LOS REYES",22000000,null,null,1,6783333,28783333,17783333,"2020-08-24","2020-08-24","2020-12-23",120,null,38,null,null,null,null,null,"","x",null,0.61783439047868427,null,{"$f":"IF(SUMPRODUCT((A$14:A213=A213)*(B$14:B213=B213)*(D$14:D213=D213))>1,0,1)","v":1},"Contratos de prestación de servicios","Contratación directa",{"$f":"IF(ISBLANK(G213),1,IFERROR(VLOOKUP(G213,Tipo!$C$12:$C$27,1,FALSE),\"NO\"))","v":"Prestación de servicios profesionales y de apoyo a la gestión, o para la ejecución de trabajos artísticos que sólo puedan encomendarse a determinadas personas naturales;"},"Inversión",{"$f":"IF(ISBLANK(K213),1,IFERROR(VLOOKUP(K213,Eje_Pilar_Prop!C195:C296,1,FALSE),\"NO\"))","v":"NO"},{"$f":"IF(ISBLANK(C213),1,IFERROR(VLOOKUP(C213,SECOP,1,FALSE),\"NO\"))","v":"SECOP II"},1,"Bogotá Mejor para Todos"]
["CPS-203-2020",2020,"SECOP II","FDLS-CD-206-2020","Contratos de prestación de servicios","Contratación directa","Prestación de servicios profesionales y de apoyo a la gestión, o para la ejecución de trabajos artísticos que sólo puedan encomendarse a determinadas personas naturales;","Prestar los servicios\nprofesionales como Abogado (a) de apoyo al Área de Gestión Policiva-Jurídica\nde Sumapaz","Inversión","Bogotá Mejor para Todos",45,{"$f":"IF(ISERROR(VLOOKUP(K214,Eje_Pilar_Prop!$C$2:$E$104,2,FALSE)),\" \",VLOOKUP(K214,Eje_Pilar_Prop!$C$2:$E$104,2,FALSE))","v":"Gobernanza e influencia local, regional e internacional"},{"$f":"IF(ISERROR(VLOOKUP(K214,Eje_Pilar_Prop!$C$2:$E$104,3,FALSE)),\" \",VLOOKUP(K214,Eje_Pilar_Prop!$C$2:$E$104,3,FALSE))","v":"Eje Transversal 4 Gobierno Legitimo, Fortalecimiento Local y Eficiencia"},1375,79632494,"ELZON FERNEY DELGADO MORALES",27500000,null,null,null,null,27500000,17416666,"2020-08-26","2020-08-26","2021-01-25",150,null,"",null,null,null,null,null,"","x",null,0.63333330909090912,null,{"$f":"IF(SUMPRODUCT((A$14:A214=A214)*(B$14:B214=B214)*(D$14:D214=D214))>1,0,1)","v":1},"Contratos de prestación de servicios","Contratación directa",{"$f":"IF(ISBLANK(G214),1,IFERROR(VLOOKUP(G214,Tipo!$C$12:$C$27,1,FALSE),\"NO\"))","v":"Prestación de servicios profesionales y de apoyo a la gestión, o para la ejecución de trabajos artísticos que sólo puedan encomendarse a determinadas personas naturales;"},"Inversión",{"$f":"IF(ISBLANK(K214),1,IFERROR(VLOOKUP(K214,Eje_Pilar_Prop!C196:C297,1,FALSE),\"NO\"))","v":"NO"},"SECOP II",1,"Bogotá Mejor para Todos"]
["CPS-204-2020",2020,"SECOP II","FDLS-CD-207-2020","Contratos de prestación de servicios","Contratación directa","Prestación de servicios profesionales y de apoyo a la gestión, o para la ejecución de trabajos artísticos que sólo puedan encomendarse a determinadas personas naturales;","Prestar los servicios\nprofesionales para apoyar al Área de Desarrollo Local, en los temas\ncontractuales y pos-contractuales de la alcaldía local de Sumapaz","Inversión","Bogotá Mejor para Todos",45,{"$f":"IF(ISERROR(VLOOKUP(K215,Eje_Pilar_Prop!$C$2:$E$104,2,FALSE)),\" \",VLOOKUP(K215,Eje_Pilar_Prop!$C$2:$E$104,2,FALSE))","v":"Gobernanza e influencia local, regional e internacional"},{"$f":"IF(ISERROR(VLOOKUP(K215,Eje_Pilar_Prop!$C$2:$E$104,3,FALSE)),\" \",VLOOKUP(K215,Eje_Pilar_Prop!$C$2:$E$104,3,FALSE))","v":"Eje Transversal 4 Gobierno Legitimo, Fortalecimiento Local y Eficiencia"},1375,9695442,"LUIS EDUARDO VILLEGAS GIL",16800000,null,null,1,4900000,21700000,9100000,"2020-08-26","2020-08-26","2020-12-25",120,null,36,null,null,null,null,null,"","x",null,0.41935483870967744,null,{"$f":"IF(SUMPRODUCT((A$14:A215=A215)*(B$14:B215=B215)*(D$14:D215=D215))>1,0,1)","v":1},"Contratos de prestación de servicios","Contratación directa",{"$f":"IF(ISBLANK(G215),1,IFERROR(VLOOKUP(G215,Tipo!$C$12:$C$27,1,FALSE),\"NO\"))","v":"Prestación de servicios profesionales y de apoyo a la gestión, o para la ejecución de trabajos artísticos que sólo puedan encomendarse a determinadas personas naturales;"},"Inversión",{"$f":"IF(ISBLANK(K215),1,IFERROR(VLOOKUP(K215,Eje_Pilar_Prop!C197:C298,1,FALSE),\"NO\"))","v":"NO"},"SECOP II",1,"Bogotá Mejor para Todos"]
["CPS-205-2020",2020,"SECOP II","FDLS-CD-208-2020","Contratos de prestación de servicios","Contratación directa","Prestación de servicios profesionales y de apoyo a la gestión, o para la ejecución de trabajos artísticos que sólo puedan encomendarse a determinadas personas naturales;","Prestar los servicios\nprofesionales especializados para realizar la formulación, evaluación, seguimiento y\ncontrol de proyectos de inversión del Fondo de Desarrollo Local de Sumapaz","Inversión","Bogotá Mejor para Todos",45,{"$f":"IF(ISERROR(VLOOKUP(K216,Eje_Pilar_Prop!$C$2:$E$104,2,FALSE)),\" \",VLOOKUP(K216,Eje_Pilar_Prop!$C$2:$E$104,2,FALSE))","v":"Gobernanza e influencia local, regional e internacional"},{"$f":"IF(ISERROR(VLOOKUP(K216,Eje_Pilar_Prop!$C$2:$E$104,3,FALSE)),\" \",VLOOKUP(K216,Eje_Pilar_Prop!$C$2:$E$104,3,FALSE))","v":"Eje Transversal 4 Gobierno Legitimo, Fortalecimiento Local y Eficiencia"},1375,1015436119,"ANGELICA MARIA VEGA CARREÑO",27200000,null,null,1,1586667,28786667,21986667,"2020-08-24","2020-08-24","2020-12-23",120,null,8,null,null,null,null,null,"","x",null,0.76377953029435464,null,{"$f":"IF(SUMPRODUCT((A$14:A216=A216)*(B$14:B216=B216)*(D$14:D216=D216))>1,0,1)","v":1},{"$f":"IF(ISBLANK(E216),1,IFERROR(VLOOKUP(E216,tipo,1,FALSE),\"NO\"))","v":"Contratos de prestación de servicios"},{"$f":"IF(ISBLANK(F216),1,IFERROR(VLOOKUP(F216,modal,1,FALSE),\"NO\"))","v":"Contratación directa"},{"$f":"IF(ISBLANK(G216),1,IFERROR(VLOOKUP(G216,Tipo!$C$12:$C$27,1,FALSE),\"NO\"))","v":"Prestación de servicios profesionales y de apoyo a la gestión, o para la ejecución de trabajos artísticos que sólo puedan encomendarse a determinadas personas naturales;"},{"$f":"IF(ISBLANK(I216),1,IFERROR(VLOOKUP(I216,afectacion,1,FALSE),\"NO\"))","v":"Inversión"},{"$f":"IF(ISBLANK(K216),1,IFERROR(VLOOKUP(K216,Eje_Pilar_Prop!C198:C299,1,FALSE),\"NO\"))","v":"NO"},"SECOP II",1,"Bogotá Mejor para Todos"]
["CPS-206-2020",2020,"SECOP II","FDLS-CD-209-2020","Contratos de prestación de servicios","Contratación directa","Prestación de servicios profesionales y de apoyo a la gestión, o para la ejecución de trabajos artísticos que sólo puedan encomendarse a determinadas personas naturales;","Prestar sus servicios\nprofesionales al Área Gestión de Desarrollo local, para realiza la formulación y\nseguimiento a los diferentes procesos relacionados con la infraestructura de la localidad\nde sumapaz","Inversión","Bogotá Mejor para Todos",18,{"$f":"IF(ISERROR(VLOOKUP(K217,Eje_Pilar_Prop!$C$2:$E$104,2,FALSE)),\" \",VLOOKUP(K217,Eje_Pilar_Prop!$C$2:$E$104,2,FALSE))","v":"Mejor movilidad para todos"},{"$f":"IF(ISERROR(VLOOKUP(K217,Eje_Pilar_Prop!$C$2:$E$104,3,FALSE)),\" \",VLOOKUP(K217,Eje_Pilar_Prop!$C$2:$E$104,3,FALSE))","v":"Pilar 2 Democracía Urbana"},1364,"1.014.239.239\n","ANA MARIA GOMEZ COLMENARES",22000000,null,null,1,6783333,28783333,17783333,"2020-08-24","2020-08-24","2020-12-23",120,null,38,null,null,null,null,null,"","x",null,0.61783439047868427,null,{"$f":"IF(SUMPRODUCT((A$14:A217=A217)*(B$14:B217=B217)*(D$14:D217=D217))>1,0,1)","v":1},"Contratos de prestación de servicios","Contratación directa",{"$f":"IF(ISBLANK(G217),1,IFERROR(VLOOKUP(G217,Tipo!$C$12:$C$27,1,FALSE),\"NO\"))","v":"Prestación de servicios profesionales y de apoyo a la gestión, o para la ejecución de trabajos artísticos que sólo puedan encomendarse a determinadas personas naturales;"},"Inversión",{"$f":"IF(ISBLANK(K217),1,IFERROR(VLOOKUP(K217,Eje_Pilar_Prop!C199:C300,1,FALSE),\"NO\"))","v":"NO"},"SECOP II",1,"Bogotá Mejor para Todos"]
["CPS-207-2020",2020,"SECOP II","FDLS-CD-210-2020  (FDSL-201-2020)","Contratos de prestación de servicios","Contratación directa","Prestación de servicios profesionales y de apoyo a la gestión, o para la ejecución de trabajos artísticos que sólo puedan encomendarse a determinadas personas naturales;","“Prestar los servicios como\nAuxiliar administrativo para el Área de Gestión de Desarrollo Local de la Alcaldía Local\nde Sumapaz","Inversión","Bogotá Mejor para Todos",45,{"$f":"IF(ISERROR(VLOOKUP(K218,Eje_Pilar_Prop!$C$2:$E$104,2,FALSE)),\" \",VLOOKUP(K218,Eje_Pilar_Prop!$C$2:$E$104,2,FALSE))","v":"Gobernanza e influencia local, regional e internacional"},{"$f":"IF(ISERROR(VLOOKUP(K218,Eje_Pilar_Prop!$C$2:$E$104,3,FALSE)),\" \",VLOOKUP(K218,Eje_Pilar_Prop!$C$2:$E$104,3,FALSE))","v":"Eje Transversal 4 Gobierno Legitimo, Fortalecimiento Local y Eficiencia"},1375,1030591646,"ANDREI ESTEBAN VARGAS BENITEZ",10000000,null,null,1,3083333,13083333,10583333,"2020-08-24","2020-08-24","2020-12-23",120,null,38,null,null,null,null,null,"","x",null,0.80891719258387751,null,{"$f":"IF(SUMPRODUCT((A$14:A218=A218)*(B$14:B218=B218)*(D$14:D218=D218))>1,0,1)","v":1},"Contratos de prestación de servicios","Contratación directa",{"$f":"IF(ISBLANK(G218),1,IFERROR(VLOOKUP(G218,Tipo!$C$12:$C$27,1,FALSE),\"NO\"))","v":"Prestación de servicios profesionales y de apoyo a la gestión, o para la ejecución de trabajos artísticos que sólo puedan encomendarse a determinadas personas naturales;"},"Inversión",{"$f":"IF(ISBLANK(K218),1,IFERROR(VLOOKUP(K218,Eje_Pilar_Prop!C200:C301,1,FALSE),\"NO\"))","v":"NO"},"SECOP II",1,"Bogotá Mejor para Todos"]
["CPS-208-2020",2020,"SECOP II","FDLS-CD-211-2020","Contratos de prestación de servicios","Contratación directa","Prestación de servicios profesionales y de apoyo a la gestión, o para la ejecución de trabajos artísticos que sólo puedan encomendarse a determinadas personas naturales;","PRESTAR SUS SERVICIOS DE APOYO ADMINISTRATIVO AL ÁREA GESTIÓN DE DESARROLLO LOCAL DEL PARQUE AUTOMOTOR DE PROPIEDAD DEL FDLS","Inversión","Bogotá Mejor para Todos",18,{"$f":"IF(ISERROR(VLOOKUP(K219,Eje_Pilar_Prop!$C$2:$E$104,2,FALSE)),\" \",VLOOKUP(K219,Eje_Pilar_Prop!$C$2:$E$104,2,FALSE))","v":"Mejor movilidad para todos"},{"$f":"IF(ISERROR(VLOOKUP(K219,Eje_Pilar_Prop!$C$2:$E$104,3,FALSE)),\" \",VLOOKUP(K219,Eje_Pilar_Prop!$C$2:$E$104,3,FALSE))","v":"Pilar 2 Democracía Urbana"},1364,1023019741,"CARLOS JULIO MACANA SECHAGUA ",14000000,null,null,null,null,14000000,12950000,"2020-09-10","2020-09-10","2021-01-09",120,null,"",null,null,null,null,null,"","x",null,0.92500000000000004,null,{"$f":"IF(SUMPRODUCT((A$14:A219=A219)*(B$14:B219=B219)*(D$14:D219=D219))>1,0,1)","v":1},"Contratos de prestación de servicios","Contratación directa",{"$f":"IF(ISBLANK(G219),1,IFERROR(VLOOKUP(G219,Tipo!$C$12:$C$27,1,FALSE),\"NO\"))","v":"Prestación de servicios profesionales y de apoyo a la gestión, o para la ejecución de trabajos artísticos que sólo puedan encomendarse a determinadas personas naturales;"},"Inversión",{"$f":"IF(ISBLANK(K219),1,IFERROR(VLOOKUP(K219,Eje_Pilar_Prop!C201:C302,1,FALSE),\"NO\"))","v":"NO"},"SECOP II",1,"Bogotá Mejor para Todos"]
["CPS-209-2020",2020,"SECOP II","FDLS-CD-212-2020","Contratos de prestación de servicios","Contratación directa","Prestación de servicios profesionales y de apoyo a la gestión, o para la ejecución de trabajos artísticos que sólo puedan encomendarse a determinadas personas naturales;","Apoyar al equipo de\nprensa y comunicaciones de la Alcaldía Local en la creación, realización,\nproducción y edición de vídeos, así como el registro, edición y la presentación\nde fotografías de los acontecimientos, hechos y eventos externos e internos de\nla Alcaldía Local, para ser utilizados como insumos de comunicación en los\nmedios, especialmente escritos, digitales y audiovisuales","Inversión","Bogotá Mejor para Todos",45,{"$f":"IF(ISERROR(VLOOKUP(K220,Eje_Pilar_Prop!$C$2:$E$104,2,FALSE)),\" \",VLOOKUP(K220,Eje_Pilar_Prop!$C$2:$E$104,2,FALSE))","v":"Gobernanza e influencia local, regional e internacional"},{"$f":"IF(ISERROR(VLOOKUP(K220,Eje_Pilar_Prop!$C$2:$E$104,3,FALSE)),\" \",VLOOKUP(K220,Eje_Pilar_Prop!$C$2:$E$104,3,FALSE))","v":"Eje Transversal 4 Gobierno Legitimo, Fortalecimiento Local y Eficiencia"},1375,81715533,"LUIS ANGEL ARROYAVE VILARÓ",16800000,null,null,1,5180000,21980000,16800000,"2020-08-24","2020-08-24","2020-12-23",120,null,38,null,null,null,null,null,"","x",null,0.76433121019108285,null,{"$f":"IF(SUMPRODUCT((A$14:A220=A220)*(B$14:B220=B220)*(D$14:D220=D220))>1,0,1)","v":1},"Contratos de prestación de servicios","Contratación directa",{"$f":"IF(ISBLANK(G220),1,IFERROR(VLOOKUP(G220,Tipo!$C$12:$C$27,1,FALSE),\"NO\"))","v":"Prestación de servicios profesionales y de apoyo a la gestión, o para la ejecución de trabajos artísticos que sólo puedan encomendarse a determinadas personas naturales;"},"Inversión",{"$f":"IF(ISBLANK(K220),1,IFERROR(VLOOKUP(K220,Eje_Pilar_Prop!C202:C303,1,FALSE),\"NO\"))","v":"NO"},"SECOP II",{"$f":"IF(OR(YEAR(X220)=2020,ISBLANK(X220)),1,\"NO\")","v":1},"Bogotá Mejor para Todos"]
["CPS-210-2020",2020,"SECOP II","FDLS-CD-213-2020","Contratos de prestación de servicios","Contratación directa","Prestación de servicios profesionales y de apoyo a la gestión, o para la ejecución de trabajos artísticos que sólo puedan encomendarse a determinadas personas naturales;","“Prestar sus servicios\nprofesionales al Área Gestión de Desarrollo local, en los temas relacionados con la\ninfraestructura de la localidad de sumapaz","Inversión","Bogotá Mejor para Todos",18,{"$f":"IF(ISERROR(VLOOKUP(K221,Eje_Pilar_Prop!$C$2:$E$104,2,FALSE)),\" \",VLOOKUP(K221,Eje_Pilar_Prop!$C$2:$E$104,2,FALSE))","v":"Mejor movilidad para todos"},{"$f":"IF(ISERROR(VLOOKUP(K221,Eje_Pilar_Prop!$C$2:$E$104,3,FALSE)),\" \",VLOOKUP(K221,Eje_Pilar_Prop!$C$2:$E$104,3,FALSE))","v":"Pilar 2 Democracía Urbana"},1364,1014264950,"VALENTINA MARTINEZ MUÑOZ",16800000,null,null,1,5180000,21980000,13580000,"2020-08-24","2020-08-24","2020-12-23",120,null,38,null,null,null,null,null,"","x",null,0.61783439490445857,null,{"$f":"IF(SUMPRODUCT((A$14:A221=A221)*(B$14:B221=B221)*(D$14:D221=D221))>1,0,1)","v":1},"Contratos de prestación de servicios","Contratación directa",{"$f":"IF(ISBLANK(G221),1,IFERROR(VLOOKUP(G221,Tipo!$C$12:$C$27,1,FALSE),\"NO\"))","v":"Prestación de servicios profesionales y de apoyo a la gestión, o para la ejecución de trabajos artísticos que sólo puedan encomendarse a determinadas personas naturales;"},"Inversión",{"$f":"IF(ISBLANK(K221),1,IFERROR(VLOOKUP(K221,Eje_Pilar_Prop!C203:C304,1,FALSE),\"NO\"))","v":"NO"},"SECOP II",1,"Bogotá Mejor para Todos"]
["CPS-211-2020",2020,"SECOP II","FDLS-CD-214-2020","Contratos de prestación de servicios","Contratación directa","Prestación de servicios profesionales y de apoyo a la gestión, o para la ejecución de trabajos artísticos que sólo puedan encomendarse a determinadas personas naturales;","Prestar los servicios\ntécnicos de apoyo administrativo en el área de Gestión de Desarrollo Local de\nla Alcaldía Local de Sumapaz","Inversión","Bogotá Mejor para Todos",45,{"$f":"IF(ISERROR(VLOOKUP(K222,Eje_Pilar_Prop!$C$2:$E$104,2,FALSE)),\" \",VLOOKUP(K222,Eje_Pilar_Prop!$C$2:$E$104,2,FALSE))","v":"Gobernanza e influencia local, regional e internacional"},{"$f":"IF(ISERROR(VLOOKUP(K222,Eje_Pilar_Prop!$C$2:$E$104,3,FALSE)),\" \",VLOOKUP(K222,Eje_Pilar_Prop!$C$2:$E$104,3,FALSE))","v":"Eje Transversal 4 Gobierno Legitimo, Fortalecimiento Local y Eficiencia"},1375,52662125,"ANA MILENA SILVA CORTES",15200000,null,null,1,760000,15960000,11400000,"2020-08-25","2020-08-25","2020-12-24",120,null,7,null,null,null,null,null,"","x",null,{"$f":"IF(ISERROR(W222/V222),\"-\",(W222/V222))","v":0.7142857142857143},null,{"$f":"IF(SUMPRODUCT((A$14:A222=A222)*(B$14:B222=B222)*(D$14:D222=D222))>1,0,1)","v":1},"Contratos de prestación de servicios","Contratación directa",{"$f":"IF(ISBLANK(G222),1,IFERROR(VLOOKUP(G222,Tipo!$C$12:$C$27,1,FALSE),\"NO\"))","v":"Prestación de servicios profesionales y de apoyo a la gestión, o para la ejecución de trabajos artísticos que sólo puedan encomendarse a determinadas personas naturales;"},"Inversión",{"$f":"IF(ISBLANK(K222),1,IFERROR(VLOOKUP(K222,Eje_Pilar_Prop!C204:C305,1,FALSE),\"NO\"))","v":"NO"},"SECOP II",1,"Bogotá Mejor para Todos"]
["CPS-212-2020",2020,"SECOP II","FDLS-CD-215-2020","Contratos de prestación de servicios","Contratación directa","Prestación de servicios profesionales y de apoyo a la gestión, o para la ejecución de trabajos artísticos que sólo puedan encomendarse a determinadas personas naturales;","Prestar los servicios\nprofesionales para la formulación, gestión y seguimiento de la gestión ambiental de la\nLocalidad de Sumapaz","Inversión","Bogotá Mejor para Todos",45,{"$f":"IF(ISERROR(VLOOKUP(K223,Eje_Pilar_Prop!$C$2:$E$104,2,FALSE)),\" \",VLOOKUP(K223,Eje_Pilar_Prop!$C$2:$E$104,2,FALSE))","v":"Gobernanza e influencia local, regional e internacional"},{"$f":"IF(ISERROR(VLOOKUP(K223,Eje_Pilar_Prop!$C$2:$E$104,3,FALSE)),\" \",VLOOKUP(K223,Eje_Pilar_Prop!$C$2:$E$104,3,FALSE))","v":"Eje Transversal 4 Gobierno Legitimo, Fortalecimiento Local y Eficiencia"},1375,1032656281,"WILMAR GILDARDO TORRES TORRES",22000000,null,null,1,4216667,{"$f":"+Q223+S223+U223","v":26216667},15216667,"2020-09-08","2020-09-08","2021-01-07",120,null,24,null,null,null,null,null,"","x",null,0.58041958575436003,null,{"$f":"IF(SUMPRODUCT((A$14:A223=A223)*(B$14:B223=B223)*(D$14:D223=D223))>1,0,1)","v":1},"Contratos de prestación de servicios","Contratación directa",{"$f":"IF(ISBLANK(G223),1,IFERROR(VLOOKUP(G223,Tipo!$C$12:$C$27,1,FALSE),\"NO\"))","v":"Prestación de servicios profesionales y de apoyo a la gestión, o para la ejecución de trabajos artísticos que sólo puedan encomendarse a determinadas personas naturales;"},"Inversión",{"$f":"IF(ISBLANK(K223),1,IFERROR(VLOOKUP(K223,Eje_Pilar_Prop!C205:C306,1,FALSE),\"NO\"))","v":"NO"},"SECOP II",1,"Bogotá Mejor para Todos"]
["CPS-213-2020",2020,"SECOP II","FDLS-CD-216-2020","Contratos de prestación de servicios","Contratación directa","Prestación de servicios profesionales y de apoyo a la gestión, o para la ejecución de trabajos artísticos que sólo puedan encomendarse a determinadas personas naturales;","Prestar los servicios como\nAuxiliar administrativo para el Área de Gestión de Desarrollo Local de la Alcaldía Local\nde Sumapaz","Inversión","Bogotá Mejor para Todos",45,{"$f":"IF(ISERROR(VLOOKUP(K224,Eje_Pilar_Prop!$C$2:$E$104,2,FALSE)),\" \",VLOOKUP(K224,Eje_Pilar_Prop!$C$2:$E$104,2,FALSE))","v":"Gobernanza e influencia local, regional e internacional"},{"$f":"IF(ISERROR(VLOOKUP(K224,Eje_Pilar_Prop!$C$2:$E$104,3,FALSE)),\" \",VLOOKUP(K224,Eje_Pilar_Prop!$C$2:$E$104,3,FALSE))","v":"Eje Transversal 4 Gobierno Legitimo, Fortalecimiento Local y Eficiencia"},1375,"1,030,671,895","MARIA  PAULA CONTRERAS MORALES",10000000,null,null,null,null,10000000,4333333,"2020-09-09","2020-09-09","2021-01-08",120,null,"",null,null,null,null,null,"","x",null,0.43333329999999998,null,{"$f":"IF(SUMPRODUCT((A$14:A224=A224)*(B$14:B224=B224)*(D$14:D224=D224))>1,0,1)","v":1},"Contratos de prestación de servicios","Contratación directa",{"$f":"IF(ISBLANK(G224),1,IFERROR(VLOOKUP(G224,Tipo!$C$12:$C$27,1,FALSE),\"NO\"))","v":"Prestación de servicios profesionales y de apoyo a la gestión, o para la ejecución de trabajos artísticos que sólo puedan encomendarse a determinadas personas naturales;"},"Inversión",{"$f":"IF(ISBLANK(K224),1,IFERROR(VLOOKUP(K224,Eje_Pilar_Prop!C206:C307,1,FALSE),\"NO\"))","v":"NO"},"SECOP II",1,"Bogotá Mejor para Todos"]
["CPS-214-2020",2020,"SECOP II","FDLS-CD-217-2020","Contratos de prestación de servicios","Contratación directa","Prestación de servicios profesionales y de apoyo a la gestión, o para la ejecución de trabajos artísticos que sólo puedan encomendarse a determinadas personas naturales;","PRESTAR SUS SERVICIOS PROFESIONALES DE APOYO AL ÁREA DE GESTIÓN DE DESARROLLO\nLOCAL DE LA ALCALDÍA LOCAL DE SUMAPAZ\n","Inversión","Bogotá Mejor para Todos",45,{"$f":"IF(ISERROR(VLOOKUP(K225,Eje_Pilar_Prop!$C$2:$E$104,2,FALSE)),\" \",VLOOKUP(K225,Eje_Pilar_Prop!$C$2:$E$104,2,FALSE))","v":"Gobernanza e influencia local, regional e internacional"},{"$f":"IF(ISERROR(VLOOKUP(K225,Eje_Pilar_Prop!$C$2:$E$104,3,FALSE)),\" \",VLOOKUP(K225,Eje_Pilar_Prop!$C$2:$E$104,3,FALSE))","v":"Eje Transversal 4 Gobierno Legitimo, Fortalecimiento Local y Eficiencia"},1375,79972956,"JUAN CARLOS HERNANEZ PEÑA",16000000,null,null,1,933333,16933333,12933333,"2020-08-24","2020-08-24","2020-12-23",120,null,8,null,null,null,null,null,"","x",null,0.76377952290904572,null,{"$f":"IF(SUMPRODUCT((A$14:A225=A225)*(B$14:B225=B225)*(D$14:D225=D225))>1,0,1)","v":1},"Contratos de prestación de servicios","Contratación directa",{"$f":"IF(ISBLANK(G225),1,IFERROR(VLOOKUP(G225,Tipo!$C$12:$C$27,1,FALSE),\"NO\"))","v":"Prestación de servicios profesionales y de apoyo a la gestión, o para la ejecución de trabajos artísticos que sólo puedan encomendarse a determinadas personas naturales;"},"Inversión",{"$f":"IF(ISBLANK(K225),1,IFERROR(VLOOKUP(K225,Eje_Pilar_Prop!C207:C308,1,FALSE),\"NO\"))","v":"NO"},"SECOP II",1,"Bogotá Mejor para Todos"]
["CPS-215-2020",2020,"SECOP II","FDLS-CD-218-2020","Contratos de prestación de servicios","Contratación directa","Prestación de servicios profesionales y de apoyo a la gestión, o para la ejecución de trabajos artísticos que sólo puedan encomendarse a determinadas personas naturales;","Prestar los servicios\nprofesionales para apoyar la formulación, gestión y seguimiento de las actividades\nenfocadas a promover el desarrollo rural sostenible en la localidad de Sumapaz","Inversión","Bogotá Mejor para Todos",45,{"$f":"IF(ISERROR(VLOOKUP(K226,Eje_Pilar_Prop!$C$2:$E$104,2,FALSE)),\" \",VLOOKUP(K226,Eje_Pilar_Prop!$C$2:$E$104,2,FALSE))","v":"Gobernanza e influencia local, regional e internacional"},{"$f":"IF(ISERROR(VLOOKUP(K226,Eje_Pilar_Prop!$C$2:$E$104,3,FALSE)),\" \",VLOOKUP(K226,Eje_Pilar_Prop!$C$2:$E$104,3,FALSE))","v":"Eje Transversal 4 Gobierno Legitimo, Fortalecimiento Local y Eficiencia"},1375,79381209,"WILSON REY MORENO",22000000,null,null,1,6416667,28416667,17416667,"2020-08-26","2020-08-26","2020-12-25",120,null,36,null,null,null,null,null,"","x",null,0.6129032303471762,null,{"$f":"IF(SUMPRODUCT((A$14:A226=A226)*(B$14:B226=B226)*(D$14:D226=D226))>1,0,1)","v":1},"Contratos de prestación de servicios","Contratación directa",{"$f":"IF(ISBLANK(G226),1,IFERROR(VLOOKUP(G226,Tipo!$C$12:$C$27,1,FALSE),\"NO\"))","v":"Prestación de servicios profesionales y de apoyo a la gestión, o para la ejecución de trabajos artísticos que sólo puedan encomendarse a determinadas personas naturales;"},"Inversión",{"$f":"IF(ISBLANK(K226),1,IFERROR(VLOOKUP(K226,Eje_Pilar_Prop!C208:C309,1,FALSE),\"NO\"))","v":"NO"},"SECOP II",1,"Bogotá Mejor para Todos"]
["CPS-216-2020",2020,"SECOP II","FDLS-SAMC-107-2020","Contratos de prestación de servicios","Selección abreviada","Selección abreviada por menor cuantía ","CONTRATAR LA PRESTACIÓN DEL SERVICIO DE VIGILANCIA Y SEGURIDAD PRIVADA CON ARMAS, PARA LAS SEDES ADMINISTRATIVA Y EL CENTRO DE SERVICIOS DE SANTA ROSA, DE LA ALCALDÍA LOCAL DE SUMAPAZ BOGOTÁ D.C.","Funcionamiento","Bogotá Mejor para Todos","NA",{"$f":"IF(ISERROR(VLOOKUP(K227,Eje_Pilar_Prop!$C$2:$E$104,2,FALSE)),\" \",VLOOKUP(K227,Eje_Pilar_Prop!$C$2:$E$104,2,FALSE))","v":" "},{"$f":"IF(ISERROR(VLOOKUP(K227,Eje_Pilar_Prop!$C$2:$E$104,3,FALSE)),\" \",VLOOKUP(K227,Eje_Pilar_Prop!$C$2:$E$104,3,FALSE))","v":" "},"NA","860518862-7","SEGURIDAD LAS AMERICAS LTDA",94828927,null,null,null,null,94828927,0,"2020-09-18","2020-09-18","2021-02-17",150,null,"",null,null,null,null,null,"","x",null,0,null,{"$f":"IF(SUMPRODUCT((A$14:A227=A227)*(B$14:B227=B227)*(D$14:D227=D227))>1,0,1)","v":1},"Contratos de prestación de servicios","Selección abreviada",{"$f":"IF(ISBLANK(G227),1,IFERROR(VLOOKUP(G227,Tipo!$C$12:$C$27,1,FALSE),\"NO\"))","v":"Selección abreviada por menor cuantía "},"Funcionamiento",{"$f":"IF(ISBLANK(K227),1,IFERROR(VLOOKUP(K227,Eje_Pilar_Prop!C209:C310,1,FALSE),\"NO\"))","v":"NO"},"SECOP II",1,"Bogotá Mejor para Todos"]
["CPS-217-2020",2020,"SECOP II","FDLS-CD-220-2020","Contratos de prestación de servicios","Contratación directa","Prestación de servicios profesionales y de apoyo a la gestión, o para la ejecución de trabajos artísticos que sólo puedan encomendarse a determinadas personas naturales;","Prestar los servicios\ntécnicos de apoyo técnico administrativo en el área de Gestión de Desarrollo\nLocal de la Alcaldía Local de Sumapaz","Inversión","Bogotá Mejor para Todos",45,{"$f":"IF(ISERROR(VLOOKUP(K228,Eje_Pilar_Prop!$C$2:$E$104,2,FALSE)),\" \",VLOOKUP(K228,Eje_Pilar_Prop!$C$2:$E$104,2,FALSE))","v":"Gobernanza e influencia local, regional e internacional"},{"$f":"IF(ISERROR(VLOOKUP(K228,Eje_Pilar_Prop!$C$2:$E$104,3,FALSE)),\" \",VLOOKUP(K228,Eje_Pilar_Prop!$C$2:$E$104,3,FALSE))","v":"Eje Transversal 4 Gobierno Legitimo, Fortalecimiento Local y Eficiencia"},1375,"1,069,737,202","AIDA LORENA TORRES GUZMAN",14000000,null,null,1,2450000,16450000,12950000,"2020-09-10","2020-09-10","2021-01-09",120,null,22,null,null,null,null,null,"","x",null,0.78723404255319152,null,{"$f":"IF(SUMPRODUCT((A$14:A228=A228)*(B$14:B228=B228)*(D$14:D228=D228))>1,0,1)","v":1},"Contratos de prestación de servicios","Contratación directa",{"$f":"IF(ISBLANK(G228),1,IFERROR(VLOOKUP(G228,Tipo!$C$12:$C$27,1,FALSE),\"NO\"))","v":"Prestación de servicios profesionales y de apoyo a la gestión, o para la ejecución de trabajos artísticos que sólo puedan encomendarse a determinadas personas naturales;"},"Inversión",{"$f":"IF(ISBLANK(K228),1,IFERROR(VLOOKUP(K228,Eje_Pilar_Prop!C210:C311,1,FALSE),\"NO\"))","v":"NO"},"SECOP II",1,"Bogotá Mejor para Todos"]
["CPS-218-2020",2020,"SECOP II","FDLS-CD-219-2020.","Contratos de prestación de servicios","Contratación directa","Prestación de servicios profesionales y de apoyo a la gestión, o para la ejecución de trabajos artísticos que sólo puedan encomendarse a determinadas personas naturales;","Prestar sus servicios técnicos\nde apoyo al Área Gestión d e Desarrollo Local , del parque automotor de propiedad del\nFDLS y del que llegare a ser responsable ","Inversión","Bogotá Mejor para Todos",18,{"$f":"IF(ISERROR(VLOOKUP(K229,Eje_Pilar_Prop!$C$2:$E$104,2,FALSE)),\" \",VLOOKUP(K229,Eje_Pilar_Prop!$C$2:$E$104,2,FALSE))","v":"Mejor movilidad para todos"},{"$f":"IF(ISERROR(VLOOKUP(K229,Eje_Pilar_Prop!$C$2:$E$104,3,FALSE)),\" \",VLOOKUP(K229,Eje_Pilar_Prop!$C$2:$E$104,3,FALSE))","v":"Pilar 2 Democracía Urbana"},1364,"1,023,015,837","JULIAN FELIPE GUTIERREZ CARDONA",15400000,null,null,null,null,15400000,8470000,"2020-09-25","2020-09-25","2021-01-24",120,null,"",null,null,null,null,null,"","x",null,0.55000000000000004,null,{"$f":"IF(SUMPRODUCT((A$14:A229=A229)*(B$14:B229=B229)*(D$14:D229=D229))>1,0,1)","v":1},"Contratos de prestación de servicios","Contratación directa",{"$f":"IF(ISBLANK(G229),1,IFERROR(VLOOKUP(G229,Tipo!$C$12:$C$27,1,FALSE),\"NO\"))","v":"Prestación de servicios profesionales y de apoyo a la gestión, o para la ejecución de trabajos artísticos que sólo puedan encomendarse a determinadas personas naturales;"},"Inversión",{"$f":"IF(ISBLANK(K229),1,IFERROR(VLOOKUP(K229,Eje_Pilar_Prop!C211:C312,1,FALSE),\"NO\"))","v":"NO"},"SECOP II",1,"Bogotá Mejor para Todos"]
["CPS-219-2020",2020,"SECOP II","FDLS-CD-222-2020","Contratos de prestación de servicios","Contratación directa","Prestación de servicios profesionales y de apoyo a la gestión, o para la ejecución de trabajos artísticos que sólo puedan encomendarse a determinadas personas naturales;","Prestar sus servicios como apoyo administrativo al área de Gestión de Desarrollo Local de la Alcaldía Local de Sumapaz","Inversión","Bogotá Mejor para Todos",45,{"$f":"IF(ISERROR(VLOOKUP(K230,Eje_Pilar_Prop!$C$2:$E$104,2,FALSE)),\" \",VLOOKUP(K230,Eje_Pilar_Prop!$C$2:$E$104,2,FALSE))","v":"Gobernanza e influencia local, regional e internacional"},{"$f":"IF(ISERROR(VLOOKUP(K230,Eje_Pilar_Prop!$C$2:$E$104,3,FALSE)),\" \",VLOOKUP(K230,Eje_Pilar_Prop!$C$2:$E$104,3,FALSE))","v":"Eje Transversal 4 Gobierno Legitimo, Fortalecimiento Local y Eficiencia"},1375,1007395591,"BRAYAN ANDRES ROMERO ROMERO",14000000,null,null,1,4083330,18083330,11083333,"2020-08-26","2020-08-26","2020-12-25",120,null,36,null,null,null,null,null,"","x",null,0.6129033203508425,null,{"$f":"IF(SUMPRODUCT((A$14:A230=A230)*(B$14:B230=B230)*(D$14:D230=D230))>1,0,1)","v":1},"Contratos de prestación de servicios","Contratación directa",{"$f":"IF(ISBLANK(G230),1,IFERROR(VLOOKUP(G230,Tipo!$C$12:$C$27,1,FALSE),\"NO\"))","v":"Prestación de servicios profesionales y de apoyo a la gestión, o para la ejecución de trabajos artísticos que sólo puedan encomendarse a determinadas personas naturales;"},"Inversión",{"$f":"IF(ISBLANK(K230),1,IFERROR(VLOOKUP(K230,Eje_Pilar_Prop!C212:C313,1,FALSE),\"NO\"))","v":"NO"},"SECOP II",1,"Bogotá Mejor para Todos"]
["CPS-220-2020",2020,"SECOP II","FDLS-SAMC-135-2020","Contratos de prestación de servicios","Selección abreviada","Selección abreviada por menor cuantía ","PRESTAR EL SERVICIO DE MANTENIMIENTO PREVENTIVO Y CORRECTIVO DE LOS VEHÍCULOS LIVIANOS DE PROPIEDAD, GUARDA O TENENCIA DEL FONDO DE DESARROLLO LOCAL DE SUMAPAZ CON SUMINISTRO DE REPUESTOS, LLANTAS, INSUMOS Y MANO DE OBRA","Funcionamiento","Bogotá Mejor para Todos","NA",{"$f":"IF(ISERROR(VLOOKUP(K231,Eje_Pilar_Prop!$C$2:$E$104,2,FALSE)),\" \",VLOOKUP(K231,Eje_Pilar_Prop!$C$2:$E$104,2,FALSE))","v":" "},{"$f":"IF(ISERROR(VLOOKUP(K231,Eje_Pilar_Prop!$C$2:$E$104,3,FALSE)),\" \",VLOOKUP(K231,Eje_Pilar_Prop!$C$2:$E$104,3,FALSE))","v":" "},"NA","860,515,236-2","PRECAR LTDA",128024677,null,null,null,null,128024677,0,"2020-09-21","2020-09-21","2021-05-04",224,null,"",null,null,null,null,null,"x","",null,0,null,{"$f":"IF(SUMPRODUCT((A$14:A231=A231)*(B$14:B231=B231)*(D$14:D231=D231))>1,0,1)","v":1},"Contratos de prestación de servicios","Selección abreviada",{"$f":"IF(ISBLANK(G231),1,IFERROR(VLOOKUP(G231,Tipo!$C$12:$C$27,1,FALSE),\"NO\"))","v":"Selección abreviada por menor cuantía "},"Funcionamiento",{"$f":"IF(ISBLANK(K231),1,IFERROR(VLOOKUP(K231,Eje_Pilar_Prop!C213:C314,1,FALSE),\"NO\"))","v":"NO"},"SECOP II",1,"Bogotá Mejor para Todos"]
["CPS-221-2020",2020,"SECOP II","FDLS-CD-224-2020","Contratos de prestación de servicios","Contratación directa","Prestación de servicios profesionales y de apoyo a la gestión, o para la ejecución de trabajos artísticos que sólo puedan encomendarse a determinadas personas naturales;","PRESTAR LOS SERVICIOS DE APOYO LOGISTICO Y OPERATIVO EN LAS REDES DE LA ALCALDIA LOCAL DE SUMAPAZ","Inversión","Bogotá Mejor para Todos",45,{"$f":"IF(ISERROR(VLOOKUP(K232,Eje_Pilar_Prop!$C$2:$E$104,2,FALSE)),\" \",VLOOKUP(K232,Eje_Pilar_Prop!$C$2:$E$104,2,FALSE))","v":"Gobernanza e influencia local, regional e internacional"},{"$f":"IF(ISERROR(VLOOKUP(K232,Eje_Pilar_Prop!$C$2:$E$104,3,FALSE)),\" \",VLOOKUP(K232,Eje_Pilar_Prop!$C$2:$E$104,3,FALSE))","v":"Eje Transversal 4 Gobierno Legitimo, Fortalecimiento Local y Eficiencia"},1375,"80,559,448","PEDRO ALFONSO CASTRO MORALES",10000000,null,null,null,null,10000000,4166667,"2020-11-11","2020-11-11","2021-03-10",120,null,"",null,null,null,null,null,"x","",null,0.4166667,null,{"$f":"IF(SUMPRODUCT((A$14:A232=A232)*(B$14:B232=B232)*(D$14:D232=D232))>1,0,1)","v":1},"Contratos de prestación de servicios","Contratación directa",{"$f":"IF(ISBLANK(G232),1,IFERROR(VLOOKUP(G232,Tipo!$C$12:$C$27,1,FALSE),\"NO\"))","v":"Prestación de servicios profesionales y de apoyo a la gestión, o para la ejecución de trabajos artísticos que sólo puedan encomendarse a determinadas personas naturales;"},"Inversión",{"$f":"IF(ISBLANK(K232),1,IFERROR(VLOOKUP(K232,Eje_Pilar_Prop!C214:C315,1,FALSE),\"NO\"))","v":"NO"},"SECOP II",1,"Bogotá Mejor para Todos"]
["CSU-222-2020",2020,"SECOP II","FDLS-SASI-174-2020","Suministro","Selección abreviada","Prestación de servicios profesionales y de apoyo a la gestión, o para la ejecución de trabajos artísticos que sólo puedan encomendarse a determinadas personas naturales;","Contratar el suministro de elementos de ferretería, herramientas, materiales eléctricos y de construcción, alquiler de equipos para adecuaciones, reparaciones y/o mantenimiento de los bienes de la alcaldía local de Sumapaz por el sistema de precios unitarios fijos y a monto agotable","Inversión","Bogotá Mejor para Todos",45,{"$f":"IF(ISERROR(VLOOKUP(K233,Eje_Pilar_Prop!$C$2:$E$104,2,FALSE)),\" \",VLOOKUP(K233,Eje_Pilar_Prop!$C$2:$E$104,2,FALSE))","v":"Gobernanza e influencia local, regional e internacional"},{"$f":"IF(ISERROR(VLOOKUP(K233,Eje_Pilar_Prop!$C$2:$E$104,3,FALSE)),\" \",VLOOKUP(K233,Eje_Pilar_Prop!$C$2:$E$104,3,FALSE))","v":"Eje Transversal 4 Gobierno Legitimo, Fortalecimiento Local y Eficiencia"},1375,"900,063,026-6","COMPAÑÍA DE DISTRIBUCION FERRETERA SAS",600721452,null,null,null,null,600721452,433130340,"2020-09-22","2020-09-22","2021-01-21",120,null,"",null,null,null,null,null,"","x",null,0.72101693481723705,null,{"$f":"IF(SUMPRODUCT((A$14:A233=A233)*(B$14:B233=B233)*(D$14:D233=D233))>1,0,1)","v":1},"Suministro","Selección abreviada",{"$f":"IF(ISBLANK(G233),1,IFERROR(VLOOKUP(G233,Tipo!$C$12:$C$27,1,FALSE),\"NO\"))","v":"Prestación de servicios profesionales y de apoyo a la gestión, o para la ejecución de trabajos artísticos que sólo puedan encomendarse a determinadas personas naturales;"},"Inversión",{"$f":"IF(ISBLANK(K233),1,IFERROR(VLOOKUP(K233,Eje_Pilar_Prop!C215:C316,1,FALSE),\"NO\"))","v":"NO"},"SECOP II",1,"Bogotá Mejor para Todos"]
["CPS-223-2020",2020,"SECOP II","FDLS-CD-225-2020","Contratos de prestación de servicios","Contratación directa","Prestación de servicios profesionales y de apoyo a la gestión, o para la ejecución de trabajos artísticos que sólo puedan encomendarse a determinadas personas naturales;","PRESTAR SUS SERVICIOS PROFESIONALES DE APOYO AL ÁREA DE GESTIÓN DE DESARROLLO LOCAL EN LOS TEMAS CONTABLES Y PRESUPUESTALES DEL FONDO DE DESARROLLO LOCAL DE SUMAPAZ.","Inversión","Bogotá Mejor para Todos",45,{"$f":"IF(ISERROR(VLOOKUP(K234,Eje_Pilar_Prop!$C$2:$E$104,2,FALSE)),\" \",VLOOKUP(K234,Eje_Pilar_Prop!$C$2:$E$104,2,FALSE))","v":"Gobernanza e influencia local, regional e internacional"},{"$f":"IF(ISERROR(VLOOKUP(K234,Eje_Pilar_Prop!$C$2:$E$104,3,FALSE)),\" \",VLOOKUP(K234,Eje_Pilar_Prop!$C$2:$E$104,3,FALSE))","v":"Eje Transversal 4 Gobierno Legitimo, Fortalecimiento Local y Eficiencia"},1375,"80,095,444","YESID EDUARDO MARQUEZ GOMEZ",18000000,null,null,null,null,18000000,13600000,"2020-09-23","2020-09-23","2020-12-02",90,null,"",null,null,null,null,null,"","x",null,0.75555555555555554,null,{"$f":"IF(SUMPRODUCT((A$14:A234=A234)*(B$14:B234=B234)*(D$14:D234=D234))>1,0,1)","v":1},"Contratos de prestación de servicios","Contratación directa",{"$f":"IF(ISBLANK(G234),1,IFERROR(VLOOKUP(G234,Tipo!$C$12:$C$27,1,FALSE),\"NO\"))","v":"Prestación de servicios profesionales y de apoyo a la gestión, o para la ejecución de trabajos artísticos que sólo puedan encomendarse a determinadas personas naturales;"},"Inversión",{"$f":"IF(ISBLANK(K234),1,IFERROR(VLOOKUP(K234,Eje_Pilar_Prop!C216:C317,1,FALSE),\"NO\"))","v":"NO"},"SECOP II",1,"Bogotá Mejor para Todos"]
["CPS-224-2020",2020,"SECOP II","FDLS-CD-226-2020","Contratos de prestación de servicios","Contratación directa","Prestación de servicios profesionales y de apoyo a la gestión, o para la ejecución de trabajos artísticos que sólo puedan encomendarse a determinadas personas naturales;","PRESTAR LOS SERVICIOS DE APOYO COMO GESTOR/A SOCIAL PARA ADELANTAR ACCIONES QUE PROMUEVAN EL FORTALECIMIENTO Y LA PARTICIPACION SOCIAL Y COMUNITARIA EN LA LOCALIDAD DE SUMAPAZ","Inversión","Bogotá Mejor para Todos",45,{"$f":"IF(ISERROR(VLOOKUP(K235,Eje_Pilar_Prop!$C$2:$E$104,2,FALSE)),\" \",VLOOKUP(K235,Eje_Pilar_Prop!$C$2:$E$104,2,FALSE))","v":"Gobernanza e influencia local, regional e internacional"},{"$f":"IF(ISERROR(VLOOKUP(K235,Eje_Pilar_Prop!$C$2:$E$104,3,FALSE)),\" \",VLOOKUP(K235,Eje_Pilar_Prop!$C$2:$E$104,3,FALSE))","v":"Eje Transversal 4 Gobierno Legitimo, Fortalecimiento Local y Eficiencia"},1375,"39,767,738","HERMELINDA MELO ESPINOZA",1750000,null,null,null,null,1750000,408333,"2020-09-24","2020-09-24","2020-10-23",30,null,"",null,null,null,null,null,"","x",null,0.23333314285714285,null,{"$f":"IF(SUMPRODUCT((A$14:A235=A235)*(B$14:B235=B235)*(D$14:D235=D235))>1,0,1)","v":1},"Contratos de prestación de servicios","Contratación directa",{"$f":"IF(ISBLANK(G235),1,IFERROR(VLOOKUP(G235,Tipo!$C$12:$C$27,1,FALSE),\"NO\"))","v":"Prestación de servicios profesionales y de apoyo a la gestión, o para la ejecución de trabajos artísticos que sólo puedan encomendarse a determinadas personas naturales;"},"Inversión",{"$f":"IF(ISBLANK(K235),1,IFERROR(VLOOKUP(K235,Eje_Pilar_Prop!C217:C318,1,FALSE),\"NO\"))","v":"NO"},"SECOP II",1,"Bogotá Mejor para Todos"]
["CPS-225-2020",2020,"SECOP II","FDLS-CD-227-2020","Contratos de prestación de servicios","Contratación directa","Prestación de servicios profesionales y de apoyo a la gestión, o para la ejecución de trabajos artísticos que sólo puedan encomendarse a determinadas personas naturales;","Prestar los servicios\nprofesionales Coordinar la articulación, asistencia y acompañamiento de los procesos de\nplaneación local, para la promoción de la participación de las mujeres y de la equidad de\ngénero, para materializar en la localidad las estrategias de territorialización y\ntransversalización de la Política Publica de Mujeres y Equidad de género, PPMYEG","Inversión","Bogotá Mejor para Todos",45,{"$f":"IF(ISERROR(VLOOKUP(K236,Eje_Pilar_Prop!$C$2:$E$104,2,FALSE)),\" \",VLOOKUP(K236,Eje_Pilar_Prop!$C$2:$E$104,2,FALSE))","v":"Gobernanza e influencia local, regional e internacional"},{"$f":"IF(ISERROR(VLOOKUP(K236,Eje_Pilar_Prop!$C$2:$E$104,3,FALSE)),\" \",VLOOKUP(K236,Eje_Pilar_Prop!$C$2:$E$104,3,FALSE))","v":"Eje Transversal 4 Gobierno Legitimo, Fortalecimiento Local y Eficiencia"},1375,52008301,"ANA ROSA BAUTISTA RINCON",16500000,null,null,1,6783333,23283333,12283333,"2020-09-24","2020-09-24","2020-12-23",90,null,38,null,null,null,null,null,"","x",null,0.52755904835446021,null,{"$f":"IF(SUMPRODUCT((A$14:A236=A236)*(B$14:B236=B236)*(D$14:D236=D236))>1,0,1)","v":1},"Contratos de prestación de servicios","Contratación directa",{"$f":"IF(ISBLANK(G236),1,IFERROR(VLOOKUP(G236,Tipo!$C$12:$C$27,1,FALSE),\"NO\"))","v":"Prestación de servicios profesionales y de apoyo a la gestión, o para la ejecución de trabajos artísticos que sólo puedan encomendarse a determinadas personas naturales;"},"Inversión",{"$f":"IF(ISBLANK(K236),1,IFERROR(VLOOKUP(K236,Eje_Pilar_Prop!C218:C319,1,FALSE),\"NO\"))","v":"NO"},"SECOP II",1,"Bogotá Mejor para Todos"]
["CPS-227-2020",2020,"SECOP II","FDLS-CD-229-2020","Contratos de prestación de servicios","Contratación directa","Prestación de servicios profesionales y de apoyo a la gestión, o para la ejecución de trabajos artísticos que sólo puedan encomendarse a determinadas personas naturales;","Prestar los servicios como\nAuxiliar administrativo para el área de Gestión de Desarrollo Local, en los temas de\nInfraestructura, de la Alcaldía local de Sumapaz","Inversión","Bogotá Mejor para Todos",18,{"$f":"IF(ISERROR(VLOOKUP(K237,Eje_Pilar_Prop!$C$2:$E$104,2,FALSE)),\" \",VLOOKUP(K237,Eje_Pilar_Prop!$C$2:$E$104,2,FALSE))","v":"Mejor movilidad para todos"},{"$f":"IF(ISERROR(VLOOKUP(K237,Eje_Pilar_Prop!$C$2:$E$104,3,FALSE)),\" \",VLOOKUP(K237,Eje_Pilar_Prop!$C$2:$E$104,3,FALSE))","v":"Pilar 2 Democracía Urbana"},1364,"1,015,419,501","NATALIA SANCHEZ MARIN",7500000,null,null,1,2500000,10000000,7500000,"2020-10-01","2020-10-01","2020-12-31",90,null,30,null,null,null,null,null,"","x",null,0.75,null,{"$f":"IF(SUMPRODUCT((A$14:A237=A237)*(B$14:B237=B237)*(D$14:D237=D237))>1,0,1)","v":1},"Contratos de prestación de servicios","Contratación directa",{"$f":"IF(ISBLANK(G237),1,IFERROR(VLOOKUP(G237,Tipo!$C$12:$C$27,1,FALSE),\"NO\"))","v":"Prestación de servicios profesionales y de apoyo a la gestión, o para la ejecución de trabajos artísticos que sólo puedan encomendarse a determinadas personas naturales;"},"Inversión",{"$f":"IF(ISBLANK(K237),1,IFERROR(VLOOKUP(K237,Eje_Pilar_Prop!C219:C320,1,FALSE),\"NO\"))","v":"NO"},"SECOP II",1,"Bogotá Mejor para Todos"]
["CPS-228-2020",2020,"SECOP II","FDLS-CD-230-2020","Contratos de prestación de servicios","Contratación directa","Prestación de servicios profesionales y de apoyo a la gestión, o para la ejecución de trabajos artísticos que sólo puedan encomendarse a determinadas personas naturales;","Prestar los servicios de apoyo\nlogístico y operativo en las sedes de la Alcaldía Local de Sumapaz","Inversión","Bogotá Mejor para Todos",45,{"$f":"IF(ISERROR(VLOOKUP(K238,Eje_Pilar_Prop!$C$2:$E$104,2,FALSE)),\" \",VLOOKUP(K238,Eje_Pilar_Prop!$C$2:$E$104,2,FALSE))","v":"Gobernanza e influencia local, regional e internacional"},{"$f":"IF(ISERROR(VLOOKUP(K238,Eje_Pilar_Prop!$C$2:$E$104,3,FALSE)),\" \",VLOOKUP(K238,Eje_Pilar_Prop!$C$2:$E$104,3,FALSE))","v":"Eje Transversal 4 Gobierno Legitimo, Fortalecimiento Local y Eficiencia"},1375,1022997635,"BRAYAN STIVEN PORRAS PALACIOS",10000000,null,null,null,null,10000000,4166667,"2020-11-11","2020-11-11","2021-03-10",120,null,"",null,null,null,null,null,"x","",null,0.4166667,null,{"$f":"IF(SUMPRODUCT((A$14:A238=A238)*(B$14:B238=B238)*(D$14:D238=D238))>1,0,1)","v":1},"Contratos de prestación de servicios","Contratación directa",{"$f":"IF(ISBLANK(G238),1,IFERROR(VLOOKUP(G238,Tipo!$C$12:$C$27,1,FALSE),\"NO\"))","v":"Prestación de servicios profesionales y de apoyo a la gestión, o para la ejecución de trabajos artísticos que sólo puedan encomendarse a determinadas personas naturales;"},"Inversión",{"$f":"IF(ISBLANK(K238),1,IFERROR(VLOOKUP(K238,Eje_Pilar_Prop!C220:C321,1,FALSE),\"NO\"))","v":"NO"},"SECOP II",1,"Bogotá Mejor para Todos"]
["CPS-229-2020",2020,"SECOP II","FDLS-CD-232-2020","Contratos de prestación de servicios","Contratación directa","Prestación de servicios profesionales y de apoyo a la gestión, o para la ejecución de trabajos artísticos que sólo puedan encomendarse a determinadas personas naturales;","APOYAR LA FORMULACION, EJECUCION,SEGUIMIENTO Y MEJORA CONTINUA DE LAS HERRAMIENTAS QUE CONFORMAN LA GESTION AMBIENTAL INSTITUCIONAL DE LA ALCALDIA LOCAL","Inversión","Bogotá Mejor para Todos",45,{"$f":"IF(ISERROR(VLOOKUP(K239,Eje_Pilar_Prop!$C$2:$E$104,2,FALSE)),\" \",VLOOKUP(K239,Eje_Pilar_Prop!$C$2:$E$104,2,FALSE))","v":"Gobernanza e influencia local, regional e internacional"},{"$f":"IF(ISERROR(VLOOKUP(K239,Eje_Pilar_Prop!$C$2:$E$104,3,FALSE)),\" \",VLOOKUP(K239,Eje_Pilar_Prop!$C$2:$E$104,3,FALSE))","v":"Eje Transversal 4 Gobierno Legitimo, Fortalecimiento Local y Eficiencia"},1375,"1,077,034,483","SANTIAGO HINCAPIE GARCIA",21000000,null,null,null,null,21000000,8820000,"2020-09-28","2020-09-28","2021-02-27",150,null,"",null,null,null,null,null,"x","",null,0.42,null,{"$f":"IF(SUMPRODUCT((A$14:A239=A239)*(B$14:B239=B239)*(D$14:D239=D239))>1,0,1)","v":1},"Contratos de prestación de servicios","Contratación directa",{"$f":"IF(ISBLANK(G239),1,IFERROR(VLOOKUP(G239,Tipo!$C$12:$C$27,1,FALSE),\"NO\"))","v":"Prestación de servicios profesionales y de apoyo a la gestión, o para la ejecución de trabajos artísticos que sólo puedan encomendarse a determinadas personas naturales;"},"Inversión",{"$f":"IF(ISBLANK(K239),1,IFERROR(VLOOKUP(K239,Eje_Pilar_Prop!C221:C322,1,FALSE),\"NO\"))","v":"NO"},"SECOP II",1,"Bogotá Mejor para Todos"]
["CPS-230-2020",2020,"SECOP II","FDLS-CD-233-2020","Contratos de prestación de servicios","Contratación directa","Prestación de servicios profesionales y de apoyo a la gestión, o para la ejecución de trabajos artísticos que sólo puedan encomendarse a determinadas personas naturales;","PRESTAR LOS SERVICIOS REQUERIDOS PARA OPERAR EL PROGRAMA EMPLEOS DE EMERGENCIAS QUE BUSCA GENERAR EMPLEO LOCAL TEMPORAL A TRABAJADORES DE BAJA CUALIFICACION DE LAS LOCALIDADES QUE SUCRIBEN ESTE CONTRATO EN EL MARCO DE LA CONTENCION DEL COVID-19, LA DECLARATORIA DE LA EMERGENCIA SANITARIA EN TODO EL TERRIOTRIO NACIONAL Y LA CALAMIDAD PUBLICA DECLARADA EN LA CIUDAD DE BOGOTA DC PARA PROMOVER LA REACTIVACION ECONOMICA LOCAL","Inversión","Bogotá Mejor para Todos",19,{"$f":"IF(ISERROR(VLOOKUP(K240,Eje_Pilar_Prop!$C$2:$E$104,2,FALSE)),\" \",VLOOKUP(K240,Eje_Pilar_Prop!$C$2:$E$104,2,FALSE))","v":"Seguridad y convivencia para todos"},{"$f":"IF(ISERROR(VLOOKUP(K240,Eje_Pilar_Prop!$C$2:$E$104,3,FALSE)),\" \",VLOOKUP(K240,Eje_Pilar_Prop!$C$2:$E$104,3,FALSE))","v":"Pilar 3 Construcción de Comunidad y Cultura Ciudadana"},1366,"860066942-7","CAJA DE COMPENSACION FAMILIAR COMPENSAR",4770179833,null,null,null,null,4770179833,953016359,"2020-10-05","2020-10-05","2021-04-04",180,null,"",null,null,null,null,null,"x","",null,0.19978625384457283,null,{"$f":"IF(SUMPRODUCT((A$14:A240=A240)*(B$14:B240=B240)*(D$14:D240=D240))>1,0,1)","v":1},"Contratos de prestación de servicios","Contratación directa",{"$f":"IF(ISBLANK(G240),1,IFERROR(VLOOKUP(G240,Tipo!$C$12:$C$27,1,FALSE),\"NO\"))","v":"Prestación de servicios profesionales y de apoyo a la gestión, o para la ejecución de trabajos artísticos que sólo puedan encomendarse a determinadas personas naturales;"},"Inversión",{"$f":"IF(ISBLANK(K240),1,IFERROR(VLOOKUP(K240,Eje_Pilar_Prop!C222:C323,1,FALSE),\"NO\"))","v":"NO"},"SECOP II",1,"Bogotá Mejor para Todos"]
["CPS-231-2020",2020,"SECOP II","FDLS-CD-234-2020","Contratos de prestación de servicios","Contratación directa","Prestación de servicios profesionales y de apoyo a la gestión, o para la ejecución de trabajos artísticos que sólo puedan encomendarse a determinadas personas naturales;","PRESTAR SUS SERVICIOS PARA LLEVAR A CABO LA IMPLEMENTACIÓN A TRAVES DE UNA INTERVENCIÓN INTEGRAL PARA LLEVAR A CABO LA REACTIVACIÓN ECONÓMICA RURAL, A TRAVÉS DE LAS ACCIONES DE FORTALECIMIENTO PRODUCTIVO, COMERCIAL Y GESTIÓN DE LOS PLANES DE EXTENSIÓN AGROPECUARIA, DENTRO DEL PROGRAMA DE FORTALECIMIENTO DEL CORAZÓN RURAL.","Inversión","Bogotá Mejor para Todos",41,{"$f":"IF(ISERROR(VLOOKUP(K241,Eje_Pilar_Prop!$C$2:$E$104,2,FALSE)),\" \",VLOOKUP(K241,Eje_Pilar_Prop!$C$2:$E$104,2,FALSE))","v":"Desarrollo rural sostenible"},{"$f":"IF(ISERROR(VLOOKUP(K241,Eje_Pilar_Prop!$C$2:$E$104,3,FALSE)),\" \",VLOOKUP(K241,Eje_Pilar_Prop!$C$2:$E$104,3,FALSE))","v":"Eje Transversal 3 Sostenibilidad Ambiental basada en la eficiencia energética"},1382,"800186585-7","CORPORACION COLOMBIA INTERNACIONAL - CCI",2457365368,null,null,null,null,2457365368,860077879,"2020-10-01","2020-10-01","2021-03-31",180,null,"",null,null,null,null,null,"x","",null,0.35000000008138799,null,{"$f":"IF(SUMPRODUCT((A$14:A241=A241)*(B$14:B241=B241)*(D$14:D241=D241))>1,0,1)","v":1},"Contratos de prestación de servicios","Contratación directa",{"$f":"IF(ISBLANK(G241),1,IFERROR(VLOOKUP(G241,Tipo!$C$12:$C$27,1,FALSE),\"NO\"))","v":"Prestación de servicios profesionales y de apoyo a la gestión, o para la ejecución de trabajos artísticos que sólo puedan encomendarse a determinadas personas naturales;"},"Inversión",{"$f":"IF(ISBLANK(K241),1,IFERROR(VLOOKUP(K241,Eje_Pilar_Prop!C223:C324,1,FALSE),\"NO\"))","v":"NO"},"SECOP II",1,"Bogotá Mejor para Todos"]
["CPS-232-2020",2020,"SECOP II","FDLS-CD-235-2020","Contratos de prestación de servicios","Contratación directa","Prestación de servicios profesionales y de apoyo a la gestión, o para la ejecución de trabajos artísticos que sólo puedan encomendarse a determinadas personas naturales;","Prestar los servicios\nprofesionales especializados al Área de Gestión de Desarrollo Local, para realizar la\nformulación y seguimiento a los proyectos de inversión de Infraestructura y Malla Vial\nde la Localidad","Inversión","Bogotá Mejor para Todos",18,{"$f":"IF(ISERROR(VLOOKUP(K242,Eje_Pilar_Prop!$C$2:$E$104,2,FALSE)),\" \",VLOOKUP(K242,Eje_Pilar_Prop!$C$2:$E$104,2,FALSE))","v":"Mejor movilidad para todos"},{"$f":"IF(ISERROR(VLOOKUP(K242,Eje_Pilar_Prop!$C$2:$E$104,3,FALSE)),\" \",VLOOKUP(K242,Eje_Pilar_Prop!$C$2:$E$104,3,FALSE))","v":"Pilar 2 Democracía Urbana"},1364,1019006008,"JUAN PABLO SANABRIA MORENO",22500000,null,null,null,null,22500000,15000000,"2020-10-30","2020-10-30","2021-01-29",90,null,"",null,null,null,null,null,"","x",null,0.66666666666666663,null,{"$f":"IF(SUMPRODUCT((A$14:A242=A242)*(B$14:B242=B242)*(D$14:D242=D242))>1,0,1)","v":1},"Contratos de prestación de servicios","Contratación directa",{"$f":"IF(ISBLANK(G242),1,IFERROR(VLOOKUP(G242,Tipo!$C$12:$C$27,1,FALSE),\"NO\"))","v":"Prestación de servicios profesionales y de apoyo a la gestión, o para la ejecución de trabajos artísticos que sólo puedan encomendarse a determinadas personas naturales;"},"Inversión",{"$f":"IF(ISBLANK(K242),1,IFERROR(VLOOKUP(K242,Eje_Pilar_Prop!C224:C325,1,FALSE),\"NO\"))","v":"NO"},"SECOP II",1,"Bogotá Mejor para Todos"]
["CPS-233-2020",2020,"SECOP II","FDLS-CD-236-2020","Contratos de prestación de servicios","Contratación directa","Prestación de servicios profesionales y de apoyo a la gestión, o para la ejecución de trabajos artísticos que sólo puedan encomendarse a determinadas personas naturales;","Prestar sus servicios\nprofesionales para la formulación, gestión y seguimiento de la gestión ambiental de la\nLocalidad de Sumapaz","Inversión","Bogotá Mejor para Todos",45,{"$f":"IF(ISERROR(VLOOKUP(K243,Eje_Pilar_Prop!$C$2:$E$104,2,FALSE)),\" \",VLOOKUP(K243,Eje_Pilar_Prop!$C$2:$E$104,2,FALSE))","v":"Gobernanza e influencia local, regional e internacional"},{"$f":"IF(ISERROR(VLOOKUP(K243,Eje_Pilar_Prop!$C$2:$E$104,3,FALSE)),\" \",VLOOKUP(K243,Eje_Pilar_Prop!$C$2:$E$104,3,FALSE))","v":"Eje Transversal 4 Gobierno Legitimo, Fortalecimiento Local y Eficiencia"},1375,1026277892,"WILLIAM ANDRES HERRERA PABON",16500000,null,null,null,null,16500000,6233333,"2020-10-27","2020-10-27","2021-01-26",90,null,"",null,null,null,null,null,"","x",null,0.3777777575757576,null,{"$f":"IF(SUMPRODUCT((A$14:A243=A243)*(B$14:B243=B243)*(D$14:D243=D243))>1,0,1)","v":1},"Contratos de prestación de servicios","Contratación directa",{"$f":"IF(ISBLANK(G243),1,IFERROR(VLOOKUP(G243,Tipo!$C$12:$C$27,1,FALSE),\"NO\"))","v":"Prestación de servicios profesionales y de apoyo a la gestión, o para la ejecución de trabajos artísticos que sólo puedan encomendarse a determinadas personas naturales;"},"Inversión",{"$f":"IF(ISBLANK(K243),1,IFERROR(VLOOKUP(K243,Eje_Pilar_Prop!C225:C326,1,FALSE),\"NO\"))","v":"NO"},"SECOP II",1,"Bogotá Mejor para Todos"]
["CPS-234-2020",2020,"SECOP II","FDLS-CD-237-2020","Contratos de prestación de servicios","Contratación directa","Prestación de servicios profesionales y de apoyo a la gestión, o para la ejecución de trabajos artísticos que sólo puedan encomendarse a determinadas personas naturales;","Prestar los servicios\ncomo Técnico administrativo al servicio de la Junta Administradora Local de\nSumapaz","Inversión","Bogotá Mejor para Todos",45,{"$f":"IF(ISERROR(VLOOKUP(K244,Eje_Pilar_Prop!$C$2:$E$104,2,FALSE)),\" \",VLOOKUP(K244,Eje_Pilar_Prop!$C$2:$E$104,2,FALSE))","v":"Gobernanza e influencia local, regional e internacional"},{"$f":"IF(ISERROR(VLOOKUP(K244,Eje_Pilar_Prop!$C$2:$E$104,3,FALSE)),\" \",VLOOKUP(K244,Eje_Pilar_Prop!$C$2:$E$104,3,FALSE))","v":"Eje Transversal 4 Gobierno Legitimo, Fortalecimiento Local y Eficiencia"},1375,52231511,"CARLA NIAMED LOZANO TAUTIVA",9000000,null,null,null,null,9000000,6100000,"2020-10-30","2020-10-30","2021-01-29",90,null,"",null,null,null,null,null,"","x",null,0.67777777777777781,null,{"$f":"IF(SUMPRODUCT((A$14:A244=A244)*(B$14:B244=B244)*(D$14:D244=D244))>1,0,1)","v":1},"Contratos de prestación de servicios","Contratación directa",{"$f":"IF(ISBLANK(G244),1,IFERROR(VLOOKUP(G244,Tipo!$C$12:$C$27,1,FALSE),\"NO\"))","v":"Prestación de servicios profesionales y de apoyo a la gestión, o para la ejecución de trabajos artísticos que sólo puedan encomendarse a determinadas personas naturales;"},"Inversión",{"$f":"IF(ISBLANK(K244),1,IFERROR(VLOOKUP(K244,Eje_Pilar_Prop!C226:C327,1,FALSE),\"NO\"))","v":"NO"},"SECOP II",1,"Bogotá Mejor para Todos"]
["CPS-235-2020",2020,"SECOP II","FDLS-CD-238-2020","Contratos de prestación de servicios","Contratación directa","Prestación de servicios profesionales y de apoyo a la gestión, o para la ejecución de trabajos artísticos que sólo puedan encomendarse a determinadas personas naturales;","PRESTAR LOS SERVICIOS COMO AUXILIAR DE APOYO ADMISNITRATIVO AL AREA DE GESTION POLICIVA DE LA ALCALDIA LOCAL DE SUMAPAZ","Inversión","Bogotá Mejor para Todos",45,{"$f":"IF(ISERROR(VLOOKUP(K245,Eje_Pilar_Prop!$C$2:$E$104,2,FALSE)),\" \",VLOOKUP(K245,Eje_Pilar_Prop!$C$2:$E$104,2,FALSE))","v":"Gobernanza e influencia local, regional e internacional"},{"$f":"IF(ISERROR(VLOOKUP(K245,Eje_Pilar_Prop!$C$2:$E$104,3,FALSE)),\" \",VLOOKUP(K245,Eje_Pilar_Prop!$C$2:$E$104,3,FALSE))","v":"Eje Transversal 4 Gobierno Legitimo, Fortalecimiento Local y Eficiencia"},1375,52524470,"MARCELA TORRES RAMIREZ",7500000,null,null,null,null,7500000,0,"2020-10-28","2020-10-28","2021-01-27",90,null,"",null,null,null,null,null,"","x",null,0,null,{"$f":"IF(SUMPRODUCT((A$14:A245=A245)*(B$14:B245=B245)*(D$14:D245=D245))>1,0,1)","v":1},"Contratos de prestación de servicios","Contratación directa",{"$f":"IF(ISBLANK(G245),1,IFERROR(VLOOKUP(G245,Tipo!$C$12:$C$27,1,FALSE),\"NO\"))","v":"Prestación de servicios profesionales y de apoyo a la gestión, o para la ejecución de trabajos artísticos que sólo puedan encomendarse a determinadas personas naturales;"},"Inversión",{"$f":"IF(ISBLANK(K245),1,IFERROR(VLOOKUP(K245,Eje_Pilar_Prop!C227:C328,1,FALSE),\"NO\"))","v":"NO"},"SECOP II",1,"Bogotá Mejor para Todos"]
["CPS-236-2020",2020,"SECOP II","FDLS-CD-240-2020","Contratos de prestación de servicios","Contratación directa","Prestación de servicios profesionales y de apoyo a la gestión, o para la ejecución de trabajos artísticos que sólo puedan encomendarse a determinadas personas naturales;","Prestar los servicios\nprofesionales para apoyar el cumplimiento del plan de desarrollo de la Alcaldía Local de\nSumapaz","Inversión","Bogotá Mejor para Todos",45,{"$f":"IF(ISERROR(VLOOKUP(K246,Eje_Pilar_Prop!$C$2:$E$104,2,FALSE)),\" \",VLOOKUP(K246,Eje_Pilar_Prop!$C$2:$E$104,2,FALSE))","v":"Gobernanza e influencia local, regional e internacional"},{"$f":"IF(ISERROR(VLOOKUP(K246,Eje_Pilar_Prop!$C$2:$E$104,3,FALSE)),\" \",VLOOKUP(K246,Eje_Pilar_Prop!$C$2:$E$104,3,FALSE))","v":"Eje Transversal 4 Gobierno Legitimo, Fortalecimiento Local y Eficiencia"},1375,1015415370,"ANGIE CAROLINA PRIETO ALVARADO",16500000,null,null,null,null,16500000,11366666,"2020-10-26","2020-10-26","2021-01-25",90,null,"",null,null,null,null,null,"","x",null,0.68888884848484844,null,{"$f":"IF(SUMPRODUCT((A$14:A246=A246)*(B$14:B246=B246)*(D$14:D246=D246))>1,0,1)","v":1},"Contratos de prestación de servicios","Contratación directa",{"$f":"IF(ISBLANK(G246),1,IFERROR(VLOOKUP(G246,Tipo!$C$12:$C$27,1,FALSE),\"NO\"))","v":"Prestación de servicios profesionales y de apoyo a la gestión, o para la ejecución de trabajos artísticos que sólo puedan encomendarse a determinadas personas naturales;"},"Inversión",{"$f":"IF(ISBLANK(K246),1,IFERROR(VLOOKUP(K246,Eje_Pilar_Prop!C228:C329,1,FALSE),\"NO\"))","v":"NO"},"SECOP II",1,"Bogotá Mejor para Todos"]
["CPS-237-2020",2020,"SECOP II","FDLS-CD-241-2020","Contratos de prestación de servicios","Contratación directa","Prestación de servicios profesionales y de apoyo a la gestión, o para la ejecución de trabajos artísticos que sólo puedan encomendarse a determinadas personas naturales;","“Prestar los servicios\nprofesionales para la operación, prestación, seguimiento y cumplimiento de los\nprocedimientos administrativos, operativos y programáticos del Servicio Apoyo\nEconómico Tipo C, que contribuyan a la garantía de los derechos de la población mayor\nen el marco de la Política Pública Social para el Envejecimiento y la Vejez1 en el Distrito\nCapital a cargo de la Alcaldía Local de Sumapaz","Inversión","Bogotá Mejor para Todos",3,{"$f":"IF(ISERROR(VLOOKUP(K247,Eje_Pilar_Prop!$C$2:$E$104,2,FALSE)),\" \",VLOOKUP(K247,Eje_Pilar_Prop!$C$2:$E$104,2,FALSE))","v":"Igualdad y autonomía para una Bogotá incluyente"},{"$f":"IF(ISERROR(VLOOKUP(K247,Eje_Pilar_Prop!$C$2:$E$104,3,FALSE)),\" \",VLOOKUP(K247,Eje_Pilar_Prop!$C$2:$E$104,3,FALSE))","v":"Pilar 1 Igualdad de Calidad de Vida"},1334,1023006378,"LEIDY PAOLA GONZALEZ PALACIOS",12600000,null,null,null,null,12600000,0,"2020-11-03","2020-11-03","2021-02-02",90,null,"",null,null,null,null,null,"","x",null,0,null,{"$f":"IF(SUMPRODUCT((A$14:A247=A247)*(B$14:B247=B247)*(D$14:D247=D247))>1,0,1)","v":1},"Contratos de prestación de servicios","Contratación directa",{"$f":"IF(ISBLANK(G247),1,IFERROR(VLOOKUP(G247,Tipo!$C$12:$C$27,1,FALSE),\"NO\"))","v":"Prestación de servicios profesionales y de apoyo a la gestión, o para la ejecución de trabajos artísticos que sólo puedan encomendarse a determinadas personas naturales;"},"Inversión",{"$f":"IF(ISBLANK(K247),1,IFERROR(VLOOKUP(K247,Eje_Pilar_Prop!C229:C330,1,FALSE),\"NO\"))","v":"NO"},"SECOP II",1,"Bogotá Mejor para Todos"]
["CPS-238-2020",2020,"SECOP II","FDLS-CD-242-2020","Contratos de prestación de servicios","Contratación directa","Prestación de servicios profesionales y de apoyo a la gestión, o para la ejecución de trabajos artísticos que sólo puedan encomendarse a determinadas personas naturales;","Prestar los servicios como\nconductor de vehículos livianos de propiedad del Fondo de Desarrollo Local de Sumapaz","Inversión","Bogotá Mejor para Todos",45,{"$f":"IF(ISERROR(VLOOKUP(K248,Eje_Pilar_Prop!$C$2:$E$104,2,FALSE)),\" \",VLOOKUP(K248,Eje_Pilar_Prop!$C$2:$E$104,2,FALSE))","v":"Gobernanza e influencia local, regional e internacional"},{"$f":"IF(ISERROR(VLOOKUP(K248,Eje_Pilar_Prop!$C$2:$E$104,3,FALSE)),\" \",VLOOKUP(K248,Eje_Pilar_Prop!$C$2:$E$104,3,FALSE))","v":"Eje Transversal 4 Gobierno Legitimo, Fortalecimiento Local y Eficiencia"},1375,19271225,"MAXIMILIANO LOPEZ SUAREZ ",7500000,null,null,null,null,7500000,5166167,"2020-10-29","2020-10-29","2021-01-28",90,null,"",null,null,null,null,null,"","x",null,0.68882226666666668,null,{"$f":"IF(SUMPRODUCT((A$14:A248=A248)*(B$14:B248=B248)*(D$14:D248=D248))>1,0,1)","v":1},"Contratos de prestación de servicios","Contratación directa",{"$f":"IF(ISBLANK(G248),1,IFERROR(VLOOKUP(G248,Tipo!$C$12:$C$27,1,FALSE),\"NO\"))","v":"Prestación de servicios profesionales y de apoyo a la gestión, o para la ejecución de trabajos artísticos que sólo puedan encomendarse a determinadas personas naturales;"},"Inversión",{"$f":"IF(ISBLANK(K248),1,IFERROR(VLOOKUP(K248,Eje_Pilar_Prop!C230:C331,1,FALSE),\"NO\"))","v":"NO"},"SECOP II",1,"Bogotá Mejor para Todos"]
["CPS-239-2020",2020,"SECOP II","FDLS-CD-243-2020","Contratos de prestación de servicios","Contratación directa","Prestación de servicios profesionales y de apoyo a la gestión, o para la ejecución de trabajos artísticos que sólo puedan encomendarse a determinadas personas naturales;","Prestar los servicios como\nconductor de vehículos livianos de propiedad del Fondo de Desarrollo Local de Sumapaz","Inversión","Bogotá Mejor para Todos",45,{"$f":"IF(ISERROR(VLOOKUP(K249,Eje_Pilar_Prop!$C$2:$E$104,2,FALSE)),\" \",VLOOKUP(K249,Eje_Pilar_Prop!$C$2:$E$104,2,FALSE))","v":"Gobernanza e influencia local, regional e internacional"},{"$f":"IF(ISERROR(VLOOKUP(K249,Eje_Pilar_Prop!$C$2:$E$104,3,FALSE)),\" \",VLOOKUP(K249,Eje_Pilar_Prop!$C$2:$E$104,3,FALSE))","v":"Eje Transversal 4 Gobierno Legitimo, Fortalecimiento Local y Eficiencia"},1375,1032656045,"EDUARDO DIMATE RICO",7500000,null,null,null,null,7500000,5166666,"2020-10-29","2020-10-29","2021-01-28",90,null,"",null,null,null,null,null,"","x",null,0.68888879999999997,null,{"$f":"IF(SUMPRODUCT((A$14:A249=A249)*(B$14:B249=B249)*(D$14:D249=D249))>1,0,1)","v":1},"Contratos de prestación de servicios","Contratación directa",{"$f":"IF(ISBLANK(G249),1,IFERROR(VLOOKUP(G249,Tipo!$C$12:$C$27,1,FALSE),\"NO\"))","v":"Prestación de servicios profesionales y de apoyo a la gestión, o para la ejecución de trabajos artísticos que sólo puedan encomendarse a determinadas personas naturales;"},"Inversión",{"$f":"IF(ISBLANK(K249),1,IFERROR(VLOOKUP(K249,Eje_Pilar_Prop!C231:C332,1,FALSE),\"NO\"))","v":"NO"},"SECOP II",1,"Bogotá Mejor para Todos"]
["CPS-240-2020",2020,"SECOP II","FDLS-CD-244-2020","Contratos de prestación de servicios","Contratación directa","Prestación de servicios profesionales y de apoyo a la gestión, o para la ejecución de trabajos artísticos que sólo puedan encomendarse a determinadas personas naturales;","PRESTAR LOS SERVIIOS COMO AUXILIAR ADMINISTRATIVO EN LAS LABORES DE OFICIOS VARIOS Y NOTIFICACION PARA LA CUENCA DEL RIO BLANCO","Inversión","Bogotá Mejor para Todos",45,{"$f":"IF(ISERROR(VLOOKUP(K250,Eje_Pilar_Prop!$C$2:$E$104,2,FALSE)),\" \",VLOOKUP(K250,Eje_Pilar_Prop!$C$2:$E$104,2,FALSE))","v":"Gobernanza e influencia local, regional e internacional"},{"$f":"IF(ISERROR(VLOOKUP(K250,Eje_Pilar_Prop!$C$2:$E$104,3,FALSE)),\" \",VLOOKUP(K250,Eje_Pilar_Prop!$C$2:$E$104,3,FALSE))","v":"Eje Transversal 4 Gobierno Legitimo, Fortalecimiento Local y Eficiencia"},1375,1033767652,"IVAN DARIO CHINGATE MICAN",6000000,null,null,null,null,6000000,2266666,"2020-10-27","2020-10-27","2021-01-26",90,null,"",null,null,null,null,null,"","x",null,0.37777766666666668,null,{"$f":"IF(SUMPRODUCT((A$14:A250=A250)*(B$14:B250=B250)*(D$14:D250=D250))>1,0,1)","v":1},"Contratos de prestación de servicios","Contratación directa",{"$f":"IF(ISBLANK(G250),1,IFERROR(VLOOKUP(G250,Tipo!$C$12:$C$27,1,FALSE),\"NO\"))","v":"Prestación de servicios profesionales y de apoyo a la gestión, o para la ejecución de trabajos artísticos que sólo puedan encomendarse a determinadas personas naturales;"},"Inversión",{"$f":"IF(ISBLANK(K250),1,IFERROR(VLOOKUP(K250,Eje_Pilar_Prop!C232:C333,1,FALSE),\"NO\"))","v":"NO"},"SECOP II",1,"Bogotá Mejor para Todos"]
["CPS-241-2020",2020,"SECOP II","FDLS-CD-246-2020","Contratos de prestación de servicios","Contratación directa","Prestación de servicios profesionales y de apoyo a la gestión, o para la ejecución de trabajos artísticos que sólo puedan encomendarse a determinadas personas naturales;","Prestar los servicios como\nAuxiliar administrativo para la Corregiduría de Betania","Inversión","Bogotá Mejor para Todos",45,{"$f":"IF(ISERROR(VLOOKUP(K251,Eje_Pilar_Prop!$C$2:$E$104,2,FALSE)),\" \",VLOOKUP(K251,Eje_Pilar_Prop!$C$2:$E$104,2,FALSE))","v":"Gobernanza e influencia local, regional e internacional"},{"$f":"IF(ISERROR(VLOOKUP(K251,Eje_Pilar_Prop!$C$2:$E$104,3,FALSE)),\" \",VLOOKUP(K251,Eje_Pilar_Prop!$C$2:$E$104,3,FALSE))","v":"Eje Transversal 4 Gobierno Legitimo, Fortalecimiento Local y Eficiencia"},1375,1032656360,"DIANA LUCIA RAMIREZ MUÑOZ",6000000,null,null,null,null,6000000,2066666,"2020-10-30","2020-10-30","2021-01-29",90,null,"",null,null,null,null,null,"","x",null,0.34444433333333335,null,{"$f":"IF(SUMPRODUCT((A$14:A251=A251)*(B$14:B251=B251)*(D$14:D251=D251))>1,0,1)","v":1},"Contratos de prestación de servicios","Contratación directa",{"$f":"IF(ISBLANK(G251),1,IFERROR(VLOOKUP(G251,Tipo!$C$12:$C$27,1,FALSE),\"NO\"))","v":"Prestación de servicios profesionales y de apoyo a la gestión, o para la ejecución de trabajos artísticos que sólo puedan encomendarse a determinadas personas naturales;"},"Inversión",{"$f":"IF(ISBLANK(K251),1,IFERROR(VLOOKUP(K251,Eje_Pilar_Prop!C233:C334,1,FALSE),\"NO\"))","v":"NO"},"SECOP II",1,"Bogotá Mejor para Todos"]
["CPS-242-2020",2020,"SECOP II","FDLS-CD-249-2020","Contratos de prestación de servicios","Contratación directa","Prestación de servicios profesionales y de apoyo a la gestión, o para la ejecución de trabajos artísticos que sólo puedan encomendarse a determinadas personas naturales;","Prestar los servicios\nprofesionales para apoyar técnicamente a los responsables e integrantes de los procesos\nen la implementación de herramientas de gestión, siguiendo los lineamientos\nmetodológicos establecidos por la Oficina Asesora de Planeación de la Secretaría\nDistrital de Gobierno","Inversión","Bogotá Mejor para Todos",45,{"$f":"IF(ISERROR(VLOOKUP(K252,Eje_Pilar_Prop!$C$2:$E$104,2,FALSE)),\" \",VLOOKUP(K252,Eje_Pilar_Prop!$C$2:$E$104,2,FALSE))","v":"Gobernanza e influencia local, regional e internacional"},{"$f":"IF(ISERROR(VLOOKUP(K252,Eje_Pilar_Prop!$C$2:$E$104,3,FALSE)),\" \",VLOOKUP(K252,Eje_Pilar_Prop!$C$2:$E$104,3,FALSE))","v":"Eje Transversal 4 Gobierno Legitimo, Fortalecimiento Local y Eficiencia"},1375,52211430,"GLORIA ESPERANZA PIRAJON TEJEDOR",16500000,null,null,null,null,16500000,4950000,"2020-11-04","2020-11-04","2021-02-03",90,null,"",null,null,null,null,null,"","x",null,0.3,null,{"$f":"IF(SUMPRODUCT((A$14:A252=A252)*(B$14:B252=B252)*(D$14:D252=D252))>1,0,1)","v":1},"Contratos de prestación de servicios","Contratación directa",{"$f":"IF(ISBLANK(G252),1,IFERROR(VLOOKUP(G252,Tipo!$C$12:$C$27,1,FALSE),\"NO\"))","v":"Prestación de servicios profesionales y de apoyo a la gestión, o para la ejecución de trabajos artísticos que sólo puedan encomendarse a determinadas personas naturales;"},"Inversión",{"$f":"IF(ISBLANK(K252),1,IFERROR(VLOOKUP(K252,Eje_Pilar_Prop!C234:C335,1,FALSE),\"NO\"))","v":"NO"},"SECOP II",1,"Bogotá Mejor para Todos"]
["CPS-243-2020",2020,"SECOP II","FDLS-250-2020","Contratos de prestación de servicios","Contratación directa","Prestación de servicios profesionales y de apoyo a la gestión, o para la ejecución de trabajos artísticos que sólo puedan encomendarse a determinadas personas naturales;","Prestar los servicios\ncomo Auxiliar Administrativo al servicio de la Junta Administradora Local de\nSumapaz","Inversión","Bogotá Mejor para Todos",45,{"$f":"IF(ISERROR(VLOOKUP(K253,Eje_Pilar_Prop!$C$2:$E$104,2,FALSE)),\" \",VLOOKUP(K253,Eje_Pilar_Prop!$C$2:$E$104,2,FALSE))","v":"Gobernanza e influencia local, regional e internacional"},{"$f":"IF(ISERROR(VLOOKUP(K253,Eje_Pilar_Prop!$C$2:$E$104,3,FALSE)),\" \",VLOOKUP(K253,Eje_Pilar_Prop!$C$2:$E$104,3,FALSE))","v":"Eje Transversal 4 Gobierno Legitimo, Fortalecimiento Local y Eficiencia"},1375,1030521003,"FREDY HUMBERTO PEÑA FORERO",7500000,null,null,null,null,7500000,5083333,"2020-10-30","2020-10-30","2021-01-29",90,null,"",null,null,null,null,null,"","x",null,0.67777773333333335,null,{"$f":"IF(SUMPRODUCT((A$14:A253=A253)*(B$14:B253=B253)*(D$14:D253=D253))>1,0,1)","v":1},"Contratos de prestación de servicios","Contratación directa",{"$f":"IF(ISBLANK(G253),1,IFERROR(VLOOKUP(G253,Tipo!$C$12:$C$27,1,FALSE),\"NO\"))","v":"Prestación de servicios profesionales y de apoyo a la gestión, o para la ejecución de trabajos artísticos que sólo puedan encomendarse a determinadas personas naturales;"},"Inversión",{"$f":"IF(ISBLANK(K253),1,IFERROR(VLOOKUP(K253,Eje_Pilar_Prop!C235:C336,1,FALSE),\"NO\"))","v":"NO"},"SECOP II",1,"Bogotá Mejor para Todos"]
["CPS-244-2020",2020,"SECOP II","FDLS-CD-251-2020","Contratos de prestación de servicios","Contratación directa","Prestación de servicios profesionales y de apoyo a la gestión, o para la ejecución de trabajos artísticos que sólo puedan encomendarse a determinadas personas naturales;","Prestar los servicios como\nAuxiliar administrativo para la Corregiduría de Nazareth","Inversión","Bogotá Mejor para Todos",45,{"$f":"IF(ISERROR(VLOOKUP(K254,Eje_Pilar_Prop!$C$2:$E$104,2,FALSE)),\" \",VLOOKUP(K254,Eje_Pilar_Prop!$C$2:$E$104,2,FALSE))","v":"Gobernanza e influencia local, regional e internacional"},{"$f":"IF(ISERROR(VLOOKUP(K254,Eje_Pilar_Prop!$C$2:$E$104,3,FALSE)),\" \",VLOOKUP(K254,Eje_Pilar_Prop!$C$2:$E$104,3,FALSE))","v":"Eje Transversal 4 Gobierno Legitimo, Fortalecimiento Local y Eficiencia"},1375,1022943098,"GLORIA YOLANDA DIMATE RICO",4000000,null,null,1,1866667,5866667,1866667,"2020-11-04","2020-11-04","2021-01-03",60,null,28,null,null,null,null,null,"","x",null,0.31818185692148543,null,{"$f":"IF(SUMPRODUCT((A$14:A254=A254)*(B$14:B254=B254)*(D$14:D254=D254))>1,0,1)","v":1},"Contratos de prestación de servicios","Contratación directa",{"$f":"IF(ISBLANK(G254),1,IFERROR(VLOOKUP(G254,Tipo!$C$12:$C$27,1,FALSE),\"NO\"))","v":"Prestación de servicios profesionales y de apoyo a la gestión, o para la ejecución de trabajos artísticos que sólo puedan encomendarse a determinadas personas naturales;"},"Inversión",{"$f":"IF(ISBLANK(K254),1,IFERROR(VLOOKUP(K254,Eje_Pilar_Prop!C236:C337,1,FALSE),\"NO\"))","v":"NO"},"SECOP II",1,"Bogotá Mejor para Todos"]
["CPS-245-2020",2020,"SECOP II","FDLS-CD-253-2020","Contratos de prestación de servicios","Contratación directa","Prestación de servicios profesionales y de apoyo a la gestión, o para la ejecución de trabajos artísticos que sólo puedan encomendarse a determinadas personas naturales;","Prestar sus servicios\nprofesionales jurídicos y de apoyo a la comunidad en la Alcaldía Local de Sumapaz","Inversión","Bogotá Mejor para Todos",45,{"$f":"IF(ISERROR(VLOOKUP(K255,Eje_Pilar_Prop!$C$2:$E$104,2,FALSE)),\" \",VLOOKUP(K255,Eje_Pilar_Prop!$C$2:$E$104,2,FALSE))","v":"Gobernanza e influencia local, regional e internacional"},{"$f":"IF(ISERROR(VLOOKUP(K255,Eje_Pilar_Prop!$C$2:$E$104,3,FALSE)),\" \",VLOOKUP(K255,Eje_Pilar_Prop!$C$2:$E$104,3,FALSE))","v":"Eje Transversal 4 Gobierno Legitimo, Fortalecimiento Local y Eficiencia"},1375,1032656171,"YUDI PAOLA VILLALBA VERGARA",12600000,null,null,null,null,12600000,3640000,"2020-11-05","2020-11-05","2021-02-04",90,null,"",null,null,null,null,null,"","x",null,0.28888888888888886,null,{"$f":"IF(SUMPRODUCT((A$14:A255=A255)*(B$14:B255=B255)*(D$14:D255=D255))>1,0,1)","v":1},"Contratos de prestación de servicios","Contratación directa",{"$f":"IF(ISBLANK(G255),1,IFERROR(VLOOKUP(G255,Tipo!$C$12:$C$27,1,FALSE),\"NO\"))","v":"Prestación de servicios profesionales y de apoyo a la gestión, o para la ejecución de trabajos artísticos que sólo puedan encomendarse a determinadas personas naturales;"},"Inversión",{"$f":"IF(ISBLANK(K255),1,IFERROR(VLOOKUP(K255,Eje_Pilar_Prop!C237:C338,1,FALSE),\"NO\"))","v":"NO"},"SECOP II",1,"Bogotá Mejor para Todos"]
["CPS-246-2020",2020,"SECOP II","FDLS-CD-255-2020","Contratos de prestación de servicios","Contratación directa","Prestación de servicios profesionales y de apoyo a la gestión, o para la ejecución de trabajos artísticos que sólo puedan encomendarse a determinadas personas naturales;","Prestar los servicios\nprofesionales para apoyar jurídicamente las respuestas a las solicitudes radicadas por\nlos entes de control, Concejo de Bogotá y temas relacionados con planes de\nmejoramiento de la alcaldía local de Sumapaz.","Inversión","Bogotá Mejor para Todos",45,{"$f":"IF(ISERROR(VLOOKUP(K256,Eje_Pilar_Prop!$C$2:$E$104,2,FALSE)),\" \",VLOOKUP(K256,Eje_Pilar_Prop!$C$2:$E$104,2,FALSE))","v":"Gobernanza e influencia local, regional e internacional"},{"$f":"IF(ISERROR(VLOOKUP(K256,Eje_Pilar_Prop!$C$2:$E$104,3,FALSE)),\" \",VLOOKUP(K256,Eje_Pilar_Prop!$C$2:$E$104,3,FALSE))","v":"Eje Transversal 4 Gobierno Legitimo, Fortalecimiento Local y Eficiencia"},1375,52516975,"NINI JOHANNA GUTIERREZ TORRES",8400000,null,null,null,null,8400000,1960000,"2020-11-17","2020-11-17","2021-01-16",60,null,"",null,null,null,null,null,"","x",null,0.23333333333333334,null,{"$f":"IF(SUMPRODUCT((A$14:A256=A256)*(B$14:B256=B256)*(D$14:D256=D256))>1,0,1)","v":1},"Contratos de prestación de servicios","Contratación directa",{"$f":"IF(ISBLANK(G256),1,IFERROR(VLOOKUP(G256,Tipo!$C$12:$C$27,1,FALSE),\"NO\"))","v":"Prestación de servicios profesionales y de apoyo a la gestión, o para la ejecución de trabajos artísticos que sólo puedan encomendarse a determinadas personas naturales;"},"Inversión",{"$f":"IF(ISBLANK(K256),1,IFERROR(VLOOKUP(K256,Eje_Pilar_Prop!C238:C339,1,FALSE),\"NO\"))","v":"NO"},"SECOP II",1,"Bogotá Mejor para Todos"]
["CPS-247-2020",2020,"SECOP II","FDLS-CD-256-2020","Contratos de prestación de servicios","Contratación directa","Prestación de servicios profesionales y de apoyo a la gestión, o para la ejecución de trabajos artísticos que sólo puedan encomendarse a determinadas personas naturales;","Prestar los servicios\ntécnicos de apoyo técnico administrativo para la gestión ambiental del área de\nGestión de Desarrollo Local de la Alcaldía Local de Sumapaz","Inversión","Bogotá Mejor para Todos",41,{"$f":"IF(ISERROR(VLOOKUP(K257,Eje_Pilar_Prop!$C$2:$E$104,2,FALSE)),\" \",VLOOKUP(K257,Eje_Pilar_Prop!$C$2:$E$104,2,FALSE))","v":"Desarrollo rural sostenible"},{"$f":"IF(ISERROR(VLOOKUP(K257,Eje_Pilar_Prop!$C$2:$E$104,3,FALSE)),\" \",VLOOKUP(K257,Eje_Pilar_Prop!$C$2:$E$104,3,FALSE))","v":"Eje Transversal 3 Sostenibilidad Ambiental basada en la eficiencia energética"},1382,1022988839,"ALEXANDRA CORTES LOPEZ",10500000,null,null,null,null,10500000,2450000,"2020-11-10","2020-11-10","2021-02-09",90,null,"",null,null,null,null,null,"","x",null,0.23333333333333334,null,{"$f":"IF(SUMPRODUCT((A$14:A257=A257)*(B$14:B257=B257)*(D$14:D257=D257))>1,0,1)","v":1},"Contratos de prestación de servicios","Contratación directa",{"$f":"IF(ISBLANK(G257),1,IFERROR(VLOOKUP(G257,Tipo!$C$12:$C$27,1,FALSE),\"NO\"))","v":"Prestación de servicios profesionales y de apoyo a la gestión, o para la ejecución de trabajos artísticos que sólo puedan encomendarse a determinadas personas naturales;"},"Inversión",{"$f":"IF(ISBLANK(K257),1,IFERROR(VLOOKUP(K257,Eje_Pilar_Prop!C239:C340,1,FALSE),\"NO\"))","v":"NO"},"SECOP II",1,"Bogotá Mejor para Todos"]
["CPS-248-2020",2020,"SECOP II","FDLS-CD-261-2020","Contratos de prestación de servicios","Contratación directa","Prestación de servicios profesionales y de apoyo a la gestión, o para la ejecución de trabajos artísticos que sólo puedan encomendarse a determinadas personas naturales;","Prestar sus servicios\nprofesionales para coordinar, liderar y asesorar los planes y estrategias de\ncomunicación interna y externa para la divulgación de los programas, proyectos\ny actividades de la alcaldía Local de Sumapaz.","Inversión","Bogotá Mejor para Todos",45,{"$f":"IF(ISERROR(VLOOKUP(K258,Eje_Pilar_Prop!$C$2:$E$104,2,FALSE)),\" \",VLOOKUP(K258,Eje_Pilar_Prop!$C$2:$E$104,2,FALSE))","v":"Gobernanza e influencia local, regional e internacional"},{"$f":"IF(ISERROR(VLOOKUP(K258,Eje_Pilar_Prop!$C$2:$E$104,3,FALSE)),\" \",VLOOKUP(K258,Eje_Pilar_Prop!$C$2:$E$104,3,FALSE))","v":"Eje Transversal 4 Gobierno Legitimo, Fortalecimiento Local y Eficiencia"},1375,1026562610,"SILVANA LORENA SANCHEZ PINEDA",16500000,null,null,null,null,16500000,6233333,"2020-11-27","2020-11-27","2021-02-26",90,null,"",null,null,null,null,null,"x","",null,0.3777777575757576,null,{"$f":"IF(SUMPRODUCT((A$14:A258=A258)*(B$14:B258=B258)*(D$14:D258=D258))>1,0,1)","v":1},"Contratos de prestación de servicios","Contratación directa",{"$f":"IF(ISBLANK(G258),1,IFERROR(VLOOKUP(G258,Tipo!$C$12:$C$27,1,FALSE),\"NO\"))","v":"Prestación de servicios profesionales y de apoyo a la gestión, o para la ejecución de trabajos artísticos que sólo puedan encomendarse a determinadas personas naturales;"},"Inversión",{"$f":"IF(ISBLANK(K258),1,IFERROR(VLOOKUP(K258,Eje_Pilar_Prop!C240:C341,1,FALSE),\"NO\"))","v":"NO"},"SECOP II",1,"Bogotá Mejor para Todos"]
["CPS-249-2020",2020,"SECOP II","FDLS-CD-264-2020","Contratos de prestación de servicios","Contratación directa","Prestación de servicios profesionales y de apoyo a la gestión, o para la ejecución de trabajos artísticos que sólo puedan encomendarse a determinadas personas naturales;","Prestar sus servicios\nprofesionales Apoya el cubrimiento de las actividades, cronogramas y agenda\nde la Alcaldía local a nivel interno y externo, así como la generación de contenidos periodísticos.","Inversión","Bogotá Mejor para Todos",45,{"$f":"IF(ISERROR(VLOOKUP(K259,Eje_Pilar_Prop!$C$2:$E$104,2,FALSE)),\" \",VLOOKUP(K259,Eje_Pilar_Prop!$C$2:$E$104,2,FALSE))","v":"Gobernanza e influencia local, regional e internacional"},{"$f":"IF(ISERROR(VLOOKUP(K259,Eje_Pilar_Prop!$C$2:$E$104,3,FALSE)),\" \",VLOOKUP(K259,Eje_Pilar_Prop!$C$2:$E$104,3,FALSE))","v":"Eje Transversal 4 Gobierno Legitimo, Fortalecimiento Local y Eficiencia"},1375,"1,094,926,660","SEBASTIAN GARCIA AMELINES ",8400000,null,null,null,null,8400000,840000,"2020-11-25","2020-11-25","2021-01-24",60,null,"",null,null,null,null,null,"","x",null,0.1,null,{"$f":"IF(SUMPRODUCT((A$14:A259=A259)*(B$14:B259=B259)*(D$14:D259=D259))>1,0,1)","v":1},"Contratos de prestación de servicios","Contratación directa",{"$f":"IF(ISBLANK(G259),1,IFERROR(VLOOKUP(G259,Tipo!$C$12:$C$27,1,FALSE),\"NO\"))","v":"Prestación de servicios profesionales y de apoyo a la gestión, o para la ejecución de trabajos artísticos que sólo puedan encomendarse a determinadas personas naturales;"},"Inversión",{"$f":"IF(ISBLANK(K259),1,IFERROR(VLOOKUP(K259,Eje_Pilar_Prop!C241:C342,1,FALSE),\"NO\"))","v":"NO"},"SECOP II",1,"Bogotá Mejor para Todos"]
["CPS-250-2020",2020,"SECOP II","FDLS-CD-265-2020 (FDL-CD-265-2020)","Contratos de prestación de servicios","Contratación directa","Prestación de servicios profesionales y de apoyo a la gestión, o para la ejecución de trabajos artísticos que sólo puedan encomendarse a determinadas personas naturales;","Prestar los servicios\ncomo Auxiliar Administrativo en las labores de oficios varios y notificación para\nla Cuenca del Rio Sumapaz","Inversión","Bogotá Mejor para Todos",45,{"$f":"IF(ISERROR(VLOOKUP(K260,Eje_Pilar_Prop!$C$2:$E$104,2,FALSE)),\" \",VLOOKUP(K260,Eje_Pilar_Prop!$C$2:$E$104,2,FALSE))","v":"Gobernanza e influencia local, regional e internacional"},{"$f":"IF(ISERROR(VLOOKUP(K260,Eje_Pilar_Prop!$C$2:$E$104,3,FALSE)),\" \",VLOOKUP(K260,Eje_Pilar_Prop!$C$2:$E$104,3,FALSE))","v":"Eje Transversal 4 Gobierno Legitimo, Fortalecimiento Local y Eficiencia"},1375,19230696,"PARMENIO POVEDA SALAZAR",6000000,null,null,null,null,6000000,0,"2020-11-13","2020-11-13","2021-02-12",90,null,"",null,null,null,null,null,"","x",null,0,null,{"$f":"IF(SUMPRODUCT((A$14:A260=A260)*(B$14:B260=B260)*(D$14:D260=D260))>1,0,1)","v":1},"Contratos de prestación de servicios","Contratación directa",{"$f":"IF(ISBLANK(G260),1,IFERROR(VLOOKUP(G260,Tipo!$C$12:$C$27,1,FALSE),\"NO\"))","v":"Prestación de servicios profesionales y de apoyo a la gestión, o para la ejecución de trabajos artísticos que sólo puedan encomendarse a determinadas personas naturales;"},"Inversión",{"$f":"IF(ISBLANK(K260),1,IFERROR(VLOOKUP(K260,Eje_Pilar_Prop!C242:C343,1,FALSE),\"NO\"))","v":"NO"},"SECOP II",1,"Bogotá Mejor para Todos"]
["CPS-251-2020",2020,"SECOP II","FDLS-CD-266-2020.","Contratos de prestación de servicios","Contratación directa","Prestación de servicios profesionales y de apoyo a la gestión, o para la ejecución de trabajos artísticos que sólo puedan encomendarse a determinadas personas naturales;","Prestar los servicios como\nAuxiliar administrativo para el Centro de Documentación e Información C.D.I, de la Alcaldía Local de Sumapaz","Inversión","Bogotá Mejor para Todos",45,{"$f":"IF(ISERROR(VLOOKUP(K261,Eje_Pilar_Prop!$C$2:$E$104,2,FALSE)),\" \",VLOOKUP(K261,Eje_Pilar_Prop!$C$2:$E$104,2,FALSE))","v":"Gobernanza e influencia local, regional e internacional"},{"$f":"IF(ISERROR(VLOOKUP(K261,Eje_Pilar_Prop!$C$2:$E$104,3,FALSE)),\" \",VLOOKUP(K261,Eje_Pilar_Prop!$C$2:$E$104,3,FALSE))","v":"Eje Transversal 4 Gobierno Legitimo, Fortalecimiento Local y Eficiencia"},1375,52961568,"NADIA CATALINA GUZMAN BONILLA------- CEDIDO A: PAULA VALENTINA ARIZA HOLGUIN CC: 1.014.306.050",7500000,null,null,null,null,7500000,0,"2020-11-13","2020-11-13","2021-02-12",90,null,"",null,null,null,null,null,"","x",null,0,null,{"$f":"IF(SUMPRODUCT((A$14:A261=A261)*(B$14:B261=B261)*(D$14:D261=D261))>1,0,1)","v":1},"Contratos de prestación de servicios","Contratación directa",{"$f":"IF(ISBLANK(G261),1,IFERROR(VLOOKUP(G261,Tipo!$C$12:$C$27,1,FALSE),\"NO\"))","v":"Prestación de servicios profesionales y de apoyo a la gestión, o para la ejecución de trabajos artísticos que sólo puedan encomendarse a determinadas personas naturales;"},"Inversión",{"$f":"IF(ISBLANK(K261),1,IFERROR(VLOOKUP(K261,Eje_Pilar_Prop!C243:C344,1,FALSE),\"NO\"))","v":"NO"},"SECOP II",1,"Bogotá Mejor para Todos"]
["CPS-253-2020",2020,"SECOP II","FDLS-CD-268-2020","Contratos de prestación de servicios","Contratación directa","Prestación de servicios profesionales y de apoyo a la gestión, o para la ejecución de trabajos artísticos que sólo puedan encomendarse a determinadas personas naturales;","Prestar los servicios para\ndesarrollar actividades logísticas y operativas, en los bienes y/o predios en donde\nfunciona la Alcaldía Local de Sumapaz","Inversión","Bogotá Mejor para Todos",45,{"$f":"IF(ISERROR(VLOOKUP(K262,Eje_Pilar_Prop!$C$2:$E$104,2,FALSE)),\" \",VLOOKUP(K262,Eje_Pilar_Prop!$C$2:$E$104,2,FALSE))","v":"Gobernanza e influencia local, regional e internacional"},{"$f":"IF(ISERROR(VLOOKUP(K262,Eje_Pilar_Prop!$C$2:$E$104,3,FALSE)),\" \",VLOOKUP(K262,Eje_Pilar_Prop!$C$2:$E$104,3,FALSE))","v":"Eje Transversal 4 Gobierno Legitimo, Fortalecimiento Local y Eficiencia"},1375,79358856,"LEOPOLDO MARTINEZ MARTINEZ",5000000,null,null,null,null,5000000,4000000,"2020-11-13","2020-11-13","2021-01-12",60,null,"",null,null,null,null,null,"","x",null,0.8,null,{"$f":"IF(SUMPRODUCT((A$14:A262=A262)*(B$14:B262=B262)*(D$14:D262=D262))>1,0,1)","v":1},"Contratos de prestación de servicios","Contratación directa",{"$f":"IF(ISBLANK(G262),1,IFERROR(VLOOKUP(G262,Tipo!$C$12:$C$27,1,FALSE),\"NO\"))","v":"Prestación de servicios profesionales y de apoyo a la gestión, o para la ejecución de trabajos artísticos que sólo puedan encomendarse a determinadas personas naturales;"},"Inversión",{"$f":"IF(ISBLANK(K262),1,IFERROR(VLOOKUP(K262,Eje_Pilar_Prop!C244:C345,1,FALSE),\"NO\"))","v":"NO"},"SECOP II",1,"Bogotá Mejor para Todos"]
["CPS-254-2020",2020,"SECOP II","FDLS-CD-271-2020","Contratos de prestación de servicios","Contratación directa","Prestación de servicios profesionales y de apoyo a la gestión, o para la ejecución de trabajos artísticos que sólo puedan encomendarse a determinadas personas naturales;","Prestar los servicios como\nconductor de volquetas o maquinaria pesada de propiedad del Fondo de Desarrollo\nLocal de Sumapaz","Inversión","Bogotá Mejor para Todos",18,{"$f":"IF(ISERROR(VLOOKUP(K263,Eje_Pilar_Prop!$C$2:$E$104,2,FALSE)),\" \",VLOOKUP(K263,Eje_Pilar_Prop!$C$2:$E$104,2,FALSE))","v":"Mejor movilidad para todos"},{"$f":"IF(ISERROR(VLOOKUP(K263,Eje_Pilar_Prop!$C$2:$E$104,3,FALSE)),\" \",VLOOKUP(K263,Eje_Pilar_Prop!$C$2:$E$104,3,FALSE))","v":"Pilar 2 Democracía Urbana"},1364,1069230738,"CAMILO SUSA",7500000,null,null,null,null,7500000,0,"2020-12-21","2020-12-21","2021-03-20",90,null,"",null,null,null,null,null,"x","",null,0,null,{"$f":"IF(SUMPRODUCT((A$14:A263=A263)*(B$14:B263=B263)*(D$14:D263=D263))>1,0,1)","v":1},"Contratos de prestación de servicios","Contratación directa",{"$f":"IF(ISBLANK(G263),1,IFERROR(VLOOKUP(G263,Tipo!$C$12:$C$27,1,FALSE),\"NO\"))","v":"Prestación de servicios profesionales y de apoyo a la gestión, o para la ejecución de trabajos artísticos que sólo puedan encomendarse a determinadas personas naturales;"},"Inversión",{"$f":"IF(ISBLANK(K263),1,IFERROR(VLOOKUP(K263,Eje_Pilar_Prop!C245:C346,1,FALSE),\"NO\"))","v":"NO"},"SECOP II",1,"Bogotá Mejor para Todos"]
["CIA-255-2020",2020,"SECOP II","FDLS-CD-272-2020.","Contratos interadministrativos","Contratación directa","Prestación de servicios profesionales y de apoyo a la gestión, o para la ejecución de trabajos artísticos que sólo puedan encomendarse a determinadas personas naturales;","Aunar esfuerzos técnicos, administrativos y financieros para la creación del Equipo Comunitario de Respuesta en Emergencias (ECRE) con conocimientos adicionales en medios de vida y conservación ambiental en la Localidad de Sumapaz","Inversión","Bogotá Mejor para Todos",45,{"$f":"IF(ISERROR(VLOOKUP(K264,Eje_Pilar_Prop!$C$2:$E$104,2,FALSE)),\" \",VLOOKUP(K264,Eje_Pilar_Prop!$C$2:$E$104,2,FALSE))","v":"Gobernanza e influencia local, regional e internacional"},{"$f":"IF(ISERROR(VLOOKUP(K264,Eje_Pilar_Prop!$C$2:$E$104,3,FALSE)),\" \",VLOOKUP(K264,Eje_Pilar_Prop!$C$2:$E$104,3,FALSE))","v":"Eje Transversal 4 Gobierno Legitimo, Fortalecimiento Local y Eficiencia"},1377,"RL: RONALD PRADO DE LA GUARDIA CC:11795403","CRUZ ROJA COLOMBIANA SECCIONAL BOGOTA CUNDINAMARCA",16585000,null,null,null,null,16585000,0,"2021-01-12","2021-01-12","2021-03-11",60,null,"",null,null,null,null,null,"x","",null,0,null,{"$f":"IF(SUMPRODUCT((A$14:A264=A264)*(B$14:B264=B264)*(D$14:D264=D264))>1,0,1)","v":1},"Contratos interadministrativos","Contratación directa",{"$f":"IF(ISBLANK(G264),1,IFERROR(VLOOKUP(G264,Tipo!$C$12:$C$27,1,FALSE),\"NO\"))","v":"Prestación de servicios profesionales y de apoyo a la gestión, o para la ejecución de trabajos artísticos que sólo puedan encomendarse a determinadas personas naturales;"},"Inversión",{"$f":"IF(ISBLANK(K264),1,IFERROR(VLOOKUP(K264,Eje_Pilar_Prop!C246:C347,1,FALSE),\"NO\"))","v":"NO"},"SECOP II","NO","Bogotá Mejor para Todos"]
["CPS-256-2020",2020,"SECOP II","FDLS-CD-273-2020","Contratos de prestación de servicios","Contratación directa","Prestación de servicios profesionales y de apoyo a la gestión, o para la ejecución de trabajos artísticos que sólo puedan encomendarse a determinadas personas naturales;","Prestar sus servicios\nprofesionales de apoyo al área de Gestión de Desarrollo Local de la Alcaldía Local de Sumapaz, en temas de Reactivación Económica, empleos de\nemergencia","Inversión","Bogotá Mejor para Todos",45,{"$f":"IF(ISERROR(VLOOKUP(K265,Eje_Pilar_Prop!$C$2:$E$104,2,FALSE)),\" \",VLOOKUP(K265,Eje_Pilar_Prop!$C$2:$E$104,2,FALSE))","v":"Gobernanza e influencia local, regional e internacional"},{"$f":"IF(ISERROR(VLOOKUP(K265,Eje_Pilar_Prop!$C$2:$E$104,3,FALSE)),\" \",VLOOKUP(K265,Eje_Pilar_Prop!$C$2:$E$104,3,FALSE))","v":"Eje Transversal 4 Gobierno Legitimo, Fortalecimiento Local y Eficiencia"},1375,1022390655,"LUIS ALBERTO MARTINEZ SICHACA",4200000,null,null,null,null,4200000,0,"2020-12-21","2020-12-21","2021-01-20",30,null,"",null,null,null,null,null,"","x",null,0,null,{"$f":"IF(SUMPRODUCT((A$14:A265=A265)*(B$14:B265=B265)*(D$14:D265=D265))>1,0,1)","v":1},"Contratos de prestación de servicios","Contratación directa",{"$f":"IF(ISBLANK(G265),1,IFERROR(VLOOKUP(G265,Tipo!$C$12:$C$27,1,FALSE),\"NO\"))","v":"Prestación de servicios profesionales y de apoyo a la gestión, o para la ejecución de trabajos artísticos que sólo puedan encomendarse a determinadas personas naturales;"},"Inversión",{"$f":"IF(ISBLANK(K265),1,IFERROR(VLOOKUP(K265,Eje_Pilar_Prop!C247:C348,1,FALSE),\"NO\"))","v":"NO"},"SECOP II",1,"Bogotá Mejor para Todos"]
["CPS-257-2020",2020,"SECOP II","FDLS-CD-274-2020","Contratos de prestación de servicios","Contratación directa","Prestación de servicios profesionales y de apoyo a la gestión, o para la ejecución de trabajos artísticos que sólo puedan encomendarse a determinadas personas naturales;","Prestar los servicios como\nAuxiliar administrativo para la Corregiduría de San Juan","Inversión","Bogotá Mejor para Todos",45,{"$f":"IF(ISERROR(VLOOKUP(K266,Eje_Pilar_Prop!$C$2:$E$104,2,FALSE)),\" \",VLOOKUP(K266,Eje_Pilar_Prop!$C$2:$E$104,2,FALSE))","v":"Gobernanza e influencia local, regional e internacional"},{"$f":"IF(ISERROR(VLOOKUP(K266,Eje_Pilar_Prop!$C$2:$E$104,3,FALSE)),\" \",VLOOKUP(K266,Eje_Pilar_Prop!$C$2:$E$104,3,FALSE))","v":"Eje Transversal 4 Gobierno Legitimo, Fortalecimiento Local y Eficiencia"},1375,1016031740,"DEICY AMPARO MORALES TORRES",2000000,null,null,null,null,2000000,0,"2020-12-17","2020-12-17","2021-01-16",30,null,"",null,null,null,null,null,"","x",null,0,null,{"$f":"IF(SUMPRODUCT((A$14:A266=A266)*(B$14:B266=B266)*(D$14:D266=D266))>1,0,1)","v":1},"Contratos de prestación de servicios","Contratación directa",{"$f":"IF(ISBLANK(G266),1,IFERROR(VLOOKUP(G266,Tipo!$C$12:$C$27,1,FALSE),\"NO\"))","v":"Prestación de servicios profesionales y de apoyo a la gestión, o para la ejecución de trabajos artísticos que sólo puedan encomendarse a determinadas personas naturales;"},"Inversión",{"$f":"IF(ISBLANK(K266),1,IFERROR(VLOOKUP(K266,Eje_Pilar_Prop!C248:C349,1,FALSE),\"NO\"))","v":"NO"},"SECOP II",1,"Bogotá Mejor para Todos"]
["CPS-258-2020",2020,"SECOP II","FDLS-CD-275-2020","Contratos de prestación de servicios","Contratación directa","Prestación de servicios profesionales y de apoyo a la gestión, o para la ejecución de trabajos artísticos que sólo puedan encomendarse a determinadas personas naturales;","Prestar sus servicios\nprofesionales para realizar la formulación, seguimiento a la ejecución y liquidación de los\ncomponentes que se deriven proyecto de inversión \"Sumapaz Digital","Inversión","Bogotá Mejor para Todos",36,{"$f":"IF(ISERROR(VLOOKUP(K267,Eje_Pilar_Prop!$C$2:$E$104,2,FALSE)),\" \",VLOOKUP(K267,Eje_Pilar_Prop!$C$2:$E$104,2,FALSE))","v":"Bogotá, una ciudad digital"},{"$f":"IF(ISERROR(VLOOKUP(K267,Eje_Pilar_Prop!$C$2:$E$104,3,FALSE)),\" \",VLOOKUP(K267,Eje_Pilar_Prop!$C$2:$E$104,3,FALSE))","v":"Eje Transversal 2 Desarrollo Económico basado en el conocimiento"},1368,79889352,"JESUS EDIMER RONCANCIO RONCANCIO",5500000,null,null,null,null,5500000,0,"2020-12-30","2020-12-30","2021-01-29",30,null,"",null,null,null,null,null,"","x",null,0,null,{"$f":"IF(SUMPRODUCT((A$14:A267=A267)*(B$14:B267=B267)*(D$14:D267=D267))>1,0,1)","v":1},"Contratos de prestación de servicios","Contratación directa",{"$f":"IF(ISBLANK(G267),1,IFERROR(VLOOKUP(G267,Tipo!$C$12:$C$27,1,FALSE),\"NO\"))","v":"Prestación de servicios profesionales y de apoyo a la gestión, o para la ejecución de trabajos artísticos que sólo puedan encomendarse a determinadas personas naturales;"},"Inversión",{"$f":"IF(ISBLANK(K267),1,IFERROR(VLOOKUP(K267,Eje_Pilar_Prop!C249:C350,1,FALSE),\"NO\"))","v":"NO"},"SECOP II",1,"Bogotá Mejor para Todos"]
["CPS-259-2020",2020,"SECOP II","FDLS-CD-276-2020","Contratos de prestación de servicios","Contratación directa","Prestación de servicios profesionales y de apoyo a la gestión, o para la ejecución de trabajos artísticos que sólo puedan encomendarse a determinadas personas naturales;","Prestar sus servicios\nprofesionales de apoyo al área de Gestión de Desarrollo Local de la Alcaldía\nLocal de Sumapaz","Inversión","Bogotá Mejor para Todos",45,{"$f":"IF(ISERROR(VLOOKUP(K268,Eje_Pilar_Prop!$C$2:$E$104,2,FALSE)),\" \",VLOOKUP(K268,Eje_Pilar_Prop!$C$2:$E$104,2,FALSE))","v":"Gobernanza e influencia local, regional e internacional"},{"$f":"IF(ISERROR(VLOOKUP(K268,Eje_Pilar_Prop!$C$2:$E$104,3,FALSE)),\" \",VLOOKUP(K268,Eje_Pilar_Prop!$C$2:$E$104,3,FALSE))","v":"Eje Transversal 4 Gobierno Legitimo, Fortalecimiento Local y Eficiencia"},1375,80016995,"JHOJAN ANDRES CASTAÑEDA SANCHEZ",4200000,null,null,null,null,4200000,0,"2020-12-29","2020-12-29","2021-01-28",30,null,"",null,null,null,null,null,"","x",null,0,null,{"$f":"IF(SUMPRODUCT((A$14:A268=A268)*(B$14:B268=B268)*(D$14:D268=D268))>1,0,1)","v":1},"Contratos de prestación de servicios","Contratación directa",{"$f":"IF(ISBLANK(G268),1,IFERROR(VLOOKUP(G268,Tipo!$C$12:$C$27,1,FALSE),\"NO\"))","v":"Prestación de servicios profesionales y de apoyo a la gestión, o para la ejecución de trabajos artísticos que sólo puedan encomendarse a determinadas personas naturales;"},"Inversión",{"$f":"IF(ISBLANK(K268),1,IFERROR(VLOOKUP(K268,Eje_Pilar_Prop!C250:C351,1,FALSE),\"NO\"))","v":"NO"},"SECOP II",1,"Bogotá Mejor para Todos"]
["CPS-260-2020",2020,"SECOP II","FDLS-CD-277-2020","Contratos de prestación de servicios","Contratación directa","Prestación de servicios profesionales y de apoyo a la gestión, o para la ejecución de trabajos artísticos que sólo puedan encomendarse a determinadas personas naturales;","Prestar los servicios como\nAuxiliar administrativo para el área de Gestión de Desarrollo Local, en los temas de\nInfraestructura, de la Alcaldía local de Sumapaz","Inversión","Bogotá Mejor para Todos",45,{"$f":"IF(ISERROR(VLOOKUP(K269,Eje_Pilar_Prop!$C$2:$E$104,2,FALSE)),\" \",VLOOKUP(K269,Eje_Pilar_Prop!$C$2:$E$104,2,FALSE))","v":"Gobernanza e influencia local, regional e internacional"},{"$f":"IF(ISERROR(VLOOKUP(K269,Eje_Pilar_Prop!$C$2:$E$104,3,FALSE)),\" \",VLOOKUP(K269,Eje_Pilar_Prop!$C$2:$E$104,3,FALSE))","v":"Eje Transversal 4 Gobierno Legitimo, Fortalecimiento Local y Eficiencia"},1375,1023020151,"MIGUEL ANTONIO CHAVARRO TORRES",1700000,null,null,null,null,1700000,0,"2020-12-29","2020-12-29","2021-01-28",30,null,"",null,null,null,null,null,"","x",null,0,null,{"$f":"IF(SUMPRODUCT((A$14:A269=A269)*(B$14:B269=B269)*(D$14:D269=D269))>1,0,1)","v":1},"Contratos de prestación de servicios","Contratación directa",{"$f":"IF(ISBLANK(G269),1,IFERROR(VLOOKUP(G269,Tipo!$C$12:$C$27,1,FALSE),\"NO\"))","v":"Prestación de servicios profesionales y de apoyo a la gestión, o para la ejecución de trabajos artísticos que sólo puedan encomendarse a determinadas personas naturales;"},"Inversión",{"$f":"IF(ISBLANK(K269),1,IFERROR(VLOOKUP(K269,Eje_Pilar_Prop!C251:C352,1,FALSE),\"NO\"))","v":"NO"},"SECOP II",1,"Bogotá Mejor para Todos"]
["CPS-261-2020",2020,"SECOP II","FDLS-CD-278-2020","Contratos de prestación de servicios","Contratación directa","Prestación de servicios profesionales y de apoyo a la gestión, o para la ejecución de trabajos artísticos que sólo puedan encomendarse a determinadas personas naturales;","Prestar sus servicios\nprofesionales de apoyo al área de Gestión de Desarrollo Local de la Alcaldía\nLocal de Sumapaz, en temas de Reactivación Económica, corazón productivo","Inversión","Bogotá Mejor para Todos",45,{"$f":"IF(ISERROR(VLOOKUP(K270,Eje_Pilar_Prop!$C$2:$E$104,2,FALSE)),\" \",VLOOKUP(K270,Eje_Pilar_Prop!$C$2:$E$104,2,FALSE))","v":"Gobernanza e influencia local, regional e internacional"},{"$f":"IF(ISERROR(VLOOKUP(K270,Eje_Pilar_Prop!$C$2:$E$104,3,FALSE)),\" \",VLOOKUP(K270,Eje_Pilar_Prop!$C$2:$E$104,3,FALSE))","v":"Eje Transversal 4 Gobierno Legitimo, Fortalecimiento Local y Eficiencia"},1375,1010204948,"CHRISTIAN CAMILO RUBIANO GOMEZ",4200000,null,null,null,null,4200000,0,"2020-12-17","2020-12-17","2021-01-16",30,null,"",null,null,null,null,null,"","x",null,0,null,{"$f":"IF(SUMPRODUCT((A$14:A270=A270)*(B$14:B270=B270)*(D$14:D270=D270))>1,0,1)","v":1},"Contratos de prestación de servicios","Contratación directa",{"$f":"IF(ISBLANK(G270),1,IFERROR(VLOOKUP(G270,Tipo!$C$12:$C$27,1,FALSE),\"NO\"))","v":"Prestación de servicios profesionales y de apoyo a la gestión, o para la ejecución de trabajos artísticos que sólo puedan encomendarse a determinadas personas naturales;"},"Inversión",{"$f":"IF(ISBLANK(K270),1,IFERROR(VLOOKUP(K270,Eje_Pilar_Prop!C252:C353,1,FALSE),\"NO\"))","v":"NO"},"SECOP II",1,{"$f":"IF(ISBLANK(J270),1,IFERROR(VLOOKUP(J270,pdd,1,FALSE),\"NO\"))","v":"Bogotá Mejor para Todos"}]
["CPS-263-2020",2020,"SECOP II","FDLS-SAMC-258-2020","Contratos de prestación de servicios","Selección abreviada","Selección abreviada por menor cuantía ","PRESTAR LOS SERVICIOS PARA CELEBRAR LA NAVIDAD EN SUMAPAZ Y EXALTAR LA\nCULTURA CAMPESINA NAVIDEÑA DE NIÑOS, NIÑAS Y SUS FAMILIAS EN LA VIGENCIA 2020","Inversión","Bogotá Mejor para Todos",11,{"$f":"IF(ISERROR(VLOOKUP(K271,Eje_Pilar_Prop!$C$2:$E$104,2,FALSE)),\" \",VLOOKUP(K271,Eje_Pilar_Prop!$C$2:$E$104,2,FALSE))","v":"Mejores oportunidades para el desarrollo a través de la cultura, la recreación y el deporte"},{"$f":"IF(ISERROR(VLOOKUP(K271,Eje_Pilar_Prop!$C$2:$E$104,3,FALSE)),\" \",VLOOKUP(K271,Eje_Pilar_Prop!$C$2:$E$104,3,FALSE))","v":"Pilar 1 Igualdad de Calidad de Vida"},1353,"830.140.609-6","GRUPO\nINVERSIONES Y SOLUCIONES S.A.S.",242569550,null,null,1,80911400,323480950,0,"2020-12-15","2020-12-15","2021-02-14",60,null,0,null,null,null,null,null,"","x",null,0,null,{"$f":"IF(SUMPRODUCT((A$14:A271=A271)*(B$14:B271=B271)*(D$14:D271=D271))>1,0,1)","v":1},"Contratos de prestación de servicios","Selección abreviada",{"$f":"IF(ISBLANK(G271),1,IFERROR(VLOOKUP(G271,Tipo!$C$12:$C$27,1,FALSE),\"NO\"))","v":"Selección abreviada por menor cuantía "},"Inversión",{"$f":"IF(ISBLANK(K271),1,IFERROR(VLOOKUP(K271,Eje_Pilar_Prop!C253:C354,1,FALSE),\"NO\"))","v":"NO"},"SECOP II",1,"Bogotá Mejor para Todos"]
["CPS-264-2020",2020,"SECOP II","FDLS-CD-280-2020","Contratos de prestación de servicios","Contratación directa","Prestación de servicios profesionales y de apoyo a la gestión, o para la ejecución de trabajos artísticos que sólo puedan encomendarse a determinadas personas naturales;","Prestar sus servicios\nprofesionales de apoyo al área de Gestión del Desarrollo Local, en los temas de\nplaneación del Fondo de Desarrollo Local de Sumapaz","Inversión","Bogotá Mejor para Todos",45,{"$f":"IF(ISERROR(VLOOKUP(K272,Eje_Pilar_Prop!$C$2:$E$104,2,FALSE)),\" \",VLOOKUP(K272,Eje_Pilar_Prop!$C$2:$E$104,2,FALSE))","v":"Gobernanza e influencia local, regional e internacional"},{"$f":"IF(ISERROR(VLOOKUP(K272,Eje_Pilar_Prop!$C$2:$E$104,3,FALSE)),\" \",VLOOKUP(K272,Eje_Pilar_Prop!$C$2:$E$104,3,FALSE))","v":"Eje Transversal 4 Gobierno Legitimo, Fortalecimiento Local y Eficiencia"},1375,52185103,"MARIBEL JOHANA REYES NIVIA",4200000,null,null,null,null,4200000,0,"2020-12-17","2020-12-17","2021-01-16",30,null,"",null,null,null,null,null,"","x",null,0,null,{"$f":"IF(SUMPRODUCT((A$14:A272=A272)*(B$14:B272=B272)*(D$14:D272=D272))>1,0,1)","v":1},"Contratos de prestación de servicios","Contratación directa",{"$f":"IF(ISBLANK(G272),1,IFERROR(VLOOKUP(G272,Tipo!$C$12:$C$27,1,FALSE),\"NO\"))","v":"Prestación de servicios profesionales y de apoyo a la gestión, o para la ejecución de trabajos artísticos que sólo puedan encomendarse a determinadas personas naturales;"},"Inversión",{"$f":"IF(ISBLANK(K272),1,IFERROR(VLOOKUP(K272,Eje_Pilar_Prop!C254:C355,1,FALSE),\"NO\"))","v":"NO"},"SECOP II",1,"Bogotá Mejor para Todos"]
["CPS-265-2020",2020,"SECOP II","FDLS-LP-231-2020","Contratos de prestación de servicios","Licitación pública","No aplica","PRESTAR EL SERVICIO DE ASISTENCIA TÉCNICA DIRECTA RURAL AGROPECUARIA PARA LOS PEQUEÑOS Y MEDIANOS PRODUCTORES DE LA LOCALIDAD DE SUMAPAZ E IMPLEMENTAR INICIATIVAS PRODUCTIVAS AGROPECUARIAS","Inversión","Bogotá Mejor para Todos",41,{"$f":"IF(ISERROR(VLOOKUP(K273,Eje_Pilar_Prop!$C$2:$E$104,2,FALSE)),\" \",VLOOKUP(K273,Eje_Pilar_Prop!$C$2:$E$104,2,FALSE))","v":"Desarrollo rural sostenible"},{"$f":"IF(ISERROR(VLOOKUP(K273,Eje_Pilar_Prop!$C$2:$E$104,3,FALSE)),\" \",VLOOKUP(K273,Eje_Pilar_Prop!$C$2:$E$104,3,FALSE))","v":"Eje Transversal 3 Sostenibilidad Ambiental basada en la eficiencia energética"},1382,"900.077.157-3","CORPORACIÓN PARA IMPULSAR\nEL DESARROLLO AMBIENTAL",1022001282,null,null,null,null,1022001282,0,"31/12/2020","NO HA INICIADO","NO HA INICIADO",270,null,"",null,null,null,null,"X",null,null,null,0,null,{"$f":"IF(SUMPRODUCT((A$14:A273=A273)*(B$14:B273=B273)*(D$14:D273=D273))>1,0,1)","v":1},"Contratos de prestación de servicios","Licitación pública",{"$f":"IF(ISBLANK(G273),1,IFERROR(VLOOKUP(G273,Tipo!$C$12:$C$27,1,FALSE),\"NO\"))","v":"NO"},"Inversión",{"$f":"IF(ISBLANK(K273),1,IFERROR(VLOOKUP(K273,Eje_Pilar_Prop!C255:C356,1,FALSE),\"NO\"))","v":"NO"},"SECOP II",1,"Bogotá Mejor para Todos"]
["CPS-266-2020",2020,"SECOP II"," \nFDLS- LP-223-2020","Obra pública","Licitación pública","No aplica","REALIZAR LA INSTALACION DE SISTEMAS DE GENERACION DE ENERGIA ELECTRICA RENOVABLE MEDIANTE CELDAS FOTOVOLTAICAS EN LA LOCALIDAD DE SUMAPAZ ","Inversión","Bogotá Mejor para Todos",41,{"$f":"IF(ISERROR(VLOOKUP(K274,Eje_Pilar_Prop!$C$2:$E$104,2,FALSE)),\" \",VLOOKUP(K274,Eje_Pilar_Prop!$C$2:$E$104,2,FALSE))","v":"Desarrollo rural sostenible"},{"$f":"IF(ISERROR(VLOOKUP(K274,Eje_Pilar_Prop!$C$2:$E$104,3,FALSE)),\" \",VLOOKUP(K274,Eje_Pilar_Prop!$C$2:$E$104,3,FALSE))","v":"Eje Transversal 3 Sostenibilidad Ambiental basada en la eficiencia energética"},1382,"RL:RAFAEL EDUARDO MEJIA CERCHIARO (C.C. 84.007.184)","CONSORCIO\nMONTE SION",295957030,null,null,null,null,295957030,0,"31/12/2020","NO HA INICIADO","NO HA INICIADO",90,null,"",null,null,null,null,"X",null,null,null,0,null,{"$f":"IF(SUMPRODUCT((A$14:A274=A274)*(B$14:B274=B274)*(D$14:D274=D274))>1,0,1)","v":1},"Obra pública","Licitación pública",{"$f":"IF(ISBLANK(G274),1,IFERROR(VLOOKUP(G274,Tipo!$C$12:$C$27,1,FALSE),\"NO\"))","v":"NO"},"Inversión",{"$f":"IF(ISBLANK(K274),1,IFERROR(VLOOKUP(K274,Eje_Pilar_Prop!C256:C357,1,FALSE),\"NO\"))","v":"NO"},"SECOP II",1,"Bogotá Mejor para Todos"]
["CCV-268-2020",2020,"SECOP II","FDLS-SASI-257-2020","Compraventa de bienes muebles","Selección abreviada","Prestación de servicios profesionales y de apoyo a la gestión, o para la ejecución de trabajos artísticos que sólo puedan encomendarse a determinadas personas naturales;","DESARROLLAR ACCIONES QUE\nEJECUTEN EL PROYECTO DE INVERSIÓN 1331 DOTACIONES PEDAGÓGICAS\nPARA LA PRIMERA INFANCIA: NIÑOS MÁS FELICES","Inversión","Bogotá Mejor para Todos","NA",{"$f":"IF(ISERROR(VLOOKUP(K275,Eje_Pilar_Prop!$C$2:$E$104,2,FALSE)),\" \",VLOOKUP(K275,Eje_Pilar_Prop!$C$2:$E$104,2,FALSE))","v":" "},{"$f":"IF(ISERROR(VLOOKUP(K275,Eje_Pilar_Prop!$C$2:$E$104,3,FALSE)),\" \",VLOOKUP(K275,Eje_Pilar_Prop!$C$2:$E$104,3,FALSE))","v":" "},1331," 901.151.389-5","S&S\nSERVICIOS Y SUMINISTROS STELAR S.A.S.",34000000,null,null,null,null,34000000,0,"31/12/2020","26/01/2021","25/03/2021",60,null,"",null,null,null,null,null,"X",null,null,0,null,{"$f":"IF(SUMPRODUCT((A$14:A275=A275)*(B$14:B275=B275)*(D$14:D275=D275))>1,0,1)","v":1},"Compraventa de bienes muebles","Selección abreviada",{"$f":"IF(ISBLANK(G275),1,IFERROR(VLOOKUP(G275,Tipo!$C$12:$C$27,1,FALSE),\"NO\"))","v":"Prestación de servicios profesionales y de apoyo a la gestión, o para la ejecución de trabajos artísticos que sólo puedan encomendarse a determinadas personas naturales;"},"Inversión",{"$f":"IF(ISBLANK(K275),1,IFERROR(VLOOKUP(K275,Eje_Pilar_Prop!C257:C358,1,FALSE),\"NO\"))","v":"NO"},"SECOP II",1,"Bogotá Mejor para Todos"]
["CPS-269-2020",2020,"SECOP II","FDLS-CD-282-2020","Contratos de prestación de servicios","Contratación directa","Prestación de servicios profesionales y de apoyo a la gestión, o para la ejecución de trabajos artísticos que sólo puedan encomendarse a determinadas personas naturales;","“Prestar los servicios de\napoyo administrativo al Área de Gestión de Desarrollo Local de Sumapaz","Inversión","Bogotá Mejor para Todos",45,{"$f":"IF(ISERROR(VLOOKUP(K276,Eje_Pilar_Prop!$C$2:$E$104,2,FALSE)),\" \",VLOOKUP(K276,Eje_Pilar_Prop!$C$2:$E$104,2,FALSE))","v":"Gobernanza e influencia local, regional e internacional"},{"$f":"IF(ISERROR(VLOOKUP(K276,Eje_Pilar_Prop!$C$2:$E$104,3,FALSE)),\" \",VLOOKUP(K276,Eje_Pilar_Prop!$C$2:$E$104,3,FALSE))","v":"Eje Transversal 4 Gobierno Legitimo, Fortalecimiento Local y Eficiencia"},1375,1026253687,"KARINA OLAYA ANDRADE",2911333,null,null,null,null,2911333,0,"2020-12-24","2020-12-24","2021-01-15",23,null,"",null,null,null,null,null,"","x",null,0,null,{"$f":"IF(SUMPRODUCT((A$14:A276=A276)*(B$14:B276=B276)*(D$14:D276=D276))>1,0,1)","v":1},"Contratos de prestación de servicios","Contratación directa",{"$f":"IF(ISBLANK(G276),1,IFERROR(VLOOKUP(G276,Tipo!$C$12:$C$27,1,FALSE),\"NO\"))","v":"Prestación de servicios profesionales y de apoyo a la gestión, o para la ejecución de trabajos artísticos que sólo puedan encomendarse a determinadas personas naturales;"},"Inversión",{"$f":"IF(ISBLANK(K276),1,IFERROR(VLOOKUP(K276,Eje_Pilar_Prop!C258:C359,1,FALSE),\"NO\"))","v":"NO"},"SECOP II",1,"Bogotá Mejor para Todos"]
["CPS-270-2020",2020,"SECOP II","FDLS-CD-283-2020","Contratos de prestación de servicios","Contratación directa","Prestación de servicios profesionales y de apoyo a la gestión, o para la ejecución de trabajos artísticos que sólo puedan encomendarse a determinadas personas naturales;","Prestar los servicios\nprofesionales especializados al Área de Gestión de Desarrollo Local para realizar la\nformulación y seguimiento a los proyectos de inversión y/o componentes que le sean\ndesignados","Inversión","Bogotá Mejor para Todos",45,{"$f":"IF(ISERROR(VLOOKUP(K277,Eje_Pilar_Prop!$C$2:$E$104,2,FALSE)),\" \",VLOOKUP(K277,Eje_Pilar_Prop!$C$2:$E$104,2,FALSE))","v":"Gobernanza e influencia local, regional e internacional"},{"$f":"IF(ISERROR(VLOOKUP(K277,Eje_Pilar_Prop!$C$2:$E$104,3,FALSE)),\" \",VLOOKUP(K277,Eje_Pilar_Prop!$C$2:$E$104,3,FALSE))","v":"Eje Transversal 4 Gobierno Legitimo, Fortalecimiento Local y Eficiencia"},1375,".79.646.820","DAVID REINALDO\nCRUZ MUÑOZ",7000000,null,null,null,null,7000000,0,"2020-12-30","2020-12-30","2021-01-29",30,null,"",null,null,null,null,null,"","x",null,0,null,{"$f":"IF(SUMPRODUCT((A$14:A277=A277)*(B$14:B277=B277)*(D$14:D277=D277))>1,0,1)","v":1},"Contratos de prestación de servicios","Contratación directa",{"$f":"IF(ISBLANK(G277),1,IFERROR(VLOOKUP(G277,Tipo!$C$12:$C$27,1,FALSE),\"NO\"))","v":"Prestación de servicios profesionales y de apoyo a la gestión, o para la ejecución de trabajos artísticos que sólo puedan encomendarse a determinadas personas naturales;"},"Inversión",{"$f":"IF(ISBLANK(K277),1,IFERROR(VLOOKUP(K277,Eje_Pilar_Prop!C259:C360,1,FALSE),\"NO\"))","v":"NO"},{"$f":"IF(ISBLANK(C277),1,IFERROR(VLOOKUP(C277,SECOP,1,FALSE),\"NO\"))","v":"SECOP II"},1,"Bogotá Mejor para Todos"]
["CPS-271-2020",2020,"SECOP II","FDLS-SAMC-254-2020","Contratos de prestación de servicios","Licitación pública","Selección abreviada por menor cuantía ","Prestar el Servicio de Transporte\nTerrestre de pasajeros, con el fin de atender los eventos institucionales programados por\nla administración local, eventos y actividades de promoción y participación","Funcionamiento","Bogotá Mejor para Todos","NA",{"$f":"IF(ISERROR(VLOOKUP(K278,Eje_Pilar_Prop!$C$2:$E$104,2,FALSE)),\" \",VLOOKUP(K278,Eje_Pilar_Prop!$C$2:$E$104,2,FALSE))","v":" "},{"$f":"IF(ISERROR(VLOOKUP(K278,Eje_Pilar_Prop!$C$2:$E$104,3,FALSE)),\" \",VLOOKUP(K278,Eje_Pilar_Prop!$C$2:$E$104,3,FALSE))","v":" "},"NA","830.117.701-1","TRANSPORTES ESPECIALES FSG S.A.S",131581048,null,null,null,null,131581048,0,"2021-01-08","2021-01-08","2021-09-07",240,null,"",null,null,null,null,null,"x","",null,0,null,{"$f":"IF(SUMPRODUCT((A$14:A278=A278)*(B$14:B278=B278)*(D$14:D278=D278))>1,0,1)","v":1},"Contratos de prestación de servicios","Licitación pública",{"$f":"IF(ISBLANK(G278),1,IFERROR(VLOOKUP(G278,Tipo!$C$12:$C$27,1,FALSE),\"NO\"))","v":"Selección abreviada por menor cuantía "},"Funcionamiento",{"$f":"IF(ISBLANK(K278),1,IFERROR(VLOOKUP(K278,Eje_Pilar_Prop!C260:C361,1,FALSE),\"NO\"))","v":"NO"},"SECOP II","NO","Bogotá Mejor para Todos"]
["CPS-272-2020",2020,"SECOP II","FDLS-CD-284-2020","Contratos de prestación de servicios","Contratación directa","Prestación de servicios profesionales y de apoyo a la gestión, o para la ejecución de trabajos artísticos que sólo puedan encomendarse a determinadas personas naturales;","Prestar sus servicios\ncomo auxiliar administrativo para el área de Gestión del Desarrollo Local, de la\nAlcaldía Local de Sumapaz","Inversión","Bogotá Mejor para Todos",45,{"$f":"IF(ISERROR(VLOOKUP(K279,Eje_Pilar_Prop!$C$2:$E$104,2,FALSE)),\" \",VLOOKUP(K279,Eje_Pilar_Prop!$C$2:$E$104,2,FALSE))","v":"Gobernanza e influencia local, regional e internacional"},{"$f":"IF(ISERROR(VLOOKUP(K279,Eje_Pilar_Prop!$C$2:$E$104,3,FALSE)),\" \",VLOOKUP(K279,Eje_Pilar_Prop!$C$2:$E$104,3,FALSE))","v":"Eje Transversal 4 Gobierno Legitimo, Fortalecimiento Local y Eficiencia"},1375,52961568,"NADIA CATALINA GUZMAN BONILLA",2500000,null,null,null,null,2500000,0,"2021-01-05","2021-01-05","2021-02-04",30,null,"",null,null,null,null,null,"","x",null,0,null,{"$f":"IF(SUMPRODUCT((A$14:A279=A279)*(B$14:B279=B279)*(D$14:D279=D279))>1,0,1)","v":1},"Contratos de prestación de servicios","Contratación directa",{"$f":"IF(ISBLANK(G279),1,IFERROR(VLOOKUP(G279,Tipo!$C$12:$C$27,1,FALSE),\"NO\"))","v":"Prestación de servicios profesionales y de apoyo a la gestión, o para la ejecución de trabajos artísticos que sólo puedan encomendarse a determinadas personas naturales;"},"Inversión",{"$f":"IF(ISBLANK(K279),1,IFERROR(VLOOKUP(K279,Eje_Pilar_Prop!C261:C362,1,FALSE),\"NO\"))","v":"NO"},"SECOP II","NO","Bogotá Mejor para Todos"]
["CIN-273-2020",2020,"SECOP II","FDLS-CMA-252-2020","Contratos de prestación de servicios","Concurso de méritos","Prestación de servicios profesionales y de apoyo a la gestión, o para la ejecución de trabajos artísticos que sólo puedan encomendarse a determinadas personas naturales;","REALIZAR LA INTERVENTORÍA\nTÉCNICA, ADMINISTRATIVA, FINANCIERA, AMBIENTAL, SOCIAL Y JURÍDICA AL\nCONTRATO CUYO OBJETO ES “REALIZAR LA CONSERVACIÓN DE PUENTES SOBRE\nCORRIENTES DE AGUA EN LA LOCALIDAD DE SUMAPAZ, POR EL SISTEMA DE PRECIOS\nUNITARIOS FIJOS SIN FORMULA DE REAJUSTE A MONTO AGOTABLE","Inversión","Bogotá Mejor para Todos",18,{"$f":"IF(ISERROR(VLOOKUP(K280,Eje_Pilar_Prop!$C$2:$E$104,2,FALSE)),\" \",VLOOKUP(K280,Eje_Pilar_Prop!$C$2:$E$104,2,FALSE))","v":"Mejor movilidad para todos"},{"$f":"IF(ISERROR(VLOOKUP(K280,Eje_Pilar_Prop!$C$2:$E$104,3,FALSE)),\" \",VLOOKUP(K280,Eje_Pilar_Prop!$C$2:$E$104,3,FALSE))","v":"Pilar 2 Democracía Urbana"},1364,9266128,"VICTOR GUILLERMO RODRIGUEZ RAMIREZ",235640228,null,null,null,null,235640228,0,"31/12/2020","NO HA INICIADO","NO HA INICIADO",240,null,"",null,null,null,null,"X","",null,null,0,null,{"$f":"IF(SUMPRODUCT((A$14:A280=A280)*(B$14:B280=B280)*(D$14:D280=D280))>1,0,1)","v":1},{"$f":"IF(ISBLANK(E280),1,IFERROR(VLOOKUP(E280,tipo,1,FALSE),\"NO\"))","v":"Contratos de prestación de servicios"},{"$f":"IF(ISBLANK(F280),1,IFERROR(VLOOKUP(F280,modal,1,FALSE),\"NO\"))","v":"Concurso de méritos"},{"$f":"IF(ISBLANK(G280),1,IFERROR(VLOOKUP(G280,Tipo!$C$12:$C$27,1,FALSE),\"NO\"))","v":"Prestación de servicios profesionales y de apoyo a la gestión, o para la ejecución de trabajos artísticos que sólo puedan encomendarse a determinadas personas naturales;"},{"$f":"IF(ISBLANK(I280),1,IFERROR(VLOOKUP(I280,afectacion,1,FALSE),\"NO\"))","v":"Inversión"},{"$f":"IF(ISBLANK(K280),1,IFERROR(VLOOKUP(K280,Eje_Pilar_Prop!C262:C363,1,FALSE),\"NO\"))","v":"NO"},"SECOP II",1,"Bogotá Mejor para Todos"]
["CPS-274-2020",2020,"SECOP II","FDLS-SAMC-245-2020","Contratos de prestación de servicios","Selección abreviada","Selección abreviada por menor cuantía ","LA PRESTACION DE SERVICIOS PARA LA CONMEMORACION CULTURAL POR LOS DERECHOS Y EL CUIDADO DE LAS MUJERES RURALES Y CAMPESINAS","Inversión","Bogotá Mejor para Todos",11,{"$f":"IF(ISERROR(VLOOKUP(K281,Eje_Pilar_Prop!$C$2:$E$104,2,FALSE)),\" \",VLOOKUP(K281,Eje_Pilar_Prop!$C$2:$E$104,2,FALSE))","v":"Mejores oportunidades para el desarrollo a través de la cultura, la recreación y el deporte"},{"$f":"IF(ISERROR(VLOOKUP(K281,Eje_Pilar_Prop!$C$2:$E$104,3,FALSE)),\" \",VLOOKUP(K281,Eje_Pilar_Prop!$C$2:$E$104,3,FALSE))","v":"Pilar 1 Igualdad de Calidad de Vida"},1353,"830.073.167-5","CORPORACIÓN VIENTOS DEL PORVENIR",107099927,null,null,null,null,107099927,0,"31/12/2020","NO HA INICIADO","NO HA INICIADO",60,null,"",null,null,null,null,"X","",null,null,0,null,{"$f":"IF(SUMPRODUCT((A$14:A281=A281)*(B$14:B281=B281)*(D$14:D281=D281))>1,0,1)","v":1},"Contratos de prestación de servicios","Selección abreviada",{"$f":"IF(ISBLANK(G281),1,IFERROR(VLOOKUP(G281,Tipo!$C$12:$C$27,1,FALSE),\"NO\"))","v":"Selección abreviada por menor cuantía "},"Inversión",{"$f":"IF(ISBLANK(K281),1,IFERROR(VLOOKUP(K281,Eje_Pilar_Prop!C263:C364,1,FALSE),\"NO\"))","v":"NO"},"SECOP II",1,"Bogotá Mejor para Todos"]
["CPS-275-2020",2020,"SECOP II","FDLS-LP-263-2020","Contratos de prestación de servicios","Licitación pública","No aplica","CONTRATAR EL DISEÑO DEL PLAN CURRICULAR,\nMETODOLÓGICO Y LA EJECUCIÓN, DEL DIPLOMADO DE FORMACIÓN EN GESTION COMUNITARIA PARA\nLA CONVIVENCIA Y LA PAZ CON ENFOQUE DE GENERO","Inversión","Bogotá Mejor para Todos",19,{"$f":"IF(ISERROR(VLOOKUP(K282,Eje_Pilar_Prop!$C$2:$E$104,2,FALSE)),\" \",VLOOKUP(K282,Eje_Pilar_Prop!$C$2:$E$104,2,FALSE))","v":"Seguridad y convivencia para todos"},{"$f":"IF(ISERROR(VLOOKUP(K282,Eje_Pilar_Prop!$C$2:$E$104,3,FALSE)),\" \",VLOOKUP(K282,Eje_Pilar_Prop!$C$2:$E$104,3,FALSE))","v":"Pilar 3 Construcción de Comunidad y Cultura Ciudadana"},1366,"900.018.217-5","FUNDACION OTRO ROLLO SOCIAL",297672000,null,null,null,null,297672000,0,"31/12/2020","NO HA INICIADO","NO HA INICIADO",210,null,"",null,null,null,null,"X","",null,null,0,null,{"$f":"IF(SUMPRODUCT((A$14:A282=A282)*(B$14:B282=B282)*(D$14:D282=D282))>1,0,1)","v":1},"Contratos de prestación de servicios","Licitación pública",{"$f":"IF(ISBLANK(G282),1,IFERROR(VLOOKUP(G282,Tipo!$C$12:$C$27,1,FALSE),\"NO\"))","v":"NO"},"Inversión",{"$f":"IF(ISBLANK(K282),1,IFERROR(VLOOKUP(K282,Eje_Pilar_Prop!C264:C365,1,FALSE),\"NO\"))","v":"NO"},"SECOP II",1,"Bogotá Mejor para Todos"]
["CCV-276-2020",2020,"SECOP II","FDLS-SASI-270-2020","Compraventa de bienes muebles","Selección abreviada","Prestación de servicios profesionales y de apoyo a la gestión, o para la ejecución de trabajos artísticos que sólo puedan encomendarse a determinadas personas naturales;","ADQUISICIÓN DE COMPUTADORES DE ESCRITORIO Y LICENCIAS PARA LOS PORTALES INTERACTIVOS DE LA LOCALIDAD DE SUMAPAZ","Inversión","Bogotá Mejor para Todos",36,{"$f":"IF(ISERROR(VLOOKUP(K283,Eje_Pilar_Prop!$C$2:$E$104,2,FALSE)),\" \",VLOOKUP(K283,Eje_Pilar_Prop!$C$2:$E$104,2,FALSE))","v":"Bogotá, una ciudad digital"},{"$f":"IF(ISERROR(VLOOKUP(K283,Eje_Pilar_Prop!$C$2:$E$104,3,FALSE)),\" \",VLOOKUP(K283,Eje_Pilar_Prop!$C$2:$E$104,3,FALSE))","v":"Eje Transversal 2 Desarrollo Económico basado en el conocimiento"},1368,"830016004- 0","REDCOMPUTO LIMITADA",200908890,null,null,null,null,200908890,0,"31/12/2020","2021-11-02","2021-10-04",60,null,"",null,null,null,null,"X","",null,null,0,null,{"$f":"IF(SUMPRODUCT((A$14:A283=A283)*(B$14:B283=B283)*(D$14:D283=D283))>1,0,1)","v":1},"Compraventa de bienes muebles","Selección abreviada",{"$f":"IF(ISBLANK(G283),1,IFERROR(VLOOKUP(G283,Tipo!$C$12:$C$27,1,FALSE),\"NO\"))","v":"Prestación de servicios profesionales y de apoyo a la gestión, o para la ejecución de trabajos artísticos que sólo puedan encomendarse a determinadas personas naturales;"},"Inversión",{"$f":"IF(ISBLANK(K283),1,IFERROR(VLOOKUP(K283,Eje_Pilar_Prop!C265:C366,1,FALSE),\"NO\"))","v":"NO"},"SECOP II",1,"Bogotá Mejor para Todos"]
["COP-277-2020",2020,"SECOP II","FDLS-LP-259-2020.","Obra pública","Licitación pública","No aplica","REALIZAR POR EL SISTEMA DE PRECIOS UNITARIOS FIJOS SIN FORMULA DE REAJUSTE, LA IMPLEMENTACIÓN DE MODELOS DE BIOINGENIERÍA Y SU EJECUCIÓN PARA LA RESTAURACIÓN Y RECUPERACIÓN DE ZONAS CON PROCESOS DE EROSIÓN O FENÓMENOS DE REMOCIÓN EN MASA EN LA LOCALIDAD DE SUMAPAZ","Inversión","Bogotá Mejor para Todos",4,{"$f":"IF(ISERROR(VLOOKUP(K284,Eje_Pilar_Prop!$C$2:$E$104,2,FALSE)),\" \",VLOOKUP(K284,Eje_Pilar_Prop!$C$2:$E$104,2,FALSE))","v":"Familias protegidas y adaptadas al cambio climático"},{"$f":"IF(ISERROR(VLOOKUP(K284,Eje_Pilar_Prop!$C$2:$E$104,3,FALSE)),\" \",VLOOKUP(K284,Eje_Pilar_Prop!$C$2:$E$104,3,FALSE))","v":"Pilar 1 Igualdad de Calidad de Vida"},1340,"RL: ALEJANDRO SALAMANCA DELGADO ( C.C. 79.125.314 )","CONSORCIO MANVIALES\nBIOINGENIERIA",1330935654,null,null,null,null,1330935654,0,"31/12/2020","NO HA INICIADO","NO HA INICIADO",180,null,"",null,null,null,null,"X","",null,null,0,null,{"$f":"IF(SUMPRODUCT((A$14:A284=A284)*(B$14:B284=B284)*(D$14:D284=D284))>1,0,1)","v":1},"Obra pública","Licitación pública",{"$f":"IF(ISBLANK(G284),1,IFERROR(VLOOKUP(G284,Tipo!$C$12:$C$27,1,FALSE),\"NO\"))","v":"NO"},"Inversión",{"$f":"IF(ISBLANK(K284),1,IFERROR(VLOOKUP(K284,Eje_Pilar_Prop!C266:C367,1,FALSE),\"NO\"))","v":"NO"},"SECOP II",{"$f":"IF(OR(YEAR(X284)=2020,ISBLANK(X284)),1,\"NO\")","v":1},"Bogotá Mejor para Todos"]
["CPS-278-2020",2020,"SECOP II","FDLS-LP-262-2020","Contratos de prestación de servicios","Licitación pública","No aplica","DESARROLLAR EL EVENTO DE\nIDENTIDAD CULTURAL SUMAPACEÑA - FERIA AGROAMBIENTAL EN SU VIGESIMA\nVERSIÓN (XX)","Inversión","Bogotá Mejor para Todos",11,{"$f":"IF(ISERROR(VLOOKUP(K285,Eje_Pilar_Prop!$C$2:$E$104,2,FALSE)),\" \",VLOOKUP(K285,Eje_Pilar_Prop!$C$2:$E$104,2,FALSE))","v":"Mejores oportunidades para el desarrollo a través de la cultura, la recreación y el deporte"},{"$f":"IF(ISERROR(VLOOKUP(K285,Eje_Pilar_Prop!$C$2:$E$104,3,FALSE)),\" \",VLOOKUP(K285,Eje_Pilar_Prop!$C$2:$E$104,3,FALSE))","v":"Pilar 1 Igualdad de Calidad de Vida"},1353,"800.184.306-1","ROYAL PARK\nS.A.S. ",323294145,null,null,null,null,323294145,0,"31/12/2020","NO HA INICIADO","NO HA INICIADO",90,null,"",null,null,null,null,"X","",null,null,0,null,{"$f":"IF(SUMPRODUCT((A$14:A285=A285)*(B$14:B285=B285)*(D$14:D285=D285))>1,0,1)","v":1},"Contratos de prestación de servicios","Licitación pública",{"$f":"IF(ISBLANK(G285),1,IFERROR(VLOOKUP(G285,Tipo!$C$12:$C$27,1,FALSE),\"NO\"))","v":"NO"},"Inversión",{"$f":"IF(ISBLANK(K285),1,IFERROR(VLOOKUP(K285,Eje_Pilar_Prop!C267:C368,1,FALSE),\"NO\"))","v":"NO"},"SECOP II",1,"Bogotá Mejor para Todos"]
["CIN-279-2020",2020,"SECOP II","FDLS-CMA-248-2020","Interventoría","Concurso de méritos","Prestación de servicios profesionales y de apoyo a la gestión, o para la ejecución de trabajos artísticos que sólo puedan encomendarse a determinadas personas naturales;","REALIZAR LA INTERVENTORÍA TÉCNICA, ADMINISTRATIVA, FINANCIERA, AMBIENTAL SOCIAL Y JURÍDICA , QUE RESULTE DEL PROCESO LICITATORIO CUYO OBJETO ES “REALIZAR LAS OBRAS Y ACTIVIDADES NECESARIAS PARA LA CONSERVACIÓN DE LA MALLA VIAL LOCAL DE SUMAPAZ, POR EL SISTEMA DE PRECIOS UNITARIOS FIJOS, SIN FORMULA DE REAJUSTE Y A MONTO AGOTABLE","Inversión","Bogotá Mejor para Todos",18,{"$f":"IF(ISERROR(VLOOKUP(K286,Eje_Pilar_Prop!$C$2:$E$104,2,FALSE)),\" \",VLOOKUP(K286,Eje_Pilar_Prop!$C$2:$E$104,2,FALSE))","v":"Mejor movilidad para todos"},{"$f":"IF(ISERROR(VLOOKUP(K286,Eje_Pilar_Prop!$C$2:$E$104,3,FALSE)),\" \",VLOOKUP(K286,Eje_Pilar_Prop!$C$2:$E$104,3,FALSE))","v":"Pilar 2 Democracía Urbana"},1364,"RL: LUZ ANDREA FAJARDO CORREDOR (C.C. 52.461.611)","CONSORCIO VIAS BOGOTA",641319633,null,null,null,null,641319633,0,"31/12/2020","NO HA INICIADO","NO HA INICIADO",240,null,"",null,null,null,null,"X","",null,null,{"$f":"IF(ISERROR(W286/V286),\"-\",(W286/V286))","v":0},null,{"$f":"IF(SUMPRODUCT((A$14:A286=A286)*(B$14:B286=B286)*(D$14:D286=D286))>1,0,1)","v":1},"Interventoría","Concurso de méritos",{"$f":"IF(ISBLANK(G286),1,IFERROR(VLOOKUP(G286,Tipo!$C$12:$C$27,1,FALSE),\"NO\"))","v":"Prestación de servicios profesionales y de apoyo a la gestión, o para la ejecución de trabajos artísticos que sólo puedan encomendarse a determinadas personas naturales;"},"Inversión",{"$f":"IF(ISBLANK(K286),1,IFERROR(VLOOKUP(K286,Eje_Pilar_Prop!C268:C369,1,FALSE),\"NO\"))","v":"NO"},"SECOP II",1,"Bogotá Mejor para Todos"]
["CIN-280-2020",2020,"SECOP II","FDLS-CMA-260-2020","Interventoría","Concurso de méritos","Prestación de servicios profesionales y de apoyo a la gestión, o para la ejecución de trabajos artísticos que sólo puedan encomendarse a determinadas personas naturales;","“REALIZAR LA\nINTERVENTORÍA TÉCNICA, ADMINISTRATIVA, FINANCIERA, AMBIENTAL SOCIAL Y JURÍDICA AL CONTRATO CUYO OBJETO ES: “REALIZAR POR EL SISTEMA DE PRECIOS UNITARIOS FIJOS SIN FORMULA DE REAJUSTE, LA IMPLEMENTACIÓN DE MODELOS DE BIOINGENIERÍA Y SU EJECUCIÓN PARA LA RESTAURACIÓN Y RECUPERACIÓN DE ZONAS CON PROCESOS DE EROSION O FENOMENOS DE REMOCIÓN EN MASA EN LA LOCALIDAD DE\nSUMAPAZ","Inversión","Bogotá Mejor para Todos",4,{"$f":"IF(ISERROR(VLOOKUP(K287,Eje_Pilar_Prop!$C$2:$E$104,2,FALSE)),\" \",VLOOKUP(K287,Eje_Pilar_Prop!$C$2:$E$104,2,FALSE))","v":"Familias protegidas y adaptadas al cambio climático"},{"$f":"IF(ISERROR(VLOOKUP(K287,Eje_Pilar_Prop!$C$2:$E$104,3,FALSE)),\" \",VLOOKUP(K287,Eje_Pilar_Prop!$C$2:$E$104,3,FALSE))","v":"Pilar 1 Igualdad de Calidad de Vida"},1340,"RL: RUTH NATALIA RAMIREZ\nCUBIDES ( C.C. 1.023.877.945)","CONSORCIO\nINTERVENTORIA SUMAPAZ 248",135937961,null,null,null,null,{"$f":"+Q287+S287+U287","v":135937961},0,"31/12/2020","NO HA INICIADO","NO HA INICIADO",210,null,"",null,null,null,null,"X","",null,null,0,null,{"$f":"IF(SUMPRODUCT((A$14:A287=A287)*(B$14:B287=B287)*(D$14:D287=D287))>1,0,1)","v":1},"Interventoría","Concurso de méritos",{"$f":"IF(ISBLANK(G287),1,IFERROR(VLOOKUP(G287,Tipo!$C$12:$C$27,1,FALSE),\"NO\"))","v":"Prestación de servicios profesionales y de apoyo a la gestión, o para la ejecución de trabajos artísticos que sólo puedan encomendarse a determinadas personas naturales;"},"Inversión",{"$f":"IF(ISBLANK(K287),1,IFERROR(VLOOKUP(K287,Eje_Pilar_Prop!C269:C370,1,FALSE),\"NO\"))","v":"NO"},"SECOP II",1,"Bogotá Mejor para Todos"]
["CPS-281-2020",2020,"SECOP II","FDLS-CD-285-2020","Contratos de prestación de servicios","Contratación directa","Prestación de servicios profesionales y de apoyo a la gestión, o para la ejecución de trabajos artísticos que sólo puedan encomendarse a determinadas personas naturales;","Prestar los servicios\nprofesionales al Área de Gestión de Desarrollo Local, para el seguimiento a los\nproyectos de inversión de Infraestructura y Malla Vial de la Localidad","Inversión","Bogotá Mejor para Todos",18,{"$f":"IF(ISERROR(VLOOKUP(K288,Eje_Pilar_Prop!$C$2:$E$104,2,FALSE)),\" \",VLOOKUP(K288,Eje_Pilar_Prop!$C$2:$E$104,2,FALSE))","v":"Mejor movilidad para todos"},{"$f":"IF(ISERROR(VLOOKUP(K288,Eje_Pilar_Prop!$C$2:$E$104,3,FALSE)),\" \",VLOOKUP(K288,Eje_Pilar_Prop!$C$2:$E$104,3,FALSE))","v":"Pilar 2 Democracía Urbana"},1364,1018498031,"DANIEL ALFONSO ESPINOSA ROCHA",4200000,null,null,null,null,4200000,0,"31/12/2020","2021-01-12","2021-02-11",30,null,"",null,null,null,null,null,"","x",null,0,null,{"$f":"IF(SUMPRODUCT((A$14:A288=A288)*(B$14:B288=B288)*(D$14:D288=D288))>1,0,1)","v":1},"Contratos de prestación de servicios","Contratación directa",{"$f":"IF(ISBLANK(G288),1,IFERROR(VLOOKUP(G288,Tipo!$C$12:$C$27,1,FALSE),\"NO\"))","v":"Prestación de servicios profesionales y de apoyo a la gestión, o para la ejecución de trabajos artísticos que sólo puedan encomendarse a determinadas personas naturales;"},"Inversión",{"$f":"IF(ISBLANK(K288),1,IFERROR(VLOOKUP(K288,Eje_Pilar_Prop!C270:C371,1,FALSE),\"NO\"))","v":"NO"},"SECOP II",1,"Bogotá Mejor para Todos"]
["COP-282-2020",2020,"SECOP II","FDLS-LP-239-2020","Obra pública","Licitación pública","No aplica","REALIZAR LA CONSERVACIÓN DE\nPUENTES SOBRE CORRIENTES DE AGUA EN LA LOCALIDAD DE SUMAPAZ, POR\nEL SISTEMA DE PRECIOS UNITARIOS FIJOS SIN FORMULA DE REAJUSTE A\nMONTO AGOTABLE","Inversión","Bogotá Mejor para Todos",18,{"$f":"IF(ISERROR(VLOOKUP(K289,Eje_Pilar_Prop!$C$2:$E$104,2,FALSE)),\" \",VLOOKUP(K289,Eje_Pilar_Prop!$C$2:$E$104,2,FALSE))","v":"Mejor movilidad para todos"},{"$f":"IF(ISERROR(VLOOKUP(K289,Eje_Pilar_Prop!$C$2:$E$104,3,FALSE)),\" \",VLOOKUP(K289,Eje_Pilar_Prop!$C$2:$E$104,3,FALSE))","v":"Pilar 2 Democracía Urbana"},1364,"RL: GERMÁN VILLANUEVA\nCALDERÓN (C.C. 12.547.660)","CONSORCIO GDC SUMAPAZ",883697154,null,null,null,null,883697154,0,"31/12/2020","2021-01-07","2021-08-06",210,null,"",null,null,null,null,null,"x","",null,0,null,{"$f":"IF(SUMPRODUCT((A$14:A289=A289)*(B$14:B289=B289)*(D$14:D289=D289))>1,0,1)","v":1},"Obra pública","Licitación pública",{"$f":"IF(ISBLANK(G289),1,IFERROR(VLOOKUP(G289,Tipo!$C$12:$C$27,1,FALSE),\"NO\"))","v":"NO"},"Inversión",{"$f":"IF(ISBLANK(K289),1,IFERROR(VLOOKUP(K289,Eje_Pilar_Prop!C271:C372,1,FALSE),\"NO\"))","v":"NO"},"SECOP II",1,"Bogotá Mejor para Todos"]
["COP-283-2020",2020,"SECOP II","FDLS-LP-247-2020","Obra pública","Licitación pública","No aplica","REALIZAR LAS OBRAS Y ACTIVIDADES NECESARIAS PARA LA CONSERVACIÓN DE LA MALLA VIAL LOCAL DE SUMAPAZ, POR EL SISTEMA DE PRECIOS UNITARIOS FIJOS, SIN FORMULA DE REAJUSTE Y A MONTO AGOTABLE","Inversión","Bogotá Mejor para Todos",18,{"$f":"IF(ISERROR(VLOOKUP(K290,Eje_Pilar_Prop!$C$2:$E$104,2,FALSE)),\" \",VLOOKUP(K290,Eje_Pilar_Prop!$C$2:$E$104,2,FALSE))","v":"Mejor movilidad para todos"},{"$f":"IF(ISERROR(VLOOKUP(K290,Eje_Pilar_Prop!$C$2:$E$104,3,FALSE)),\" \",VLOOKUP(K290,Eje_Pilar_Prop!$C$2:$E$104,3,FALSE))","v":"Pilar 2 Democracía Urbana"},1364,"RL:ANGIE MILDRED JIMEMEZ POVEDA(C.C.\n1.049.621.410)","CONSORCIO\nBYGES",5663237903,null,null,null,null,5663237903,0,"31/12/2020","NO HA INICIADO","NO HA INICIADO",210,null,"",null,null,null,null,"X","",null,null,0,null,{"$f":"IF(SUMPRODUCT((A$14:A290=A290)*(B$14:B290=B290)*(D$14:D290=D290))>1,0,1)","v":1},"Obra pública","Licitación pública",{"$f":"IF(ISBLANK(G290),1,IFERROR(VLOOKUP(G290,Tipo!$C$12:$C$27,1,FALSE),\"NO\"))","v":"NO"},"Inversión",{"$f":"IF(ISBLANK(K290),1,IFERROR(VLOOKUP(K290,Eje_Pilar_Prop!C272:C373,1,FALSE),\"NO\"))","v":"NO"},"SECOP II",1,"Bogotá Mejor para Todos"]
[47439,2020,"SECOP II",47439,"Suministro","Régimen especial","Prestación de servicios profesionales y de apoyo a la gestión, o para la ejecución de trabajos artísticos que sólo puedan encomendarse a determinadas personas naturales;","CONTRATAR LA PRESTACIÓN DEL SERVICIO INTEGRAL DE ASEO Y CAFETERIA QUE INCLUYA PERSONAL, MAQUINARIA,ELEMENTOS E INSUMOS PARA LA SEDE ADMINISTRATIVA DE LA ALCALDÍA LOCAL DE SUMAPAZ Y LAS CORREGIDURÍAS DE NAZARETH, BETANIA Y SAN JUAN","Funcionamiento","Bogotá Mejor para Todos","NA",{"$f":"IF(ISERROR(VLOOKUP(K291,Eje_Pilar_Prop!$C$2:$E$104,2,FALSE)),\" \",VLOOKUP(K291,Eje_Pilar_Prop!$C$2:$E$104,2,FALSE))","v":" "},{"$f":"IF(ISERROR(VLOOKUP(K291,Eje_Pilar_Prop!$C$2:$E$104,3,FALSE)),\" \",VLOOKUP(K291,Eje_Pilar_Prop!$C$2:$E$104,3,FALSE))","v":" "},"NA","860.010.451-1","CASALIMPIA S.A.",54224151,null,null,null,null,54224151,0,"2020-05-04","2020-05-04","2020-09-03",120,null,"",null,null,null,null,null,"","x",null,0,null,{"$f":"IF(SUMPRODUCT((A$14:A291=A291)*(B$14:B291=B291)*(D$14:D291=D291))>1,0,1)","v":1},"Suministro","Régimen especial",{"$f":"IF(ISBLANK(G291),1,IFERROR(VLOOKUP(G291,Tipo!$C$12:$C$27,1,FALSE),\"NO\"))","v":"Prestación de servicios profesionales y de apoyo a la gestión, o para la ejecución de trabajos artísticos que sólo puedan encomendarse a determinadas personas naturales;"},"Funcionamiento",{"$f":"IF(ISBLANK(K291),1,IFERROR(VLOOKUP(K291,Eje_Pilar_Prop!C273:C374,1,FALSE),\"NO\"))","v":"NO"},"SECOP II",1,"Bogotá Mejor para Todos"]
[222,2020,"SECOP II",51087,"Suministro","Contratación directa",null,"PROCESO 54133 CONTRATAR EL SUMINISTRO DE ELEMENTOS DE FERRETERIA,HERRAMIENTAS, MATERIALES ELECTICOS, Y DE CONSTRUCCION, ALQUILER DEEQUIPOS, PARA ADECUACIONES, REPARTACIONES Y/O MANTENIMIENTO DE LOSBIENES DE LA ALCALIDA LOCAL DE SUMPAZ, POR EL SISTEMA DE PRECIONSUNITARIOS FIJOS Y A MONTO AGOTABLE","Inversión","Bogotá Mejor para Todos",45,{"$f":"IF(ISERROR(VLOOKUP(K292,Eje_Pilar_Prop!$C$2:$E$104,2,FALSE)),\" \",VLOOKUP(K292,Eje_Pilar_Prop!$C$2:$E$104,2,FALSE))","v":"Gobernanza e influencia local, regional e internacional"},{"$f":"IF(ISERROR(VLOOKUP(K292,Eje_Pilar_Prop!$C$2:$E$104,3,FALSE)),\" \",VLOOKUP(K292,Eje_Pilar_Prop!$C$2:$E$104,3,FALSE))","v":"Eje Transversal 4 Gobierno Legitimo, Fortalecimiento Local y Eficiencia"},1375,null,"COMPAÑIA DE DISTRIBUCION FERRETERA S A S",300000000,null,null,null,null,300000000,0,null,"2020-12-30",null,null,null,null,null,null,null,null,null,null,null,null,0,null,{"$f":"IF(SUMPRODUCT((A$14:A292=A292)*(B$14:B292=B292)*(D$14:D292=D292))>1,0,1)","v":1},"Suministro","Contratación directa",{"$f":"IF(ISBLANK(G292),1,IFERROR(VLOOKUP(G292,Tipo!$C$12:$C$27,1,FALSE),\"NO\"))","v":1},"Inversión",{"$f":"IF(ISBLANK(K292),1,IFERROR(VLOOKUP(K292,Eje_Pilar_Prop!C274:C375,1,FALSE),\"NO\"))","v":"NO"},"SECOP II",1,"Bogotá Mejor para Todos"]
[51087,2020,"SECOP II","  ","Suministro","Contratación directa",null,"¿Adquisición de 20 tablets para el desarrollo de los encuentros ciudadanos mediante ¿tertulias en familia y reuniones presenciales a distancia¿ en la Alcaldía Local de Sumapaz¿.","Inversión","Bogotá Mejor para Todos",45,{"$f":"IF(ISERROR(VLOOKUP(K293,Eje_Pilar_Prop!$C$2:$E$104,2,FALSE)),\" \",VLOOKUP(K293,Eje_Pilar_Prop!$C$2:$E$104,2,FALSE))","v":"Gobernanza e influencia local, regional e internacional"},{"$f":"IF(ISERROR(VLOOKUP(K293,Eje_Pilar_Prop!$C$2:$E$104,3,FALSE)),\" \",VLOOKUP(K293,Eje_Pilar_Prop!$C$2:$E$104,3,FALSE))","v":"Eje Transversal 4 Gobierno Legitimo, Fortalecimiento Local y Eficiencia"},1377,null,"COLOMBIANA DE COMERCIO SA",13398000,null,null,null,null,13398000,13398000,null,"2020-06-26",null,null,null,null,null,null,null,null,null,null,null,null,1,null,{"$f":"IF(SUMPRODUCT((A$14:A293=A293)*(B$14:B293=B293)*(D$14:D293=D293))>1,0,1)","v":1},"Suministro","Contratación directa",{"$f":"IF(ISBLANK(G293),1,IFERROR(VLOOKUP(G293,Tipo!$C$12:$C$27,1,FALSE),\"NO\"))","v":1},"Inversión",{"$f":"IF(ISBLANK(K293),1,IFERROR(VLOOKUP(K293,Eje_Pilar_Prop!C275:C376,1,FALSE),\"NO\"))","v":"NO"},"SECOP II",1,"Bogotá Mejor para Todos"]
[51252,2020,"SECOP II",51252,"Suministro","Contratación directa",null,"¿Suministrar a la Alcaldía Local de Sumapaz Elementos de Protección Personal, materiales e insumos de bioseguridad para el personal que labora en la entidad con el fin de prevenir el posible contagio de SARS-CoV-2 (COVID-19) durante el desarrollo de actividades laborales en la sede administrativa de la Alcaldía Local y en la localidad de Sumapaz.¿","Inversión","Bogotá Mejor para Todos",45,{"$f":"IF(ISERROR(VLOOKUP(K294,Eje_Pilar_Prop!$C$2:$E$104,2,FALSE)),\" \",VLOOKUP(K294,Eje_Pilar_Prop!$C$2:$E$104,2,FALSE))","v":"Gobernanza e influencia local, regional e internacional"},{"$f":"IF(ISERROR(VLOOKUP(K294,Eje_Pilar_Prop!$C$2:$E$104,3,FALSE)),\" \",VLOOKUP(K294,Eje_Pilar_Prop!$C$2:$E$104,3,FALSE))","v":"Eje Transversal 4 Gobierno Legitimo, Fortalecimiento Local y Eficiencia"},1375,null,"GOOD PARTNERS GLOBAL S.A.S",688000,null,null,null,null,688000,688000,null,"2020-06-30",null,null,null,null,null,null,null,null,null,null,null,null,1,null,{"$f":"IF(SUMPRODUCT((A$14:A294=A294)*(B$14:B294=B294)*(D$14:D294=D294))>1,0,1)","v":1},"Suministro","Contratación directa",{"$f":"IF(ISBLANK(G294),1,IFERROR(VLOOKUP(G294,Tipo!$C$12:$C$27,1,FALSE),\"NO\"))","v":1},"Inversión",{"$f":"IF(ISBLANK(K294),1,IFERROR(VLOOKUP(K294,Eje_Pilar_Prop!C276:C377,1,FALSE),\"NO\"))","v":"NO"},"SECOP II",1,"Bogotá Mejor para Todos"]
[51253,2020,"SECOP II",51253,"Suministro","Contratación directa",null,"¿Suministrar a la Alcaldía Local de Sumapaz Elementos de Protección Personal, materiales e insumos de bioseguridad para el personalque labora en la entidad con el fin de prevenir el posible contagio de SARS-CoV-2 (COVID-19) durante el desarrollo de actividades laborales en la sede administrativa de la Alcaldía Local y en la localidad de Sumapaz.¿","Inversión","Bogotá Mejor para Todos",45,{"$f":"IF(ISERROR(VLOOKUP(K295,Eje_Pilar_Prop!$C$2:$E$104,2,FALSE)),\" \",VLOOKUP(K295,Eje_Pilar_Prop!$C$2:$E$104,2,FALSE))","v":"Gobernanza e influencia local, regional e internacional"},{"$f":"IF(ISERROR(VLOOKUP(K295,Eje_Pilar_Prop!$C$2:$E$104,3,FALSE)),\" \",VLOOKUP(K295,Eje_Pilar_Prop!$C$2:$E$104,3,FALSE))","v":"Eje Transversal 4 Gobierno Legitimo, Fortalecimiento Local y Eficiencia"},1375,null,"GRUPO EMPRESARIAL DE ASESORIAS Y SERVICI OS DE COLOMBIA S A S",145500,null,null,null,null,145500,0,null,"2020-06-30",null,null,null,null,null,null,null,null,null,null,null,null,0,null,{"$f":"IF(SUMPRODUCT((A$14:A295=A295)*(B$14:B295=B295)*(D$14:D295=D295))>1,0,1)","v":1},"Suministro","Contratación directa",{"$f":"IF(ISBLANK(G295),1,IFERROR(VLOOKUP(G295,Tipo!$C$12:$C$27,1,FALSE),\"NO\"))","v":1},"Inversión",{"$f":"IF(ISBLANK(K295),1,IFERROR(VLOOKUP(K295,Eje_Pilar_Prop!C277:C378,1,FALSE),\"NO\"))","v":"NO"},"SECOP II",1,"Bogotá Mejor para Todos"]
[51254,2020,"SECOP II",51254,"Suministro","Contratación directa",null,"¿Suministrar a la Alcaldía Local de Sumapaz Elementos de Protección Personal, materiales e insumos de bioseguridad para el personal que labora en la entidad con el fin de prevenir el posible contagio de SARS-CoV-2 (COVID-19) durante el desarrollo de actividades laborales en la sede administrativa de la Alcaldía Local y en la localidad de Sumapaz.¿","Inversión","Bogotá Mejor para Todos",45,{"$f":"IF(ISERROR(VLOOKUP(K296,Eje_Pilar_Prop!$C$2:$E$104,2,FALSE)),\" \",VLOOKUP(K296,Eje_Pilar_Prop!$C$2:$E$104,2,FALSE))","v":"Gobernanza e influencia local, regional e internacional"},{"$f":"IF(ISERROR(VLOOKUP(K296,Eje_Pilar_Prop!$C$2:$E$104,3,FALSE)),\" \",VLOOKUP(K296,Eje_Pilar_Prop!$C$2:$E$104,3,FALSE))","v":"Eje Transversal 4 Gobierno Legitimo, Fortalecimiento Local y Eficiencia"},1375,null,"SUMIMAS S A S",624083,null,null,null,null,624083,624083,null,"2020-06-30",null,null,null,null,null,null,null,null,null,null,null,null,1,null,{"$f":"IF(SUMPRODUCT((A$14:A296=A296)*(B$14:B296=B296)*(D$14:D296=D296))>1,0,1)","v":1},"Suministro","Contratación directa",{"$f":"IF(ISBLANK(G296),1,IFERROR(VLOOKUP(G296,Tipo!$C$12:$C$27,1,FALSE),\"NO\"))","v":1},"Inversión",{"$f":"IF(ISBLANK(K296),1,IFERROR(VLOOKUP(K296,Eje_Pilar_Prop!C278:C379,1,FALSE),\"NO\"))","v":"NO"},"SECOP II",1,"Bogotá Mejor para Todos"]
[88833,2020,"SECOP II",88833,"Suministro","Contratación directa",null,"¿Suministrar a la Alcaldía Local de Sumapaz Elementos de Protección Personal, materiales e insumos de bioseguridad para el personal que labora en la entidad con el fin de prevenir el posible contagio de SARS-CoV-2 (COVID-19) durante el desarrollo de actividades laborales en la sede administrativa de la Alcaldía Local y en la localidad de Sumapaz.¿","Inversión","Bogotá Mejor para Todos",45,{"$f":"IF(ISERROR(VLOOKUP(K297,Eje_Pilar_Prop!$C$2:$E$104,2,FALSE)),\" \",VLOOKUP(K297,Eje_Pilar_Prop!$C$2:$E$104,2,FALSE))","v":"Gobernanza e influencia local, regional e internacional"},{"$f":"IF(ISERROR(VLOOKUP(K297,Eje_Pilar_Prop!$C$2:$E$104,3,FALSE)),\" \",VLOOKUP(K297,Eje_Pilar_Prop!$C$2:$E$104,3,FALSE))","v":"Eje Transversal 4 Gobierno Legitimo, Fortalecimiento Local y Eficiencia"},1375,null,"HB INTERNATIONAL CORP. SOCIEDAD POR ACCIONES SIMPLIFICADA SAS",1250000,null,null,null,null,1250000,1250000,null,"2020-06-23",null,null,null,null,null,null,null,null,null,null,null,null,1,null,{"$f":"IF(SUMPRODUCT((A$14:A297=A297)*(B$14:B297=B297)*(D$14:D297=D297))>1,0,1)","v":1},"Suministro","Contratación directa",{"$f":"IF(ISBLANK(G297),1,IFERROR(VLOOKUP(G297,Tipo!$C$12:$C$27,1,FALSE),\"NO\"))","v":1},"Inversión",{"$f":"IF(ISBLANK(K297),1,IFERROR(VLOOKUP(K297,Eje_Pilar_Prop!C279:C380,1,FALSE),\"NO\"))","v":"NO"},"SECOP II",1,"Bogotá Mejor para Todos"]
[88845,2020,"SECOP II",88845,"Suministro","Contratación directa",null,"¿Suministrar a la Alcaldía Local de Sumapaz Elementos de Protección Personal, materiales e insumos de bioseguridad para el personal que labora en la entidad con el fin de prevenir el posible contagio de SARS-CoV-2 (COVID-19) durante el desarrollo de actividades laborales en la sede administrativa de la Alcaldía Local y en la localidad de Sumapaz.¿","Inversión","Bogotá Mejor para Todos",45,{"$f":"IF(ISERROR(VLOOKUP(K298,Eje_Pilar_Prop!$C$2:$E$104,2,FALSE)),\" \",VLOOKUP(K298,Eje_Pilar_Prop!$C$2:$E$104,2,FALSE))","v":"Gobernanza e influencia local, regional e internacional"},{"$f":"IF(ISERROR(VLOOKUP(K298,Eje_Pilar_Prop!$C$2:$E$104,3,FALSE)),\" \",VLOOKUP(K298,Eje_Pilar_Prop!$C$2:$E$104,3,FALSE))","v":"Eje Transversal 4 Gobierno Legitimo, Fortalecimiento Local y Eficiencia"},1375,null,"BON SANTE SAS",3289090,null,null,null,null,3289090,3289090,null,"2020-06-23",null,null,null,null,null,null,null,null,null,null,null,null,1,null,{"$f":"IF(SUMPRODUCT((A$14:A298=A298)*(B$14:B298=B298)*(D$14:D298=D298))>1,0,1)","v":1},"Suministro","Contratación directa",{"$f":"IF(ISBLANK(G298),1,IFERROR(VLOOKUP(G298,Tipo!$C$12:$C$27,1,FALSE),\"NO\"))","v":1},"Inversión",{"$f":"IF(ISBLANK(K298),1,IFERROR(VLOOKUP(K298,Eje_Pilar_Prop!C280:C381,1,FALSE),\"NO\"))","v":"NO"},"SECOP II",1,"Bogotá Mejor para Todos"]
[88861,2020,"SECOP II",88861,"Suministro","Contratación directa",null,"¿Suministrar a la Alcaldía Local de Sumapaz Elementos de Protección Personal, materiales e insumos de bioseguridad para el personal que labora en la entidad con el fin de prevenir el posible contagio de SARS-CoV-2 (COVID-19) durante el desarrollo de actividades laborales en la sede administrativa de la Alcaldía Local y en la localidad de Sumapaz.¿","Inversión","Bogotá Mejor para Todos",45,{"$f":"IF(ISERROR(VLOOKUP(K299,Eje_Pilar_Prop!$C$2:$E$104,2,FALSE)),\" \",VLOOKUP(K299,Eje_Pilar_Prop!$C$2:$E$104,2,FALSE))","v":"Gobernanza e influencia local, regional e internacional"},{"$f":"IF(ISERROR(VLOOKUP(K299,Eje_Pilar_Prop!$C$2:$E$104,3,FALSE)),\" \",VLOOKUP(K299,Eje_Pilar_Prop!$C$2:$E$104,3,FALSE))","v":"Eje Transversal 4 Gobierno Legitimo, Fortalecimiento Local y Eficiencia"},1375,null,"CENCOSUD COLOMBIA S.A.",3880000,null,null,null,null,3880000,3880000,null,"2020-06-23",null,null,null,null,null,null,null,null,null,null,null,null,1,null,{"$f":"IF(SUMPRODUCT((A$14:A299=A299)*(B$14:B299=B299)*(D$14:D299=D299))>1,0,1)","v":1},"Suministro","Contratación directa",{"$f":"IF(ISBLANK(G299),1,IFERROR(VLOOKUP(G299,Tipo!$C$12:$C$27,1,FALSE),\"NO\"))","v":1},"Inversión",{"$f":"IF(ISBLANK(K299),1,IFERROR(VLOOKUP(K299,Eje_Pilar_Prop!C281:C382,1,FALSE),\"NO\"))","v":"NO"},"SECOP II",1,"Bogotá Mejor para Todos"]
[88877,2020,"SECOP II",88877,"Suministro","Contratación directa",null,"¿Suministrar a la Alcaldía Local de Sumapaz Elementos de Protección Personal, materiales e insumos de bioseguridad para el personalque labora en la entidad con el fin de prevenir el posible contagio de SARS-CoV-2 (COVID-19) durante el desarrollo de actividades laborales en la sede administrativa de la Alcaldía Local y en la localidad de Sumapaz.¿","Inversión","Bogotá Mejor para Todos",45,{"$f":"IF(ISERROR(VLOOKUP(K300,Eje_Pilar_Prop!$C$2:$E$104,2,FALSE)),\" \",VLOOKUP(K300,Eje_Pilar_Prop!$C$2:$E$104,2,FALSE))","v":"Gobernanza e influencia local, regional e internacional"},{"$f":"IF(ISERROR(VLOOKUP(K300,Eje_Pilar_Prop!$C$2:$E$104,3,FALSE)),\" \",VLOOKUP(K300,Eje_Pilar_Prop!$C$2:$E$104,3,FALSE))","v":"Eje Transversal 4 Gobierno Legitimo, Fortalecimiento Local y Eficiencia"},1375,null,"COMERCIALIZADORA ARTURO CALLE S.A.S.",1507060,null,null,null,null,1507060,1266900,null,"2020-06-23",null,null,null,null,null,null,null,null,null,null,null,null,0.84064337186309768,null,{"$f":"IF(SUMPRODUCT((A$14:A300=A300)*(B$14:B300=B300)*(D$14:D300=D300))>1,0,1)","v":1},"Suministro","Contratación directa",{"$f":"IF(ISBLANK(G300),1,IFERROR(VLOOKUP(G300,Tipo!$C$12:$C$27,1,FALSE),\"NO\"))","v":1},"Inversión",{"$f":"IF(ISBLANK(K300),1,IFERROR(VLOOKUP(K300,Eje_Pilar_Prop!C282:C383,1,FALSE),\"NO\"))","v":"NO"},"SECOP II",1,"Bogotá Mejor para Todos"]
[88879,2020,"SECOP II",88879,"Suministro","Contratación directa",null,"¿Suministrar a la Alcaldía Local de Sumapaz Elementos de Protección Personal, materiales e insumos de bioseguridad para el personal que labora en la entidad con el fin de prevenir el posible contagio de SARS-CoV-2 (COVID-19) durante el desarrollo de actividades laborales en la sede administrativa de la Alcaldía Local y en la localidad de Sumapaz.¿","Inversión","Bogotá Mejor para Todos",45,{"$f":"IF(ISERROR(VLOOKUP(K301,Eje_Pilar_Prop!$C$2:$E$104,2,FALSE)),\" \",VLOOKUP(K301,Eje_Pilar_Prop!$C$2:$E$104,2,FALSE))","v":"Gobernanza e influencia local, regional e internacional"},{"$f":"IF(ISERROR(VLOOKUP(K301,Eje_Pilar_Prop!$C$2:$E$104,3,FALSE)),\" \",VLOOKUP(K301,Eje_Pilar_Prop!$C$2:$E$104,3,FALSE))","v":"Eje Transversal 4 Gobierno Legitimo, Fortalecimiento Local y Eficiencia"},1375,null,"PAPER BOX SP SAS",6465000,null,null,null,null,6465000,6465000,null,"2020-06-23",null,null,null,null,null,null,null,null,null,null,null,null,1,null,{"$f":"IF(SUMPRODUCT((A$14:A301=A301)*(B$14:B301=B301)*(D$14:D301=D301))>1,0,1)","v":1},"Suministro","Contratación directa",{"$f":"IF(ISBLANK(G301),1,IFERROR(VLOOKUP(G301,Tipo!$C$12:$C$27,1,FALSE),\"NO\"))","v":1},"Inversión",{"$f":"IF(ISBLANK(K301),1,IFERROR(VLOOKUP(K301,Eje_Pilar_Prop!C283:C384,1,FALSE),\"NO\"))","v":"NO"},"SECOP II",1,"Bogotá Mejor para Todos"]
[88881,2020,"SECOP II",88881,"Suministro","Contratación directa",null,"¿Suministrar a la Alcaldía Local de Sumapaz Elementos de Protección Personal, materiales e insumos de bioseguridad para el personal que labora en la entidad con el fin de prevenir el posible contagio de SARS-CoV-2 (COVID-19) durante el desarrollo de actividades laborales en la sede administrativa de la Alcaldía Local y en la localidad de Sumapaz.¿","Inversión","Bogotá Mejor para Todos",45,{"$f":"IF(ISERROR(VLOOKUP(K302,Eje_Pilar_Prop!$C$2:$E$104,2,FALSE)),\" \",VLOOKUP(K302,Eje_Pilar_Prop!$C$2:$E$104,2,FALSE))","v":"Gobernanza e influencia local, regional e internacional"},{"$f":"IF(ISERROR(VLOOKUP(K302,Eje_Pilar_Prop!$C$2:$E$104,3,FALSE)),\" \",VLOOKUP(K302,Eje_Pilar_Prop!$C$2:$E$104,3,FALSE))","v":"Eje Transversal 4 Gobierno Legitimo, Fortalecimiento Local y Eficiencia"},1375,null,"PLASTICOS FENIX SA",500000,null,null,null,null,500000,500000,null,"2020-06-23",null,null,null,null,null,null,null,null,null,null,null,null,1,null,{"$f":"IF(SUMPRODUCT((A$14:A302=A302)*(B$14:B302=B302)*(D$14:D302=D302))>1,0,1)","v":1},"Suministro","Contratación directa",{"$f":"IF(ISBLANK(G302),1,IFERROR(VLOOKUP(G302,Tipo!$C$12:$C$27,1,FALSE),\"NO\"))","v":1},"Inversión",{"$f":"IF(ISBLANK(K302),1,IFERROR(VLOOKUP(K302,Eje_Pilar_Prop!C284:C385,1,FALSE),\"NO\"))","v":"NO"},"SECOP II",1,"Bogotá Mejor para Todos"]
[88891,2020,"SECOP II",88891,"Suministro","Contratación directa",null,"¿Suministrar a la Alcaldía Local de Sumapaz Elementos de Protección Personal, materiales e insumos de bioseguridad para el personal que labora en la entidad con el fin de prevenir el posible contagio de SARS-CoV-2 (COVID-19) durante el desarrollo de actividades laborales en la sede administrativa de la Alcaldía Local y en la localidad de Sumapaz.¿","Inversión","Bogotá Mejor para Todos",45,{"$f":"IF(ISERROR(VLOOKUP(K303,Eje_Pilar_Prop!$C$2:$E$104,2,FALSE)),\" \",VLOOKUP(K303,Eje_Pilar_Prop!$C$2:$E$104,2,FALSE))","v":"Gobernanza e influencia local, regional e internacional"},{"$f":"IF(ISERROR(VLOOKUP(K303,Eje_Pilar_Prop!$C$2:$E$104,3,FALSE)),\" \",VLOOKUP(K303,Eje_Pilar_Prop!$C$2:$E$104,3,FALSE))","v":"Eje Transversal 4 Gobierno Legitimo, Fortalecimiento Local y Eficiencia"},1375,null,"PANAMERICANA LIBRERIA Y PAPELERIA S A",3775037,null,null,null,null,3775037,3775037,null,"2020-06-23",null,null,null,null,null,null,null,null,null,null,null,null,1,null,{"$f":"IF(SUMPRODUCT((A$14:A303=A303)*(B$14:B303=B303)*(D$14:D303=D303))>1,0,1)","v":1},"Suministro","Contratación directa",{"$f":"IF(ISBLANK(G303),1,IFERROR(VLOOKUP(G303,Tipo!$C$12:$C$27,1,FALSE),\"NO\"))","v":1},"Inversión",{"$f":"IF(ISBLANK(K303),1,IFERROR(VLOOKUP(K303,Eje_Pilar_Prop!C285:C386,1,FALSE),\"NO\"))","v":"NO"},"SECOP II",1,"Bogotá Mejor para Todos"]
[44844813,2020,"SECOP II",44844813,"Otros","Contratación directa",null,"PAGO DE ARL CONDUCTORES DEL MES DE JULIO DE 2020","Inversión","Bogotá Mejor para Todos",18,{"$f":"IF(ISERROR(VLOOKUP(K304,Eje_Pilar_Prop!$C$2:$E$104,2,FALSE)),\" \",VLOOKUP(K304,Eje_Pilar_Prop!$C$2:$E$104,2,FALSE))","v":"Mejor movilidad para todos"},{"$f":"IF(ISERROR(VLOOKUP(K304,Eje_Pilar_Prop!$C$2:$E$104,3,FALSE)),\" \",VLOOKUP(K304,Eje_Pilar_Prop!$C$2:$E$104,3,FALSE))","v":"Pilar 2 Democracía Urbana"},1364,null,"POSITIVA COMPAÑIA DE SEGUROS SA",1886100,null,null,null,null,1886100,1886100,null,"2020-08-21",null,null,null,null,null,null,null,null,null,null,null,null,1,null,{"$f":"IF(SUMPRODUCT((A$14:A304=A304)*(B$14:B304=B304)*(D$14:D304=D304))>1,0,1)","v":1},"Otros","Contratación directa",{"$f":"IF(ISBLANK(G304),1,IFERROR(VLOOKUP(G304,Tipo!$C$12:$C$27,1,FALSE),\"NO\"))","v":1},"Inversión",{"$f":"IF(ISBLANK(K304),1,IFERROR(VLOOKUP(K304,Eje_Pilar_Prop!C286:C387,1,FALSE),\"NO\"))","v":"NO"},"SECOP II",1,"Bogotá Mejor para Todos"]
[45355800,2020,"SECOP II",45355800,"Otros","Contratación directa",null,"PAGO DE ARL CONDUCTORES PERIODO DE AGOSTO DE 2020","Inversión",null,null,{"$f":"IF(ISERROR(VLOOKUP(K305,Eje_Pilar_Prop!$C$2:$E$104,2,FALSE)),\" \",VLOOKUP(K305,Eje_Pilar_Prop!$C$2:$E$104,2,FALSE))","v":" "},{"$f":"IF(ISERROR(VLOOKUP(K305,Eje_Pilar_Prop!$C$2:$E$104,3,FALSE)),\" \",VLOOKUP(K305,Eje_Pilar_Prop!$C$2:$E$104,3,FALSE))","v":" "},1364,null,"POSITIVA COMPAÑIA DE SEGUROS SA",1587800,null,null,null,null,1587800,1587800,null,"2020-09-11",null,null,null,null,null,null,null,null,null,null,null,null,1,null,{"$f":"IF(SUMPRODUCT((A$14:A305=A305)*(B$14:B305=B305)*(D$14:D305=D305))>1,0,1)","v":1},"Otros","Contratación directa",{"$f":"IF(ISBLANK(G305),1,IFERROR(VLOOKUP(G305,Tipo!$C$12:$C$27,1,FALSE),\"NO\"))","v":1},"Inversión",{"$f":"IF(ISBLANK(K305),1,IFERROR(VLOOKUP(K305,Eje_Pilar_Prop!C287:C388,1,FALSE),\"NO\"))","v":1},"SECOP II",1,1]
[1,2020,"SECOP II","NA","Contratos de prestación de servicios","Contratación directa",null,"SE REEPLAZA CDP 229 DE 2020 POR CONSTITUIRSE COMO UNA OBLIGACION POR PAGAR.","Inversión","Bogotá Mejor para Todos",45,{"$f":"IF(ISERROR(VLOOKUP(K306,Eje_Pilar_Prop!$C$2:$E$104,2,FALSE)),\" \",VLOOKUP(K306,Eje_Pilar_Prop!$C$2:$E$104,2,FALSE))","v":"Gobernanza e influencia local, regional e internacional"},{"$f":"IF(ISERROR(VLOOKUP(K306,Eje_Pilar_Prop!$C$2:$E$104,3,FALSE)),\" \",VLOOKUP(K306,Eje_Pilar_Prop!$C$2:$E$104,3,FALSE))","v":"Eje Transversal 4 Gobierno Legitimo, Fortalecimiento Local y Eficiencia"},1375,null,"JENNY CAROLINA GIRON CUERVO",16450000,null,null,null,null,16450000,16450000,null,"2020-02-17",null,null,null,null,null,null,null,null,null,null,null,null,1,null,{"$f":"IF(SUMPRODUCT((A$14:A306=A306)*(B$14:B306=B306)*(D$14:D306=D306))>1,0,1)","v":1},"Contratos de prestación de servicios","Contratación directa",{"$f":"IF(ISBLANK(G306),1,IFERROR(VLOOKUP(G306,Tipo!$C$12:$C$27,1,FALSE),\"NO\"))","v":1},"Inversión",{"$f":"IF(ISBLANK(K306),1,IFERROR(VLOOKUP(K306,Eje_Pilar_Prop!C288:C389,1,FALSE),\"NO\"))","v":"NO"},"SECOP II",1,"Bogotá Mejor para Todos"]
[2,2020,"SECOP II","NA","Contratos de prestación de servicios","Contratación directa",null,"ADICION No 2 AL CONTRATO CPS 002-2019 CUYO OBJETO ES \"PRESTAR SUS SERVICIOS COMO TECNICO DE APOYO ADMINISTRATIVO A LA GESTION AL DESPACHO DE LA ALCALDESA LOCAL DE SUMAPAZ","Inversión","Bogotá Mejor para Todos",45,{"$f":"IF(ISERROR(VLOOKUP(K307,Eje_Pilar_Prop!$C$2:$E$104,2,FALSE)),\" \",VLOOKUP(K307,Eje_Pilar_Prop!$C$2:$E$104,2,FALSE))","v":"Gobernanza e influencia local, regional e internacional"},{"$f":"IF(ISERROR(VLOOKUP(K307,Eje_Pilar_Prop!$C$2:$E$104,3,FALSE)),\" \",VLOOKUP(K307,Eje_Pilar_Prop!$C$2:$E$104,3,FALSE))","v":"Eje Transversal 4 Gobierno Legitimo, Fortalecimiento Local y Eficiencia"},1375,null,"SANDRA MILENA RODRIGUEZ SASTOQUE",16000000,null,null,null,null,16000000,16000000,null,"2020-03-13",null,null,null,null,null,null,null,null,null,null,null,null,1,null,{"$f":"IF(SUMPRODUCT((A$14:A307=A307)*(B$14:B307=B307)*(D$14:D307=D307))>1,0,1)","v":1},"Contratos de prestación de servicios","Contratación directa",{"$f":"IF(ISBLANK(G307),1,IFERROR(VLOOKUP(G307,Tipo!$C$12:$C$27,1,FALSE),\"NO\"))","v":1},"Inversión",{"$f":"IF(ISBLANK(K307),1,IFERROR(VLOOKUP(K307,Eje_Pilar_Prop!C289:C390,1,FALSE),\"NO\"))","v":"NO"},"SECOP II",1,"Bogotá Mejor para Todos"]
[3,2020,"SECOP II","NA","RESOLUCION",null,null,"BENEFICIAR 239 PERSONAS MAYORES CON SUBSIDIO TIPO C MENSUALMENTE AL AÑO","Inversión","Bogotá Mejor para Todos",3,{"$f":"IF(ISERROR(VLOOKUP(K308,Eje_Pilar_Prop!$C$2:$E$104,2,FALSE)),\" \",VLOOKUP(K308,Eje_Pilar_Prop!$C$2:$E$104,2,FALSE))","v":"Igualdad y autonomía para una Bogotá incluyente"},{"$f":"IF(ISERROR(VLOOKUP(K308,Eje_Pilar_Prop!$C$2:$E$104,3,FALSE)),\" \",VLOOKUP(K308,Eje_Pilar_Prop!$C$2:$E$104,3,FALSE))","v":"Pilar 1 Igualdad de Calidad de Vida"},1334,null,"CAJA DE COMPENSACION FAMILIAR COMPENSAR",149375000,null,null,null,null,149375000,145625000,null,"2020-01-30",null,null,null,null,null,null,null,null,null,null,null,null,0.97489539748953979,null,{"$f":"IF(SUMPRODUCT((A$14:A308=A308)*(B$14:B308=B308)*(D$14:D308=D308))>1,0,1)","v":1},"NO",1,{"$f":"IF(ISBLANK(G308),1,IFERROR(VLOOKUP(G308,Tipo!$C$12:$C$27,1,FALSE),\"NO\"))","v":1},"Inversión",{"$f":"IF(ISBLANK(K308),1,IFERROR(VLOOKUP(K308,Eje_Pilar_Prop!C290:C391,1,FALSE),\"NO\"))","v":"NO"},"SECOP II",1,"Bogotá Mejor para Todos"]
[4,2020,"SECOP II","NA","RESOLUCION",null,null,"PAGO DE LOS COSTOS OPERATIVOS APOYO ECONÓMICO SUBSIDIO TIPO C PARA LA VIGENCIA FEBRERO 2020 A JUNIO 2020","Inversión",null,3,{"$f":"IF(ISERROR(VLOOKUP(K309,Eje_Pilar_Prop!$C$2:$E$104,2,FALSE)),\" \",VLOOKUP(K309,Eje_Pilar_Prop!$C$2:$E$104,2,FALSE))","v":"Igualdad y autonomía para una Bogotá incluyente"},{"$f":"IF(ISERROR(VLOOKUP(K309,Eje_Pilar_Prop!$C$2:$E$104,3,FALSE)),\" \",VLOOKUP(K309,Eje_Pilar_Prop!$C$2:$E$104,3,FALSE))","v":"Pilar 1 Igualdad de Calidad de Vida"},1334,null,"CAJA DE COMPENSACION FAMILIAR COMPENSAR",3500000,null,null,null,null,3500000,1535047,null,"2020-01-31",null,null,null,null,null,null,null,null,null,null,null,null,0.43858485714285717,null,{"$f":"IF(SUMPRODUCT((A$14:A309=A309)*(B$14:B309=B309)*(D$14:D309=D309))>1,0,1)","v":1},"NO",1,{"$f":"IF(ISBLANK(G309),1,IFERROR(VLOOKUP(G309,Tipo!$C$12:$C$27,1,FALSE),\"NO\"))","v":1},"Inversión",{"$f":"IF(ISBLANK(K309),1,IFERROR(VLOOKUP(K309,Eje_Pilar_Prop!C291:C392,1,FALSE),\"NO\"))","v":"NO"},"SECOP II",1,1]
[6,2020,"SECOP II","NA","Contratos de prestación de servicios","Contratación directa",null,"REEMPLAZA CRP 258 DE 2020 POR CONSTITUIRSE EN OBLIGACIONES POR PAGAR.","Inversión",null,45,{"$f":"IF(ISERROR(VLOOKUP(K310,Eje_Pilar_Prop!$C$2:$E$104,2,FALSE)),\" \",VLOOKUP(K310,Eje_Pilar_Prop!$C$2:$E$104,2,FALSE))","v":"Gobernanza e influencia local, regional e internacional"},{"$f":"IF(ISERROR(VLOOKUP(K310,Eje_Pilar_Prop!$C$2:$E$104,3,FALSE)),\" \",VLOOKUP(K310,Eje_Pilar_Prop!$C$2:$E$104,3,FALSE))","v":"Eje Transversal 4 Gobierno Legitimo, Fortalecimiento Local y Eficiencia"},1375,null,"KAREN DAYANA PATIÑO SAENZ",18553500,null,null,null,null,18553500,18553500,null,"2020-02-19",null,null,null,null,null,null,null,null,null,null,null,null,1,null,{"$f":"IF(SUMPRODUCT((A$14:A310=A310)*(B$14:B310=B310)*(D$14:D310=D310))>1,0,1)","v":1},"Contratos de prestación de servicios","Contratación directa",{"$f":"IF(ISBLANK(G310),1,IFERROR(VLOOKUP(G310,Tipo!$C$12:$C$27,1,FALSE),\"NO\"))","v":1},"Inversión",{"$f":"IF(ISBLANK(K310),1,IFERROR(VLOOKUP(K310,Eje_Pilar_Prop!C292:C393,1,FALSE),\"NO\"))","v":"NO"},"SECOP II",1,1]
[14,2020,"SECOP II","NA","Contratos de prestación de servicios","Contratación directa",null,"SE REEPLAZA CRP 187 DE 2020 POR CONSTITUIRSE COMO UNA OBLIGACION POR PAGAR.","Inversión",null,18,{"$f":"IF(ISERROR(VLOOKUP(K311,Eje_Pilar_Prop!$C$2:$E$104,2,FALSE)),\" \",VLOOKUP(K311,Eje_Pilar_Prop!$C$2:$E$104,2,FALSE))","v":"Mejor movilidad para todos"},{"$f":"IF(ISERROR(VLOOKUP(K311,Eje_Pilar_Prop!$C$2:$E$104,3,FALSE)),\" \",VLOOKUP(K311,Eje_Pilar_Prop!$C$2:$E$104,3,FALSE))","v":"Pilar 2 Democracía Urbana"},1364,null,"GLORIA ISABEL AGUILERA ACOSTA",8662500,null,null,null,null,8662500,8662500,null,"2020-02-19",null,null,null,null,null,null,null,null,null,null,null,null,1,null,{"$f":"IF(SUMPRODUCT((A$14:A311=A311)*(B$14:B311=B311)*(D$14:D311=D311))>1,0,1)","v":1},"Contratos de prestación de servicios","Contratación directa",{"$f":"IF(ISBLANK(G311),1,IFERROR(VLOOKUP(G311,Tipo!$C$12:$C$27,1,FALSE),\"NO\"))","v":1},"Inversión",{"$f":"IF(ISBLANK(K311),1,IFERROR(VLOOKUP(K311,Eje_Pilar_Prop!C293:C394,1,FALSE),\"NO\"))","v":"NO"},"SECOP II",1,1]
[15,2020,"SECOP II","NA","Contratos de prestación de servicios","Contratación directa",null,"SE REEPLAZA CRP 157 DE 2020 POR CONSTITUIRSE COMO UNA OBLIGACION POR PAGAR.","Inversión",null,18,{"$f":"IF(ISERROR(VLOOKUP(K312,Eje_Pilar_Prop!$C$2:$E$104,2,FALSE)),\" \",VLOOKUP(K312,Eje_Pilar_Prop!$C$2:$E$104,2,FALSE))","v":"Mejor movilidad para todos"},{"$f":"IF(ISERROR(VLOOKUP(K312,Eje_Pilar_Prop!$C$2:$E$104,3,FALSE)),\" \",VLOOKUP(K312,Eje_Pilar_Prop!$C$2:$E$104,3,FALSE))","v":"Pilar 2 Democracía Urbana"},1364,null,"ANDRES FERNELLY ANGEL RINCON",8750000,null,null,null,null,8750000,8750000,null,"2020-02-19",null,null,null,null,null,null,null,null,null,null,null,null,1,null,{"$f":"IF(SUMPRODUCT((A$14:A312=A312)*(B$14:B312=B312)*(D$14:D312=D312))>1,0,1)","v":1},"Contratos de prestación de servicios","Contratación directa",{"$f":"IF(ISBLANK(G312),1,IFERROR(VLOOKUP(G312,Tipo!$C$12:$C$27,1,FALSE),\"NO\"))","v":1},"Inversión",{"$f":"IF(ISBLANK(K312),1,IFERROR(VLOOKUP(K312,Eje_Pilar_Prop!C294:C395,1,FALSE),\"NO\"))","v":"NO"},"SECOP II",1,1]
[16,2020,"SECOP II","NA","Contratos de prestación de servicios","Contratación directa",null,"REEMPLAZA CRP 186 DE 2020 POR CONSTITUIRSE EN OBLIGACIONES POR PAGAR.","Inversión",null,"NA",{"$f":"IF(ISERROR(VLOOKUP(K313,Eje_Pilar_Prop!$C$2:$E$104,2,FALSE)),\" \",VLOOKUP(K313,Eje_Pilar_Prop!$C$2:$E$104,2,FALSE))","v":" "},{"$f":"IF(ISERROR(VLOOKUP(K313,Eje_Pilar_Prop!$C$2:$E$104,3,FALSE)),\" \",VLOOKUP(K313,Eje_Pilar_Prop!$C$2:$E$104,3,FALSE))","v":" "},1356,null,"WILDER  CENTENO BELTRAN",16285500,null,null,null,null,16285500,16285500,null,"2020-02-19",null,null,null,null,null,null,null,null,null,null,null,null,1,null,{"$f":"IF(SUMPRODUCT((A$14:A313=A313)*(B$14:B313=B313)*(D$14:D313=D313))>1,0,1)","v":1},"Contratos de prestación de servicios","Contratación directa",{"$f":"IF(ISBLANK(G313),1,IFERROR(VLOOKUP(G313,Tipo!$C$12:$C$27,1,FALSE),\"NO\"))","v":1},"Inversión",{"$f":"IF(ISBLANK(K313),1,IFERROR(VLOOKUP(K313,Eje_Pilar_Prop!C295:C396,1,FALSE),\"NO\"))","v":"NO"},"SECOP II",1,1]
[16,2020,"SECOP II","NA","RESOLUCION",null,null,"Pago de los gastos operativos apoyo económico subsidio tipo C para la vigencia julio 2020 a enero 2021.","Inversión",null,3,{"$f":"IF(ISERROR(VLOOKUP(K314,Eje_Pilar_Prop!$C$2:$E$104,2,FALSE)),\" \",VLOOKUP(K314,Eje_Pilar_Prop!$C$2:$E$104,2,FALSE))","v":"Igualdad y autonomía para una Bogotá incluyente"},{"$f":"IF(ISERROR(VLOOKUP(K314,Eje_Pilar_Prop!$C$2:$E$104,3,FALSE)),\" \",VLOOKUP(K314,Eje_Pilar_Prop!$C$2:$E$104,3,FALSE))","v":"Pilar 1 Igualdad de Calidad de Vida"},1334,null,"CAJA DE COMPENSACION FAMILIAR COMPENSAR",209125000,null,null,null,null,209125000,145500000,null,"2020-06-30",null,null,null,null,null,null,null,null,null,null,null,null,0.69575612671846987,null,{"$f":"IF(SUMPRODUCT((A$14:A314=A314)*(B$14:B314=B314)*(D$14:D314=D314))>1,0,1)","v":0},"NO",1,{"$f":"IF(ISBLANK(G314),1,IFERROR(VLOOKUP(G314,Tipo!$C$12:$C$27,1,FALSE),\"NO\"))","v":1},"Inversión",{"$f":"IF(ISBLANK(K314),1,IFERROR(VLOOKUP(K314,Eje_Pilar_Prop!C296:C397,1,FALSE),\"NO\"))","v":"NO"},"SECOP II",1,1]
[17,2020,"SECOP II","NA","RESOLUCION",null,null,"Pago de los costos operativos apoyo económico subsidio tipo C para la vigencia de julio 2020 a enero 2021.","Inversión",null,3,{"$f":"IF(ISERROR(VLOOKUP(K315,Eje_Pilar_Prop!$C$2:$E$104,2,FALSE)),\" \",VLOOKUP(K315,Eje_Pilar_Prop!$C$2:$E$104,2,FALSE))","v":"Igualdad y autonomía para una Bogotá incluyente"},{"$f":"IF(ISERROR(VLOOKUP(K315,Eje_Pilar_Prop!$C$2:$E$104,3,FALSE)),\" \",VLOOKUP(K315,Eje_Pilar_Prop!$C$2:$E$104,3,FALSE))","v":"Pilar 1 Igualdad de Calidad de Vida"},1334,null,"CAJA DE COMPENSACION FAMILIAR COMPENSAR",4900000,null,null,null,null,4900000,2288184,null,"2020-06-30",null,null,null,null,null,null,null,null,null,null,null,null,0.46697632653061222,null,{"$f":"IF(SUMPRODUCT((A$14:A315=A315)*(B$14:B315=B315)*(D$14:D315=D315))>1,0,1)","v":1},"NO",1,{"$f":"IF(ISBLANK(G315),1,IFERROR(VLOOKUP(G315,Tipo!$C$12:$C$27,1,FALSE),\"NO\"))","v":1},"Inversión",{"$f":"IF(ISBLANK(K315),1,IFERROR(VLOOKUP(K315,Eje_Pilar_Prop!C297:C398,1,FALSE),\"NO\"))","v":"NO"},"SECOP II",1,1]
[19,2020,"SECOP II","NA","RESOLUCION",null,null,"por el cual se autoriza la transferencia de recursos con destinoa la direccion distrital de tesoreria.","Inversión",null,3,{"$f":"IF(ISERROR(VLOOKUP(K316,Eje_Pilar_Prop!$C$2:$E$104,2,FALSE)),\" \",VLOOKUP(K316,Eje_Pilar_Prop!$C$2:$E$104,2,FALSE))","v":"Igualdad y autonomía para una Bogotá incluyente"},{"$f":"IF(ISERROR(VLOOKUP(K316,Eje_Pilar_Prop!$C$2:$E$104,3,FALSE)),\" \",VLOOKUP(K316,Eje_Pilar_Prop!$C$2:$E$104,3,FALSE))","v":"Pilar 1 Igualdad de Calidad de Vida"},1334,null,"DIRECCION DISTRITAL DE TESORERIA",75621614,null,null,null,null,75621614,75621614,null,"2020-07-21",null,null,null,null,null,null,null,null,null,null,null,null,1,null,{"$f":"IF(SUMPRODUCT((A$14:A316=A316)*(B$14:B316=B316)*(D$14:D316=D316))>1,0,1)","v":1},"NO",1,{"$f":"IF(ISBLANK(G316),1,IFERROR(VLOOKUP(G316,Tipo!$C$12:$C$27,1,FALSE),\"NO\"))","v":1},"Inversión",{"$f":"IF(ISBLANK(K316),1,IFERROR(VLOOKUP(K316,Eje_Pilar_Prop!C298:C399,1,FALSE),\"NO\"))","v":"NO"},"SECOP II",1,1]
[20,2020,"SECOP II","NA","Contratos de prestación de servicios","Contratación directa",null,"REEMPLAZA CDP 233 DE 2019 POR CONSTITUIRSE EN OBLIGACIONES POR PAGAR.","Inversión",null,18,{"$f":"IF(ISERROR(VLOOKUP(K317,Eje_Pilar_Prop!$C$2:$E$104,2,FALSE)),\" \",VLOOKUP(K317,Eje_Pilar_Prop!$C$2:$E$104,2,FALSE))","v":"Mejor movilidad para todos"},{"$f":"IF(ISERROR(VLOOKUP(K317,Eje_Pilar_Prop!$C$2:$E$104,3,FALSE)),\" \",VLOOKUP(K317,Eje_Pilar_Prop!$C$2:$E$104,3,FALSE))","v":"Pilar 2 Democracía Urbana"},1364,null,"Joan  Londoño Guerrero",16121000,null,null,null,null,16121000,16121000,null,"2020-02-17",null,null,null,null,null,null,null,null,null,null,null,null,1,null,{"$f":"IF(SUMPRODUCT((A$14:A317=A317)*(B$14:B317=B317)*(D$14:D317=D317))>1,0,1)","v":1},"Contratos de prestación de servicios","Contratación directa",{"$f":"IF(ISBLANK(G317),1,IFERROR(VLOOKUP(G317,Tipo!$C$12:$C$27,1,FALSE),\"NO\"))","v":1},"Inversión",{"$f":"IF(ISBLANK(K317),1,IFERROR(VLOOKUP(K317,Eje_Pilar_Prop!C299:C400,1,FALSE),\"NO\"))","v":"NO"},"SECOP II",1,1]
[23,2020,"SECOP II","NA","Contratos de prestación de servicios","Contratación directa",null,"ADICION AL CONTRATO CPS- 023-2019 CUYO OBJETO ES \" APOYAR LA FORMULACION, EJECUCION, SEGUIMIENTO Y MEJORA CONTINUA DE LAS HERRAMIENTAS QUE CONFORMAN LA GESTION AMBIENTAL INSTITUCIONAL DE LA ALCALDIA LOCAL\"","Inversión",null,45,{"$f":"IF(ISERROR(VLOOKUP(K318,Eje_Pilar_Prop!$C$2:$E$104,2,FALSE)),\" \",VLOOKUP(K318,Eje_Pilar_Prop!$C$2:$E$104,2,FALSE))","v":"Gobernanza e influencia local, regional e internacional"},{"$f":"IF(ISERROR(VLOOKUP(K318,Eje_Pilar_Prop!$C$2:$E$104,3,FALSE)),\" \",VLOOKUP(K318,Eje_Pilar_Prop!$C$2:$E$104,3,FALSE))","v":"Eje Transversal 4 Gobierno Legitimo, Fortalecimiento Local y Eficiencia"},1375,null,"SANDRA MILENA CORTES PINEDA",11897733,null,null,null,null,11897733,11897733,null,"2020-02-10",null,null,null,null,null,null,null,null,null,null,null,null,1,null,{"$f":"IF(SUMPRODUCT((A$14:A318=A318)*(B$14:B318=B318)*(D$14:D318=D318))>1,0,1)","v":1},"Contratos de prestación de servicios","Contratación directa",{"$f":"IF(ISBLANK(G318),1,IFERROR(VLOOKUP(G318,Tipo!$C$12:$C$27,1,FALSE),\"NO\"))","v":1},"Inversión",{"$f":"IF(ISBLANK(K318),1,IFERROR(VLOOKUP(K318,Eje_Pilar_Prop!C300:C401,1,FALSE),\"NO\"))","v":"NO"},"SECOP II",1,1]
[24,2020,"SECOP II","NA","Contratos de prestación de servicios","Contratación directa",null,"Adicion N° 2 al contrato CPS-024-2019 cuyo objeto es PRESTAR LOS SERVICIOS PROFESIONALES AL AREA DE GESTION DE DESARROLLO LOCAL PARA ADELANTAR LA FORMULACION Y SEGUIMIENTO A LOS DIFERENTES PROCESOS RELACIONADOS CON LA INFRAESTUCTURA DE LA LOCALIDAD DE SUMAPAZ.","Inversión",null,18,{"$f":"IF(ISERROR(VLOOKUP(K319,Eje_Pilar_Prop!$C$2:$E$104,2,FALSE)),\" \",VLOOKUP(K319,Eje_Pilar_Prop!$C$2:$E$104,2,FALSE))","v":"Mejor movilidad para todos"},{"$f":"IF(ISERROR(VLOOKUP(K319,Eje_Pilar_Prop!$C$2:$E$104,3,FALSE)),\" \",VLOOKUP(K319,Eje_Pilar_Prop!$C$2:$E$104,3,FALSE))","v":"Pilar 2 Democracía Urbana"},1364,null,"Fredy  Silva Vargas",2031600,null,null,null,null,2031600,2031600,null,"2020-01-21",null,null,null,null,null,null,null,null,null,null,null,null,1,null,{"$f":"IF(SUMPRODUCT((A$14:A319=A319)*(B$14:B319=B319)*(D$14:D319=D319))>1,0,1)","v":1},"Contratos de prestación de servicios","Contratación directa",{"$f":"IF(ISBLANK(G319),1,IFERROR(VLOOKUP(G319,Tipo!$C$12:$C$27,1,FALSE),\"NO\"))","v":1},"Inversión",{"$f":"IF(ISBLANK(K319),1,IFERROR(VLOOKUP(K319,Eje_Pilar_Prop!C301:C402,1,FALSE),\"NO\"))","v":"NO"},"SECOP II",1,1]
[26,2020,"SECOP II","NA","Contratos de prestación de servicios","Contratación directa",null,"ADICION Y PRORROGA N° 1 AL CONTRATO  CPS- 026-2019 CUYO OBJETO ES PRESTAR SUS SERVICIOS DE APOYO ADMINISTRATIVO AL AREA DE GESTION DE DESARROLLO LOCAL PARA EL AREA DEL CDI DE LA ALCALDIA LOCAL DE SUMPAZ.","Inversión",null,45,{"$f":"IF(ISERROR(VLOOKUP(K320,Eje_Pilar_Prop!$C$2:$E$104,2,FALSE)),\" \",VLOOKUP(K320,Eje_Pilar_Prop!$C$2:$E$104,2,FALSE))","v":"Gobernanza e influencia local, regional e internacional"},{"$f":"IF(ISERROR(VLOOKUP(K320,Eje_Pilar_Prop!$C$2:$E$104,3,FALSE)),\" \",VLOOKUP(K320,Eje_Pilar_Prop!$C$2:$E$104,3,FALSE))","v":"Eje Transversal 4 Gobierno Legitimo, Fortalecimiento Local y Eficiencia"},1375,null,"NELSON  GONZALEZ CASTILLO",6960800,null,null,null,null,6960800,6960800,null,"2020-01-30",null,null,null,null,null,null,null,null,null,null,null,null,1,null,{"$f":"IF(SUMPRODUCT((A$14:A320=A320)*(B$14:B320=B320)*(D$14:D320=D320))>1,0,1)","v":1},"Contratos de prestación de servicios","Contratación directa",{"$f":"IF(ISBLANK(G320),1,IFERROR(VLOOKUP(G320,Tipo!$C$12:$C$27,1,FALSE),\"NO\"))","v":1},"Inversión",{"$f":"IF(ISBLANK(K320),1,IFERROR(VLOOKUP(K320,Eje_Pilar_Prop!C302:C403,1,FALSE),\"NO\"))","v":"NO"},"SECOP II",1,1]
[28,2020,"SECOP II","NA","Contratos de prestación de servicios","Contratación directa",null,"REEMPLAZA CDP 239 DE 2019 POR CONSTITUIRSE EN OBLIGACIONES POR PAGAR.","Inversión",null,45,{"$f":"IF(ISERROR(VLOOKUP(K321,Eje_Pilar_Prop!$C$2:$E$104,2,FALSE)),\" \",VLOOKUP(K321,Eje_Pilar_Prop!$C$2:$E$104,2,FALSE))","v":"Gobernanza e influencia local, regional e internacional"},{"$f":"IF(ISERROR(VLOOKUP(K321,Eje_Pilar_Prop!$C$2:$E$104,3,FALSE)),\" \",VLOOKUP(K321,Eje_Pilar_Prop!$C$2:$E$104,3,FALSE))","v":"Eje Transversal 4 Gobierno Legitimo, Fortalecimiento Local y Eficiencia"},1375,null,"CARLA NIAMED LOZANO TAUTIVA",8995133,null,null,null,null,8995133,8995133,null,"2020-02-17",null,null,null,null,null,null,null,null,null,null,null,null,1,null,{"$f":"IF(SUMPRODUCT((A$14:A321=A321)*(B$14:B321=B321)*(D$14:D321=D321))>1,0,1)","v":1},"Contratos de prestación de servicios","Contratación directa",{"$f":"IF(ISBLANK(G321),1,IFERROR(VLOOKUP(G321,Tipo!$C$12:$C$27,1,FALSE),\"NO\"))","v":1},"Inversión",{"$f":"IF(ISBLANK(K321),1,IFERROR(VLOOKUP(K321,Eje_Pilar_Prop!C303:C404,1,FALSE),\"NO\"))","v":"NO"},"SECOP II",1,1]
[29,2020,"SECOP II","NA","Contratos de prestación de servicios","Contratación directa",null,"REEMPLAZA CDP 234 DE 2019 POR CONSTITUIRSE EN OBLIGACIONES POR PAGAR.","Inversión",null,45,{"$f":"IF(ISERROR(VLOOKUP(K322,Eje_Pilar_Prop!$C$2:$E$104,2,FALSE)),\" \",VLOOKUP(K322,Eje_Pilar_Prop!$C$2:$E$104,2,FALSE))","v":"Gobernanza e influencia local, regional e internacional"},{"$f":"IF(ISERROR(VLOOKUP(K322,Eje_Pilar_Prop!$C$2:$E$104,3,FALSE)),\" \",VLOOKUP(K322,Eje_Pilar_Prop!$C$2:$E$104,3,FALSE))","v":"Eje Transversal 4 Gobierno Legitimo, Fortalecimiento Local y Eficiencia"},1375,null,"MAXIMILIANO  LOPEZ SUAREZ",7683200,null,null,null,null,7683200,7683200,null,"2020-02-17",null,null,null,null,null,null,null,null,null,null,null,null,1,null,{"$f":"IF(SUMPRODUCT((A$14:A322=A322)*(B$14:B322=B322)*(D$14:D322=D322))>1,0,1)","v":1},"Contratos de prestación de servicios","Contratación directa",{"$f":"IF(ISBLANK(G322),1,IFERROR(VLOOKUP(G322,Tipo!$C$12:$C$27,1,FALSE),\"NO\"))","v":1},"Inversión",{"$f":"IF(ISBLANK(K322),1,IFERROR(VLOOKUP(K322,Eje_Pilar_Prop!C304:C405,1,FALSE),\"NO\"))","v":"NO"},"SECOP II",1,1]
[31,2020,"SECOP II","NA","Contratos de prestación de servicios","Contratación directa",null,"REEMPLAZA CDP 235 DE 2019 POR CONSTITUIRSE EN OBLIGACIONES POR PAGAR.","Inversión",null,45,{"$f":"IF(ISERROR(VLOOKUP(K323,Eje_Pilar_Prop!$C$2:$E$104,2,FALSE)),\" \",VLOOKUP(K323,Eje_Pilar_Prop!$C$2:$E$104,2,FALSE))","v":"Gobernanza e influencia local, regional e internacional"},{"$f":"IF(ISERROR(VLOOKUP(K323,Eje_Pilar_Prop!$C$2:$E$104,3,FALSE)),\" \",VLOOKUP(K323,Eje_Pilar_Prop!$C$2:$E$104,3,FALSE))","v":"Eje Transversal 4 Gobierno Legitimo, Fortalecimiento Local y Eficiencia"},1375,null,"EDUARDO  DIMATE RICO",7683200,null,null,null,null,7683200,7683200,null,"2020-02-17",null,null,null,null,null,null,null,null,null,null,null,null,1,null,{"$f":"IF(SUMPRODUCT((A$14:A323=A323)*(B$14:B323=B323)*(D$14:D323=D323))>1,0,1)","v":1},"Contratos de prestación de servicios","Contratación directa",{"$f":"IF(ISBLANK(G323),1,IFERROR(VLOOKUP(G323,Tipo!$C$12:$C$27,1,FALSE),\"NO\"))","v":1},"Inversión",{"$f":"IF(ISBLANK(K323),1,IFERROR(VLOOKUP(K323,Eje_Pilar_Prop!C305:C406,1,FALSE),\"NO\"))","v":"NO"},"SECOP II",1,1]
[32,2020,"SECOP II","NA","Contratos de prestación de servicios","Contratación directa",null,"Adición prorroga No 2 al Contrato CPS-032-2019 cuyo objeto es \"prestar sus servicios profesionales para realizar la formulación, seguimiento a la ejecución y liquidación proyectos de inversión 1368 SUMAPAZ DIGITAL","Inversión",null,36,{"$f":"IF(ISERROR(VLOOKUP(K324,Eje_Pilar_Prop!$C$2:$E$104,2,FALSE)),\" \",VLOOKUP(K324,Eje_Pilar_Prop!$C$2:$E$104,2,FALSE))","v":"Bogotá, una ciudad digital"},{"$f":"IF(ISERROR(VLOOKUP(K324,Eje_Pilar_Prop!$C$2:$E$104,3,FALSE)),\" \",VLOOKUP(K324,Eje_Pilar_Prop!$C$2:$E$104,3,FALSE))","v":"Eje Transversal 2 Desarrollo Económico basado en el conocimiento"},1368,null,"WOLFRANG LIZANDRO PULIDO AVENDAÑO",10498000,null,null,null,null,10498000,10498000,null,"2020-03-19",null,null,null,null,null,null,null,null,null,null,null,null,1,null,{"$f":"IF(SUMPRODUCT((A$14:A324=A324)*(B$14:B324=B324)*(D$14:D324=D324))>1,0,1)","v":1},"Contratos de prestación de servicios","Contratación directa",{"$f":"IF(ISBLANK(G324),1,IFERROR(VLOOKUP(G324,Tipo!$C$12:$C$27,1,FALSE),\"NO\"))","v":1},"Inversión",{"$f":"IF(ISBLANK(K324),1,IFERROR(VLOOKUP(K324,Eje_Pilar_Prop!C306:C407,1,FALSE),\"NO\"))","v":"NO"},"SECOP II",1,1]
[33,2020,"SECOP II","NA","Contratos de prestación de servicios","Contratación directa",null,"ADICION Y PRORROGA AL CONTRATO CPDS-033-2019 CUYO OBJETO ES \"APOYAR TECNICAMENTE A LOS RESPONSABLES  E INTEGRANTES DE LOS PROCESOS DE IMPLEMENTACION DE HERRAMIENTAS DE GESTION, SIGUIENDO LOS LINEAMIENTOS METODOLOGICOS ESTABLECIDOS´POR LA OFICINA ASESORA DE PLANEACION DE LA SECRETARIA DISTRITAL DE GOBIERNO 2 MESES MAS","Inversión",null,45,{"$f":"IF(ISERROR(VLOOKUP(K325,Eje_Pilar_Prop!$C$2:$E$104,2,FALSE)),\" \",VLOOKUP(K325,Eje_Pilar_Prop!$C$2:$E$104,2,FALSE))","v":"Gobernanza e influencia local, regional e internacional"},{"$f":"IF(ISERROR(VLOOKUP(K325,Eje_Pilar_Prop!$C$2:$E$104,3,FALSE)),\" \",VLOOKUP(K325,Eje_Pilar_Prop!$C$2:$E$104,3,FALSE))","v":"Eje Transversal 4 Gobierno Legitimo, Fortalecimiento Local y Eficiencia"},1375,null,"GLORIA ESPERANZA PIRAJON TEJEDOR",9870000,null,null,null,null,9870000,9870000,null,"2020-03-23",null,null,null,null,null,null,null,null,null,null,null,null,1,null,{"$f":"IF(SUMPRODUCT((A$14:A325=A325)*(B$14:B325=B325)*(D$14:D325=D325))>1,0,1)","v":1},"Contratos de prestación de servicios","Contratación directa",{"$f":"IF(ISBLANK(G325),1,IFERROR(VLOOKUP(G325,Tipo!$C$12:$C$27,1,FALSE),\"NO\"))","v":1},"Inversión",{"$f":"IF(ISBLANK(K325),1,IFERROR(VLOOKUP(K325,Eje_Pilar_Prop!C307:C408,1,FALSE),\"NO\"))","v":"NO"},"SECOP II",1,1]
[34,2020,"SECOP II","NA","Contratos de prestación de servicios","Contratación directa",null,"REEMPLAZA CRP 255 DE 2020 POR CONSTITUIRSE EN OBLIGACIONES POR PAGAR.","Inversión",null,3,{"$f":"IF(ISERROR(VLOOKUP(K326,Eje_Pilar_Prop!$C$2:$E$104,2,FALSE)),\" \",VLOOKUP(K326,Eje_Pilar_Prop!$C$2:$E$104,2,FALSE))","v":"Igualdad y autonomía para una Bogotá incluyente"},{"$f":"IF(ISERROR(VLOOKUP(K326,Eje_Pilar_Prop!$C$2:$E$104,3,FALSE)),\" \",VLOOKUP(K326,Eje_Pilar_Prop!$C$2:$E$104,3,FALSE))","v":"Pilar 1 Igualdad de Calidad de Vida"},1334,null,"LEIDY PAOLA GONZALEZ PALACIOS",13440000,null,null,null,null,13440000,13440000,null,"2020-02-19",null,null,null,null,null,null,null,null,null,null,null,null,1,null,{"$f":"IF(SUMPRODUCT((A$14:A326=A326)*(B$14:B326=B326)*(D$14:D326=D326))>1,0,1)","v":1},"Contratos de prestación de servicios","Contratación directa",{"$f":"IF(ISBLANK(G326),1,IFERROR(VLOOKUP(G326,Tipo!$C$12:$C$27,1,FALSE),\"NO\"))","v":1},"Inversión",{"$f":"IF(ISBLANK(K326),1,IFERROR(VLOOKUP(K326,Eje_Pilar_Prop!C308:C409,1,FALSE),\"NO\"))","v":"NO"},"SECOP II",1,1]
[35,2020,"SECOP II","NA","Contratos de prestación de servicios","Contratación directa",null,"REEMPLAZA CRP 246 DE 2019 POR CONSTITUIRSE EN OBLIGACIONES POR PAGAR.","Inversión",null,45,{"$f":"IF(ISERROR(VLOOKUP(K327,Eje_Pilar_Prop!$C$2:$E$104,2,FALSE)),\" \",VLOOKUP(K327,Eje_Pilar_Prop!$C$2:$E$104,2,FALSE))","v":"Gobernanza e influencia local, regional e internacional"},{"$f":"IF(ISERROR(VLOOKUP(K327,Eje_Pilar_Prop!$C$2:$E$104,3,FALSE)),\" \",VLOOKUP(K327,Eje_Pilar_Prop!$C$2:$E$104,3,FALSE))","v":"Eje Transversal 4 Gobierno Legitimo, Fortalecimiento Local y Eficiencia"},1375,null,"JULIAN NICOLAS CRUZ CLAVIJO",15956500,null,null,null,null,15956500,15956500,null,"2020-02-19",null,null,null,null,null,null,null,null,null,null,null,null,1,null,{"$f":"IF(SUMPRODUCT((A$14:A327=A327)*(B$14:B327=B327)*(D$14:D327=D327))>1,0,1)","v":1},"Contratos de prestación de servicios","Contratación directa",{"$f":"IF(ISBLANK(G327),1,IFERROR(VLOOKUP(G327,Tipo!$C$12:$C$27,1,FALSE),\"NO\"))","v":1},"Inversión",{"$f":"IF(ISBLANK(K327),1,IFERROR(VLOOKUP(K327,Eje_Pilar_Prop!C309:C410,1,FALSE),\"NO\"))","v":"NO"},"SECOP II",1,1]
[38,2020,"SECOP II","NA","Contratos de prestación de servicios","Contratación directa",null,"REEMPLAZA CRP 260 DE 2020 POR CONSTITUIRSE EN OBLIGACIONES POR PAGAR.","Inversión",null,45,{"$f":"IF(ISERROR(VLOOKUP(K328,Eje_Pilar_Prop!$C$2:$E$104,2,FALSE)),\" \",VLOOKUP(K328,Eje_Pilar_Prop!$C$2:$E$104,2,FALSE))","v":"Gobernanza e influencia local, regional e internacional"},{"$f":"IF(ISERROR(VLOOKUP(K328,Eje_Pilar_Prop!$C$2:$E$104,3,FALSE)),\" \",VLOOKUP(K328,Eje_Pilar_Prop!$C$2:$E$104,3,FALSE))","v":"Eje Transversal 4 Gobierno Legitimo, Fortalecimiento Local y Eficiencia"},1375,null,"GLORIA YOLANDA DIMATE RICO",5918667,null,null,null,null,5918667,5918667,null,"2020-02-19",null,null,null,null,null,null,null,null,null,null,null,null,1,null,{"$f":"IF(SUMPRODUCT((A$14:A328=A328)*(B$14:B328=B328)*(D$14:D328=D328))>1,0,1)","v":1},"Contratos de prestación de servicios","Contratación directa",{"$f":"IF(ISBLANK(G328),1,IFERROR(VLOOKUP(G328,Tipo!$C$12:$C$27,1,FALSE),\"NO\"))","v":1},"Inversión",{"$f":"IF(ISBLANK(K328),1,IFERROR(VLOOKUP(K328,Eje_Pilar_Prop!C310:C411,1,FALSE),\"NO\"))","v":"NO"},"SECOP II",1,1]
[44,2020,"SECOP II","NA","Contratos de prestación de servicios","Contratación directa",null,"REEMPLAZA CRP 259 DE 2020 POR CONSTITUIRSE EN OBLIGACIONES POR PAGAR.","Inversión",null,45,{"$f":"IF(ISERROR(VLOOKUP(K329,Eje_Pilar_Prop!$C$2:$E$104,2,FALSE)),\" \",VLOOKUP(K329,Eje_Pilar_Prop!$C$2:$E$104,2,FALSE))","v":"Gobernanza e influencia local, regional e internacional"},{"$f":"IF(ISERROR(VLOOKUP(K329,Eje_Pilar_Prop!$C$2:$E$104,3,FALSE)),\" \",VLOOKUP(K329,Eje_Pilar_Prop!$C$2:$E$104,3,FALSE))","v":"Eje Transversal 4 Gobierno Legitimo, Fortalecimiento Local y Eficiencia"},1375,null,"DIANA LUCIA RAMIREZ MUÑOZ",5859000,null,null,null,null,5859000,5859000,null,"2020-02-19",null,null,null,null,null,null,null,null,null,null,null,null,1,null,{"$f":"IF(SUMPRODUCT((A$14:A329=A329)*(B$14:B329=B329)*(D$14:D329=D329))>1,0,1)","v":1},"Contratos de prestación de servicios","Contratación directa",{"$f":"IF(ISBLANK(G329),1,IFERROR(VLOOKUP(G329,Tipo!$C$12:$C$27,1,FALSE),\"NO\"))","v":1},"Inversión",{"$f":"IF(ISBLANK(K329),1,IFERROR(VLOOKUP(K329,Eje_Pilar_Prop!C311:C412,1,FALSE),\"NO\"))","v":"NO"},"SECOP II",1,1]
[55,2020,"SECOP II","NA","Contratos de prestación de servicios","Contratación directa",null,"Adicion y prorroga al contrato CPS- 055-2019 cuyo objeto es \"PRESTAR SUS SERVICIOS COMO PROFESIONAL DE APOYO A LA GESTION CONTRACTUAL DE LA ALCALDIA LOCAL DE SUMAPAZ\"","Inversión",null,45,{"$f":"IF(ISERROR(VLOOKUP(K330,Eje_Pilar_Prop!$C$2:$E$104,2,FALSE)),\" \",VLOOKUP(K330,Eje_Pilar_Prop!$C$2:$E$104,2,FALSE))","v":"Gobernanza e influencia local, regional e internacional"},{"$f":"IF(ISERROR(VLOOKUP(K330,Eje_Pilar_Prop!$C$2:$E$104,3,FALSE)),\" \",VLOOKUP(K330,Eje_Pilar_Prop!$C$2:$E$104,3,FALSE))","v":"Eje Transversal 4 Gobierno Legitimo, Fortalecimiento Local y Eficiencia"},1375,null,"ERIKA DAYANA FIERRO MORALES",11900000,null,null,null,null,11900000,11900000,null,"2020-01-30",null,null,null,null,null,null,null,null,null,null,null,null,1,null,{"$f":"IF(SUMPRODUCT((A$14:A330=A330)*(B$14:B330=B330)*(D$14:D330=D330))>1,0,1)","v":1},"Contratos de prestación de servicios","Contratación directa",{"$f":"IF(ISBLANK(G330),1,IFERROR(VLOOKUP(G330,Tipo!$C$12:$C$27,1,FALSE),\"NO\"))","v":1},"Inversión",{"$f":"IF(ISBLANK(K330),1,IFERROR(VLOOKUP(K330,Eje_Pilar_Prop!C312:C413,1,FALSE),\"NO\"))","v":"NO"},"SECOP II",1,1]
[58,2020,"SECOP II","NA","Contratos de prestación de servicios","Contratación directa",null,"Adicion 2 al contrato CPS-058-2019 cuyo objeto es \"PRESTAR SUS SERVICIOS COMO AUXILIAR ADMINISTRATIVO PARA QUE REALICE LAS ACTIVIDADES CORRESPONDIENTES AL PARQUE AUTOMOTOR PROPIEDAD DEL FONDO DE DESARROLLO LOCAL DE SUMAPAZ\"","Inversión",null,18,{"$f":"IF(ISERROR(VLOOKUP(K331,Eje_Pilar_Prop!$C$2:$E$104,2,FALSE)),\" \",VLOOKUP(K331,Eje_Pilar_Prop!$C$2:$E$104,2,FALSE))","v":"Mejor movilidad para todos"},{"$f":"IF(ISERROR(VLOOKUP(K331,Eje_Pilar_Prop!$C$2:$E$104,3,FALSE)),\" \",VLOOKUP(K331,Eje_Pilar_Prop!$C$2:$E$104,3,FALSE))","v":"Pilar 2 Democracía Urbana"},1364,null,"MANUEL ALEJANDRO GOMEZ ROA",4829167,null,null,null,null,4829167,4829167,null,"2020-02-11",null,null,null,null,null,null,null,null,null,null,null,null,1,null,{"$f":"IF(SUMPRODUCT((A$14:A331=A331)*(B$14:B331=B331)*(D$14:D331=D331))>1,0,1)","v":1},"Contratos de prestación de servicios","Contratación directa",{"$f":"IF(ISBLANK(G331),1,IFERROR(VLOOKUP(G331,Tipo!$C$12:$C$27,1,FALSE),\"NO\"))","v":1},"Inversión",{"$f":"IF(ISBLANK(K331),1,IFERROR(VLOOKUP(K331,Eje_Pilar_Prop!C313:C414,1,FALSE),\"NO\"))","v":"NO"},"SECOP II",1,1]
[59,2020,"SECOP II","NA","Contratos de prestación de servicios","Contratación directa",null,"Adicion y Prorroga al contrato CPS-059-2019 cuyo objeto es \"REALIZAR ADICIÓN AL CONTRATO CUYO OBJETO ES PRESTAR LOS SERVICIOS DE APOYO EN LAS LABORES DE OFICIOS VARIOS Y NOTIFICACIÓN PARA LA CUENCA DEL RIO BLANCO Y CUENCA RIO SUMAPAZ\"","Inversión",null,45,{"$f":"IF(ISERROR(VLOOKUP(K332,Eje_Pilar_Prop!$C$2:$E$104,2,FALSE)),\" \",VLOOKUP(K332,Eje_Pilar_Prop!$C$2:$E$104,2,FALSE))","v":"Gobernanza e influencia local, regional e internacional"},{"$f":"IF(ISERROR(VLOOKUP(K332,Eje_Pilar_Prop!$C$2:$E$104,3,FALSE)),\" \",VLOOKUP(K332,Eje_Pilar_Prop!$C$2:$E$104,3,FALSE))","v":"Eje Transversal 4 Gobierno Legitimo, Fortalecimiento Local y Eficiencia"},1375,null,"GILBERTO  RIVEROS ROMERO",4760000,null,null,null,null,4760000,4760000,null,"2020-02-10",null,null,null,null,null,null,null,null,null,null,null,null,1,null,{"$f":"IF(SUMPRODUCT((A$14:A332=A332)*(B$14:B332=B332)*(D$14:D332=D332))>1,0,1)","v":1},"Contratos de prestación de servicios","Contratación directa",{"$f":"IF(ISBLANK(G332),1,IFERROR(VLOOKUP(G332,Tipo!$C$12:$C$27,1,FALSE),\"NO\"))","v":1},"Inversión",{"$f":"IF(ISBLANK(K332),1,IFERROR(VLOOKUP(K332,Eje_Pilar_Prop!C314:C415,1,FALSE),\"NO\"))","v":"NO"},"SECOP II",1,1]
[61,2020,"SECOP II","NA","Contratos de prestación de servicios","Contratación directa",null,"ADICION Y PRORROGA AL CPS-061-2019 CUYO OBJETO ES \"PRESTAR SUS SERVICIOS COMO AUXILIAR DE APOYO ADMINISTRATIVO AL AREA DE GESTION POLICIVA DE LA ALCALDIA LOCAL DE SUMAPAZ\"","Inversión",null,45,{"$f":"IF(ISERROR(VLOOKUP(K333,Eje_Pilar_Prop!$C$2:$E$104,2,FALSE)),\" \",VLOOKUP(K333,Eje_Pilar_Prop!$C$2:$E$104,2,FALSE))","v":"Gobernanza e influencia local, regional e internacional"},{"$f":"IF(ISERROR(VLOOKUP(K333,Eje_Pilar_Prop!$C$2:$E$104,3,FALSE)),\" \",VLOOKUP(K333,Eje_Pilar_Prop!$C$2:$E$104,3,FALSE))","v":"Eje Transversal 4 Gobierno Legitimo, Fortalecimiento Local y Eficiencia"},1375,null,"ANGELA SILVANA CAMARGO PENAGOS",7125000,null,null,null,null,7125000,7125000,null,"2020-01-30",null,null,null,null,null,null,null,null,null,null,null,null,1,null,{"$f":"IF(SUMPRODUCT((A$14:A333=A333)*(B$14:B333=B333)*(D$14:D333=D333))>1,0,1)","v":1},"Contratos de prestación de servicios","Contratación directa",{"$f":"IF(ISBLANK(G333),1,IFERROR(VLOOKUP(G333,Tipo!$C$12:$C$27,1,FALSE),\"NO\"))","v":1},"Inversión",{"$f":"IF(ISBLANK(K333),1,IFERROR(VLOOKUP(K333,Eje_Pilar_Prop!C315:C416,1,FALSE),\"NO\"))","v":"NO"},"SECOP II",1,1]
[62,2020,"SECOP II","NA","Contratos de prestación de servicios","Contratación directa",null,"ADICION AL CONTRATO CPS-062-2019 CUYO OBJETO ES \" Apoyar la formulacion, gestion y seguimiento de actividades enfocadas a la gestion ambiental externa, encaminada a la mitigacion de los diferentes impactos ambientales y la conservacion de los recursos naturales de la localidad de sumapaz\"","Inversión",null,45,{"$f":"IF(ISERROR(VLOOKUP(K334,Eje_Pilar_Prop!$C$2:$E$104,2,FALSE)),\" \",VLOOKUP(K334,Eje_Pilar_Prop!$C$2:$E$104,2,FALSE))","v":"Gobernanza e influencia local, regional e internacional"},{"$f":"IF(ISERROR(VLOOKUP(K334,Eje_Pilar_Prop!$C$2:$E$104,3,FALSE)),\" \",VLOOKUP(K334,Eje_Pilar_Prop!$C$2:$E$104,3,FALSE))","v":"Eje Transversal 4 Gobierno Legitimo, Fortalecimiento Local y Eficiencia"},1375,null,"ZULAY NATALIA BECERRA RAMIREZ",13982500,null,null,null,null,13982500,13982500,null,"2020-01-30",null,null,null,null,null,null,null,null,null,null,null,null,1,null,{"$f":"IF(SUMPRODUCT((A$14:A334=A334)*(B$14:B334=B334)*(D$14:D334=D334))>1,0,1)","v":1},"Contratos de prestación de servicios","Contratación directa",{"$f":"IF(ISBLANK(G334),1,IFERROR(VLOOKUP(G334,Tipo!$C$12:$C$27,1,FALSE),\"NO\"))","v":1},"Inversión",{"$f":"IF(ISBLANK(K334),1,IFERROR(VLOOKUP(K334,Eje_Pilar_Prop!C316:C417,1,FALSE),\"NO\"))","v":"NO"},"SECOP II",1,{"$f":"IF(ISBLANK(J334),1,IFERROR(VLOOKUP(J334,pdd,1,FALSE),\"NO\"))","v":1}]
[64,2020,"SECOP II","NA","Contratos de prestación de servicios","Contratación directa",null,"DICION AL CONTRATO CPS-064-2019 CUYO OBJETO ES \" Apoyar la formulacion, gestion y seguimiento de actividades enfocadas a la gestion ambiental externa, encaminada a la mitigacion de los diferentes impactos ambientales y la conservacion de los recursos naturales de la localidad de sumapaz\"","Inversión",null,45,{"$f":"IF(ISERROR(VLOOKUP(K335,Eje_Pilar_Prop!$C$2:$E$104,2,FALSE)),\" \",VLOOKUP(K335,Eje_Pilar_Prop!$C$2:$E$104,2,FALSE))","v":"Gobernanza e influencia local, regional e internacional"},{"$f":"IF(ISERROR(VLOOKUP(K335,Eje_Pilar_Prop!$C$2:$E$104,3,FALSE)),\" \",VLOOKUP(K335,Eje_Pilar_Prop!$C$2:$E$104,3,FALSE))","v":"Eje Transversal 4 Gobierno Legitimo, Fortalecimiento Local y Eficiencia"},1375,null,"WILLIAM ANDRES HERRERA PABON",14311500,null,null,null,null,14311500,14311500,null,"2020-01-30",null,null,null,null,null,null,null,null,null,null,null,null,1,null,{"$f":"IF(SUMPRODUCT((A$14:A335=A335)*(B$14:B335=B335)*(D$14:D335=D335))>1,0,1)","v":1},"Contratos de prestación de servicios","Contratación directa",{"$f":"IF(ISBLANK(G335),1,IFERROR(VLOOKUP(G335,Tipo!$C$12:$C$27,1,FALSE),\"NO\"))","v":1},"Inversión",{"$f":"IF(ISBLANK(K335),1,IFERROR(VLOOKUP(K335,Eje_Pilar_Prop!C317:C418,1,FALSE),\"NO\"))","v":"NO"},"SECOP II",1,1]
[66,2020,"SECOP II","NA","Contratos de prestación de servicios","Contratación directa",null,"ADICION Y PRORROGA AL CONTRATO CPS-066-2019 CUYO OBJETO ES \"APOYAR A LA ALCALDESA LOCAL EN LA PROMOCION, ARTICULACION, ACOMPAÑAMIENTO Y SEGUIMIENTO PARA LA ATENCION Y PROTECCION DE LOS ANIMALES DOMESTICOS Y SILVESTRES DE LA LOCALIDAD DE SUMAPAZ\"","Inversión",null,45,{"$f":"IF(ISERROR(VLOOKUP(K336,Eje_Pilar_Prop!$C$2:$E$104,2,FALSE)),\" \",VLOOKUP(K336,Eje_Pilar_Prop!$C$2:$E$104,2,FALSE))","v":"Gobernanza e influencia local, regional e internacional"},{"$f":"IF(ISERROR(VLOOKUP(K336,Eje_Pilar_Prop!$C$2:$E$104,3,FALSE)),\" \",VLOOKUP(K336,Eje_Pilar_Prop!$C$2:$E$104,3,FALSE))","v":"Eje Transversal 4 Gobierno Legitimo, Fortalecimiento Local y Eficiencia"},1375,null,"CARLOS EDUARDO BRAVO COTRINO",13653500,null,null,null,null,13653500,13653500,null,"2020-01-30",null,null,null,null,null,null,null,null,null,null,null,null,1,null,{"$f":"IF(SUMPRODUCT((A$14:A336=A336)*(B$14:B336=B336)*(D$14:D336=D336))>1,0,1)","v":1},"Contratos de prestación de servicios","Contratación directa",{"$f":"IF(ISBLANK(G336),1,IFERROR(VLOOKUP(G336,Tipo!$C$12:$C$27,1,FALSE),\"NO\"))","v":1},"Inversión",{"$f":"IF(ISBLANK(K336),1,IFERROR(VLOOKUP(K336,Eje_Pilar_Prop!C318:C419,1,FALSE),\"NO\"))","v":"NO"},"SECOP II",1,1]
[70,2020,"SECOP II","NA","Contratos de prestación de servicios","Contratación directa",null,"Adicion y prorroga N° 1 contrato CPS-070-2019 cuyo objeto es \"PRESTAR LOS SERVICIOS DE APOYO EN LAS LABORES DE RADICACION , CONSERVACION, CLASIFICACION Y NOTIFICACION DE LA CORRESPONDENCIA QUE EMITE LA JAL DE SUMAPAZ PARA LA BOGOTA URBANA Y EL FONDO DE DESARROLLO LOCAL DE SUMAPAZ","Inversión",null,45,{"$f":"IF(ISERROR(VLOOKUP(K337,Eje_Pilar_Prop!$C$2:$E$104,2,FALSE)),\" \",VLOOKUP(K337,Eje_Pilar_Prop!$C$2:$E$104,2,FALSE))","v":"Gobernanza e influencia local, regional e internacional"},{"$f":"IF(ISERROR(VLOOKUP(K337,Eje_Pilar_Prop!$C$2:$E$104,3,FALSE)),\" \",VLOOKUP(K337,Eje_Pilar_Prop!$C$2:$E$104,3,FALSE))","v":"Eje Transversal 4 Gobierno Legitimo, Fortalecimiento Local y Eficiencia"},1375,null,"DIEGO FERNANDO BENAVIDES MOGOLLON",5418000,null,null,null,null,5418000,5418000,null,"2020-01-30",null,null,null,null,null,null,null,null,null,null,null,null,1,null,{"$f":"IF(SUMPRODUCT((A$14:A337=A337)*(B$14:B337=B337)*(D$14:D337=D337))>1,0,1)","v":1},"Contratos de prestación de servicios","Contratación directa",{"$f":"IF(ISBLANK(G337),1,IFERROR(VLOOKUP(G337,Tipo!$C$12:$C$27,1,FALSE),\"NO\"))","v":1},"Inversión",{"$f":"IF(ISBLANK(K337),1,IFERROR(VLOOKUP(K337,Eje_Pilar_Prop!C319:C420,1,FALSE),\"NO\"))","v":"NO"},"SECOP II",1,1]
[71,2020,"SECOP II","NA","Contratos de prestación de servicios","Contratación directa",null,"REEMPLAZA CRP 264 DE 2020 POR CONSTITUIRSE EN OBLIGACIONES POR PAGAR.","Inversión",null,45,{"$f":"IF(ISERROR(VLOOKUP(K338,Eje_Pilar_Prop!$C$2:$E$104,2,FALSE)),\" \",VLOOKUP(K338,Eje_Pilar_Prop!$C$2:$E$104,2,FALSE))","v":"Gobernanza e influencia local, regional e internacional"},{"$f":"IF(ISERROR(VLOOKUP(K338,Eje_Pilar_Prop!$C$2:$E$104,3,FALSE)),\" \",VLOOKUP(K338,Eje_Pilar_Prop!$C$2:$E$104,3,FALSE))","v":"Eje Transversal 4 Gobierno Legitimo, Fortalecimiento Local y Eficiencia"},1375,null,"WILLIAM  CIFUENTES MEDINA",6742400,null,null,null,null,6742400,6742400,null,"2020-02-19",null,null,null,null,null,null,null,null,null,null,null,null,1,null,{"$f":"IF(SUMPRODUCT((A$14:A338=A338)*(B$14:B338=B338)*(D$14:D338=D338))>1,0,1)","v":1},"Contratos de prestación de servicios","Contratación directa",{"$f":"IF(ISBLANK(G338),1,IFERROR(VLOOKUP(G338,Tipo!$C$12:$C$27,1,FALSE),\"NO\"))","v":1},"Inversión",{"$f":"IF(ISBLANK(K338),1,IFERROR(VLOOKUP(K338,Eje_Pilar_Prop!C320:C421,1,FALSE),\"NO\"))","v":"NO"},"SECOP II",1,1]
[71,2020,"SECOP II","NA","Contratos de prestación de servicios","Contratación directa",null,"Adición # 2 al contrato CPS- 071-2019 cuyo objeto es ¿PRESTAR LOS SERVICIOS PARA OPERAR EL VEHÍCULO ASIGNADO, REALIZANDO DE MANERA OPORTUNA EFICIENTE Y SEGURA LOS DESPLAZAMIENTOS DE LOS FUNCIONARIOS DEL FONDO DE DESARROLLO LOCAL DEL SUMAPAZ Y/O DEMÁS PERSONAL QUEREQUIERA SER TRASLADADO EN LA ZONA URBANA Y RURAL DE LA LOCALIDAD EN CUMPLIMIENTO DE LAS ACTIVIDADES PROPIAS DE LA ADMINISTRACIÓN LOCAL¿","Inversión",null,45,{"$f":"IF(ISERROR(VLOOKUP(K339,Eje_Pilar_Prop!$C$2:$E$104,2,FALSE)),\" \",VLOOKUP(K339,Eje_Pilar_Prop!$C$2:$E$104,2,FALSE))","v":"Gobernanza e influencia local, regional e internacional"},{"$f":"IF(ISERROR(VLOOKUP(K339,Eje_Pilar_Prop!$C$2:$E$104,3,FALSE)),\" \",VLOOKUP(K339,Eje_Pilar_Prop!$C$2:$E$104,3,FALSE))","v":"Eje Transversal 4 Gobierno Legitimo, Fortalecimiento Local y Eficiencia"},1375,null,"WILLIAN FERNANDO PORRAS LOPEZ",7369600,null,null,null,null,7369600,7056000,null,"2020-04-29",null,null,null,null,null,null,null,null,null,null,null,null,0.95744680851063835,null,{"$f":"IF(SUMPRODUCT((A$14:A339=A339)*(B$14:B339=B339)*(D$14:D339=D339))>1,0,1)","v":0},"Contratos de prestación de servicios","Contratación directa",{"$f":"IF(ISBLANK(G339),1,IFERROR(VLOOKUP(G339,Tipo!$C$12:$C$27,1,FALSE),\"NO\"))","v":1},"Inversión",{"$f":"IF(ISBLANK(K339),1,IFERROR(VLOOKUP(K339,Eje_Pilar_Prop!C321:C422,1,FALSE),\"NO\"))","v":"NO"},"SECOP II",1,1]
[74,2020,"SECOP II","NA","Contratos de prestación de servicios","Contratación directa",null,"PRESTAR SERVICIOS TECNICOS PARA LA OPERACION SEGUIMIENTO Y CUMPLIENTO DE LOS PROCESOS Y PROCEDIMIENTOS DEL SERVICIO SOCIAL APOYOS PARA LA SEGURIDAD ECONOMICA TIPO C, REQUERIDOS PARA EL OPORTUNO Y ADECUADO REGISTRO, CRUCE Y REPORTE DE LOS DATOS EN EL SISTEMA DE INFORMACION Y REGISTRO DE BENEFICIARIOS-SIRBE, QUE CONTRIBUYAN A LAGARANTIA DE LOS DERECHOSDE LA POBLACION MAYOR EN EL MARCO DE LA POLITICA PUBLICA SOCIAL PARA EL ENVEJECIMIENTO Y LA VEJEZ EN EL DISTRITO CAPITAL A CARGO DE LA ALCALDIA LOCAL DE SUMAPAZ.","Inversión",null,3,{"$f":"IF(ISERROR(VLOOKUP(K340,Eje_Pilar_Prop!$C$2:$E$104,2,FALSE)),\" \",VLOOKUP(K340,Eje_Pilar_Prop!$C$2:$E$104,2,FALSE))","v":"Igualdad y autonomía para una Bogotá incluyente"},{"$f":"IF(ISERROR(VLOOKUP(K340,Eje_Pilar_Prop!$C$2:$E$104,3,FALSE)),\" \",VLOOKUP(K340,Eje_Pilar_Prop!$C$2:$E$104,3,FALSE))","v":"Pilar 1 Igualdad de Calidad de Vida"},1334,null,"CRISTIAN ANDRES VASQUEZ CHINGATE",7636667,null,null,null,null,7636667,7636667,null,"2020-02-11",null,null,null,null,null,null,null,null,null,null,null,null,1,null,{"$f":"IF(SUMPRODUCT((A$14:A340=A340)*(B$14:B340=B340)*(D$14:D340=D340))>1,0,1)","v":1},"Contratos de prestación de servicios","Contratación directa",{"$f":"IF(ISBLANK(G340),1,IFERROR(VLOOKUP(G340,Tipo!$C$12:$C$27,1,FALSE),\"NO\"))","v":1},"Inversión",{"$f":"IF(ISBLANK(K340),1,IFERROR(VLOOKUP(K340,Eje_Pilar_Prop!C322:C423,1,FALSE),\"NO\"))","v":"NO"},"SECOP II",1,1]
[78,2020,"SECOP II","NA","Contratos de prestación de servicios","Contratación directa",null,"Realizar la interventoría técnica, administrativa, financiera, ambiental, social y jurídica al contrato N°. COP-173-2018 cuyo objeto es: ¿Realizar por el sistema de precios unitarios fijos sin formula de reajuste: la implementación de modelos de bioingeniería y su ejecución para la restauración y recuperación de zonas con procesos de erosión o fenómenos de remoción en masa en la localidad de Sumapaz.","Inversión",null,4,{"$f":"IF(ISERROR(VLOOKUP(K341,Eje_Pilar_Prop!$C$2:$E$104,2,FALSE)),\" \",VLOOKUP(K341,Eje_Pilar_Prop!$C$2:$E$104,2,FALSE))","v":"Familias protegidas y adaptadas al cambio climático"},{"$f":"IF(ISERROR(VLOOKUP(K341,Eje_Pilar_Prop!$C$2:$E$104,3,FALSE)),\" \",VLOOKUP(K341,Eje_Pilar_Prop!$C$2:$E$104,3,FALSE))","v":"Pilar 1 Igualdad de Calidad de Vida"},1340,null,"CONSORCIO INTER-MUROS 2019",13996419,null,null,null,null,13996419,0,null,"2020-08-14",null,null,null,null,null,null,null,null,null,null,null,null,0,null,{"$f":"IF(SUMPRODUCT((A$14:A341=A341)*(B$14:B341=B341)*(D$14:D341=D341))>1,0,1)","v":1},"Contratos de prestación de servicios","Contratación directa",{"$f":"IF(ISBLANK(G341),1,IFERROR(VLOOKUP(G341,Tipo!$C$12:$C$27,1,FALSE),\"NO\"))","v":1},"Inversión",{"$f":"IF(ISBLANK(K341),1,IFERROR(VLOOKUP(K341,Eje_Pilar_Prop!C323:C424,1,FALSE),\"NO\"))","v":"NO"},{"$f":"IF(ISBLANK(C341),1,IFERROR(VLOOKUP(C341,SECOP,1,FALSE),\"NO\"))","v":"SECOP II"},1,1]
[84,2020,"SECOP II","NA","Contratos de prestación de servicios","Contratación directa",null,"Adicion al contrato CPS- 084-2019 cuyo objeto es \"PRESTAR SUS SERVICIOS PROFESIONALES AL ÁREA GESTIÓN DE DESARROLLO LOCAL EN LOS PROYECTOS Y PROCESOS RELACIONADOS CON EL MANTENIMIENTO Y OPERATIVIDAD DEL PARQUE AUTOMOTOR DE PROPIEDAD DEL FDLS Y DEL QUE LLEGARE A SER RESPONSABLE\"","Inversión",null,18,{"$f":"IF(ISERROR(VLOOKUP(K342,Eje_Pilar_Prop!$C$2:$E$104,2,FALSE)),\" \",VLOOKUP(K342,Eje_Pilar_Prop!$C$2:$E$104,2,FALSE))","v":"Mejor movilidad para todos"},{"$f":"IF(ISERROR(VLOOKUP(K342,Eje_Pilar_Prop!$C$2:$E$104,3,FALSE)),\" \",VLOOKUP(K342,Eje_Pilar_Prop!$C$2:$E$104,3,FALSE))","v":"Pilar 2 Democracía Urbana"},1364,null,"MANUEL DAVID DIAZ TANGARIFE",8540000,null,null,null,null,8540000,8540000,null,"2020-03-01",null,null,null,null,null,null,null,null,null,null,null,null,1,null,{"$f":"IF(SUMPRODUCT((A$14:A342=A342)*(B$14:B342=B342)*(D$14:D342=D342))>1,0,1)","v":1},"Contratos de prestación de servicios","Contratación directa",{"$f":"IF(ISBLANK(G342),1,IFERROR(VLOOKUP(G342,Tipo!$C$12:$C$27,1,FALSE),\"NO\"))","v":1},"Inversión",{"$f":"IF(ISBLANK(K342),1,IFERROR(VLOOKUP(K342,Eje_Pilar_Prop!C324:C425,1,FALSE),\"NO\"))","v":"NO"},"SECOP II",1,1]
[89,2020,"SECOP II","NA","Contratos de prestación de servicios","Contratación directa",null,"Adición y prorroga No 1 al contrato CPS-089- 2019, cuyo objeto es: ¿PRESTAR EL SERVICIO DE MONITOREO VEHICULAR INTEGRAL POR GPS SATELITAL PARA LA MAQUINA DE PROPIEDAD O TENENCIA DEL FONDO DE DESARROLLO LOCAL DE SUMAPAZ¿","Inversión",null,18,{"$f":"IF(ISERROR(VLOOKUP(K343,Eje_Pilar_Prop!$C$2:$E$104,2,FALSE)),\" \",VLOOKUP(K343,Eje_Pilar_Prop!$C$2:$E$104,2,FALSE))","v":"Mejor movilidad para todos"},{"$f":"IF(ISERROR(VLOOKUP(K343,Eje_Pilar_Prop!$C$2:$E$104,3,FALSE)),\" \",VLOOKUP(K343,Eje_Pilar_Prop!$C$2:$E$104,3,FALSE))","v":"Pilar 2 Democracía Urbana"},1364,null,"DAR SOLUCIONES SAS",24923360,null,null,null,null,24923360,13069176,null,"2020-04-27",null,null,null,null,null,null,null,null,null,null,null,null,0.52437456265928828,null,{"$f":"IF(SUMPRODUCT((A$14:A343=A343)*(B$14:B343=B343)*(D$14:D343=D343))>1,0,1)","v":1},"Contratos de prestación de servicios","Contratación directa",{"$f":"IF(ISBLANK(G343),1,IFERROR(VLOOKUP(G343,Tipo!$C$12:$C$27,1,FALSE),\"NO\"))","v":1},"Inversión",{"$f":"IF(ISBLANK(K343),1,IFERROR(VLOOKUP(K343,Eje_Pilar_Prop!C325:C426,1,FALSE),\"NO\"))","v":"NO"},"SECOP II",1,1]
[94,2020,"SECOP II","NA","Obra pública","Licitación pública",null,"ADICION COP 094-2019 CONTRATAR LAS OBRAS PARA LA CONSERVACION DE LAMALLA VIAL LOCAL DE SUMAPAZ, POR EL SISTEMA DE PRECIOS UNITARIOS FIJOS,SIN FORMULA DE REAJUSTE Y A MONTO AGOTABLE","Inversión",null,18,{"$f":"IF(ISERROR(VLOOKUP(K344,Eje_Pilar_Prop!$C$2:$E$104,2,FALSE)),\" \",VLOOKUP(K344,Eje_Pilar_Prop!$C$2:$E$104,2,FALSE))","v":"Mejor movilidad para todos"},{"$f":"IF(ISERROR(VLOOKUP(K344,Eje_Pilar_Prop!$C$2:$E$104,3,FALSE)),\" \",VLOOKUP(K344,Eje_Pilar_Prop!$C$2:$E$104,3,FALSE))","v":"Pilar 2 Democracía Urbana"},1364,null,"CONSORCIO SUMAPAZ 2 2019",5792443000,null,null,null,null,5792443000,5792443000,null,"2020-10-27",null,null,null,null,null,null,null,null,null,null,null,null,1,null,{"$f":"IF(SUMPRODUCT((A$14:A344=A344)*(B$14:B344=B344)*(D$14:D344=D344))>1,0,1)","v":1},{"$f":"IF(ISBLANK(E344),1,IFERROR(VLOOKUP(E344,tipo,1,FALSE),\"NO\"))","v":"Obra pública"},{"$f":"IF(ISBLANK(F344),1,IFERROR(VLOOKUP(F344,modal,1,FALSE),\"NO\"))","v":"Licitación pública"},{"$f":"IF(ISBLANK(G344),1,IFERROR(VLOOKUP(G344,Tipo!$C$12:$C$27,1,FALSE),\"NO\"))","v":1},{"$f":"IF(ISBLANK(I344),1,IFERROR(VLOOKUP(I344,afectacion,1,FALSE),\"NO\"))","v":"Inversión"},{"$f":"IF(ISBLANK(K344),1,IFERROR(VLOOKUP(K344,Eje_Pilar_Prop!C326:C427,1,FALSE),\"NO\"))","v":"NO"},"SECOP II",1,1]
[117,2020,"SECOP II","NA","Contratos de prestación de servicios","Contratación directa",null,"REEMPLAZA CRP 261 DE 2020 POR CONSTITUIRSE EN OBLIGACIONES POR PAGAR.","Inversión",null,45,{"$f":"IF(ISERROR(VLOOKUP(K345,Eje_Pilar_Prop!$C$2:$E$104,2,FALSE)),\" \",VLOOKUP(K345,Eje_Pilar_Prop!$C$2:$E$104,2,FALSE))","v":"Gobernanza e influencia local, regional e internacional"},{"$f":"IF(ISERROR(VLOOKUP(K345,Eje_Pilar_Prop!$C$2:$E$104,3,FALSE)),\" \",VLOOKUP(K345,Eje_Pilar_Prop!$C$2:$E$104,3,FALSE))","v":"Eje Transversal 4 Gobierno Legitimo, Fortalecimiento Local y Eficiencia"},1375,null,"WILSON  REY MORENO",11000000,null,null,null,null,11000000,11000000,null,"2020-02-19",null,null,null,null,null,null,null,null,null,null,null,null,1,null,{"$f":"IF(SUMPRODUCT((A$14:A345=A345)*(B$14:B345=B345)*(D$14:D345=D345))>1,0,1)","v":1},"Contratos de prestación de servicios","Contratación directa",{"$f":"IF(ISBLANK(G345),1,IFERROR(VLOOKUP(G345,Tipo!$C$12:$C$27,1,FALSE),\"NO\"))","v":1},"Inversión",{"$f":"IF(ISBLANK(K345),1,IFERROR(VLOOKUP(K345,Eje_Pilar_Prop!C327:C428,1,FALSE),\"NO\"))","v":"NO"},"SECOP II",1,1]
[119,2020,"SECOP II","NA","Interventoría",null,null,"ADICION CIN-119-2019 REALIZAR LA INTERVENTORÍA TÉCNICA, ADMINISTRATIVA,FINANCIERA, AMBIENTAL, SOCIAL, SISO Y JURÍDICA AL CONTRATO QUE RESULTEDEL PROCESO LICITATORIO FDLS-LP-095-2019 (COP-094-2019), CUYO OBJETO ES:CONTRATAR LAS OBRAS PARA LA CONSERVACIÓN DE LA MALLA VIAL LOCAL DESUMAPAZ, POR EL SISTEMA DE PRECIOS UNITARIOS FIJOS, SIN FORMULA DEREAJUSTE Y A MONTO AGOTABLE","Inversión",null,18,{"$f":"IF(ISERROR(VLOOKUP(K346,Eje_Pilar_Prop!$C$2:$E$104,2,FALSE)),\" \",VLOOKUP(K346,Eje_Pilar_Prop!$C$2:$E$104,2,FALSE))","v":"Mejor movilidad para todos"},{"$f":"IF(ISERROR(VLOOKUP(K346,Eje_Pilar_Prop!$C$2:$E$104,3,FALSE)),\" \",VLOOKUP(K346,Eje_Pilar_Prop!$C$2:$E$104,3,FALSE))","v":"Pilar 2 Democracía Urbana"},1364,null,"CONSORCIO INTERVIAL SUMAPAZ",130977022,null,null,null,null,130977022,130977022,null,"2020-10-27",null,null,null,null,null,null,null,null,null,null,null,null,1,null,{"$f":"IF(SUMPRODUCT((A$14:A346=A346)*(B$14:B346=B346)*(D$14:D346=D346))>1,0,1)","v":1},"Interventoría",1,{"$f":"IF(ISBLANK(G346),1,IFERROR(VLOOKUP(G346,Tipo!$C$12:$C$27,1,FALSE),\"NO\"))","v":1},"Inversión",{"$f":"IF(ISBLANK(K346),1,IFERROR(VLOOKUP(K346,Eje_Pilar_Prop!C328:C429,1,FALSE),\"NO\"))","v":"NO"},"SECOP II",1,1]
[119,2020,"SECOP II","NA","Interventoría",null,null,"ADICION CIN-119-2019 REALIZAR LA INTERVENTORÍA TÉCNICA, ADMINISTRATIVA,FINANCIERA, AMBIENTAL, SOCIAL, SISO Y JURÍDICA AL CONTRATO QUE RESULTEDEL PROCESO LICITATORIO FDLS-LP-095-2019 (COP-094-2019), CUYO OBJETO ES:CONTRATAR LAS OBRAS PARA LA CONSERVACIÓN DE LA MALLA VIAL LOCAL DESUMAPAZ, POR EL SISTEMA DE PRECIOS UNITARIOS FIJOS, SIN FORMULA DEREAJUSTE Y A MONTO AGOTABLE","Inversión",null,18,{"$f":"IF(ISERROR(VLOOKUP(K347,Eje_Pilar_Prop!$C$2:$E$104,2,FALSE)),\" \",VLOOKUP(K347,Eje_Pilar_Prop!$C$2:$E$104,2,FALSE))","v":"Mejor movilidad para todos"},{"$f":"IF(ISERROR(VLOOKUP(K347,Eje_Pilar_Prop!$C$2:$E$104,3,FALSE)),\" \",VLOOKUP(K347,Eje_Pilar_Prop!$C$2:$E$104,3,FALSE))","v":"Pilar 2 Democracía Urbana"},1364,null,"CONSORCIO INTERVIAL SUMAPAZ",67005707,null,null,null,null,67005707,67005707,null,"2020-10-27",null,null,null,null,null,null,null,null,null,null,null,null,1,null,{"$f":"IF(SUMPRODUCT((A$14:A347=A347)*(B$14:B347=B347)*(D$14:D347=D347))>1,0,1)","v":0},"Interventoría",1,{"$f":"IF(ISBLANK(G347),1,IFERROR(VLOOKUP(G347,Tipo!$C$12:$C$27,1,FALSE),\"NO\"))","v":1},"Inversión",{"$f":"IF(ISBLANK(K347),1,IFERROR(VLOOKUP(K347,Eje_Pilar_Prop!C329:C430,1,FALSE),\"NO\"))","v":"NO"},"SECOP II",1,1]
[119,2020,"SECOP II","NA","Interventoría",null,null,"ADICION CIN-119-2019 REALIZAR LA INTERVENTORÍA TÉCNICA, ADMINISTRATIVA,FINANCIERA, AMBIENTAL, SOCIAL, SISO Y JURÍDICA AL CONTRATO QUE RESULTEDEL PROCESO LICITATORIO FDLS-LP-095-2019 (COP-094-2019), CUYO OBJETO ES:CONTRATAR LAS OBRAS PARA LA CONSERVACIÓN DE LA MALLA VIAL LOCAL DESUMAPAZ, POR EL SISTEMA DE PRECIOS UNITARIOS FIJOS, SIN FORMULA DEREAJUSTE Y A MONTO AGOTABLE","Inversión",null,18,{"$f":"IF(ISERROR(VLOOKUP(K348,Eje_Pilar_Prop!$C$2:$E$104,2,FALSE)),\" \",VLOOKUP(K348,Eje_Pilar_Prop!$C$2:$E$104,2,FALSE))","v":"Mejor movilidad para todos"},{"$f":"IF(ISERROR(VLOOKUP(K348,Eje_Pilar_Prop!$C$2:$E$104,3,FALSE)),\" \",VLOOKUP(K348,Eje_Pilar_Prop!$C$2:$E$104,3,FALSE))","v":"Pilar 2 Democracía Urbana"},1364,null,"CONSORCIO INTERVIAL SUMAPAZ",257442000,null,null,null,null,257442000,83606671,null,"2020-10-27",null,null,null,null,null,null,null,null,null,null,null,null,0.32475925062732575,null,{"$f":"IF(SUMPRODUCT((A$14:A348=A348)*(B$14:B348=B348)*(D$14:D348=D348))>1,0,1)","v":0},"Interventoría",1,{"$f":"IF(ISBLANK(G348),1,IFERROR(VLOOKUP(G348,Tipo!$C$12:$C$27,1,FALSE),\"NO\"))","v":1},"Inversión",{"$f":"IF(ISBLANK(K348),1,IFERROR(VLOOKUP(K348,Eje_Pilar_Prop!C330:C431,1,FALSE),\"NO\"))","v":"NO"},"SECOP II",{"$f":"IF(OR(YEAR(X348)=2020,ISBLANK(X348)),1,\"NO\")","v":1},1]
[119,2020,"SECOP II","NA","Interventoría",null,null,"ADICION CIN-119-2019 REALIZAR LA INTERVENTORÍA TÉCNICA, ADMINISTRATIVA,FINANCIERA, AMBIENTAL, SOCIAL, SISO Y JURÍDICA AL CONTRATO QUE RESULTEDEL PROCESO LICITATORIO FDLS-LP-095-2019 (COP-094-2019), CUYO OBJETO ES:CONTRATAR LAS OBRAS PARA LA CONSERVACIÓN DE LA MALLA VIAL LOCAL DESUMAPAZ, POR EL SISTEMA DE PRECIOS UNITARIOS FIJOS, SIN FORMULA DEREAJUSTE Y A MONTO AGOTABLE","Inversión",null,18,{"$f":"IF(ISERROR(VLOOKUP(K349,Eje_Pilar_Prop!$C$2:$E$104,2,FALSE)),\" \",VLOOKUP(K349,Eje_Pilar_Prop!$C$2:$E$104,2,FALSE))","v":"Mejor movilidad para todos"},{"$f":"IF(ISERROR(VLOOKUP(K349,Eje_Pilar_Prop!$C$2:$E$104,3,FALSE)),\" \",VLOOKUP(K349,Eje_Pilar_Prop!$C$2:$E$104,3,FALSE))","v":"Pilar 2 Democracía Urbana"},1364,null,"CONSORCIO INTERVIAL SUMAPAZ",15437000,null,null,null,null,15437000,0,null,"2020-10-27",null,null,null,null,null,null,null,null,null,null,null,null,0,null,{"$f":"IF(SUMPRODUCT((A$14:A349=A349)*(B$14:B349=B349)*(D$14:D349=D349))>1,0,1)","v":0},"Interventoría",1,{"$f":"IF(ISBLANK(G349),1,IFERROR(VLOOKUP(G349,Tipo!$C$12:$C$27,1,FALSE),\"NO\"))","v":1},"Inversión",{"$f":"IF(ISBLANK(K349),1,IFERROR(VLOOKUP(K349,Eje_Pilar_Prop!C331:C432,1,FALSE),\"NO\"))","v":"NO"},"SECOP II",1,1]
[165,2020,"SECOP II","NA","Contratos de prestación de servicios","Contratación directa",null,"PROCESO 51635 PRESTACIÓN DEL SERVICIO DE MANTENIMIENTO DE LA MAQUINARIAY VEHICULOS PESADOS DE PROPIEDAD, GUARDA Y/O TENENCIA DEL FONDO DEDESARROLLO LOCAL DE SUMAPAZ CON SUMINISTRO DE REPUESTOS, LLANTAS,INSUMOS","Inversión",null,18,{"$f":"IF(ISERROR(VLOOKUP(K350,Eje_Pilar_Prop!$C$2:$E$104,2,FALSE)),\" \",VLOOKUP(K350,Eje_Pilar_Prop!$C$2:$E$104,2,FALSE))","v":"Mejor movilidad para todos"},{"$f":"IF(ISERROR(VLOOKUP(K350,Eje_Pilar_Prop!$C$2:$E$104,3,FALSE)),\" \",VLOOKUP(K350,Eje_Pilar_Prop!$C$2:$E$104,3,FALSE))","v":"Pilar 2 Democracía Urbana"},1364,null,"HYUNDAUTOS SAS",290000000,null,null,null,null,290000000,0,null,"2020-11-17",null,null,null,null,null,null,null,null,null,null,null,null,{"$f":"IF(ISERROR(W350/V350),\"-\",(W350/V350))","v":0},null,{"$f":"IF(SUMPRODUCT((A$14:A350=A350)*(B$14:B350=B350)*(D$14:D350=D350))>1,0,1)","v":1},"Contratos de prestación de servicios","Contratación directa",{"$f":"IF(ISBLANK(G350),1,IFERROR(VLOOKUP(G350,Tipo!$C$12:$C$27,1,FALSE),\"NO\"))","v":1},"Inversión",{"$f":"IF(ISBLANK(K350),1,IFERROR(VLOOKUP(K350,Eje_Pilar_Prop!C332:C433,1,FALSE),\"NO\"))","v":"NO"},"SECOP II",1,1]
[167,2020,"SECOP II","NA","Interventoría","Concurso de méritos",null,"Adición y prorroga No 1 al contrato CIN-167-2019, cuyo objeto es: ¿Realizar la interventoría técnica, administrativa, financiera y ambiental al contrato derivado de la licitación pública N° fdls-lp-142-2019, que tendrá por objeto ¿prestación del servicio de mantenimiento de la maquinaria y vehículos pesados de propiedad, guarda y/o tenencia del fondo de desarrollo local de Sumapaz con suministro de repuestos, llantas, insumos, accesorios y mano de obra.¿","Inversión",null,18,{"$f":"IF(ISERROR(VLOOKUP(K351,Eje_Pilar_Prop!$C$2:$E$104,2,FALSE)),\" \",VLOOKUP(K351,Eje_Pilar_Prop!$C$2:$E$104,2,FALSE))","v":"Mejor movilidad para todos"},{"$f":"IF(ISERROR(VLOOKUP(K351,Eje_Pilar_Prop!$C$2:$E$104,3,FALSE)),\" \",VLOOKUP(K351,Eje_Pilar_Prop!$C$2:$E$104,3,FALSE))","v":"Pilar 2 Democracía Urbana"},1364,null,"JAVIER ENRIQUE BUITRAGO GOMEZ",10921000,null,null,null,null,{"$f":"+Q351+S351+U351","v":10921000},0,null,"2020-07-07",null,null,null,null,null,null,null,null,null,null,null,null,0,null,{"$f":"IF(SUMPRODUCT((A$14:A351=A351)*(B$14:B351=B351)*(D$14:D351=D351))>1,0,1)","v":1},"Interventoría","Concurso de méritos",{"$f":"IF(ISBLANK(G351),1,IFERROR(VLOOKUP(G351,Tipo!$C$12:$C$27,1,FALSE),\"NO\"))","v":1},"Inversión",{"$f":"IF(ISBLANK(K351),1,IFERROR(VLOOKUP(K351,Eje_Pilar_Prop!C333:C434,1,FALSE),\"NO\"))","v":"NO"},"SECOP II",1,1]
[167,2020,"SECOP II","NA","Contratos de prestación de servicios","Contratación directa",null,"Adición y prorroga No 2 al contrato CIN-167-2019, cuyo objeto es: ¿Realizar la interventoría técnica, administrativa, financiera y ambiental al contrato derivado de la licitación pública N° fdls-lp-142-2019, que tendrá por objeto ¿prestación del servicio de mantenimiento de la maquinaria y vehículos pesados de propiedad, guarda y/o tenencia del fondo de desarrollo local de Sumapaz con suministro de repuestos, llantas, insumos, accesorios y mano de obra.¿","Inversión",null,18,{"$f":"IF(ISERROR(VLOOKUP(K352,Eje_Pilar_Prop!$C$2:$E$104,2,FALSE)),\" \",VLOOKUP(K352,Eje_Pilar_Prop!$C$2:$E$104,2,FALSE))","v":"Mejor movilidad para todos"},{"$f":"IF(ISERROR(VLOOKUP(K352,Eje_Pilar_Prop!$C$2:$E$104,3,FALSE)),\" \",VLOOKUP(K352,Eje_Pilar_Prop!$C$2:$E$104,3,FALSE))","v":"Pilar 2 Democracía Urbana"},1364,null,"JAVIER ENRIQUE BUITRAGO GOMEZ",9282850,null,null,null,null,9282850,0,null,"2020-08-24",null,null,null,null,null,null,null,null,null,null,null,null,0,null,{"$f":"IF(SUMPRODUCT((A$14:A352=A352)*(B$14:B352=B352)*(D$14:D352=D352))>1,0,1)","v":0},"Contratos de prestación de servicios","Contratación directa",{"$f":"IF(ISBLANK(G352),1,IFERROR(VLOOKUP(G352,Tipo!$C$12:$C$27,1,FALSE),\"NO\"))","v":1},"Inversión",{"$f":"IF(ISBLANK(K352),1,IFERROR(VLOOKUP(K352,Eje_Pilar_Prop!C334:C435,1,FALSE),\"NO\"))","v":"NO"},"SECOP II",1,1]
[167,2020,"SECOP II","NA","Interventoría","Concurso de méritos",null,"PROCESO 51634 ADICIÓN Y PRORROGA # 3 al CTO QUE TIENE COMO OBJETOREALIZAR LA INTERVENTORÍA TÉCNICA, ADMINISTRATIVA, FINANCIERA YAMBIENTAL AL CONTRATO DERIVADO DE LA LICITACIÓN PÚBLICA N°FDLSLP-142-2019, QUE TENDRÁ POR OBJETO ¿PRESTACIÓN DEL SERVICIO DEMANTENIMIENTO DE LA MAQUINARIA Y VEHÍCULOS PESADOS DE PROPIEDAD, GUARDAY/O TENENCIA DEL FONDO DE DESARROLLO LOCAL DE SUMAPAZ CON SUMINISTRO DEREPUESTOS, LLANTAS, INSUMOS, ACCESORIOS Y MANO DE OBRA","Inversión",null,18,{"$f":"IF(ISERROR(VLOOKUP(K353,Eje_Pilar_Prop!$C$2:$E$104,2,FALSE)),\" \",VLOOKUP(K353,Eje_Pilar_Prop!$C$2:$E$104,2,FALSE))","v":"Mejor movilidad para todos"},{"$f":"IF(ISERROR(VLOOKUP(K353,Eje_Pilar_Prop!$C$2:$E$104,3,FALSE)),\" \",VLOOKUP(K353,Eje_Pilar_Prop!$C$2:$E$104,3,FALSE))","v":"Pilar 2 Democracía Urbana"},1364,null,"JAVIER ENRIQUE BUITRAGO GOMEZ",18019650,null,null,null,null,18019650,0,null,"2020-11-07",null,null,null,null,null,null,null,null,null,null,null,null,0,null,{"$f":"IF(SUMPRODUCT((A$14:A353=A353)*(B$14:B353=B353)*(D$14:D353=D353))>1,0,1)","v":0},"Interventoría","Concurso de méritos",{"$f":"IF(ISBLANK(G353),1,IFERROR(VLOOKUP(G353,Tipo!$C$12:$C$27,1,FALSE),\"NO\"))","v":1},"Inversión",{"$f":"IF(ISBLANK(K353),1,IFERROR(VLOOKUP(K353,Eje_Pilar_Prop!C335:C436,1,FALSE),\"NO\"))","v":"NO"},"SECOP II",1,1]
[171,2020,"SECOP II","NA","Obra pública",null,null,"Adición y prorroga al contrato COP-171-2019, cuyo objeto es: Realizar por el sistema de precios fijos sin formula de reajuste el mantenimiento de parques y/o escenarios deportivos de la localidad de Sumapaz, de conformidad con los estudios previos, anexo técnico y demás documentos precontractuales","Inversión",null,17,{"$f":"IF(ISERROR(VLOOKUP(K354,Eje_Pilar_Prop!$C$2:$E$104,2,FALSE)),\" \",VLOOKUP(K354,Eje_Pilar_Prop!$C$2:$E$104,2,FALSE))","v":"Espacio público, derecho de todos"},{"$f":"IF(ISERROR(VLOOKUP(K354,Eje_Pilar_Prop!$C$2:$E$104,3,FALSE)),\" \",VLOOKUP(K354,Eje_Pilar_Prop!$C$2:$E$104,3,FALSE))","v":"Pilar 2 Democracía Urbana"},1358,null,"CONSORCIO PARQUES SUMAPAZ 2019",94000000,null,null,null,null,94000000,84600000,null,"2020-08-24",null,null,null,null,null,null,null,null,null,null,null,null,0.9,null,{"$f":"IF(SUMPRODUCT((A$14:A354=A354)*(B$14:B354=B354)*(D$14:D354=D354))>1,0,1)","v":1},"Obra pública",1,{"$f":"IF(ISBLANK(G354),1,IFERROR(VLOOKUP(G354,Tipo!$C$12:$C$27,1,FALSE),\"NO\"))","v":1},"Inversión",{"$f":"IF(ISBLANK(K354),1,IFERROR(VLOOKUP(K354,Eje_Pilar_Prop!C336:C437,1,FALSE),\"NO\"))","v":"NO"},"SECOP II",1,1]
[175,2020,"SECOP II","NA","Contratos interadministrativos","Contratación directa",null,"PROCESO 52503 DESARROLLAR UN PROCESO DE INTERVENCIÓN QUE GARANTICE ELDERECHO A LAS COMUNICACIONES, MEDIANTE LA OPERACIÓN, ADMINISTRACIÓN YMANTENIMIENTO DE LOS PORTALES INTERACTIVOS Y LAS LÍNEAS TELEFÓNICASINSTALADAS EN LA LOCALIDAD DE SUMAPAZ","Inversión",null,17,{"$f":"IF(ISERROR(VLOOKUP(K355,Eje_Pilar_Prop!$C$2:$E$104,2,FALSE)),\" \",VLOOKUP(K355,Eje_Pilar_Prop!$C$2:$E$104,2,FALSE))","v":"Espacio público, derecho de todos"},{"$f":"IF(ISERROR(VLOOKUP(K355,Eje_Pilar_Prop!$C$2:$E$104,3,FALSE)),\" \",VLOOKUP(K355,Eje_Pilar_Prop!$C$2:$E$104,3,FALSE))","v":"Pilar 2 Democracía Urbana"},1368,null,"EMPRESA DE TELECOMUNICACIONES DE BOGOTÁ S.A. E.S.P. - ETB S.A. ESP",414663806,null,null,null,null,414663806,0,null,"2020-12-10",null,null,null,null,null,null,null,null,null,null,null,null,0,null,{"$f":"IF(SUMPRODUCT((A$14:A355=A355)*(B$14:B355=B355)*(D$14:D355=D355))>1,0,1)","v":1},"Contratos interadministrativos","Contratación directa",{"$f":"IF(ISBLANK(G355),1,IFERROR(VLOOKUP(G355,Tipo!$C$12:$C$27,1,FALSE),\"NO\"))","v":1},"Inversión",{"$f":"IF(ISBLANK(K355),1,IFERROR(VLOOKUP(K355,Eje_Pilar_Prop!C337:C438,1,FALSE),\"NO\"))","v":"NO"},"SECOP II",1,1]
[176,2020,"SECOP II","NA","Contratos de prestación de servicios","Contratación directa",null,"Adicion y prorroga N° 2 al contrato 176 de 2018 cuyo obejeto es \" PRESTAR LOS SERVICIOS DE MONITOREO VEHICULAR INTEGRAL POR GPS PARA LOS VEHICULOS DE PROPIEDAD O TENENCIA DEL FONDO DE DESARROLLO LOCAL DE SUMAPAZ","Inversión",null,45,{"$f":"IF(ISERROR(VLOOKUP(K356,Eje_Pilar_Prop!$C$2:$E$104,2,FALSE)),\" \",VLOOKUP(K356,Eje_Pilar_Prop!$C$2:$E$104,2,FALSE))","v":"Gobernanza e influencia local, regional e internacional"},{"$f":"IF(ISERROR(VLOOKUP(K356,Eje_Pilar_Prop!$C$2:$E$104,3,FALSE)),\" \",VLOOKUP(K356,Eje_Pilar_Prop!$C$2:$E$104,3,FALSE))","v":"Eje Transversal 4 Gobierno Legitimo, Fortalecimiento Local y Eficiencia"},1375,null,"DAR SOLUCIONES SAS",1994215,null,null,null,null,1994215,1994215,null,"2020-02-25",null,null,null,null,null,null,null,null,null,null,null,null,1,null,{"$f":"IF(SUMPRODUCT((A$14:A356=A356)*(B$14:B356=B356)*(D$14:D356=D356))>1,0,1)","v":1},"Contratos de prestación de servicios","Contratación directa",{"$f":"IF(ISBLANK(G356),1,IFERROR(VLOOKUP(G356,Tipo!$C$12:$C$27,1,FALSE),\"NO\"))","v":1},"Inversión",{"$f":"IF(ISBLANK(K356),1,IFERROR(VLOOKUP(K356,Eje_Pilar_Prop!C338:C439,1,FALSE),\"NO\"))","v":"NO"},"SECOP II",1,1]
[176,2020,"SECOP II","NA","Contratos de prestación de servicios","Contratación directa",null,"Adición y prorroga No 3 al contrato CPS-176-2018, cuyo objeto es: ¿PRESTAR LOS SERVICIOS DE MONITOREO VEHICULAR INTEGRAL POR GPS PARA LOS VEHÍCULOS DE PROPIEDAD O TENENCIA DEL FONDO DE DESARROLLO LOCAL DE SUMAPAZ¿","Inversión",null,45,{"$f":"IF(ISERROR(VLOOKUP(K357,Eje_Pilar_Prop!$C$2:$E$104,2,FALSE)),\" \",VLOOKUP(K357,Eje_Pilar_Prop!$C$2:$E$104,2,FALSE))","v":"Gobernanza e influencia local, regional e internacional"},{"$f":"IF(ISERROR(VLOOKUP(K357,Eje_Pilar_Prop!$C$2:$E$104,3,FALSE)),\" \",VLOOKUP(K357,Eje_Pilar_Prop!$C$2:$E$104,3,FALSE))","v":"Eje Transversal 4 Gobierno Legitimo, Fortalecimiento Local y Eficiencia"},1375,null,"DAR SOLUCIONES SAS",3598289,null,null,null,null,3598289,2698592,null,"2020-04-30",null,null,null,null,null,null,null,null,null,null,null,null,0.74996533074469562,null,{"$f":"IF(SUMPRODUCT((A$14:A357=A357)*(B$14:B357=B357)*(D$14:D357=D357))>1,0,1)","v":0},"Contratos de prestación de servicios","Contratación directa",{"$f":"IF(ISBLANK(G357),1,IFERROR(VLOOKUP(G357,Tipo!$C$12:$C$27,1,FALSE),\"NO\"))","v":1},"Inversión",{"$f":"IF(ISBLANK(K357),1,IFERROR(VLOOKUP(K357,Eje_Pilar_Prop!C339:C440,1,FALSE),\"NO\"))","v":"NO"},"SECOP II",1,1]
[null,2020,null,null,"Otros gastos",null,null,"Pago de ediles de la localidad de sumapaz del mes de Diciembre de 2019","Funcionamiento",null,null,{"$f":"IF(ISERROR(VLOOKUP(K358,Eje_Pilar_Prop!$C$2:$E$104,2,FALSE)),\" \",VLOOKUP(K358,Eje_Pilar_Prop!$C$2:$E$104,2,FALSE))","v":" "},{"$f":"IF(ISERROR(VLOOKUP(K358,Eje_Pilar_Prop!$C$2:$E$104,3,FALSE)),\" \",VLOOKUP(K358,Eje_Pilar_Prop!$C$2:$E$104,3,FALSE))","v":" "},null,null,"RAFAEL REINALDO ROMERO ROMERO",7118978,null,null,null,null,7118978,6763031,null,"2020-01-24",null,null,null,null,null,null,null,null,null,null,null,null,0.95000026689224215,null,{"$f":"IF(SUMPRODUCT((A$14:A358=A358)*(B$14:B358=B358)*(D$14:D358=D358))>1,0,1)","v":1},"Otros gastos",1,{"$f":"IF(ISBLANK(G358),1,IFERROR(VLOOKUP(G358,Tipo!$C$12:$C$27,1,FALSE),\"NO\"))","v":1},"Funcionamiento",{"$f":"IF(ISBLANK(K358),1,IFERROR(VLOOKUP(K358,Eje_Pilar_Prop!C340:C441,1,FALSE),\"NO\"))","v":1},1,1,1]
[null,2020,null,null,"Otros gastos",null,null,"Pago de ediles de la localidad de sumapaz del mes de Diciembre de 2019","Funcionamiento",null,null,{"$f":"IF(ISERROR(VLOOKUP(K359,Eje_Pilar_Prop!$C$2:$E$104,2,FALSE)),\" \",VLOOKUP(K359,Eje_Pilar_Prop!$C$2:$E$104,2,FALSE))","v":" "},{"$f":"IF(ISERROR(VLOOKUP(K359,Eje_Pilar_Prop!$C$2:$E$104,3,FALSE)),\" \",VLOOKUP(K359,Eje_Pilar_Prop!$C$2:$E$104,3,FALSE))","v":" "},null,null,"GISELA CONSTANZA TORRES TORRES",7118978,null,null,null,null,7118978,6407082,null,"2020-01-24",null,null,null,null,null,null,null,null,null,null,null,null,0.90000025284528196,null,{"$f":"IF(SUMPRODUCT((A$14:A359=A359)*(B$14:B359=B359)*(D$14:D359=D359))>1,0,1)","v":0},"Otros gastos",1,{"$f":"IF(ISBLANK(G359),1,IFERROR(VLOOKUP(G359,Tipo!$C$12:$C$27,1,FALSE),\"NO\"))","v":1},"Funcionamiento",{"$f":"IF(ISBLANK(K359),1,IFERROR(VLOOKUP(K359,Eje_Pilar_Prop!C341:C442,1,FALSE),\"NO\"))","v":1},1,1,1]
[null,2020,null,null,"Otros gastos",null,null,"Pago de ediles de la localidad de sumapaz del mes de Diciembre de 2019","Funcionamiento",null,null,{"$f":"IF(ISERROR(VLOOKUP(K360,Eje_Pilar_Prop!$C$2:$E$104,2,FALSE)),\" \",VLOOKUP(K360,Eje_Pilar_Prop!$C$2:$E$104,2,FALSE))","v":" "},{"$f":"IF(ISERROR(VLOOKUP(K360,Eje_Pilar_Prop!$C$2:$E$104,3,FALSE)),\" \",VLOOKUP(K360,Eje_Pilar_Prop!$C$2:$E$104,3,FALSE))","v":" "},null,null,"YENY LISED PULIDO HERRERA",7118978,null,null,null,null,7118978,6407082,null,"2020-01-24",null,null,null,null,null,null,null,null,null,null,null,null,0.90000025284528196,null,{"$f":"IF(SUMPRODUCT((A$14:A360=A360)*(B$14:B360=B360)*(D$14:D360=D360))>1,0,1)","v":0},"Otros gastos",1,{"$f":"IF(ISBLANK(G360),1,IFERROR(VLOOKUP(G360,Tipo!$C$12:$C$27,1,FALSE),\"NO\"))","v":1},"Funcionamiento",{"$f":"IF(ISBLANK(K360),1,IFERROR(VLOOKUP(K360,Eje_Pilar_Prop!C342:C443,1,FALSE),\"NO\"))","v":1},1,1,1]
[null,2020,null,null,"Otros gastos",null,null,"Pago de ediles de la localidad de sumapaz del mes de Diciembre de 2019","Funcionamiento",null,null,{"$f":"IF(ISERROR(VLOOKUP(K361,Eje_Pilar_Prop!$C$2:$E$104,2,FALSE)),\" \",VLOOKUP(K361,Eje_Pilar_Prop!$C$2:$E$104,2,FALSE))","v":" "},{"$f":"IF(ISERROR(VLOOKUP(K361,Eje_Pilar_Prop!$C$2:$E$104,3,FALSE)),\" \",VLOOKUP(K361,Eje_Pilar_Prop!$C$2:$E$104,3,FALSE))","v":" "},null,null,"MANUEL EMILIO RICO CHAVES",7118978,null,null,null,null,7118978,6763031,null,"2020-01-24",null,null,null,null,null,null,null,null,null,null,null,null,0.95000026689224215,null,{"$f":"IF(SUMPRODUCT((A$14:A361=A361)*(B$14:B361=B361)*(D$14:D361=D361))>1,0,1)","v":0},"Otros gastos",1,{"$f":"IF(ISBLANK(G361),1,IFERROR(VLOOKUP(G361,Tipo!$C$12:$C$27,1,FALSE),\"NO\"))","v":1},"Funcionamiento",{"$f":"IF(ISBLANK(K361),1,IFERROR(VLOOKUP(K361,Eje_Pilar_Prop!C343:C444,1,FALSE),\"NO\"))","v":1},1,1,1]
[null,2020,null,null,"Otros gastos",null,null,"Pago de ediles de la localidad de sumapaz del mes de Diciembre de 2019","Funcionamiento",null,null,{"$f":"IF(ISERROR(VLOOKUP(K362,Eje_Pilar_Prop!$C$2:$E$104,2,FALSE)),\" \",VLOOKUP(K362,Eje_Pilar_Prop!$C$2:$E$104,2,FALSE))","v":" "},{"$f":"IF(ISERROR(VLOOKUP(K362,Eje_Pilar_Prop!$C$2:$E$104,3,FALSE)),\" \",VLOOKUP(K362,Eje_Pilar_Prop!$C$2:$E$104,3,FALSE))","v":" "},null,null,"MOISES  DELGADO",7118978,null,null,null,null,7118978,6763031,null,"2020-01-24",null,null,null,null,null,null,null,null,null,null,null,null,0.95000026689224215,null,{"$f":"IF(SUMPRODUCT((A$14:A362=A362)*(B$14:B362=B362)*(D$14:D362=D362))>1,0,1)","v":0},"Otros gastos",1,{"$f":"IF(ISBLANK(G362),1,IFERROR(VLOOKUP(G362,Tipo!$C$12:$C$27,1,FALSE),\"NO\"))","v":1},"Funcionamiento",{"$f":"IF(ISBLANK(K362),1,IFERROR(VLOOKUP(K362,Eje_Pilar_Prop!C344:C445,1,FALSE),\"NO\"))","v":1},1,1,1]
[null,2020,null,null,"Otros gastos",null,null,"Pago de ediles de la localidad de sumapaz del mes de Diciembre de 2019","Funcionamiento",null,null,{"$f":"IF(ISERROR(VLOOKUP(K363,Eje_Pilar_Prop!$C$2:$E$104,2,FALSE)),\" \",VLOOKUP(K363,Eje_Pilar_Prop!$C$2:$E$104,2,FALSE))","v":" "},{"$f":"IF(ISERROR(VLOOKUP(K363,Eje_Pilar_Prop!$C$2:$E$104,3,FALSE)),\" \",VLOOKUP(K363,Eje_Pilar_Prop!$C$2:$E$104,3,FALSE))","v":" "},null,null,"GERMAN  MORALES REY",7118978,null,null,null,null,7118978,6763031,null,"2020-01-24",null,null,null,null,null,null,null,null,null,null,null,null,0.95000026689224215,null,{"$f":"IF(SUMPRODUCT((A$14:A363=A363)*(B$14:B363=B363)*(D$14:D363=D363))>1,0,1)","v":0},"Otros gastos",1,{"$f":"IF(ISBLANK(G363),1,IFERROR(VLOOKUP(G363,Tipo!$C$12:$C$27,1,FALSE),\"NO\"))","v":1},"Funcionamiento",{"$f":"IF(ISBLANK(K363),1,IFERROR(VLOOKUP(K363,Eje_Pilar_Prop!C345:C446,1,FALSE),\"NO\"))","v":1},1,1,1]
[null,2020,null,null,"Otros gastos",null,null,"Pago de ediles de la localidad de sumapaz del mes de Diciembre de 2019","Funcionamiento",null,null,{"$f":"IF(ISERROR(VLOOKUP(K364,Eje_Pilar_Prop!$C$2:$E$104,2,FALSE)),\" \",VLOOKUP(K364,Eje_Pilar_Prop!$C$2:$E$104,2,FALSE))","v":" "},{"$f":"IF(ISERROR(VLOOKUP(K364,Eje_Pilar_Prop!$C$2:$E$104,3,FALSE)),\" \",VLOOKUP(K364,Eje_Pilar_Prop!$C$2:$E$104,3,FALSE))","v":" "},null,null,"MARIA LIBIA VILLALBA RAMIREZ",7118978,null,null,null,null,7118978,6763031,null,"2020-01-24",null,null,null,null,null,null,null,null,null,null,null,null,0.95000026689224215,null,{"$f":"IF(SUMPRODUCT((A$14:A364=A364)*(B$14:B364=B364)*(D$14:D364=D364))>1,0,1)","v":0},"Otros gastos",1,{"$f":"IF(ISBLANK(G364),1,IFERROR(VLOOKUP(G364,Tipo!$C$12:$C$27,1,FALSE),\"NO\"))","v":1},"Funcionamiento",{"$f":"IF(ISBLANK(K364),1,IFERROR(VLOOKUP(K364,Eje_Pilar_Prop!C346:C447,1,FALSE),\"NO\"))","v":1},1,1,1]
[null,2020,null,null,"Otros gastos",null,null,"PAGO DE EDILES POR LA VIGENCIA 2020","Funcionamiento",null,null,{"$f":"IF(ISERROR(VLOOKUP(K365,Eje_Pilar_Prop!$C$2:$E$104,2,FALSE)),\" \",VLOOKUP(K365,Eje_Pilar_Prop!$C$2:$E$104,2,FALSE))","v":" "},{"$f":"IF(ISERROR(VLOOKUP(K365,Eje_Pilar_Prop!$C$2:$E$104,3,FALSE)),\" \",VLOOKUP(K365,Eje_Pilar_Prop!$C$2:$E$104,3,FALSE))","v":" "},null,null,"FILIBERTO  BAQUERO LOPEZ",82580000,null,null,null,null,82580000,59931813,null,"2020-02-05",null,null,null,null,null,null,null,null,null,null,null,null,0.7257424679099056,null,{"$f":"IF(SUMPRODUCT((A$14:A365=A365)*(B$14:B365=B365)*(D$14:D365=D365))>1,0,1)","v":0},"Otros gastos",1,{"$f":"IF(ISBLANK(G365),1,IFERROR(VLOOKUP(G365,Tipo!$C$12:$C$27,1,FALSE),\"NO\"))","v":1},"Funcionamiento",{"$f":"IF(ISBLANK(K365),1,IFERROR(VLOOKUP(K365,Eje_Pilar_Prop!C347:C448,1,FALSE),\"NO\"))","v":1},1,1,1]
[null,2020,null,null,"Otros gastos",null,null,"PAGO DE EDILES POR LA VIGENCIA 2020","Funcionamiento",null,null,{"$f":"IF(ISERROR(VLOOKUP(K366,Eje_Pilar_Prop!$C$2:$E$104,2,FALSE)),\" \",VLOOKUP(K366,Eje_Pilar_Prop!$C$2:$E$104,2,FALSE))","v":" "},{"$f":"IF(ISERROR(VLOOKUP(K366,Eje_Pilar_Prop!$C$2:$E$104,3,FALSE)),\" \",VLOOKUP(K366,Eje_Pilar_Prop!$C$2:$E$104,3,FALSE))","v":" "},null,null,"MOISES  DELGADO",82580000,null,null,null,null,82580000,59931813,null,"2020-02-05",null,null,null,null,null,null,null,null,null,null,null,null,0.7257424679099056,null,{"$f":"IF(SUMPRODUCT((A$14:A366=A366)*(B$14:B366=B366)*(D$14:D366=D366))>1,0,1)","v":0},"Otros gastos",1,{"$f":"IF(ISBLANK(G366),1,IFERROR(VLOOKUP(G366,Tipo!$C$12:$C$27,1,FALSE),\"NO\"))","v":1},"Funcionamiento",{"$f":"IF(ISBLANK(K366),1,IFERROR(VLOOKUP(K366,Eje_Pilar_Prop!C348:C449,1,FALSE),\"NO\"))","v":1},1,1,1]
[null,2020,null,null,"Otros gastos",null,null,"PAGO DE EDILES POR LA VIGENCIA 2020","Funcionamiento",null,null,{"$f":"IF(ISERROR(VLOOKUP(K367,Eje_Pilar_Prop!$C$2:$E$104,2,FALSE)),\" \",VLOOKUP(K367,Eje_Pilar_Prop!$C$2:$E$104,2,FALSE))","v":" "},{"$f":"IF(ISERROR(VLOOKUP(K367,Eje_Pilar_Prop!$C$2:$E$104,3,FALSE)),\" \",VLOOKUP(K367,Eje_Pilar_Prop!$C$2:$E$104,3,FALSE))","v":" "},null,null,"DUBER ESNEYDER DIMATE MORA",82580000,null,null,null,null,82580000,59931813,null,"2020-02-05",null,null,null,null,null,null,null,null,null,null,null,null,0.7257424679099056,null,{"$f":"IF(SUMPRODUCT((A$14:A367=A367)*(B$14:B367=B367)*(D$14:D367=D367))>1,0,1)","v":0},"Otros gastos",1,{"$f":"IF(ISBLANK(G367),1,IFERROR(VLOOKUP(G367,Tipo!$C$12:$C$27,1,FALSE),\"NO\"))","v":1},"Funcionamiento",{"$f":"IF(ISBLANK(K367),1,IFERROR(VLOOKUP(K367,Eje_Pilar_Prop!C349:C450,1,FALSE),\"NO\"))","v":1},1,1,1]
[null,2020,null,null,"Otros gastos",null,null,"PAGO DE EDILES POR LA VIGENCIA 2020","Funcionamiento",null,null,{"$f":"IF(ISERROR(VLOOKUP(K368,Eje_Pilar_Prop!$C$2:$E$104,2,FALSE)),\" \",VLOOKUP(K368,Eje_Pilar_Prop!$C$2:$E$104,2,FALSE))","v":" "},{"$f":"IF(ISERROR(VLOOKUP(K368,Eje_Pilar_Prop!$C$2:$E$104,3,FALSE)),\" \",VLOOKUP(K368,Eje_Pilar_Prop!$C$2:$E$104,3,FALSE))","v":" "},null,null,"YENY LISED PULIDO HERRERA",82580000,null,null,null,null,82580000,59557640,null,"2020-02-05",null,null,null,null,null,null,null,null,null,null,null,null,0.72121143133930732,null,{"$f":"IF(SUMPRODUCT((A$14:A368=A368)*(B$14:B368=B368)*(D$14:D368=D368))>1,0,1)","v":0},"Otros gastos",1,{"$f":"IF(ISBLANK(G368),1,IFERROR(VLOOKUP(G368,Tipo!$C$12:$C$27,1,FALSE),\"NO\"))","v":1},"Funcionamiento",{"$f":"IF(ISBLANK(K368),1,IFERROR(VLOOKUP(K368,Eje_Pilar_Prop!C350:C451,1,FALSE),\"NO\"))","v":1},1,1,1]
[null,2020,null,null,"Otros gastos",null,null,"PAGO DE EDILES POR LA VIGENCIA 2020","Funcionamiento",null,null,{"$f":"IF(ISERROR(VLOOKUP(K369,Eje_Pilar_Prop!$C$2:$E$104,2,FALSE)),\" \",VLOOKUP(K369,Eje_Pilar_Prop!$C$2:$E$104,2,FALSE))","v":" "},{"$f":"IF(ISERROR(VLOOKUP(K369,Eje_Pilar_Prop!$C$2:$E$104,3,FALSE)),\" \",VLOOKUP(K369,Eje_Pilar_Prop!$C$2:$E$104,3,FALSE))","v":" "},null,null,"RICHARD GUSTAVO VILLALBA BAQUERO",82580000,null,null,null,null,82580000,59931813,null,"2020-02-05",null,null,null,null,null,null,null,null,null,null,null,null,0.7257424679099056,null,{"$f":"IF(SUMPRODUCT((A$14:A369=A369)*(B$14:B369=B369)*(D$14:D369=D369))>1,0,1)","v":0},"Otros gastos",1,{"$f":"IF(ISBLANK(G369),1,IFERROR(VLOOKUP(G369,Tipo!$C$12:$C$27,1,FALSE),\"NO\"))","v":1},"Funcionamiento",{"$f":"IF(ISBLANK(K369),1,IFERROR(VLOOKUP(K369,Eje_Pilar_Prop!C351:C452,1,FALSE),\"NO\"))","v":1},1,1,1]
[null,2020,null,null,"Otros gastos",null,null,"PAGO DE EDILES POR LA VIGENCIA 2020","Funcionamiento",null,null,{"$f":"IF(ISERROR(VLOOKUP(K370,Eje_Pilar_Prop!$C$2:$E$104,2,FALSE)),\" \",VLOOKUP(K370,Eje_Pilar_Prop!$C$2:$E$104,2,FALSE))","v":" "},{"$f":"IF(ISERROR(VLOOKUP(K370,Eje_Pilar_Prop!$C$2:$E$104,3,FALSE)),\" \",VLOOKUP(K370,Eje_Pilar_Prop!$C$2:$E$104,3,FALSE))","v":" "},null,null,"NATALIA ANDREA ROMERO RUBIANO",82580000,null,null,null,null,82580000,59931813,null,"2020-02-05",null,null,null,null,null,null,null,null,null,null,null,null,0.7257424679099056,null,{"$f":"IF(SUMPRODUCT((A$14:A370=A370)*(B$14:B370=B370)*(D$14:D370=D370))>1,0,1)","v":0},"Otros gastos",1,{"$f":"IF(ISBLANK(G370),1,IFERROR(VLOOKUP(G370,Tipo!$C$12:$C$27,1,FALSE),\"NO\"))","v":1},"Funcionamiento",{"$f":"IF(ISBLANK(K370),1,IFERROR(VLOOKUP(K370,Eje_Pilar_Prop!C352:C453,1,FALSE),\"NO\"))","v":1},1,1,1]
[null,2020,null,null,"Otros gastos",null,null,"PAGO DE EDILES POR LA VIGENCIA 2020","Funcionamiento",null,null,{"$f":"IF(ISERROR(VLOOKUP(K371,Eje_Pilar_Prop!$C$2:$E$104,2,FALSE)),\" \",VLOOKUP(K371,Eje_Pilar_Prop!$C$2:$E$104,2,FALSE))","v":" "},{"$f":"IF(ISERROR(VLOOKUP(K371,Eje_Pilar_Prop!$C$2:$E$104,3,FALSE)),\" \",VLOOKUP(K371,Eje_Pilar_Prop!$C$2:$E$104,3,FALSE))","v":" "},null,null,"JOSE SARNEY PARRA ADAMES",82580000,null,null,null,null,82580000,59931813,null,"2020-02-05",null,null,null,null,null,null,null,null,null,null,null,null,0.7257424679099056,null,{"$f":"IF(SUMPRODUCT((A$14:A371=A371)*(B$14:B371=B371)*(D$14:D371=D371))>1,0,1)","v":0},"Otros gastos",1,{"$f":"IF(ISBLANK(G371),1,IFERROR(VLOOKUP(G371,Tipo!$C$12:$C$27,1,FALSE),\"NO\"))","v":1},"Funcionamiento",{"$f":"IF(ISBLANK(K371),1,IFERROR(VLOOKUP(K371,Eje_Pilar_Prop!C353:C454,1,FALSE),\"NO\"))","v":1},1,1,1]
[null,null,null,null,null,null,null,null,null,null,null,{"$f":"IF(ISERROR(VLOOKUP(K372,Eje_Pilar_Prop!$C$2:$E$104,2,FALSE)),\" \",VLOOKUP(K372,Eje_Pilar_Prop!$C$2:$E$104,2,FALSE))","v":" "},{"$f":"IF(ISERROR(VLOOKUP(K372,Eje_Pilar_Prop!$C$2:$E$104,3,FALSE)),\" \",VLOOKUP(K372,Eje_Pilar_Prop!$C$2:$E$104,3,FALSE))","v":" "},null,null,null,null,null,null,null,null,0,null,null,null,null,null,null,null,null,null,null,null,null,null,null,null,"-",null,{"$f":"IF(SUMPRODUCT((A$14:A372=A372)*(B$14:B372=B372)*(D$14:D372=D372))>1,0,1)","v":1},1,1,{"$f":"IF(ISBLANK(G372),1,IFERROR(VLOOKUP(G372,Tipo!$C$12:$C$27,1,FALSE),\"NO\"))","v":1},1,{"$f":"IF(ISBLANK(K372),1,IFERROR(VLOOKUP(K372,Eje_Pilar_Prop!C354:C455,1,FALSE),\"NO\"))","v":1},1,1,1]
[null,null,null,null,null,null,null,null,null,null,null,{"$f":"IF(ISERROR(VLOOKUP(K373,Eje_Pilar_Prop!$C$2:$E$104,2,FALSE)),\" \",VLOOKUP(K373,Eje_Pilar_Prop!$C$2:$E$104,2,FALSE))","v":" "},{"$f":"IF(ISERROR(VLOOKUP(K373,Eje_Pilar_Prop!$C$2:$E$104,3,FALSE)),\" \",VLOOKUP(K373,Eje_Pilar_Prop!$C$2:$E$104,3,FALSE))","v":" "},null,null,null,null,null,null,null,null,0,null,null,null,null,null,null,null,null,null,null,null,null,null,null,null,"-",null,{"$f":"IF(SUMPRODUCT((A$14:A373=A373)*(B$14:B373=B373)*(D$14:D373=D373))>1,0,1)","v":0},1,1,{"$f":"IF(ISBLANK(G373),1,IFERROR(VLOOKUP(G373,Tipo!$C$12:$C$27,1,FALSE),\"NO\"))","v":1},1,{"$f":"IF(ISBLANK(K373),1,IFERROR(VLOOKUP(K373,Eje_Pilar_Prop!C355:C456,1,FALSE),\"NO\"))","v":1},1,1,1]
[null,null,null,null,null,null,null,null,null,null,null,{"$f":"IF(ISERROR(VLOOKUP(K374,Eje_Pilar_Prop!$C$2:$E$104,2,FALSE)),\" \",VLOOKUP(K374,Eje_Pilar_Prop!$C$2:$E$104,2,FALSE))","v":" "},{"$f":"IF(ISERROR(VLOOKUP(K374,Eje_Pilar_Prop!$C$2:$E$104,3,FALSE)),\" \",VLOOKUP(K374,Eje_Pilar_Prop!$C$2:$E$104,3,FALSE))","v":" "},null,null,null,null,null,null,null,null,0,null,null,null,null,null,null,null,null,null,null,null,null,null,null,null,"-",null,{"$f":"IF(SUMPRODUCT((A$14:A374=A374)*(B$14:B374=B374)*(D$14:D374=D374))>1,0,1)","v":0},1,1,{"$f":"IF(ISBLANK(G374),1,IFERROR(VLOOKUP(G374,Tipo!$C$12:$C$27,1,FALSE),\"NO\"))","v":1},1,{"$f":"IF(ISBLANK(K374),1,IFERROR(VLOOKUP(K374,Eje_Pilar_Prop!C356:C457,1,FALSE),\"NO\"))","v":1},1,1,1]
[null,null,null,null,null,null,null,null,null,null,null,{"$f":"IF(ISERROR(VLOOKUP(K375,Eje_Pilar_Prop!$C$2:$E$104,2,FALSE)),\" \",VLOOKUP(K375,Eje_Pilar_Prop!$C$2:$E$104,2,FALSE))","v":" "},{"$f":"IF(ISERROR(VLOOKUP(K375,Eje_Pilar_Prop!$C$2:$E$104,3,FALSE)),\" \",VLOOKUP(K375,Eje_Pilar_Prop!$C$2:$E$104,3,FALSE))","v":" "},null,null,null,null,null,null,null,null,0,null,null,null,null,null,null,null,null,null,null,null,null,null,null,null,"-",null,{"$f":"IF(SUMPRODUCT((A$14:A375=A375)*(B$14:B375=B375)*(D$14:D375=D375))>1,0,1)","v":0},1,1,{"$f":"IF(ISBLANK(G375),1,IFERROR(VLOOKUP(G375,Tipo!$C$12:$C$27,1,FALSE),\"NO\"))","v":1},1,{"$f":"IF(ISBLANK(K375),1,IFERROR(VLOOKUP(K375,Eje_Pilar_Prop!C357:C458,1,FALSE),\"NO\"))","v":1},1,1,1]
[null,null,null,null,null,null,null,null,null,null,null,{"$f":"IF(ISERROR(VLOOKUP(K376,Eje_Pilar_Prop!$C$2:$E$104,2,FALSE)),\" \",VLOOKUP(K376,Eje_Pilar_Prop!$C$2:$E$104,2,FALSE))","v":" "},{"$f":"IF(ISERROR(VLOOKUP(K376,Eje_Pilar_Prop!$C$2:$E$104,3,FALSE)),\" \",VLOOKUP(K376,Eje_Pilar_Prop!$C$2:$E$104,3,FALSE))","v":" "},null,null,null,null,null,null,null,null,0,null,null,null,null,null,null,null,null,null,null,null,null,null,null,null,"-",null,{"$f":"IF(SUMPRODUCT((A$14:A376=A376)*(B$14:B376=B376)*(D$14:D376=D376))>1,0,1)","v":0},1,1,{"$f":"IF(ISBLANK(G376),1,IFERROR(VLOOKUP(G376,Tipo!$C$12:$C$27,1,FALSE),\"NO\"))","v":1},1,{"$f":"IF(ISBLANK(K376),1,IFERROR(VLOOKUP(K376,Eje_Pilar_Prop!C358:C459,1,FALSE),\"NO\"))","v":1},1,1,1]
[null,null,null,null,null,null,null,null,null,null,null,{"$f":"IF(ISERROR(VLOOKUP(K377,Eje_Pilar_Prop!$C$2:$E$104,2,FALSE)),\" \",VLOOKUP(K377,Eje_Pilar_Prop!$C$2:$E$104,2,FALSE))","v":" "},{"$f":"IF(ISERROR(VLOOKUP(K377,Eje_Pilar_Prop!$C$2:$E$104,3,FALSE)),\" \",VLOOKUP(K377,Eje_Pilar_Prop!$C$2:$E$104,3,FALSE))","v":" "},null,null,null,null,null,null,null,null,0,null,null,null,null,null,null,null,null,null,null,null,null,null,null,null,"-",null,{"$f":"IF(SUMPRODUCT((A$14:A377=A377)*(B$14:B377=B377)*(D$14:D377=D377))>1,0,1)","v":0},1,1,{"$f":"IF(ISBLANK(G377),1,IFERROR(VLOOKUP(G377,Tipo!$C$12:$C$27,1,FALSE),\"NO\"))","v":1},1,{"$f":"IF(ISBLANK(K377),1,IFERROR(VLOOKUP(K377,Eje_Pilar_Prop!C359:C460,1,FALSE),\"NO\"))","v":1},1,1,1]
[null,null,null,null,null,null,null,null,null,null,null,{"$f":"IF(ISERROR(VLOOKUP(K378,Eje_Pilar_Prop!$C$2:$E$104,2,FALSE)),\" \",VLOOKUP(K378,Eje_Pilar_Prop!$C$2:$E$104,2,FALSE))","v":" "},{"$f":"IF(ISERROR(VLOOKUP(K378,Eje_Pilar_Prop!$C$2:$E$104,3,FALSE)),\" \",VLOOKUP(K378,Eje_Pilar_Prop!$C$2:$E$104,3,FALSE))","v":" "},null,null,null,null,null,null,null,null,0,null,null,null,null,null,null,null,null,null,null,null,null,null,null,null,"-",null,{"$f":"IF(SUMPRODUCT((A$14:A378=A378)*(B$14:B378=B378)*(D$14:D378=D378))>1,0,1)","v":0},1,1,{"$f":"IF(ISBLANK(G378),1,IFERROR(VLOOKUP(G378,Tipo!$C$12:$C$27,1,FALSE),\"NO\"))","v":1},1,{"$f":"IF(ISBLANK(K378),1,IFERROR(VLOOKUP(K378,Eje_Pilar_Prop!C360:C461,1,FALSE),\"NO\"))","v":1},1,1,1]
[null,null,null,null,null,null,null,null,null,null,null,{"$f":"IF(ISERROR(VLOOKUP(K379,Eje_Pilar_Prop!$C$2:$E$104,2,FALSE)),\" \",VLOOKUP(K379,Eje_Pilar_Prop!$C$2:$E$104,2,FALSE))","v":" "},{"$f":"IF(ISERROR(VLOOKUP(K379,Eje_Pilar_Prop!$C$2:$E$104,3,FALSE)),\" \",VLOOKUP(K379,Eje_Pilar_Prop!$C$2:$E$104,3,FALSE))","v":" "},null,null,null,null,null,null,null,null,0,null,null,null,null,null,null,null,null,null,null,null,null,null,null,null,"-",null,{"$f":"IF(SUMPRODUCT((A$14:A379=A379)*(B$14:B379=B379)*(D$14:D379=D379))>1,0,1)","v":0},1,1,{"$f":"IF(ISBLANK(G379),1,IFERROR(VLOOKUP(G379,Tipo!$C$12:$C$27,1,FALSE),\"NO\"))","v":1},1,{"$f":"IF(ISBLANK(K379),1,IFERROR(VLOOKUP(K379,Eje_Pilar_Prop!C361:C462,1,FALSE),\"NO\"))","v":1},1,1,1]
[null,null,null,null,null,null,null,null,null,null,null,{"$f":"IF(ISERROR(VLOOKUP(K380,Eje_Pilar_Prop!$C$2:$E$104,2,FALSE)),\" \",VLOOKUP(K380,Eje_Pilar_Prop!$C$2:$E$104,2,FALSE))","v":" "},{"$f":"IF(ISERROR(VLOOKUP(K380,Eje_Pilar_Prop!$C$2:$E$104,3,FALSE)),\" \",VLOOKUP(K380,Eje_Pilar_Prop!$C$2:$E$104,3,FALSE))","v":" "},null,null,null,null,null,null,null,null,0,null,null,null,null,null,null,null,null,null,null,null,null,null,null,null,"-",null,{"$f":"IF(SUMPRODUCT((A$14:A380=A380)*(B$14:B380=B380)*(D$14:D380=D380))>1,0,1)","v":0},1,1,{"$f":"IF(ISBLANK(G380),1,IFERROR(VLOOKUP(G380,Tipo!$C$12:$C$27,1,FALSE),\"NO\"))","v":1},1,{"$f":"IF(ISBLANK(K380),1,IFERROR(VLOOKUP(K380,Eje_Pilar_Prop!C362:C463,1,FALSE),\"NO\"))","v":1},1,1,1]
[null,null,null,null,null,null,null,null,null,null,null,{"$f":"IF(ISERROR(VLOOKUP(K381,Eje_Pilar_Prop!$C$2:$E$104,2,FALSE)),\" \",VLOOKUP(K381,Eje_Pilar_Prop!$C$2:$E$104,2,FALSE))","v":" "},{"$f":"IF(ISERROR(VLOOKUP(K381,Eje_Pilar_Prop!$C$2:$E$104,3,FALSE)),\" \",VLOOKUP(K381,Eje_Pilar_Prop!$C$2:$E$104,3,FALSE))","v":" "},null,null,null,null,null,null,null,null,0,null,null,null,null,null,null,null,null,null,null,null,null,null,null,null,"-",null,{"$f":"IF(SUMPRODUCT((A$14:A381=A381)*(B$14:B381=B381)*(D$14:D381=D381))>1,0,1)","v":0},1,1,{"$f":"IF(ISBLANK(G381),1,IFERROR(VLOOKUP(G381,Tipo!$C$12:$C$27,1,FALSE),\"NO\"))","v":1},1,{"$f":"IF(ISBLANK(K381),1,IFERROR(VLOOKUP(K381,Eje_Pilar_Prop!C363:C464,1,FALSE),\"NO\"))","v":1},1,1,1]
[null,null,null,null,null,null,null,null,null,null,null,{"$f":"IF(ISERROR(VLOOKUP(K382,Eje_Pilar_Prop!$C$2:$E$104,2,FALSE)),\" \",VLOOKUP(K382,Eje_Pilar_Prop!$C$2:$E$104,2,FALSE))","v":" "},{"$f":"IF(ISERROR(VLOOKUP(K382,Eje_Pilar_Prop!$C$2:$E$104,3,FALSE)),\" \",VLOOKUP(K382,Eje_Pilar_Prop!$C$2:$E$104,3,FALSE))","v":" "},null,null,null,null,null,null,null,null,0,null,null,null,null,null,null,null,null,null,null,null,null,null,null,null,"-",null,{"$f":"IF(SUMPRODUCT((A$14:A382=A382)*(B$14:B382=B382)*(D$14:D382=D382))>1,0,1)","v":0},1,1,{"$f":"IF(ISBLANK(G382),1,IFERROR(VLOOKUP(G382,Tipo!$C$12:$C$27,1,FALSE),\"NO\"))","v":1},1,{"$f":"IF(ISBLANK(K382),1,IFERROR(VLOOKUP(K382,Eje_Pilar_Prop!C364:C465,1,FALSE),\"NO\"))","v":1},1,1,1]
[null,null,null,null,null,null,null,null,null,null,null,{"$f":"IF(ISERROR(VLOOKUP(K383,Eje_Pilar_Prop!$C$2:$E$104,2,FALSE)),\" \",VLOOKUP(K383,Eje_Pilar_Prop!$C$2:$E$104,2,FALSE))","v":" "},{"$f":"IF(ISERROR(VLOOKUP(K383,Eje_Pilar_Prop!$C$2:$E$104,3,FALSE)),\" \",VLOOKUP(K383,Eje_Pilar_Prop!$C$2:$E$104,3,FALSE))","v":" "},null,null,null,null,null,null,null,null,0,null,null,null,null,null,null,null,null,null,null,null,null,null,null,null,"-",null,{"$f":"IF(SUMPRODUCT((A$14:A383=A383)*(B$14:B383=B383)*(D$14:D383=D383))>1,0,1)","v":0},1,1,{"$f":"IF(ISBLANK(G383),1,IFERROR(VLOOKUP(G383,Tipo!$C$12:$C$27,1,FALSE),\"NO\"))","v":1},1,{"$f":"IF(ISBLANK(K383),1,IFERROR(VLOOKUP(K383,Eje_Pilar_Prop!C365:C466,1,FALSE),\"NO\"))","v":1},1,1,1]
[null,null,null,null,null,null,null,null,null,null,null,{"$f":"IF(ISERROR(VLOOKUP(K384,Eje_Pilar_Prop!$C$2:$E$104,2,FALSE)),\" \",VLOOKUP(K384,Eje_Pilar_Prop!$C$2:$E$104,2,FALSE))","v":" "},{"$f":"IF(ISERROR(VLOOKUP(K384,Eje_Pilar_Prop!$C$2:$E$104,3,FALSE)),\" \",VLOOKUP(K384,Eje_Pilar_Prop!$C$2:$E$104,3,FALSE))","v":" "},null,null,null,null,null,null,null,null,0,null,null,null,null,null,null,null,null,null,null,null,null,null,null,null,"-",null,{"$f":"IF(SUMPRODUCT((A$14:A384=A384)*(B$14:B384=B384)*(D$14:D384=D384))>1,0,1)","v":0},1,1,{"$f":"IF(ISBLANK(G384),1,IFERROR(VLOOKUP(G384,Tipo!$C$12:$C$27,1,FALSE),\"NO\"))","v":1},1,{"$f":"IF(ISBLANK(K384),1,IFERROR(VLOOKUP(K384,Eje_Pilar_Prop!C366:C467,1,FALSE),\"NO\"))","v":1},1,1,1]
[null,null,null,null,null,null,null,null,null,null,null,{"$f":"IF(ISERROR(VLOOKUP(K385,Eje_Pilar_Prop!$C$2:$E$104,2,FALSE)),\" \",VLOOKUP(K385,Eje_Pilar_Prop!$C$2:$E$104,2,FALSE))","v":" "},{"$f":"IF(ISERROR(VLOOKUP(K385,Eje_Pilar_Prop!$C$2:$E$104,3,FALSE)),\" \",VLOOKUP(K385,Eje_Pilar_Prop!$C$2:$E$104,3,FALSE))","v":" "},null,null,null,null,null,null,null,null,0,null,null,null,null,null,null,null,null,null,null,null,null,null,null,null,"-",null,{"$f":"IF(SUMPRODUCT((A$14:A385=A385)*(B$14:B385=B385)*(D$14:D385=D385))>1,0,1)","v":0},1,1,{"$f":"IF(ISBLANK(G385),1,IFERROR(VLOOKUP(G385,Tipo!$C$12:$C$27,1,FALSE),\"NO\"))","v":1},1,{"$f":"IF(ISBLANK(K385),1,IFERROR(VLOOKUP(K385,Eje_Pilar_Prop!C367:C468,1,FALSE),\"NO\"))","v":1},1,1,1]
[null,null,null,null,null,null,null,null,null,null,null,{"$f":"IF(ISERROR(VLOOKUP(K386,Eje_Pilar_Prop!$C$2:$E$104,2,FALSE)),\" \",VLOOKUP(K386,Eje_Pilar_Prop!$C$2:$E$104,2,FALSE))","v":" "},{"$f":"IF(ISERROR(VLOOKUP(K386,Eje_Pilar_Prop!$C$2:$E$104,3,FALSE)),\" \",VLOOKUP(K386,Eje_Pilar_Prop!$C$2:$E$104,3,FALSE))","v":" "},null,null,null,null,null,null,null,null,0,null,null,null,null,null,null,null,null,null,null,null,null,null,null,null,"-",null,{"$f":"IF(SUMPRODUCT((A$14:A386=A386)*(B$14:B386=B386)*(D$14:D386=D386))>1,0,1)","v":0},1,1,{"$f":"IF(ISBLANK(G386),1,IFERROR(VLOOKUP(G386,Tipo!$C$12:$C$27,1,FALSE),\"NO\"))","v":1},1,{"$f":"IF(ISBLANK(K386),1,IFERROR(VLOOKUP(K386,Eje_Pilar_Prop!C368:C469,1,FALSE),\"NO\"))","v":1},1,1,1]
[null,null,null,null,null,null,null,null,null,null,null,{"$f":"IF(ISERROR(VLOOKUP(K387,Eje_Pilar_Prop!$C$2:$E$104,2,FALSE)),\" \",VLOOKUP(K387,Eje_Pilar_Prop!$C$2:$E$104,2,FALSE))","v":" "},{"$f":"IF(ISERROR(VLOOKUP(K387,Eje_Pilar_Prop!$C$2:$E$104,3,FALSE)),\" \",VLOOKUP(K387,Eje_Pilar_Prop!$C$2:$E$104,3,FALSE))","v":" "},null,null,null,null,null,null,null,null,0,null,null,null,null,null,null,null,null,null,null,null,null,null,null,null,"-",null,{"$f":"IF(SUMPRODUCT((A$14:A387=A387)*(B$14:B387=B387)*(D$14:D387=D387))>1,0,1)","v":0},1,1,{"$f":"IF(ISBLANK(G387),1,IFERROR(VLOOKUP(G387,Tipo!$C$12:$C$27,1,FALSE),\"NO\"))","v":1},1,{"$f":"IF(ISBLANK(K387),1,IFERROR(VLOOKUP(K387,Eje_Pilar_Prop!C369:C470,1,FALSE),\"NO\"))","v":1},1,1,1]
[null,null,null,null,null,null,null,null,null,null,null,{"$f":"IF(ISERROR(VLOOKUP(K388,Eje_Pilar_Prop!$C$2:$E$104,2,FALSE)),\" \",VLOOKUP(K388,Eje_Pilar_Prop!$C$2:$E$104,2,FALSE))","v":" "},{"$f":"IF(ISERROR(VLOOKUP(K388,Eje_Pilar_Prop!$C$2:$E$104,3,FALSE)),\" \",VLOOKUP(K388,Eje_Pilar_Prop!$C$2:$E$104,3,FALSE))","v":" "},null,null,null,null,null,null,null,null,0,null,null,null,null,null,null,null,null,null,null,null,null,null,null,null,"-",null,{"$f":"IF(SUMPRODUCT((A$14:A388=A388)*(B$14:B388=B388)*(D$14:D388=D388))>1,0,1)","v":0},1,1,{"$f":"IF(ISBLANK(G388),1,IFERROR(VLOOKUP(G388,Tipo!$C$12:$C$27,1,FALSE),\"NO\"))","v":1},1,{"$f":"IF(ISBLANK(K388),1,IFERROR(VLOOKUP(K388,Eje_Pilar_Prop!C370:C471,1,FALSE),\"NO\"))","v":1},1,1,1]
[null,null,null,null,null,null,null,null,null,null,null,{"$f":"IF(ISERROR(VLOOKUP(K389,Eje_Pilar_Prop!$C$2:$E$104,2,FALSE)),\" \",VLOOKUP(K389,Eje_Pilar_Prop!$C$2:$E$104,2,FALSE))","v":" "},{"$f":"IF(ISERROR(VLOOKUP(K389,Eje_Pilar_Prop!$C$2:$E$104,3,FALSE)),\" \",VLOOKUP(K389,Eje_Pilar_Prop!$C$2:$E$104,3,FALSE))","v":" "},null,null,null,null,null,null,null,null,0,null,null,null,null,null,null,null,null,null,null,null,null,null,null,null,"-",null,{"$f":"IF(SUMPRODUCT((A$14:A389=A389)*(B$14:B389=B389)*(D$14:D389=D389))>1,0,1)","v":0},1,1,{"$f":"IF(ISBLANK(G389),1,IFERROR(VLOOKUP(G389,Tipo!$C$12:$C$27,1,FALSE),\"NO\"))","v":1},1,{"$f":"IF(ISBLANK(K389),1,IFERROR(VLOOKUP(K389,Eje_Pilar_Prop!C371:C472,1,FALSE),\"NO\"))","v":1},1,1,1]
[null,null,null,null,null,null,null,null,null,null,null,{"$f":"IF(ISERROR(VLOOKUP(K390,Eje_Pilar_Prop!$C$2:$E$104,2,FALSE)),\" \",VLOOKUP(K390,Eje_Pilar_Prop!$C$2:$E$104,2,FALSE))","v":" "},{"$f":"IF(ISERROR(VLOOKUP(K390,Eje_Pilar_Prop!$C$2:$E$104,3,FALSE)),\" \",VLOOKUP(K390,Eje_Pilar_Prop!$C$2:$E$104,3,FALSE))","v":" "},null,null,null,null,null,null,null,null,0,null,null,null,null,null,null,null,null,null,null,null,null,null,null,null,"-",null,{"$f":"IF(SUMPRODUCT((A$14:A390=A390)*(B$14:B390=B390)*(D$14:D390=D390))>1,0,1)","v":0},1,1,{"$f":"IF(ISBLANK(G390),1,IFERROR(VLOOKUP(G390,Tipo!$C$12:$C$27,1,FALSE),\"NO\"))","v":1},1,{"$f":"IF(ISBLANK(K390),1,IFERROR(VLOOKUP(K390,Eje_Pilar_Prop!C372:C473,1,FALSE),\"NO\"))","v":1},1,1,1]
[null,null,null,null,null,null,null,null,null,null,null,{"$f":"IF(ISERROR(VLOOKUP(K391,Eje_Pilar_Prop!$C$2:$E$104,2,FALSE)),\" \",VLOOKUP(K391,Eje_Pilar_Prop!$C$2:$E$104,2,FALSE))","v":" "},{"$f":"IF(ISERROR(VLOOKUP(K391,Eje_Pilar_Prop!$C$2:$E$104,3,FALSE)),\" \",VLOOKUP(K391,Eje_Pilar_Prop!$C$2:$E$104,3,FALSE))","v":" "},null,null,null,null,null,null,null,null,0,null,null,null,null,null,null,null,null,null,null,null,null,null,null,null,"-",null,{"$f":"IF(SUMPRODUCT((A$14:A391=A391)*(B$14:B391=B391)*(D$14:D391=D391))>1,0,1)","v":0},1,1,{"$f":"IF(ISBLANK(G391),1,IFERROR(VLOOKUP(G391,Tipo!$C$12:$C$27,1,FALSE),\"NO\"))","v":1},1,{"$f":"IF(ISBLANK(K391),1,IFERROR(VLOOKUP(K391,Eje_Pilar_Prop!C373:C474,1,FALSE),\"NO\"))","v":1},1,1,1]
[null,null,null,null,null,null,null,null,null,null,null,{"$f":"IF(ISERROR(VLOOKUP(K392,Eje_Pilar_Prop!$C$2:$E$104,2,FALSE)),\" \",VLOOKUP(K392,Eje_Pilar_Prop!$C$2:$E$104,2,FALSE))","v":" "},{"$f":"IF(ISERROR(VLOOKUP(K392,Eje_Pilar_Prop!$C$2:$E$104,3,FALSE)),\" \",VLOOKUP(K392,Eje_Pilar_Prop!$C$2:$E$104,3,FALSE))","v":" "},null,null,null,null,null,null,null,null,0,null,null,null,null,null,null,null,null,null,null,null,null,null,null,null,"-",null,{"$f":"IF(SUMPRODUCT((A$14:A392=A392)*(B$14:B392=B392)*(D$14:D392=D392))>1,0,1)","v":0},1,1,{"$f":"IF(ISBLANK(G392),1,IFERROR(VLOOKUP(G392,Tipo!$C$12:$C$27,1,FALSE),\"NO\"))","v":1},1,{"$f":"IF(ISBLANK(K392),1,IFERROR(VLOOKUP(K392,Eje_Pilar_Prop!C374:C475,1,FALSE),\"NO\"))","v":1},1,1,1]
[null,null,null,null,null,null,null,null,null,null,null,{"$f":"IF(ISERROR(VLOOKUP(K393,Eje_Pilar_Prop!$C$2:$E$104,2,FALSE)),\" \",VLOOKUP(K393,Eje_Pilar_Prop!$C$2:$E$104,2,FALSE))","v":" "},{"$f":"IF(ISERROR(VLOOKUP(K393,Eje_Pilar_Prop!$C$2:$E$104,3,FALSE)),\" \",VLOOKUP(K393,Eje_Pilar_Prop!$C$2:$E$104,3,FALSE))","v":" "},null,null,null,null,null,null,null,null,0,null,null,null,null,null,null,null,null,null,null,null,null,null,null,null,"-",null,{"$f":"IF(SUMPRODUCT((A$14:A393=A393)*(B$14:B393=B393)*(D$14:D393=D393))>1,0,1)","v":0},1,1,{"$f":"IF(ISBLANK(G393),1,IFERROR(VLOOKUP(G393,Tipo!$C$12:$C$27,1,FALSE),\"NO\"))","v":1},1,{"$f":"IF(ISBLANK(K393),1,IFERROR(VLOOKUP(K393,Eje_Pilar_Prop!C375:C476,1,FALSE),\"NO\"))","v":1},1,1,1]
[null,null,null,null,null,null,null,null,null,null,null,{"$f":"IF(ISERROR(VLOOKUP(K394,Eje_Pilar_Prop!$C$2:$E$104,2,FALSE)),\" \",VLOOKUP(K394,Eje_Pilar_Prop!$C$2:$E$104,2,FALSE))","v":" "},{"$f":"IF(ISERROR(VLOOKUP(K394,Eje_Pilar_Prop!$C$2:$E$104,3,FALSE)),\" \",VLOOKUP(K394,Eje_Pilar_Prop!$C$2:$E$104,3,FALSE))","v":" "},null,null,null,null,null,null,null,null,0,null,null,null,null,null,null,null,null,null,null,null,null,null,null,null,"-",null,{"$f":"IF(SUMPRODUCT((A$14:A394=A394)*(B$14:B394=B394)*(D$14:D394=D394))>1,0,1)","v":0},1,1,{"$f":"IF(ISBLANK(G394),1,IFERROR(VLOOKUP(G394,Tipo!$C$12:$C$27,1,FALSE),\"NO\"))","v":1},1,{"$f":"IF(ISBLANK(K394),1,IFERROR(VLOOKUP(K394,Eje_Pilar_Prop!C376:C477,1,FALSE),\"NO\"))","v":1},1,1,1]
[null,null,null,null,null,null,null,null,null,null,null,{"$f":"IF(ISERROR(VLOOKUP(K395,Eje_Pilar_Prop!$C$2:$E$104,2,FALSE)),\" \",VLOOKUP(K395,Eje_Pilar_Prop!$C$2:$E$104,2,FALSE))","v":" "},{"$f":"IF(ISERROR(VLOOKUP(K395,Eje_Pilar_Prop!$C$2:$E$104,3,FALSE)),\" \",VLOOKUP(K395,Eje_Pilar_Prop!$C$2:$E$104,3,FALSE))","v":" "},null,null,null,null,null,null,null,null,0,null,null,null,null,null,null,null,null,null,null,null,null,null,null,null,"-",null,{"$f":"IF(SUMPRODUCT((A$14:A395=A395)*(B$14:B395=B395)*(D$14:D395=D395))>1,0,1)","v":0},1,1,{"$f":"IF(ISBLANK(G395),1,IFERROR(VLOOKUP(G395,Tipo!$C$12:$C$27,1,FALSE),\"NO\"))","v":1},1,{"$f":"IF(ISBLANK(K395),1,IFERROR(VLOOKUP(K395,Eje_Pilar_Prop!C377:C478,1,FALSE),\"NO\"))","v":1},1,1,1]
[null,null,null,null,null,null,null,null,null,null,null,{"$f":"IF(ISERROR(VLOOKUP(K396,Eje_Pilar_Prop!$C$2:$E$104,2,FALSE)),\" \",VLOOKUP(K396,Eje_Pilar_Prop!$C$2:$E$104,2,FALSE))","v":" "},{"$f":"IF(ISERROR(VLOOKUP(K396,Eje_Pilar_Prop!$C$2:$E$104,3,FALSE)),\" \",VLOOKUP(K396,Eje_Pilar_Prop!$C$2:$E$104,3,FALSE))","v":" "},null,null,null,null,null,null,null,null,0,null,null,null,null,null,null,null,null,null,null,null,null,null,null,null,"-",null,{"$f":"IF(SUMPRODUCT((A$14:A396=A396)*(B$14:B396=B396)*(D$14:D396=D396))>1,0,1)","v":0},1,1,{"$f":"IF(ISBLANK(G396),1,IFERROR(VLOOKUP(G396,Tipo!$C$12:$C$27,1,FALSE),\"NO\"))","v":1},1,{"$f":"IF(ISBLANK(K396),1,IFERROR(VLOOKUP(K396,Eje_Pilar_Prop!C378:C479,1,FALSE),\"NO\"))","v":1},1,1,1]
[null,null,null,null,null,null,null,null,null,null,null,{"$f":"IF(ISERROR(VLOOKUP(K397,Eje_Pilar_Prop!$C$2:$E$104,2,FALSE)),\" \",VLOOKUP(K397,Eje_Pilar_Prop!$C$2:$E$104,2,FALSE))","v":" "},{"$f":"IF(ISERROR(VLOOKUP(K397,Eje_Pilar_Prop!$C$2:$E$104,3,FALSE)),\" \",VLOOKUP(K397,Eje_Pilar_Prop!$C$2:$E$104,3,FALSE))","v":" "},null,null,null,null,null,null,null,null,0,null,null,null,null,null,null,null,null,null,null,null,null,null,null,null,"-",null,{"$f":"IF(SUMPRODUCT((A$14:A397=A397)*(B$14:B397=B397)*(D$14:D397=D397))>1,0,1)","v":0},1,1,{"$f":"IF(ISBLANK(G397),1,IFERROR(VLOOKUP(G397,Tipo!$C$12:$C$27,1,FALSE),\"NO\"))","v":1},1,{"$f":"IF(ISBLANK(K397),1,IFERROR(VLOOKUP(K397,Eje_Pilar_Prop!C379:C480,1,FALSE),\"NO\"))","v":1},1,1,1]
[null,null,null,null,null,null,null,null,null,null,null,{"$f":"IF(ISERROR(VLOOKUP(K398,Eje_Pilar_Prop!$C$2:$E$104,2,FALSE)),\" \",VLOOKUP(K398,Eje_Pilar_Prop!$C$2:$E$104,2,FALSE))","v":" "},{"$f":"IF(ISERROR(VLOOKUP(K398,Eje_Pilar_Prop!$C$2:$E$104,3,FALSE)),\" \",VLOOKUP(K398,Eje_Pilar_Prop!$C$2:$E$104,3,FALSE))","v":" "},null,null,null,null,null,null,null,null,0,null,null,null,null,null,null,null,null,null,null,null,null,null,null,null,"-",null,{"$f":"IF(SUMPRODUCT((A$14:A398=A398)*(B$14:B398=B398)*(D$14:D398=D398))>1,0,1)","v":0},1,1,{"$f":"IF(ISBLANK(G398),1,IFERROR(VLOOKUP(G398,Tipo!$C$12:$C$27,1,FALSE),\"NO\"))","v":1},1,{"$f":"IF(ISBLANK(K398),1,IFERROR(VLOOKUP(K398,Eje_Pilar_Prop!C380:C481,1,FALSE),\"NO\"))","v":1},1,1,{"$f":"IF(ISBLANK(J398),1,IFERROR(VLOOKUP(J398,pdd,1,FALSE),\"NO\"))","v":1}]
[null,null,null,null,null,null,null,null,null,null,null,{"$f":"IF(ISERROR(VLOOKUP(K399,Eje_Pilar_Prop!$C$2:$E$104,2,FALSE)),\" \",VLOOKUP(K399,Eje_Pilar_Prop!$C$2:$E$104,2,FALSE))","v":" "},{"$f":"IF(ISERROR(VLOOKUP(K399,Eje_Pilar_Prop!$C$2:$E$104,3,FALSE)),\" \",VLOOKUP(K399,Eje_Pilar_Prop!$C$2:$E$104,3,FALSE))","v":" "},null,null,null,null,null,null,null,null,0,null,null,null,null,null,null,null,null,null,null,null,null,null,null,null,"-",null,{"$f":"IF(SUMPRODUCT((A$14:A399=A399)*(B$14:B399=B399)*(D$14:D399=D399))>1,0,1)","v":0},1,1,{"$f":"IF(ISBLANK(G399),1,IFERROR(VLOOKUP(G399,Tipo!$C$12:$C$27,1,FALSE),\"NO\"))","v":1},1,{"$f":"IF(ISBLANK(K399),1,IFERROR(VLOOKUP(K399,Eje_Pilar_Prop!C381:C482,1,FALSE),\"NO\"))","v":1},1,1,1]
[null,null,null,null,null,null,null,null,null,null,null,{"$f":"IF(ISERROR(VLOOKUP(K400,Eje_Pilar_Prop!$C$2:$E$104,2,FALSE)),\" \",VLOOKUP(K400,Eje_Pilar_Prop!$C$2:$E$104,2,FALSE))","v":" "},{"$f":"IF(ISERROR(VLOOKUP(K400,Eje_Pilar_Prop!$C$2:$E$104,3,FALSE)),\" \",VLOOKUP(K400,Eje_Pilar_Prop!$C$2:$E$104,3,FALSE))","v":" "},null,null,null,null,null,null,null,null,0,null,null,null,null,null,null,null,null,null,null,null,null,null,null,null,"-",null,{"$f":"IF(SUMPRODUCT((A$14:A400=A400)*(B$14:B400=B400)*(D$14:D400=D400))>1,0,1)","v":0},1,1,{"$f":"IF(ISBLANK(G400),1,IFERROR(VLOOKUP(G400,Tipo!$C$12:$C$27,1,FALSE),\"NO\"))","v":1},1,{"$f":"IF(ISBLANK(K400),1,IFERROR(VLOOKUP(K400,Eje_Pilar_Prop!C382:C483,1,FALSE),\"NO\"))","v":1},1,1,1]
[null,null,null,null,null,null,null,null,null,null,null,{"$f":"IF(ISERROR(VLOOKUP(K401,Eje_Pilar_Prop!$C$2:$E$104,2,FALSE)),\" \",VLOOKUP(K401,Eje_Pilar_Prop!$C$2:$E$104,2,FALSE))","v":" "},{"$f":"IF(ISERROR(VLOOKUP(K401,Eje_Pilar_Prop!$C$2:$E$104,3,FALSE)),\" \",VLOOKUP(K401,Eje_Pilar_Prop!$C$2:$E$104,3,FALSE))","v":" "},null,null,null,null,null,null,null,null,0,null,null,null,null,null,null,null,null,null,null,null,null,null,null,null,"-",null,{"$f":"IF(SUMPRODUCT((A$14:A401=A401)*(B$14:B401=B401)*(D$14:D401=D401))>1,0,1)","v":0},1,1,{"$f":"IF(ISBLANK(G401),1,IFERROR(VLOOKUP(G401,Tipo!$C$12:$C$27,1,FALSE),\"NO\"))","v":1},1,{"$f":"IF(ISBLANK(K401),1,IFERROR(VLOOKUP(K401,Eje_Pilar_Prop!C383:C484,1,FALSE),\"NO\"))","v":1},1,1,1]
[null,null,null,null,null,null,null,null,null,null,null,{"$f":"IF(ISERROR(VLOOKUP(K402,Eje_Pilar_Prop!$C$2:$E$104,2,FALSE)),\" \",VLOOKUP(K402,Eje_Pilar_Prop!$C$2:$E$104,2,FALSE))","v":" "},{"$f":"IF(ISERROR(VLOOKUP(K402,Eje_Pilar_Prop!$C$2:$E$104,3,FALSE)),\" \",VLOOKUP(K402,Eje_Pilar_Prop!$C$2:$E$104,3,FALSE))","v":" "},null,null,null,null,null,null,null,null,0,null,null,null,null,null,null,null,null,null,null,null,null,null,null,null,"-",null,{"$f":"IF(SUMPRODUCT((A$14:A402=A402)*(B$14:B402=B402)*(D$14:D402=D402))>1,0,1)","v":0},1,1,{"$f":"IF(ISBLANK(G402),1,IFERROR(VLOOKUP(G402,Tipo!$C$12:$C$27,1,FALSE),\"NO\"))","v":1},1,{"$f":"IF(ISBLANK(K402),1,IFERROR(VLOOKUP(K402,Eje_Pilar_Prop!C384:C485,1,FALSE),\"NO\"))","v":1},1,1,1]
[null,null,null,null,null,null,null,null,null,null,null,{"$f":"IF(ISERROR(VLOOKUP(K403,Eje_Pilar_Prop!$C$2:$E$104,2,FALSE)),\" \",VLOOKUP(K403,Eje_Pilar_Prop!$C$2:$E$104,2,FALSE))","v":" "},{"$f":"IF(ISERROR(VLOOKUP(K403,Eje_Pilar_Prop!$C$2:$E$104,3,FALSE)),\" \",VLOOKUP(K403,Eje_Pilar_Prop!$C$2:$E$104,3,FALSE))","v":" "},null,null,null,null,null,null,null,null,0,null,null,null,null,null,null,null,null,null,null,null,null,null,null,null,"-",null,{"$f":"IF(SUMPRODUCT((A$14:A403=A403)*(B$14:B403=B403)*(D$14:D403=D403))>1,0,1)","v":0},1,1,{"$f":"IF(ISBLANK(G403),1,IFERROR(VLOOKUP(G403,Tipo!$C$12:$C$27,1,FALSE),\"NO\"))","v":1},1,{"$f":"IF(ISBLANK(K403),1,IFERROR(VLOOKUP(K403,Eje_Pilar_Prop!C385:C486,1,FALSE),\"NO\"))","v":1},1,1,1]
[null,null,null,null,null,null,null,null,null,null,null,{"$f":"IF(ISERROR(VLOOKUP(K404,Eje_Pilar_Prop!$C$2:$E$104,2,FALSE)),\" \",VLOOKUP(K404,Eje_Pilar_Prop!$C$2:$E$104,2,FALSE))","v":" "},{"$f":"IF(ISERROR(VLOOKUP(K404,Eje_Pilar_Prop!$C$2:$E$104,3,FALSE)),\" \",VLOOKUP(K404,Eje_Pilar_Prop!$C$2:$E$104,3,FALSE))","v":" "},null,null,null,null,null,null,null,null,0,null,null,null,null,null,null,null,null,null,null,null,null,null,null,null,"-",null,{"$f":"IF(SUMPRODUCT((A$14:A404=A404)*(B$14:B404=B404)*(D$14:D404=D404))>1,0,1)","v":0},1,1,{"$f":"IF(ISBLANK(G404),1,IFERROR(VLOOKUP(G404,Tipo!$C$12:$C$27,1,FALSE),\"NO\"))","v":1},1,{"$f":"IF(ISBLANK(K404),1,IFERROR(VLOOKUP(K404,Eje_Pilar_Prop!C386:C487,1,FALSE),\"NO\"))","v":1},1,1,1]
[null,null,null,null,null,null,null,null,null,null,null,{"$f":"IF(ISERROR(VLOOKUP(K405,Eje_Pilar_Prop!$C$2:$E$104,2,FALSE)),\" \",VLOOKUP(K405,Eje_Pilar_Prop!$C$2:$E$104,2,FALSE))","v":" "},{"$f":"IF(ISERROR(VLOOKUP(K405,Eje_Pilar_Prop!$C$2:$E$104,3,FALSE)),\" \",VLOOKUP(K405,Eje_Pilar_Prop!$C$2:$E$104,3,FALSE))","v":" "},null,null,null,null,null,null,null,null,0,null,null,null,null,null,null,null,null,null,null,null,null,null,null,null,"-",null,{"$f":"IF(SUMPRODUCT((A$14:A405=A405)*(B$14:B405=B405)*(D$14:D405=D405))>1,0,1)","v":0},1,1,{"$f":"IF(ISBLANK(G405),1,IFERROR(VLOOKUP(G405,Tipo!$C$12:$C$27,1,FALSE),\"NO\"))","v":1},1,{"$f":"IF(ISBLANK(K405),1,IFERROR(VLOOKUP(K405,Eje_Pilar_Prop!C387:C488,1,FALSE),\"NO\"))","v":1},{"$f":"IF(ISBLANK(C405),1,IFERROR(VLOOKUP(C405,SECOP,1,FALSE),\"NO\"))","v":1},1,1]
[null,null,null,null,null,null,null,null,null,null,null,{"$f":"IF(ISERROR(VLOOKUP(K406,Eje_Pilar_Prop!$C$2:$E$104,2,FALSE)),\" \",VLOOKUP(K406,Eje_Pilar_Prop!$C$2:$E$104,2,FALSE))","v":" "},{"$f":"IF(ISERROR(VLOOKUP(K406,Eje_Pilar_Prop!$C$2:$E$104,3,FALSE)),\" \",VLOOKUP(K406,Eje_Pilar_Prop!$C$2:$E$104,3,FALSE))","v":" "},null,null,null,null,null,null,null,null,0,null,null,null,null,null,null,null,null,null,null,null,null,null,null,null,"-",null,{"$f":"IF(SUMPRODUCT((A$14:A406=A406)*(B$14:B406=B406)*(D$14:D406=D406))>1,0,1)","v":0},1,1,{"$f":"IF(ISBLANK(G406),1,IFERROR(VLOOKUP(G406,Tipo!$C$12:$C$27,1,FALSE),\"NO\"))","v":1},1,{"$f":"IF(ISBLANK(K406),1,IFERROR(VLOOKUP(K406,Eje_Pilar_Prop!C388:C489,1,FALSE),\"NO\"))","v":1},1,1,1]
[null,null,null,null,null,null,null,null,null,null,null,{"$f":"IF(ISERROR(VLOOKUP(K407,Eje_Pilar_Prop!$C$2:$E$104,2,FALSE)),\" \",VLOOKUP(K407,Eje_Pilar_Prop!$C$2:$E$104,2,FALSE))","v":" "},{"$f":"IF(ISERROR(VLOOKUP(K407,Eje_Pilar_Prop!$C$2:$E$104,3,FALSE)),\" \",VLOOKUP(K407,Eje_Pilar_Prop!$C$2:$E$104,3,FALSE))","v":" "},null,null,null,null,null,null,null,null,0,null,null,null,null,null,null,null,null,null,null,null,null,null,null,null,"-",null,{"$f":"IF(SUMPRODUCT((A$14:A407=A407)*(B$14:B407=B407)*(D$14:D407=D407))>1,0,1)","v":0},1,1,{"$f":"IF(ISBLANK(G407),1,IFERROR(VLOOKUP(G407,Tipo!$C$12:$C$27,1,FALSE),\"NO\"))","v":1},1,{"$f":"IF(ISBLANK(K407),1,IFERROR(VLOOKUP(K407,Eje_Pilar_Prop!C389:C490,1,FALSE),\"NO\"))","v":1},1,1,1]
[null,null,null,null,null,null,null,null,null,null,null,{"$f":"IF(ISERROR(VLOOKUP(K408,Eje_Pilar_Prop!$C$2:$E$104,2,FALSE)),\" \",VLOOKUP(K408,Eje_Pilar_Prop!$C$2:$E$104,2,FALSE))","v":" "},{"$f":"IF(ISERROR(VLOOKUP(K408,Eje_Pilar_Prop!$C$2:$E$104,3,FALSE)),\" \",VLOOKUP(K408,Eje_Pilar_Prop!$C$2:$E$104,3,FALSE))","v":" "},null,null,null,null,null,null,null,null,0,null,null,null,null,null,null,null,null,null,null,null,null,null,null,null,"-",null,{"$f":"IF(SUMPRODUCT((A$14:A408=A408)*(B$14:B408=B408)*(D$14:D408=D408))>1,0,1)","v":0},{"$f":"IF(ISBLANK(E408),1,IFERROR(VLOOKUP(E408,tipo,1,FALSE),\"NO\"))","v":1},{"$f":"IF(ISBLANK(F408),1,IFERROR(VLOOKUP(F408,modal,1,FALSE),\"NO\"))","v":1},{"$f":"IF(ISBLANK(G408),1,IFERROR(VLOOKUP(G408,Tipo!$C$12:$C$27,1,FALSE),\"NO\"))","v":1},{"$f":"IF(ISBLANK(I408),1,IFERROR(VLOOKUP(I408,afectacion,1,FALSE),\"NO\"))","v":1},{"$f":"IF(ISBLANK(K408),1,IFERROR(VLOOKUP(K408,Eje_Pilar_Prop!C390:C491,1,FALSE),\"NO\"))","v":1},1,1,1]
[null,null,null,null,null,null,null,null,null,null,null,{"$f":"IF(ISERROR(VLOOKUP(K409,Eje_Pilar_Prop!$C$2:$E$104,2,FALSE)),\" \",VLOOKUP(K409,Eje_Pilar_Prop!$C$2:$E$104,2,FALSE))","v":" "},{"$f":"IF(ISERROR(VLOOKUP(K409,Eje_Pilar_Prop!$C$2:$E$104,3,FALSE)),\" \",VLOOKUP(K409,Eje_Pilar_Prop!$C$2:$E$104,3,FALSE))","v":" "},null,null,null,null,null,null,null,null,0,null,null,null,null,null,null,null,null,null,null,null,null,null,null,null,"-",null,{"$f":"IF(SUMPRODUCT((A$14:A409=A409)*(B$14:B409=B409)*(D$14:D409=D409))>1,0,1)","v":0},1,1,{"$f":"IF(ISBLANK(G409),1,IFERROR(VLOOKUP(G409,Tipo!$C$12:$C$27,1,FALSE),\"NO\"))","v":1},1,{"$f":"IF(ISBLANK(K409),1,IFERROR(VLOOKUP(K409,Eje_Pilar_Prop!C391:C492,1,FALSE),\"NO\"))","v":1},1,1,1]
[null,null,null,null,null,null,null,null,null,null,null,{"$f":"IF(ISERROR(VLOOKUP(K410,Eje_Pilar_Prop!$C$2:$E$104,2,FALSE)),\" \",VLOOKUP(K410,Eje_Pilar_Prop!$C$2:$E$104,2,FALSE))","v":" "},{"$f":"IF(ISERROR(VLOOKUP(K410,Eje_Pilar_Prop!$C$2:$E$104,3,FALSE)),\" \",VLOOKUP(K410,Eje_Pilar_Prop!$C$2:$E$104,3,FALSE))","v":" "},null,null,null,null,null,null,null,null,0,null,null,null,null,null,null,null,null,null,null,null,null,null,null,null,"-",null,{"$f":"IF(SUMPRODUCT((A$14:A410=A410)*(B$14:B410=B410)*(D$14:D410=D410))>1,0,1)","v":0},1,1,{"$f":"IF(ISBLANK(G410),1,IFERROR(VLOOKUP(G410,Tipo!$C$12:$C$27,1,FALSE),\"NO\"))","v":1},1,{"$f":"IF(ISBLANK(K410),1,IFERROR(VLOOKUP(K410,Eje_Pilar_Prop!C392:C493,1,FALSE),\"NO\"))","v":1},1,1,1]
[null,null,null,null,null,null,null,null,null,null,null,{"$f":"IF(ISERROR(VLOOKUP(K411,Eje_Pilar_Prop!$C$2:$E$104,2,FALSE)),\" \",VLOOKUP(K411,Eje_Pilar_Prop!$C$2:$E$104,2,FALSE))","v":" "},{"$f":"IF(ISERROR(VLOOKUP(K411,Eje_Pilar_Prop!$C$2:$E$104,3,FALSE)),\" \",VLOOKUP(K411,Eje_Pilar_Prop!$C$2:$E$104,3,FALSE))","v":" "},null,null,null,null,null,null,null,null,0,null,null,null,null,null,null,null,null,null,null,null,null,null,null,null,"-",null,{"$f":"IF(SUMPRODUCT((A$14:A411=A411)*(B$14:B411=B411)*(D$14:D411=D411))>1,0,1)","v":0},1,1,{"$f":"IF(ISBLANK(G411),1,IFERROR(VLOOKUP(G411,Tipo!$C$12:$C$27,1,FALSE),\"NO\"))","v":1},1,{"$f":"IF(ISBLANK(K411),1,IFERROR(VLOOKUP(K411,Eje_Pilar_Prop!C393:C494,1,FALSE),\"NO\"))","v":1},1,1,1]
[null,null,null,null,null,null,null,null,null,null,null,{"$f":"IF(ISERROR(VLOOKUP(K412,Eje_Pilar_Prop!$C$2:$E$104,2,FALSE)),\" \",VLOOKUP(K412,Eje_Pilar_Prop!$C$2:$E$104,2,FALSE))","v":" "},{"$f":"IF(ISERROR(VLOOKUP(K412,Eje_Pilar_Prop!$C$2:$E$104,3,FALSE)),\" \",VLOOKUP(K412,Eje_Pilar_Prop!$C$2:$E$104,3,FALSE))","v":" "},null,null,null,null,null,null,null,null,0,null,null,null,null,null,null,null,null,null,null,null,null,null,null,null,"-",null,{"$f":"IF(SUMPRODUCT((A$14:A412=A412)*(B$14:B412=B412)*(D$14:D412=D412))>1,0,1)","v":0},1,1,{"$f":"IF(ISBLANK(G412),1,IFERROR(VLOOKUP(G412,Tipo!$C$12:$C$27,1,FALSE),\"NO\"))","v":1},1,{"$f":"IF(ISBLANK(K412),1,IFERROR(VLOOKUP(K412,Eje_Pilar_Prop!C394:C495,1,FALSE),\"NO\"))","v":1},1,{"$f":"IF(OR(YEAR(X412)=2020,ISBLANK(X412)),1,\"NO\")","v":1},1]
[null,null,null,null,null,null,null,null,null,null,null,{"$f":"IF(ISERROR(VLOOKUP(K413,Eje_Pilar_Prop!$C$2:$E$104,2,FALSE)),\" \",VLOOKUP(K413,Eje_Pilar_Prop!$C$2:$E$104,2,FALSE))","v":" "},{"$f":"IF(ISERROR(VLOOKUP(K413,Eje_Pilar_Prop!$C$2:$E$104,3,FALSE)),\" \",VLOOKUP(K413,Eje_Pilar_Prop!$C$2:$E$104,3,FALSE))","v":" "},null,null,null,null,null,null,null,null,0,null,null,null,null,null,null,null,null,null,null,null,null,null,null,null,"-",null,{"$f":"IF(SUMPRODUCT((A$14:A413=A413)*(B$14:B413=B413)*(D$14:D413=D413))>1,0,1)","v":0},1,1,{"$f":"IF(ISBLANK(G413),1,IFERROR(VLOOKUP(G413,Tipo!$C$12:$C$27,1,FALSE),\"NO\"))","v":1},1,{"$f":"IF(ISBLANK(K413),1,IFERROR(VLOOKUP(K413,Eje_Pilar_Prop!C395:C496,1,FALSE),\"NO\"))","v":1},1,1,1]
[null,null,null,null,null,null,null,null,null,null,null,{"$f":"IF(ISERROR(VLOOKUP(K414,Eje_Pilar_Prop!$C$2:$E$104,2,FALSE)),\" \",VLOOKUP(K414,Eje_Pilar_Prop!$C$2:$E$104,2,FALSE))","v":" "},{"$f":"IF(ISERROR(VLOOKUP(K414,Eje_Pilar_Prop!$C$2:$E$104,3,FALSE)),\" \",VLOOKUP(K414,Eje_Pilar_Prop!$C$2:$E$104,3,FALSE))","v":" "},null,null,null,null,null,null,null,null,0,null,null,null,null,null,null,null,null,null,null,null,null,null,null,null,{"$f":"IF(ISERROR(W414/V414),\"-\",(W414/V414))","v":"-"},null,{"$f":"IF(SUMPRODUCT((A$14:A414=A414)*(B$14:B414=B414)*(D$14:D414=D414))>1,0,1)","v":0},1,1,{"$f":"IF(ISBLANK(G414),1,IFERROR(VLOOKUP(G414,Tipo!$C$12:$C$27,1,FALSE),\"NO\"))","v":1},1,{"$f":"IF(ISBLANK(K414),1,IFERROR(VLOOKUP(K414,Eje_Pilar_Prop!C396:C497,1,FALSE),\"NO\"))","v":1},1,1,1]
[null,null,null,null,null,null,null,null,null,null,null,{"$f":"IF(ISERROR(VLOOKUP(K415,Eje_Pilar_Prop!$C$2:$E$104,2,FALSE)),\" \",VLOOKUP(K415,Eje_Pilar_Prop!$C$2:$E$104,2,FALSE))","v":" "},{"$f":"IF(ISERROR(VLOOKUP(K415,Eje_Pilar_Prop!$C$2:$E$104,3,FALSE)),\" \",VLOOKUP(K415,Eje_Pilar_Prop!$C$2:$E$104,3,FALSE))","v":" "},null,null,null,null,null,null,null,null,{"$f":"+Q415+S415+U415","v":0},null,null,null,null,null,null,null,null,null,null,null,null,null,null,null,"-",null,{"$f":"IF(SUMPRODUCT((A$14:A415=A415)*(B$14:B415=B415)*(D$14:D415=D415))>1,0,1)","v":0},1,1,{"$f":"IF(ISBLANK(G415),1,IFERROR(VLOOKUP(G415,Tipo!$C$12:$C$27,1,FALSE),\"NO\"))","v":1},1,{"$f":"IF(ISBLANK(K415),1,IFERROR(VLOOKUP(K415,Eje_Pilar_Prop!C397:C498,1,FALSE),\"NO\"))","v":1},1,1,1]
[null,null,null,null,null,null,null,null,null,null,null,{"$f":"IF(ISERROR(VLOOKUP(K416,Eje_Pilar_Prop!$C$2:$E$104,2,FALSE)),\" \",VLOOKUP(K416,Eje_Pilar_Prop!$C$2:$E$104,2,FALSE))","v":" "},{"$f":"IF(ISERROR(VLOOKUP(K416,Eje_Pilar_Prop!$C$2:$E$104,3,FALSE)),\" \",VLOOKUP(K416,Eje_Pilar_Prop!$C$2:$E$104,3,FALSE))","v":" "},null,null,null,null,null,null,null,null,0,null,null,null,null,null,null,null,null,null,null,null,null,null,null,null,"-",null,{"$f":"IF(SUMPRODUCT((A$14:A416=A416)*(B$14:B416=B416)*(D$14:D416=D416))>1,0,1)","v":0},1,1,{"$f":"IF(ISBLANK(G416),1,IFERROR(VLOOKUP(G416,Tipo!$C$12:$C$27,1,FALSE),\"NO\"))","v":1},1,{"$f":"IF(ISBLANK(K416),1,IFERROR(VLOOKUP(K416,Eje_Pilar_Prop!C398:C499,1,FALSE),\"NO\"))","v":1},1,1,1]
[null,null,null,null,null,null,null,null,null,null,null,{"$f":"IF(ISERROR(VLOOKUP(K417,Eje_Pilar_Prop!$C$2:$E$104,2,FALSE)),\" \",VLOOKUP(K417,Eje_Pilar_Prop!$C$2:$E$104,2,FALSE))","v":" "},{"$f":"IF(ISERROR(VLOOKUP(K417,Eje_Pilar_Prop!$C$2:$E$104,3,FALSE)),\" \",VLOOKUP(K417,Eje_Pilar_Prop!$C$2:$E$104,3,FALSE))","v":" "},null,null,null,null,null,null,null,null,0,null,null,null,null,null,null,null,null,null,null,null,null,null,null,null,"-",null,{"$f":"IF(SUMPRODUCT((A$14:A417=A417)*(B$14:B417=B417)*(D$14:D417=D417))>1,0,1)","v":0},1,1,{"$f":"IF(ISBLANK(G417),1,IFERROR(VLOOKUP(G417,Tipo!$C$12:$C$27,1,FALSE),\"NO\"))","v":1},1,{"$f":"IF(ISBLANK(K417),1,IFERROR(VLOOKUP(K417,Eje_Pilar_Prop!C399:C500,1,FALSE),\"NO\"))","v":1},1,1,1]
[null,null,null,null,null,null,null,null,null,null,null,{"$f":"IF(ISERROR(VLOOKUP(K418,Eje_Pilar_Prop!$C$2:$E$104,2,FALSE)),\" \",VLOOKUP(K418,Eje_Pilar_Prop!$C$2:$E$104,2,FALSE))","v":" "},{"$f":"IF(ISERROR(VLOOKUP(K418,Eje_Pilar_Prop!$C$2:$E$104,3,FALSE)),\" \",VLOOKUP(K418,Eje_Pilar_Prop!$C$2:$E$104,3,FALSE))","v":" "},null,null,null,null,null,null,null,null,0,null,null,null,null,null,null,null,null,null,null,null,null,null,null,null,"-",null,{"$f":"IF(SUMPRODUCT((A$14:A418=A418)*(B$14:B418=B418)*(D$14:D418=D418))>1,0,1)","v":0},1,1,{"$f":"IF(ISBLANK(G418),1,IFERROR(VLOOKUP(G418,Tipo!$C$12:$C$27,1,FALSE),\"NO\"))","v":1},1,{"$f":"IF(ISBLANK(K418),1,IFERROR(VLOOKUP(K418,Eje_Pilar_Prop!C400:C501,1,FALSE),\"NO\"))","v":1},1,1,1]
[null,null,null,null,null,null,null,null,null,null,null,{"$f":"IF(ISERROR(VLOOKUP(K419,Eje_Pilar_Prop!$C$2:$E$104,2,FALSE)),\" \",VLOOKUP(K419,Eje_Pilar_Prop!$C$2:$E$104,2,FALSE))","v":" "},{"$f":"IF(ISERROR(VLOOKUP(K419,Eje_Pilar_Prop!$C$2:$E$104,3,FALSE)),\" \",VLOOKUP(K419,Eje_Pilar_Prop!$C$2:$E$104,3,FALSE))","v":" "},null,null,null,null,null,null,null,null,0,null,null,null,null,null,null,null,null,null,null,null,null,null,null,null,"-",null,{"$f":"IF(SUMPRODUCT((A$14:A419=A419)*(B$14:B419=B419)*(D$14:D419=D419))>1,0,1)","v":0},1,1,{"$f":"IF(ISBLANK(G419),1,IFERROR(VLOOKUP(G419,Tipo!$C$12:$C$27,1,FALSE),\"NO\"))","v":1},1,{"$f":"IF(ISBLANK(K419),1,IFERROR(VLOOKUP(K419,Eje_Pilar_Prop!C401:C502,1,FALSE),\"NO\"))","v":1},1,1,1]
[null,null,null,null,null,null,null,null,null,null,null,{"$f":"IF(ISERROR(VLOOKUP(K420,Eje_Pilar_Prop!$C$2:$E$104,2,FALSE)),\" \",VLOOKUP(K420,Eje_Pilar_Prop!$C$2:$E$104,2,FALSE))","v":" "},{"$f":"IF(ISERROR(VLOOKUP(K420,Eje_Pilar_Prop!$C$2:$E$104,3,FALSE)),\" \",VLOOKUP(K420,Eje_Pilar_Prop!$C$2:$E$104,3,FALSE))","v":" "},null,null,null,null,null,null,null,null,0,null,null,null,null,null,null,null,null,null,null,null,null,null,null,null,"-",null,{"$f":"IF(SUMPRODUCT((A$14:A420=A420)*(B$14:B420=B420)*(D$14:D420=D420))>1,0,1)","v":0},1,1,{"$f":"IF(ISBLANK(G420),1,IFERROR(VLOOKUP(G420,Tipo!$C$12:$C$27,1,FALSE),\"NO\"))","v":1},1,{"$f":"IF(ISBLANK(K420),1,IFERROR(VLOOKUP(K420,Eje_Pilar_Prop!C402:C503,1,FALSE),\"NO\"))","v":1},1,1,1]
[null,null,null,null,null,null,null,null,null,null,null,{"$f":"IF(ISERROR(VLOOKUP(K421,Eje_Pilar_Prop!$C$2:$E$104,2,FALSE)),\" \",VLOOKUP(K421,Eje_Pilar_Prop!$C$2:$E$104,2,FALSE))","v":" "},{"$f":"IF(ISERROR(VLOOKUP(K421,Eje_Pilar_Prop!$C$2:$E$104,3,FALSE)),\" \",VLOOKUP(K421,Eje_Pilar_Prop!$C$2:$E$104,3,FALSE))","v":" "},null,null,null,null,null,null,null,null,0,null,null,null,null,null,null,null,null,null,null,null,null,null,null,null,"-",null,{"$f":"IF(SUMPRODUCT((A$14:A421=A421)*(B$14:B421=B421)*(D$14:D421=D421))>1,0,1)","v":0},1,1,{"$f":"IF(ISBLANK(G421),1,IFERROR(VLOOKUP(G421,Tipo!$C$12:$C$27,1,FALSE),\"NO\"))","v":1},1,{"$f":"IF(ISBLANK(K421),1,IFERROR(VLOOKUP(K421,Eje_Pilar_Prop!C403:C504,1,FALSE),\"NO\"))","v":1},1,1,1]
[null,null,null,null,null,null,null,null,null,null,null,{"$f":"IF(ISERROR(VLOOKUP(K422,Eje_Pilar_Prop!$C$2:$E$104,2,FALSE)),\" \",VLOOKUP(K422,Eje_Pilar_Prop!$C$2:$E$104,2,FALSE))","v":" "},{"$f":"IF(ISERROR(VLOOKUP(K422,Eje_Pilar_Prop!$C$2:$E$104,3,FALSE)),\" \",VLOOKUP(K422,Eje_Pilar_Prop!$C$2:$E$104,3,FALSE))","v":" "},null,null,null,null,null,null,null,null,0,null,null,null,null,null,null,null,null,null,null,null,null,null,null,null,"-",null,{"$f":"IF(SUMPRODUCT((A$14:A422=A422)*(B$14:B422=B422)*(D$14:D422=D422))>1,0,1)","v":0},1,1,{"$f":"IF(ISBLANK(G422),1,IFERROR(VLOOKUP(G422,Tipo!$C$12:$C$27,1,FALSE),\"NO\"))","v":1},1,{"$f":"IF(ISBLANK(K422),1,IFERROR(VLOOKUP(K422,Eje_Pilar_Prop!C404:C505,1,FALSE),\"NO\"))","v":1},1,1,1]
[null,null,null,null,null,null,null,null,null,null,null,{"$f":"IF(ISERROR(VLOOKUP(K423,Eje_Pilar_Prop!$C$2:$E$104,2,FALSE)),\" \",VLOOKUP(K423,Eje_Pilar_Prop!$C$2:$E$104,2,FALSE))","v":" "},{"$f":"IF(ISERROR(VLOOKUP(K423,Eje_Pilar_Prop!$C$2:$E$104,3,FALSE)),\" \",VLOOKUP(K423,Eje_Pilar_Prop!$C$2:$E$104,3,FALSE))","v":" "},null,null,null,null,null,null,null,null,0,null,null,null,null,null,null,null,null,null,null,null,null,null,null,null,"-",null,{"$f":"IF(SUMPRODUCT((A$14:A423=A423)*(B$14:B423=B423)*(D$14:D423=D423))>1,0,1)","v":0},1,1,{"$f":"IF(ISBLANK(G423),1,IFERROR(VLOOKUP(G423,Tipo!$C$12:$C$27,1,FALSE),\"NO\"))","v":1},1,{"$f":"IF(ISBLANK(K423),1,IFERROR(VLOOKUP(K423,Eje_Pilar_Prop!C405:C506,1,FALSE),\"NO\"))","v":1},1,1,1]
[null,null,null,null,null,null,null,null,null,null,null,{"$f":"IF(ISERROR(VLOOKUP(K424,Eje_Pilar_Prop!$C$2:$E$104,2,FALSE)),\" \",VLOOKUP(K424,Eje_Pilar_Prop!$C$2:$E$104,2,FALSE))","v":" "},{"$f":"IF(ISERROR(VLOOKUP(K424,Eje_Pilar_Prop!$C$2:$E$104,3,FALSE)),\" \",VLOOKUP(K424,Eje_Pilar_Prop!$C$2:$E$104,3,FALSE))","v":" "},null,null,null,null,null,null,null,null,0,null,null,null,null,null,null,null,null,null,null,null,null,null,null,null,"-",null,{"$f":"IF(SUMPRODUCT((A$14:A424=A424)*(B$14:B424=B424)*(D$14:D424=D424))>1,0,1)","v":0},1,1,{"$f":"IF(ISBLANK(G424),1,IFERROR(VLOOKUP(G424,Tipo!$C$12:$C$27,1,FALSE),\"NO\"))","v":1},1,{"$f":"IF(ISBLANK(K424),1,IFERROR(VLOOKUP(K424,Eje_Pilar_Prop!C406:C507,1,FALSE),\"NO\"))","v":1},1,1,1]
[null,null,null,null,null,null,null,null,null,null,null,{"$f":"IF(ISERROR(VLOOKUP(K425,Eje_Pilar_Prop!$C$2:$E$104,2,FALSE)),\" \",VLOOKUP(K425,Eje_Pilar_Prop!$C$2:$E$104,2,FALSE))","v":" "},{"$f":"IF(ISERROR(VLOOKUP(K425,Eje_Pilar_Prop!$C$2:$E$104,3,FALSE)),\" \",VLOOKUP(K425,Eje_Pilar_Prop!$C$2:$E$104,3,FALSE))","v":" "},null,null,null,null,null,null,null,null,0,null,null,null,null,null,null,null,null,null,null,null,null,null,null,null,"-",null,{"$f":"IF(SUMPRODUCT((A$14:A425=A425)*(B$14:B425=B425)*(D$14:D425=D425))>1,0,1)","v":0},1,1,{"$f":"IF(ISBLANK(G425),1,IFERROR(VLOOKUP(G425,Tipo!$C$12:$C$27,1,FALSE),\"NO\"))","v":1},1,{"$f":"IF(ISBLANK(K425),1,IFERROR(VLOOKUP(K425,Eje_Pilar_Prop!C407:C508,1,FALSE),\"NO\"))","v":1},1,1,1]
[null,null,null,null,null,null,null,null,null,null,null,{"$f":"IF(ISERROR(VLOOKUP(K426,Eje_Pilar_Prop!$C$2:$E$104,2,FALSE)),\" \",VLOOKUP(K426,Eje_Pilar_Prop!$C$2:$E$104,2,FALSE))","v":" "},{"$f":"IF(ISERROR(VLOOKUP(K426,Eje_Pilar_Prop!$C$2:$E$104,3,FALSE)),\" \",VLOOKUP(K426,Eje_Pilar_Prop!$C$2:$E$104,3,FALSE))","v":" "},null,null,null,null,null,null,null,null,0,null,null,null,null,null,null,null,null,null,null,null,null,null,null,null,"-",null,{"$f":"IF(SUMPRODUCT((A$14:A426=A426)*(B$14:B426=B426)*(D$14:D426=D426))>1,0,1)","v":0},1,1,{"$f":"IF(ISBLANK(G426),1,IFERROR(VLOOKUP(G426,Tipo!$C$12:$C$27,1,FALSE),\"NO\"))","v":1},1,{"$f":"IF(ISBLANK(K426),1,IFERROR(VLOOKUP(K426,Eje_Pilar_Prop!C408:C509,1,FALSE),\"NO\"))","v":1},1,1,1]
[null,null,null,null,null,null,null,null,null,null,null,{"$f":"IF(ISERROR(VLOOKUP(K427,Eje_Pilar_Prop!$C$2:$E$104,2,FALSE)),\" \",VLOOKUP(K427,Eje_Pilar_Prop!$C$2:$E$104,2,FALSE))","v":" "},{"$f":"IF(ISERROR(VLOOKUP(K427,Eje_Pilar_Prop!$C$2:$E$104,3,FALSE)),\" \",VLOOKUP(K427,Eje_Pilar_Prop!$C$2:$E$104,3,FALSE))","v":" "},null,null,null,null,null,null,null,null,0,null,null,null,null,null,null,null,null,null,null,null,null,null,null,null,"-",null,{"$f":"IF(SUMPRODUCT((A$14:A427=A427)*(B$14:B427=B427)*(D$14:D427=D427))>1,0,1)","v":0},1,1,{"$f":"IF(ISBLANK(G427),1,IFERROR(VLOOKUP(G427,Tipo!$C$12:$C$27,1,FALSE),\"NO\"))","v":1},1,{"$f":"IF(ISBLANK(K427),1,IFERROR(VLOOKUP(K427,Eje_Pilar_Prop!C409:C510,1,FALSE),\"NO\"))","v":1},1,1,1]
[null,null,null,null,null,null,null,null,null,null,null,{"$f":"IF(ISERROR(VLOOKUP(K428,Eje_Pilar_Prop!$C$2:$E$104,2,FALSE)),\" \",VLOOKUP(K428,Eje_Pilar_Prop!$C$2:$E$104,2,FALSE))","v":" "},{"$f":"IF(ISERROR(VLOOKUP(K428,Eje_Pilar_Prop!$C$2:$E$104,3,FALSE)),\" \",VLOOKUP(K428,Eje_Pilar_Prop!$C$2:$E$104,3,FALSE))","v":" "},null,null,null,null,null,null,null,null,0,null,null,null,null,null,null,null,null,null,null,null,null,null,null,null,"-",null,{"$f":"IF(SUMPRODUCT((A$14:A428=A428)*(B$14:B428=B428)*(D$14:D428=D428))>1,0,1)","v":0},1,1,{"$f":"IF(ISBLANK(G428),1,IFERROR(VLOOKUP(G428,Tipo!$C$12:$C$27,1,FALSE),\"NO\"))","v":1},1,{"$f":"IF(ISBLANK(K428),1,IFERROR(VLOOKUP(K428,Eje_Pilar_Prop!C410:C511,1,FALSE),\"NO\"))","v":1},1,1,1]
[null,null,null,null,null,null,null,null,null,null,null,{"$f":"IF(ISERROR(VLOOKUP(K429,Eje_Pilar_Prop!$C$2:$E$104,2,FALSE)),\" \",VLOOKUP(K429,Eje_Pilar_Prop!$C$2:$E$104,2,FALSE))","v":" "},{"$f":"IF(ISERROR(VLOOKUP(K429,Eje_Pilar_Prop!$C$2:$E$104,3,FALSE)),\" \",VLOOKUP(K429,Eje_Pilar_Prop!$C$2:$E$104,3,FALSE))","v":" "},null,null,null,null,null,null,null,null,0,null,null,null,null,null,null,null,null,null,null,null,null,null,null,null,"-",null,{"$f":"IF(SUMPRODUCT((A$14:A429=A429)*(B$14:B429=B429)*(D$14:D429=D429))>1,0,1)","v":0},1,1,{"$f":"IF(ISBLANK(G429),1,IFERROR(VLOOKUP(G429,Tipo!$C$12:$C$27,1,FALSE),\"NO\"))","v":1},1,{"$f":"IF(ISBLANK(K429),1,IFERROR(VLOOKUP(K429,Eje_Pilar_Prop!C411:C512,1,FALSE),\"NO\"))","v":1},1,1,1]
[null,null,null,null,null,null,null,null,null,null,null,{"$f":"IF(ISERROR(VLOOKUP(K430,Eje_Pilar_Prop!$C$2:$E$104,2,FALSE)),\" \",VLOOKUP(K430,Eje_Pilar_Prop!$C$2:$E$104,2,FALSE))","v":" "},{"$f":"IF(ISERROR(VLOOKUP(K430,Eje_Pilar_Prop!$C$2:$E$104,3,FALSE)),\" \",VLOOKUP(K430,Eje_Pilar_Prop!$C$2:$E$104,3,FALSE))","v":" "},null,null,null,null,null,null,null,null,0,null,null,null,null,null,null,null,null,null,null,null,null,null,null,null,"-",null,{"$f":"IF(SUMPRODUCT((A$14:A430=A430)*(B$14:B430=B430)*(D$14:D430=D430))>1,0,1)","v":0},1,1,{"$f":"IF(ISBLANK(G430),1,IFERROR(VLOOKUP(G430,Tipo!$C$12:$C$27,1,FALSE),\"NO\"))","v":1},1,{"$f":"IF(ISBLANK(K430),1,IFERROR(VLOOKUP(K430,Eje_Pilar_Prop!C412:C513,1,FALSE),\"NO\"))","v":1},1,1,1]
[null,null,null,null,null,null,null,null,null,null,null,{"$f":"IF(ISERROR(VLOOKUP(K431,Eje_Pilar_Prop!$C$2:$E$104,2,FALSE)),\" \",VLOOKUP(K431,Eje_Pilar_Prop!$C$2:$E$104,2,FALSE))","v":" "},{"$f":"IF(ISERROR(VLOOKUP(K431,Eje_Pilar_Prop!$C$2:$E$104,3,FALSE)),\" \",VLOOKUP(K431,Eje_Pilar_Prop!$C$2:$E$104,3,FALSE))","v":" "},null,null,null,null,null,null,null,null,0,null,null,null,null,null,null,null,null,null,null,null,null,null,null,null,"-",null,{"$f":"IF(SUMPRODUCT((A$14:A431=A431)*(B$14:B431=B431)*(D$14:D431=D431))>1,0,1)","v":0},1,1,{"$f":"IF(ISBLANK(G431),1,IFERROR(VLOOKUP(G431,Tipo!$C$12:$C$27,1,FALSE),\"NO\"))","v":1},1,{"$f":"IF(ISBLANK(K431),1,IFERROR(VLOOKUP(K431,Eje_Pilar_Prop!C413:C514,1,FALSE),\"NO\"))","v":1},1,1,1]
[null,null,null,null,null,null,null,null,null,null,null,{"$f":"IF(ISERROR(VLOOKUP(K432,Eje_Pilar_Prop!$C$2:$E$104,2,FALSE)),\" \",VLOOKUP(K432,Eje_Pilar_Prop!$C$2:$E$104,2,FALSE))","v":" "},{"$f":"IF(ISERROR(VLOOKUP(K432,Eje_Pilar_Prop!$C$2:$E$104,3,FALSE)),\" \",VLOOKUP(K432,Eje_Pilar_Prop!$C$2:$E$104,3,FALSE))","v":" "},null,null,null,null,null,null,null,null,0,null,null,null,null,null,null,null,null,null,null,null,null,null,null,null,"-",null,{"$f":"IF(SUMPRODUCT((A$14:A432=A432)*(B$14:B432=B432)*(D$14:D432=D432))>1,0,1)","v":0},1,1,{"$f":"IF(ISBLANK(G432),1,IFERROR(VLOOKUP(G432,Tipo!$C$12:$C$27,1,FALSE),\"NO\"))","v":1},1,{"$f":"IF(ISBLANK(K432),1,IFERROR(VLOOKUP(K432,Eje_Pilar_Prop!C414:C515,1,FALSE),\"NO\"))","v":1},1,1,1]
[null,null,null,null,null,null,null,null,null,null,null,{"$f":"IF(ISERROR(VLOOKUP(K433,Eje_Pilar_Prop!$C$2:$E$104,2,FALSE)),\" \",VLOOKUP(K433,Eje_Pilar_Prop!$C$2:$E$104,2,FALSE))","v":" "},{"$f":"IF(ISERROR(VLOOKUP(K433,Eje_Pilar_Prop!$C$2:$E$104,3,FALSE)),\" \",VLOOKUP(K433,Eje_Pilar_Prop!$C$2:$E$104,3,FALSE))","v":" "},null,null,null,null,null,null,null,null,0,null,null,null,null,null,null,null,null,null,null,null,null,null,null,null,"-",null,{"$f":"IF(SUMPRODUCT((A$14:A433=A433)*(B$14:B433=B433)*(D$14:D433=D433))>1,0,1)","v":0},1,1,{"$f":"IF(ISBLANK(G433),1,IFERROR(VLOOKUP(G433,Tipo!$C$12:$C$27,1,FALSE),\"NO\"))","v":1},1,{"$f":"IF(ISBLANK(K433),1,IFERROR(VLOOKUP(K433,Eje_Pilar_Prop!C415:C516,1,FALSE),\"NO\"))","v":1},1,1,1]
[null,null,null,null,null,null,null,null,null,null,null,{"$f":"IF(ISERROR(VLOOKUP(K434,Eje_Pilar_Prop!$C$2:$E$104,2,FALSE)),\" \",VLOOKUP(K434,Eje_Pilar_Prop!$C$2:$E$104,2,FALSE))","v":" "},{"$f":"IF(ISERROR(VLOOKUP(K434,Eje_Pilar_Prop!$C$2:$E$104,3,FALSE)),\" \",VLOOKUP(K434,Eje_Pilar_Prop!$C$2:$E$104,3,FALSE))","v":" "},null,null,null,null,null,null,null,null,0,null,null,null,null,null,null,null,null,null,null,null,null,null,null,null,"-",null,{"$f":"IF(SUMPRODUCT((A$14:A434=A434)*(B$14:B434=B434)*(D$14:D434=D434))>1,0,1)","v":0},1,1,{"$f":"IF(ISBLANK(G434),1,IFERROR(VLOOKUP(G434,Tipo!$C$12:$C$27,1,FALSE),\"NO\"))","v":1},1,{"$f":"IF(ISBLANK(K434),1,IFERROR(VLOOKUP(K434,Eje_Pilar_Prop!C416:C517,1,FALSE),\"NO\"))","v":1},1,1,1]
[null,null,null,null,null,null,null,null,null,null,null,{"$f":"IF(ISERROR(VLOOKUP(K435,Eje_Pilar_Prop!$C$2:$E$104,2,FALSE)),\" \",VLOOKUP(K435,Eje_Pilar_Prop!$C$2:$E$104,2,FALSE))","v":" "},{"$f":"IF(ISERROR(VLOOKUP(K435,Eje_Pilar_Prop!$C$2:$E$104,3,FALSE)),\" \",VLOOKUP(K435,Eje_Pilar_Prop!$C$2:$E$104,3,FALSE))","v":" "},null,null,null,null,null,null,null,null,0,null,null,null,null,null,null,null,null,null,null,null,null,null,null,null,"-",null,{"$f":"IF(SUMPRODUCT((A$14:A435=A435)*(B$14:B435=B435)*(D$14:D435=D435))>1,0,1)","v":0},1,1,{"$f":"IF(ISBLANK(G435),1,IFERROR(VLOOKUP(G435,Tipo!$C$12:$C$27,1,FALSE),\"NO\"))","v":1},1,{"$f":"IF(ISBLANK(K435),1,IFERROR(VLOOKUP(K435,Eje_Pilar_Prop!C417:C518,1,FALSE),\"NO\"))","v":1},1,1,1]
[null,null,null,null,null,null,null,null,null,null,null,{"$f":"IF(ISERROR(VLOOKUP(K436,Eje_Pilar_Prop!$C$2:$E$104,2,FALSE)),\" \",VLOOKUP(K436,Eje_Pilar_Prop!$C$2:$E$104,2,FALSE))","v":" "},{"$f":"IF(ISERROR(VLOOKUP(K436,Eje_Pilar_Prop!$C$2:$E$104,3,FALSE)),\" \",VLOOKUP(K436,Eje_Pilar_Prop!$C$2:$E$104,3,FALSE))","v":" "},null,null,null,null,null,null,null,null,0,null,null,null,null,null,null,null,null,null,null,null,null,null,null,null,"-",null,{"$f":"IF(SUMPRODUCT((A$14:A436=A436)*(B$14:B436=B436)*(D$14:D436=D436))>1,0,1)","v":0},1,1,{"$f":"IF(ISBLANK(G436),1,IFERROR(VLOOKUP(G436,Tipo!$C$12:$C$27,1,FALSE),\"NO\"))","v":1},1,{"$f":"IF(ISBLANK(K436),1,IFERROR(VLOOKUP(K436,Eje_Pilar_Prop!C418:C519,1,FALSE),\"NO\"))","v":1},1,1,1]
[null,null,null,null,null,null,null,null,null,null,null,{"$f":"IF(ISERROR(VLOOKUP(K437,Eje_Pilar_Prop!$C$2:$E$104,2,FALSE)),\" \",VLOOKUP(K437,Eje_Pilar_Prop!$C$2:$E$104,2,FALSE))","v":" "},{"$f":"IF(ISERROR(VLOOKUP(K437,Eje_Pilar_Prop!$C$2:$E$104,3,FALSE)),\" \",VLOOKUP(K437,Eje_Pilar_Prop!$C$2:$E$104,3,FALSE))","v":" "},null,null,null,null,null,null,null,null,0,null,null,null,null,null,null,null,null,null,null,null,null,null,null,null,"-",null,{"$f":"IF(SUMPRODUCT((A$14:A437=A437)*(B$14:B437=B437)*(D$14:D437=D437))>1,0,1)","v":0},1,1,{"$f":"IF(ISBLANK(G437),1,IFERROR(VLOOKUP(G437,Tipo!$C$12:$C$27,1,FALSE),\"NO\"))","v":1},1,{"$f":"IF(ISBLANK(K437),1,IFERROR(VLOOKUP(K437,Eje_Pilar_Prop!C419:C520,1,FALSE),\"NO\"))","v":1},1,1,1]
[null,null,null,null,null,null,null,null,null,null,null,{"$f":"IF(ISERROR(VLOOKUP(K438,Eje_Pilar_Prop!$C$2:$E$104,2,FALSE)),\" \",VLOOKUP(K438,Eje_Pilar_Prop!$C$2:$E$104,2,FALSE))","v":" "},{"$f":"IF(ISERROR(VLOOKUP(K438,Eje_Pilar_Prop!$C$2:$E$104,3,FALSE)),\" \",VLOOKUP(K438,Eje_Pilar_Prop!$C$2:$E$104,3,FALSE))","v":" "},null,null,null,null,null,null,null,null,0,null,null,null,null,null,null,null,null,null,null,null,null,null,null,null,"-",null,{"$f":"IF(SUMPRODUCT((A$14:A438=A438)*(B$14:B438=B438)*(D$14:D438=D438))>1,0,1)","v":0},1,1,{"$f":"IF(ISBLANK(G438),1,IFERROR(VLOOKUP(G438,Tipo!$C$12:$C$27,1,FALSE),\"NO\"))","v":1},1,{"$f":"IF(ISBLANK(K438),1,IFERROR(VLOOKUP(K438,Eje_Pilar_Prop!C420:C521,1,FALSE),\"NO\"))","v":1},1,1,1]
[null,null,null,null,null,null,null,null,null,null,null,{"$f":"IF(ISERROR(VLOOKUP(K439,Eje_Pilar_Prop!$C$2:$E$104,2,FALSE)),\" \",VLOOKUP(K439,Eje_Pilar_Prop!$C$2:$E$104,2,FALSE))","v":" "},{"$f":"IF(ISERROR(VLOOKUP(K439,Eje_Pilar_Prop!$C$2:$E$104,3,FALSE)),\" \",VLOOKUP(K439,Eje_Pilar_Prop!$C$2:$E$104,3,FALSE))","v":" "},null,null,null,null,null,null,null,null,0,null,null,null,null,null,null,null,null,null,null,null,null,null,null,null,"-",null,{"$f":"IF(SUMPRODUCT((A$14:A439=A439)*(B$14:B439=B439)*(D$14:D439=D439))>1,0,1)","v":0},1,1,{"$f":"IF(ISBLANK(G439),1,IFERROR(VLOOKUP(G439,Tipo!$C$12:$C$27,1,FALSE),\"NO\"))","v":1},1,{"$f":"IF(ISBLANK(K439),1,IFERROR(VLOOKUP(K439,Eje_Pilar_Prop!C421:C522,1,FALSE),\"NO\"))","v":1},1,1,1]
[null,null,null,null,null,null,null,null,null,null,null,{"$f":"IF(ISERROR(VLOOKUP(K440,Eje_Pilar_Prop!$C$2:$E$104,2,FALSE)),\" \",VLOOKUP(K440,Eje_Pilar_Prop!$C$2:$E$104,2,FALSE))","v":" "},{"$f":"IF(ISERROR(VLOOKUP(K440,Eje_Pilar_Prop!$C$2:$E$104,3,FALSE)),\" \",VLOOKUP(K440,Eje_Pilar_Prop!$C$2:$E$104,3,FALSE))","v":" "},null,null,null,null,null,null,null,null,0,null,null,null,null,null,null,null,null,null,null,null,null,null,null,null,"-",null,{"$f":"IF(SUMPRODUCT((A$14:A440=A440)*(B$14:B440=B440)*(D$14:D440=D440))>1,0,1)","v":0},1,1,{"$f":"IF(ISBLANK(G440),1,IFERROR(VLOOKUP(G440,Tipo!$C$12:$C$27,1,FALSE),\"NO\"))","v":1},1,{"$f":"IF(ISBLANK(K440),1,IFERROR(VLOOKUP(K440,Eje_Pilar_Prop!C422:C523,1,FALSE),\"NO\"))","v":1},1,1,1]
[null,null,null,null,null,null,null,null,null,null,null,{"$f":"IF(ISERROR(VLOOKUP(K441,Eje_Pilar_Prop!$C$2:$E$104,2,FALSE)),\" \",VLOOKUP(K441,Eje_Pilar_Prop!$C$2:$E$104,2,FALSE))","v":" "},{"$f":"IF(ISERROR(VLOOKUP(K441,Eje_Pilar_Prop!$C$2:$E$104,3,FALSE)),\" \",VLOOKUP(K441,Eje_Pilar_Prop!$C$2:$E$104,3,FALSE))","v":" "},null,null,null,null,null,null,null,null,0,null,null,null,null,null,null,null,null,null,null,null,null,null,null,null,"-",null,{"$f":"IF(SUMPRODUCT((A$14:A441=A441)*(B$14:B441=B441)*(D$14:D441=D441))>1,0,1)","v":0},1,1,{"$f":"IF(ISBLANK(G441),1,IFERROR(VLOOKUP(G441,Tipo!$C$12:$C$27,1,FALSE),\"NO\"))","v":1},1,{"$f":"IF(ISBLANK(K441),1,IFERROR(VLOOKUP(K441,Eje_Pilar_Prop!C423:C524,1,FALSE),\"NO\"))","v":1},1,1,1]
[null,null,null,null,null,null,null,null,null,null,null,{"$f":"IF(ISERROR(VLOOKUP(K442,Eje_Pilar_Prop!$C$2:$E$104,2,FALSE)),\" \",VLOOKUP(K442,Eje_Pilar_Prop!$C$2:$E$104,2,FALSE))","v":" "},{"$f":"IF(ISERROR(VLOOKUP(K442,Eje_Pilar_Prop!$C$2:$E$104,3,FALSE)),\" \",VLOOKUP(K442,Eje_Pilar_Prop!$C$2:$E$104,3,FALSE))","v":" "},null,null,null,null,null,null,null,null,0,null,null,null,null,null,null,null,null,null,null,null,null,null,null,null,"-",null,{"$f":"IF(SUMPRODUCT((A$14:A442=A442)*(B$14:B442=B442)*(D$14:D442=D442))>1,0,1)","v":0},1,1,{"$f":"IF(ISBLANK(G442),1,IFERROR(VLOOKUP(G442,Tipo!$C$12:$C$27,1,FALSE),\"NO\"))","v":1},1,{"$f":"IF(ISBLANK(K442),1,IFERROR(VLOOKUP(K442,Eje_Pilar_Prop!C424:C525,1,FALSE),\"NO\"))","v":1},1,1,1]
[null,null,null,null,null,null,null,null,null,null,null,{"$f":"IF(ISERROR(VLOOKUP(K443,Eje_Pilar_Prop!$C$2:$E$104,2,FALSE)),\" \",VLOOKUP(K443,Eje_Pilar_Prop!$C$2:$E$104,2,FALSE))","v":" "},{"$f":"IF(ISERROR(VLOOKUP(K443,Eje_Pilar_Prop!$C$2:$E$104,3,FALSE)),\" \",VLOOKUP(K443,Eje_Pilar_Prop!$C$2:$E$104,3,FALSE))","v":" "},null,null,null,null,null,null,null,null,0,null,null,null,null,null,null,null,null,null,null,null,null,null,null,null,"-",null,{"$f":"IF(SUMPRODUCT((A$14:A443=A443)*(B$14:B443=B443)*(D$14:D443=D443))>1,0,1)","v":0},1,1,{"$f":"IF(ISBLANK(G443),1,IFERROR(VLOOKUP(G443,Tipo!$C$12:$C$27,1,FALSE),\"NO\"))","v":1},1,{"$f":"IF(ISBLANK(K443),1,IFERROR(VLOOKUP(K443,Eje_Pilar_Prop!C425:C526,1,FALSE),\"NO\"))","v":1},1,1,1]
[null,null,null,null,null,null,null,null,null,null,null,{"$f":"IF(ISERROR(VLOOKUP(K444,Eje_Pilar_Prop!$C$2:$E$104,2,FALSE)),\" \",VLOOKUP(K444,Eje_Pilar_Prop!$C$2:$E$104,2,FALSE))","v":" "},{"$f":"IF(ISERROR(VLOOKUP(K444,Eje_Pilar_Prop!$C$2:$E$104,3,FALSE)),\" \",VLOOKUP(K444,Eje_Pilar_Prop!$C$2:$E$104,3,FALSE))","v":" "},null,null,null,null,null,null,null,null,0,null,null,null,null,null,null,null,null,null,null,null,null,null,null,null,"-",null,{"$f":"IF(SUMPRODUCT((A$14:A444=A444)*(B$14:B444=B444)*(D$14:D444=D444))>1,0,1)","v":0},1,1,{"$f":"IF(ISBLANK(G444),1,IFERROR(VLOOKUP(G444,Tipo!$C$12:$C$27,1,FALSE),\"NO\"))","v":1},1,{"$f":"IF(ISBLANK(K444),1,IFERROR(VLOOKUP(K444,Eje_Pilar_Prop!C426:C527,1,FALSE),\"NO\"))","v":1},1,1,1]
[null,null,null,null,null,null,null,null,null,null,null,{"$f":"IF(ISERROR(VLOOKUP(K445,Eje_Pilar_Prop!$C$2:$E$104,2,FALSE)),\" \",VLOOKUP(K445,Eje_Pilar_Prop!$C$2:$E$104,2,FALSE))","v":" "},{"$f":"IF(ISERROR(VLOOKUP(K445,Eje_Pilar_Prop!$C$2:$E$104,3,FALSE)),\" \",VLOOKUP(K445,Eje_Pilar_Prop!$C$2:$E$104,3,FALSE))","v":" "},null,null,null,null,null,null,null,null,0,null,null,null,null,null,null,null,null,null,null,null,null,null,null,null,"-",null,{"$f":"IF(SUMPRODUCT((A$14:A445=A445)*(B$14:B445=B445)*(D$14:D445=D445))>1,0,1)","v":0},1,1,{"$f":"IF(ISBLANK(G445),1,IFERROR(VLOOKUP(G445,Tipo!$C$12:$C$27,1,FALSE),\"NO\"))","v":1},1,{"$f":"IF(ISBLANK(K445),1,IFERROR(VLOOKUP(K445,Eje_Pilar_Prop!C427:C528,1,FALSE),\"NO\"))","v":1},1,1,1]
[null,null,null,null,null,null,null,null,null,null,null,{"$f":"IF(ISERROR(VLOOKUP(K446,Eje_Pilar_Prop!$C$2:$E$104,2,FALSE)),\" \",VLOOKUP(K446,Eje_Pilar_Prop!$C$2:$E$104,2,FALSE))","v":" "},{"$f":"IF(ISERROR(VLOOKUP(K446,Eje_Pilar_Prop!$C$2:$E$104,3,FALSE)),\" \",VLOOKUP(K446,Eje_Pilar_Prop!$C$2:$E$104,3,FALSE))","v":" "},null,null,null,null,null,null,null,null,0,null,null,null,null,null,null,null,null,null,null,null,null,null,null,null,"-",null,{"$f":"IF(SUMPRODUCT((A$14:A446=A446)*(B$14:B446=B446)*(D$14:D446=D446))>1,0,1)","v":0},1,1,{"$f":"IF(ISBLANK(G446),1,IFERROR(VLOOKUP(G446,Tipo!$C$12:$C$27,1,FALSE),\"NO\"))","v":1},1,{"$f":"IF(ISBLANK(K446),1,IFERROR(VLOOKUP(K446,Eje_Pilar_Prop!C428:C529,1,FALSE),\"NO\"))","v":1},1,1,1]
[null,null,null,null,null,null,null,null,null,null,null,{"$f":"IF(ISERROR(VLOOKUP(K447,Eje_Pilar_Prop!$C$2:$E$104,2,FALSE)),\" \",VLOOKUP(K447,Eje_Pilar_Prop!$C$2:$E$104,2,FALSE))","v":" "},{"$f":"IF(ISERROR(VLOOKUP(K447,Eje_Pilar_Prop!$C$2:$E$104,3,FALSE)),\" \",VLOOKUP(K447,Eje_Pilar_Prop!$C$2:$E$104,3,FALSE))","v":" "},null,null,null,null,null,null,null,null,0,null,null,null,null,null,null,null,null,null,null,null,null,null,null,null,"-",null,{"$f":"IF(SUMPRODUCT((A$14:A447=A447)*(B$14:B447=B447)*(D$14:D447=D447))>1,0,1)","v":0},1,1,{"$f":"IF(ISBLANK(G447),1,IFERROR(VLOOKUP(G447,Tipo!$C$12:$C$27,1,FALSE),\"NO\"))","v":1},1,{"$f":"IF(ISBLANK(K447),1,IFERROR(VLOOKUP(K447,Eje_Pilar_Prop!C429:C530,1,FALSE),\"NO\"))","v":1},1,1,1]
[null,null,null,null,null,null,null,null,null,null,null,{"$f":"IF(ISERROR(VLOOKUP(K448,Eje_Pilar_Prop!$C$2:$E$104,2,FALSE)),\" \",VLOOKUP(K448,Eje_Pilar_Prop!$C$2:$E$104,2,FALSE))","v":" "},{"$f":"IF(ISERROR(VLOOKUP(K448,Eje_Pilar_Prop!$C$2:$E$104,3,FALSE)),\" \",VLOOKUP(K448,Eje_Pilar_Prop!$C$2:$E$104,3,FALSE))","v":" "},null,null,null,null,null,null,null,null,0,null,null,null,null,null,null,null,null,null,null,null,null,null,null,null,"-",null,{"$f":"IF(SUMPRODUCT((A$14:A448=A448)*(B$14:B448=B448)*(D$14:D448=D448))>1,0,1)","v":0},1,1,{"$f":"IF(ISBLANK(G448),1,IFERROR(VLOOKUP(G448,Tipo!$C$12:$C$27,1,FALSE),\"NO\"))","v":1},1,{"$f":"IF(ISBLANK(K448),1,IFERROR(VLOOKUP(K448,Eje_Pilar_Prop!C430:C531,1,FALSE),\"NO\"))","v":1},1,1,1]
[null,null,null,null,null,null,null,null,null,null,null,{"$f":"IF(ISERROR(VLOOKUP(K449,Eje_Pilar_Prop!$C$2:$E$104,2,FALSE)),\" \",VLOOKUP(K449,Eje_Pilar_Prop!$C$2:$E$104,2,FALSE))","v":" "},{"$f":"IF(ISERROR(VLOOKUP(K449,Eje_Pilar_Prop!$C$2:$E$104,3,FALSE)),\" \",VLOOKUP(K449,Eje_Pilar_Prop!$C$2:$E$104,3,FALSE))","v":" "},null,null,null,null,null,null,null,null,0,null,null,null,null,null,null,null,null,null,null,null,null,null,null,null,"-",null,{"$f":"IF(SUMPRODUCT((A$14:A449=A449)*(B$14:B449=B449)*(D$14:D449=D449))>1,0,1)","v":0},1,1,{"$f":"IF(ISBLANK(G449),1,IFERROR(VLOOKUP(G449,Tipo!$C$12:$C$27,1,FALSE),\"NO\"))","v":1},1,{"$f":"IF(ISBLANK(K449),1,IFERROR(VLOOKUP(K449,Eje_Pilar_Prop!C431:C532,1,FALSE),\"NO\"))","v":1},1,1,1]
[null,null,null,null,null,null,null,null,null,null,null,{"$f":"IF(ISERROR(VLOOKUP(K450,Eje_Pilar_Prop!$C$2:$E$104,2,FALSE)),\" \",VLOOKUP(K450,Eje_Pilar_Prop!$C$2:$E$104,2,FALSE))","v":" "},{"$f":"IF(ISERROR(VLOOKUP(K450,Eje_Pilar_Prop!$C$2:$E$104,3,FALSE)),\" \",VLOOKUP(K450,Eje_Pilar_Prop!$C$2:$E$104,3,FALSE))","v":" "},null,null,null,null,null,null,null,null,0,null,null,null,null,null,null,null,null,null,null,null,null,null,null,null,"-",null,{"$f":"IF(SUMPRODUCT((A$14:A450=A450)*(B$14:B450=B450)*(D$14:D450=D450))>1,0,1)","v":0},1,1,{"$f":"IF(ISBLANK(G450),1,IFERROR(VLOOKUP(G450,Tipo!$C$12:$C$27,1,FALSE),\"NO\"))","v":1},1,{"$f":"IF(ISBLANK(K450),1,IFERROR(VLOOKUP(K450,Eje_Pilar_Prop!C432:C533,1,FALSE),\"NO\"))","v":1},1,1,1]
[null,null,null,null,null,null,null,null,null,null,null,{"$f":"IF(ISERROR(VLOOKUP(K451,Eje_Pilar_Prop!$C$2:$E$104,2,FALSE)),\" \",VLOOKUP(K451,Eje_Pilar_Prop!$C$2:$E$104,2,FALSE))","v":" "},{"$f":"IF(ISERROR(VLOOKUP(K451,Eje_Pilar_Prop!$C$2:$E$104,3,FALSE)),\" \",VLOOKUP(K451,Eje_Pilar_Prop!$C$2:$E$104,3,FALSE))","v":" "},null,null,null,null,null,null,null,null,0,null,null,null,null,null,null,null,null,null,null,null,null,null,null,null,"-",null,{"$f":"IF(SUMPRODUCT((A$14:A451=A451)*(B$14:B451=B451)*(D$14:D451=D451))>1,0,1)","v":0},1,1,{"$f":"IF(ISBLANK(G451),1,IFERROR(VLOOKUP(G451,Tipo!$C$12:$C$27,1,FALSE),\"NO\"))","v":1},1,{"$f":"IF(ISBLANK(K451),1,IFERROR(VLOOKUP(K451,Eje_Pilar_Prop!C433:C534,1,FALSE),\"NO\"))","v":1},1,1,1]
[null,null,null,null,null,null,null,null,null,null,null,{"$f":"IF(ISERROR(VLOOKUP(K452,Eje_Pilar_Prop!$C$2:$E$104,2,FALSE)),\" \",VLOOKUP(K452,Eje_Pilar_Prop!$C$2:$E$104,2,FALSE))","v":" "},{"$f":"IF(ISERROR(VLOOKUP(K452,Eje_Pilar_Prop!$C$2:$E$104,3,FALSE)),\" \",VLOOKUP(K452,Eje_Pilar_Prop!$C$2:$E$104,3,FALSE))","v":" "},null,null,null,null,null,null,null,null,0,null,null,null,null,null,null,null,null,null,null,null,null,null,null,null,"-",null,{"$f":"IF(SUMPRODUCT((A$14:A452=A452)*(B$14:B452=B452)*(D$14:D452=D452))>1,0,1)","v":0},1,1,{"$f":"IF(ISBLANK(G452),1,IFERROR(VLOOKUP(G452,Tipo!$C$12:$C$27,1,FALSE),\"NO\"))","v":1},1,{"$f":"IF(ISBLANK(K452),1,IFERROR(VLOOKUP(K452,Eje_Pilar_Prop!C434:C535,1,FALSE),\"NO\"))","v":1},1,1,1]
[null,null,null,null,null,null,null,null,null,null,null,{"$f":"IF(ISERROR(VLOOKUP(K453,Eje_Pilar_Prop!$C$2:$E$104,2,FALSE)),\" \",VLOOKUP(K453,Eje_Pilar_Prop!$C$2:$E$104,2,FALSE))","v":" "},{"$f":"IF(ISERROR(VLOOKUP(K453,Eje_Pilar_Prop!$C$2:$E$104,3,FALSE)),\" \",VLOOKUP(K453,Eje_Pilar_Prop!$C$2:$E$104,3,FALSE))","v":" "},null,null,null,null,null,null,null,null,0,null,null,null,null,null,null,null,null,null,null,null,null,null,null,null,"-",null,{"$f":"IF(SUMPRODUCT((A$14:A453=A453)*(B$14:B453=B453)*(D$14:D453=D453))>1,0,1)","v":0},1,1,{"$f":"IF(ISBLANK(G453),1,IFERROR(VLOOKUP(G453,Tipo!$C$12:$C$27,1,FALSE),\"NO\"))","v":1},1,{"$f":"IF(ISBLANK(K453),1,IFERROR(VLOOKUP(K453,Eje_Pilar_Prop!C435:C536,1,FALSE),\"NO\"))","v":1},1,1,1]
[null,null,null,null,null,null,null,null,null,null,null,{"$f":"IF(ISERROR(VLOOKUP(K454,Eje_Pilar_Prop!$C$2:$E$104,2,FALSE)),\" \",VLOOKUP(K454,Eje_Pilar_Prop!$C$2:$E$104,2,FALSE))","v":" "},{"$f":"IF(ISERROR(VLOOKUP(K454,Eje_Pilar_Prop!$C$2:$E$104,3,FALSE)),\" \",VLOOKUP(K454,Eje_Pilar_Prop!$C$2:$E$104,3,FALSE))","v":" "},null,null,null,null,null,null,null,null,0,null,null,null,null,null,null,null,null,null,null,null,null,null,null,null,"-",null,{"$f":"IF(SUMPRODUCT((A$14:A454=A454)*(B$14:B454=B454)*(D$14:D454=D454))>1,0,1)","v":0},1,1,{"$f":"IF(ISBLANK(G454),1,IFERROR(VLOOKUP(G454,Tipo!$C$12:$C$27,1,FALSE),\"NO\"))","v":1},1,{"$f":"IF(ISBLANK(K454),1,IFERROR(VLOOKUP(K454,Eje_Pilar_Prop!C436:C537,1,FALSE),\"NO\"))","v":1},1,1,1]
[null,null,null,null,null,null,null,null,null,null,null,{"$f":"IF(ISERROR(VLOOKUP(K455,Eje_Pilar_Prop!$C$2:$E$104,2,FALSE)),\" \",VLOOKUP(K455,Eje_Pilar_Prop!$C$2:$E$104,2,FALSE))","v":" "},{"$f":"IF(ISERROR(VLOOKUP(K455,Eje_Pilar_Prop!$C$2:$E$104,3,FALSE)),\" \",VLOOKUP(K455,Eje_Pilar_Prop!$C$2:$E$104,3,FALSE))","v":" "},null,null,null,null,null,null,null,null,0,null,null,null,null,null,null,null,null,null,null,null,null,null,null,null,"-",null,{"$f":"IF(SUMPRODUCT((A$14:A455=A455)*(B$14:B455=B455)*(D$14:D455=D455))>1,0,1)","v":0},1,1,{"$f":"IF(ISBLANK(G455),1,IFERROR(VLOOKUP(G455,Tipo!$C$12:$C$27,1,FALSE),\"NO\"))","v":1},1,{"$f":"IF(ISBLANK(K455),1,IFERROR(VLOOKUP(K455,Eje_Pilar_Prop!C437:C538,1,FALSE),\"NO\"))","v":1},1,1,1]
[null,null,null,null,null,null,null,null,null,null,null,{"$f":"IF(ISERROR(VLOOKUP(K456,Eje_Pilar_Prop!$C$2:$E$104,2,FALSE)),\" \",VLOOKUP(K456,Eje_Pilar_Prop!$C$2:$E$104,2,FALSE))","v":" "},{"$f":"IF(ISERROR(VLOOKUP(K456,Eje_Pilar_Prop!$C$2:$E$104,3,FALSE)),\" \",VLOOKUP(K456,Eje_Pilar_Prop!$C$2:$E$104,3,FALSE))","v":" "},null,null,null,null,null,null,null,null,0,null,null,null,null,null,null,null,null,null,null,null,null,null,null,null,"-",null,{"$f":"IF(SUMPRODUCT((A$14:A456=A456)*(B$14:B456=B456)*(D$14:D456=D456))>1,0,1)","v":0},1,1,{"$f":"IF(ISBLANK(G456),1,IFERROR(VLOOKUP(G456,Tipo!$C$12:$C$27,1,FALSE),\"NO\"))","v":1},1,{"$f":"IF(ISBLANK(K456),1,IFERROR(VLOOKUP(K456,Eje_Pilar_Prop!C438:C539,1,FALSE),\"NO\"))","v":1},1,1,1]
[null,null,null,null,null,null,null,null,null,null,null,{"$f":"IF(ISERROR(VLOOKUP(K457,Eje_Pilar_Prop!$C$2:$E$104,2,FALSE)),\" \",VLOOKUP(K457,Eje_Pilar_Prop!$C$2:$E$104,2,FALSE))","v":" "},{"$f":"IF(ISERROR(VLOOKUP(K457,Eje_Pilar_Prop!$C$2:$E$104,3,FALSE)),\" \",VLOOKUP(K457,Eje_Pilar_Prop!$C$2:$E$104,3,FALSE))","v":" "},null,null,null,null,null,null,null,null,0,null,null,null,null,null,null,null,null,null,null,null,null,null,null,null,"-",null,{"$f":"IF(SUMPRODUCT((A$14:A457=A457)*(B$14:B457=B457)*(D$14:D457=D457))>1,0,1)","v":0},1,1,{"$f":"IF(ISBLANK(G457),1,IFERROR(VLOOKUP(G457,Tipo!$C$12:$C$27,1,FALSE),\"NO\"))","v":1},1,{"$f":"IF(ISBLANK(K457),1,IFERROR(VLOOKUP(K457,Eje_Pilar_Prop!C439:C540,1,FALSE),\"NO\"))","v":1},1,1,1]
[null,null,null,null,null,null,null,null,null,null,null,{"$f":"IF(ISERROR(VLOOKUP(K458,Eje_Pilar_Prop!$C$2:$E$104,2,FALSE)),\" \",VLOOKUP(K458,Eje_Pilar_Prop!$C$2:$E$104,2,FALSE))","v":" "},{"$f":"IF(ISERROR(VLOOKUP(K458,Eje_Pilar_Prop!$C$2:$E$104,3,FALSE)),\" \",VLOOKUP(K458,Eje_Pilar_Prop!$C$2:$E$104,3,FALSE))","v":" "},null,null,null,null,null,null,null,null,0,null,null,null,null,null,null,null,null,null,null,null,null,null,null,null,"-",null,{"$f":"IF(SUMPRODUCT((A$14:A458=A458)*(B$14:B458=B458)*(D$14:D458=D458))>1,0,1)","v":0},1,1,{"$f":"IF(ISBLANK(G458),1,IFERROR(VLOOKUP(G458,Tipo!$C$12:$C$27,1,FALSE),\"NO\"))","v":1},1,{"$f":"IF(ISBLANK(K458),1,IFERROR(VLOOKUP(K458,Eje_Pilar_Prop!C440:C541,1,FALSE),\"NO\"))","v":1},1,1,1]
[null,null,null,null,null,null,null,null,null,null,null,{"$f":"IF(ISERROR(VLOOKUP(K459,Eje_Pilar_Prop!$C$2:$E$104,2,FALSE)),\" \",VLOOKUP(K459,Eje_Pilar_Prop!$C$2:$E$104,2,FALSE))","v":" "},{"$f":"IF(ISERROR(VLOOKUP(K459,Eje_Pilar_Prop!$C$2:$E$104,3,FALSE)),\" \",VLOOKUP(K459,Eje_Pilar_Prop!$C$2:$E$104,3,FALSE))","v":" "},null,null,null,null,null,null,null,null,0,null,null,null,null,null,null,null,null,null,null,null,null,null,null,null,"-",null,{"$f":"IF(SUMPRODUCT((A$14:A459=A459)*(B$14:B459=B459)*(D$14:D459=D459))>1,0,1)","v":0},1,1,{"$f":"IF(ISBLANK(G459),1,IFERROR(VLOOKUP(G459,Tipo!$C$12:$C$27,1,FALSE),\"NO\"))","v":1},1,{"$f":"IF(ISBLANK(K459),1,IFERROR(VLOOKUP(K459,Eje_Pilar_Prop!C441:C542,1,FALSE),\"NO\"))","v":1},1,1,1]
[null,null,null,null,null,null,null,null,null,null,null,{"$f":"IF(ISERROR(VLOOKUP(K460,Eje_Pilar_Prop!$C$2:$E$104,2,FALSE)),\" \",VLOOKUP(K460,Eje_Pilar_Prop!$C$2:$E$104,2,FALSE))","v":" "},{"$f":"IF(ISERROR(VLOOKUP(K460,Eje_Pilar_Prop!$C$2:$E$104,3,FALSE)),\" \",VLOOKUP(K460,Eje_Pilar_Prop!$C$2:$E$104,3,FALSE))","v":" "},null,null,null,null,null,null,null,null,0,null,null,null,null,null,null,null,null,null,null,null,null,null,null,null,"-",null,{"$f":"IF(SUMPRODUCT((A$14:A460=A460)*(B$14:B460=B460)*(D$14:D460=D460))>1,0,1)","v":0},1,1,{"$f":"IF(ISBLANK(G460),1,IFERROR(VLOOKUP(G460,Tipo!$C$12:$C$27,1,FALSE),\"NO\"))","v":1},1,{"$f":"IF(ISBLANK(K460),1,IFERROR(VLOOKUP(K460,Eje_Pilar_Prop!C442:C543,1,FALSE),\"NO\"))","v":1},1,1,1]
[null,null,null,null,null,null,null,null,null,null,null,{"$f":"IF(ISERROR(VLOOKUP(K461,Eje_Pilar_Prop!$C$2:$E$104,2,FALSE)),\" \",VLOOKUP(K461,Eje_Pilar_Prop!$C$2:$E$104,2,FALSE))","v":" "},{"$f":"IF(ISERROR(VLOOKUP(K461,Eje_Pilar_Prop!$C$2:$E$104,3,FALSE)),\" \",VLOOKUP(K461,Eje_Pilar_Prop!$C$2:$E$104,3,FALSE))","v":" "},null,null,null,null,null,null,null,null,0,null,null,null,null,null,null,null,null,null,null,null,null,null,null,null,"-",null,{"$f":"IF(SUMPRODUCT((A$14:A461=A461)*(B$14:B461=B461)*(D$14:D461=D461))>1,0,1)","v":0},1,1,{"$f":"IF(ISBLANK(G461),1,IFERROR(VLOOKUP(G461,Tipo!$C$12:$C$27,1,FALSE),\"NO\"))","v":1},1,{"$f":"IF(ISBLANK(K461),1,IFERROR(VLOOKUP(K461,Eje_Pilar_Prop!C443:C544,1,FALSE),\"NO\"))","v":1},1,1,1]
[null,null,null,null,null,null,null,null,null,null,null,{"$f":"IF(ISERROR(VLOOKUP(K462,Eje_Pilar_Prop!$C$2:$E$104,2,FALSE)),\" \",VLOOKUP(K462,Eje_Pilar_Prop!$C$2:$E$104,2,FALSE))","v":" "},{"$f":"IF(ISERROR(VLOOKUP(K462,Eje_Pilar_Prop!$C$2:$E$104,3,FALSE)),\" \",VLOOKUP(K462,Eje_Pilar_Prop!$C$2:$E$104,3,FALSE))","v":" "},null,null,null,null,null,null,null,null,0,null,null,null,null,null,null,null,null,null,null,null,null,null,null,null,"-",null,{"$f":"IF(SUMPRODUCT((A$14:A462=A462)*(B$14:B462=B462)*(D$14:D462=D462))>1,0,1)","v":0},1,1,{"$f":"IF(ISBLANK(G462),1,IFERROR(VLOOKUP(G462,Tipo!$C$12:$C$27,1,FALSE),\"NO\"))","v":1},1,{"$f":"IF(ISBLANK(K462),1,IFERROR(VLOOKUP(K462,Eje_Pilar_Prop!C444:C545,1,FALSE),\"NO\"))","v":1},1,1,{"$f":"IF(ISBLANK(J462),1,IFERROR(VLOOKUP(J462,pdd,1,FALSE),\"NO\"))","v":1}]
[null,null,null,null,null,null,null,null,null,null,null,{"$f":"IF(ISERROR(VLOOKUP(K463,Eje_Pilar_Prop!$C$2:$E$104,2,FALSE)),\" \",VLOOKUP(K463,Eje_Pilar_Prop!$C$2:$E$104,2,FALSE))","v":" "},{"$f":"IF(ISERROR(VLOOKUP(K463,Eje_Pilar_Prop!$C$2:$E$104,3,FALSE)),\" \",VLOOKUP(K463,Eje_Pilar_Prop!$C$2:$E$104,3,FALSE))","v":" "},null,null,null,null,null,null,null,null,0,null,null,null,null,null,null,null,null,null,null,null,null,null,null,null,"-",null,{"$f":"IF(SUMPRODUCT((A$14:A463=A463)*(B$14:B463=B463)*(D$14:D463=D463))>1,0,1)","v":0},1,1,{"$f":"IF(ISBLANK(G463),1,IFERROR(VLOOKUP(G463,Tipo!$C$12:$C$27,1,FALSE),\"NO\"))","v":1},1,{"$f":"IF(ISBLANK(K463),1,IFERROR(VLOOKUP(K463,Eje_Pilar_Prop!C445:C546,1,FALSE),\"NO\"))","v":1},1,1,1]
[null,null,null,null,null,null,null,null,null,null,null,{"$f":"IF(ISERROR(VLOOKUP(K464,Eje_Pilar_Prop!$C$2:$E$104,2,FALSE)),\" \",VLOOKUP(K464,Eje_Pilar_Prop!$C$2:$E$104,2,FALSE))","v":" "},{"$f":"IF(ISERROR(VLOOKUP(K464,Eje_Pilar_Prop!$C$2:$E$104,3,FALSE)),\" \",VLOOKUP(K464,Eje_Pilar_Prop!$C$2:$E$104,3,FALSE))","v":" "},null,null,null,null,null,null,null,null,0,null,null,null,null,null,null,null,null,null,null,null,null,null,null,null,"-",null,{"$f":"IF(SUMPRODUCT((A$14:A464=A464)*(B$14:B464=B464)*(D$14:D464=D464))>1,0,1)","v":0},1,1,{"$f":"IF(ISBLANK(G464),1,IFERROR(VLOOKUP(G464,Tipo!$C$12:$C$27,1,FALSE),\"NO\"))","v":1},1,{"$f":"IF(ISBLANK(K464),1,IFERROR(VLOOKUP(K464,Eje_Pilar_Prop!C446:C547,1,FALSE),\"NO\"))","v":1},1,1,1]
[null,null,null,null,null,null,null,null,null,null,null,{"$f":"IF(ISERROR(VLOOKUP(K465,Eje_Pilar_Prop!$C$2:$E$104,2,FALSE)),\" \",VLOOKUP(K465,Eje_Pilar_Prop!$C$2:$E$104,2,FALSE))","v":" "},{"$f":"IF(ISERROR(VLOOKUP(K465,Eje_Pilar_Prop!$C$2:$E$104,3,FALSE)),\" \",VLOOKUP(K465,Eje_Pilar_Prop!$C$2:$E$104,3,FALSE))","v":" "},null,null,null,null,null,null,null,null,0,null,null,null,null,null,null,null,null,null,null,null,null,null,null,null,"-",null,{"$f":"IF(SUMPRODUCT((A$14:A465=A465)*(B$14:B465=B465)*(D$14:D465=D465))>1,0,1)","v":0},1,1,{"$f":"IF(ISBLANK(G465),1,IFERROR(VLOOKUP(G465,Tipo!$C$12:$C$27,1,FALSE),\"NO\"))","v":1},1,{"$f":"IF(ISBLANK(K465),1,IFERROR(VLOOKUP(K465,Eje_Pilar_Prop!C447:C548,1,FALSE),\"NO\"))","v":1},1,1,1]
[null,null,null,null,null,null,null,null,null,null,null,{"$f":"IF(ISERROR(VLOOKUP(K466,Eje_Pilar_Prop!$C$2:$E$104,2,FALSE)),\" \",VLOOKUP(K466,Eje_Pilar_Prop!$C$2:$E$104,2,FALSE))","v":" "},{"$f":"IF(ISERROR(VLOOKUP(K466,Eje_Pilar_Prop!$C$2:$E$104,3,FALSE)),\" \",VLOOKUP(K466,Eje_Pilar_Prop!$C$2:$E$104,3,FALSE))","v":" "},null,null,null,null,null,null,null,null,0,null,null,null,null,null,null,null,null,null,null,null,null,null,null,null,"-",null,{"$f":"IF(SUMPRODUCT((A$14:A466=A466)*(B$14:B466=B466)*(D$14:D466=D466))>1,0,1)","v":0},1,1,{"$f":"IF(ISBLANK(G466),1,IFERROR(VLOOKUP(G466,Tipo!$C$12:$C$27,1,FALSE),\"NO\"))","v":1},1,{"$f":"IF(ISBLANK(K466),1,IFERROR(VLOOKUP(K466,Eje_Pilar_Prop!C448:C549,1,FALSE),\"NO\"))","v":1},1,1,1]
[null,null,null,null,null,null,null,null,null,null,null,{"$f":"IF(ISERROR(VLOOKUP(K467,Eje_Pilar_Prop!$C$2:$E$104,2,FALSE)),\" \",VLOOKUP(K467,Eje_Pilar_Prop!$C$2:$E$104,2,FALSE))","v":" "},{"$f":"IF(ISERROR(VLOOKUP(K467,Eje_Pilar_Prop!$C$2:$E$104,3,FALSE)),\" \",VLOOKUP(K467,Eje_Pilar_Prop!$C$2:$E$104,3,FALSE))","v":" "},null,null,null,null,null,null,null,null,0,null,null,null,null,null,null,null,null,null,null,null,null,null,null,null,"-",null,{"$f":"IF(SUMPRODUCT((A$14:A467=A467)*(B$14:B467=B467)*(D$14:D467=D467))>1,0,1)","v":0},1,1,{"$f":"IF(ISBLANK(G467),1,IFERROR(VLOOKUP(G467,Tipo!$C$12:$C$27,1,FALSE),\"NO\"))","v":1},1,{"$f":"IF(ISBLANK(K467),1,IFERROR(VLOOKUP(K467,Eje_Pilar_Prop!C449:C550,1,FALSE),\"NO\"))","v":1},1,1,1]
[null,null,null,null,null,null,null,null,null,null,null,{"$f":"IF(ISERROR(VLOOKUP(K468,Eje_Pilar_Prop!$C$2:$E$104,2,FALSE)),\" \",VLOOKUP(K468,Eje_Pilar_Prop!$C$2:$E$104,2,FALSE))","v":" "},{"$f":"IF(ISERROR(VLOOKUP(K468,Eje_Pilar_Prop!$C$2:$E$104,3,FALSE)),\" \",VLOOKUP(K468,Eje_Pilar_Prop!$C$2:$E$104,3,FALSE))","v":" "},null,null,null,null,null,null,null,null,0,null,null,null,null,null,null,null,null,null,null,null,null,null,null,null,"-",null,{"$f":"IF(SUMPRODUCT((A$14:A468=A468)*(B$14:B468=B468)*(D$14:D468=D468))>1,0,1)","v":0},1,1,{"$f":"IF(ISBLANK(G468),1,IFERROR(VLOOKUP(G468,Tipo!$C$12:$C$27,1,FALSE),\"NO\"))","v":1},1,{"$f":"IF(ISBLANK(K468),1,IFERROR(VLOOKUP(K468,Eje_Pilar_Prop!C450:C551,1,FALSE),\"NO\"))","v":1},1,1,1]
[null,null,null,null,null,null,null,null,null,null,null,{"$f":"IF(ISERROR(VLOOKUP(K469,Eje_Pilar_Prop!$C$2:$E$104,2,FALSE)),\" \",VLOOKUP(K469,Eje_Pilar_Prop!$C$2:$E$104,2,FALSE))","v":" "},{"$f":"IF(ISERROR(VLOOKUP(K469,Eje_Pilar_Prop!$C$2:$E$104,3,FALSE)),\" \",VLOOKUP(K469,Eje_Pilar_Prop!$C$2:$E$104,3,FALSE))","v":" "},null,null,null,null,null,null,null,null,0,null,null,null,null,null,null,null,null,null,null,null,null,null,null,null,"-",null,{"$f":"IF(SUMPRODUCT((A$14:A469=A469)*(B$14:B469=B469)*(D$14:D469=D469))>1,0,1)","v":0},1,1,{"$f":"IF(ISBLANK(G469),1,IFERROR(VLOOKUP(G469,Tipo!$C$12:$C$27,1,FALSE),\"NO\"))","v":1},1,{"$f":"IF(ISBLANK(K469),1,IFERROR(VLOOKUP(K469,Eje_Pilar_Prop!C451:C552,1,FALSE),\"NO\"))","v":1},{"$f":"IF(ISBLANK(C469),1,IFERROR(VLOOKUP(C469,SECOP,1,FALSE),\"NO\"))","v":1},1,1]
[null,null,null,null,null,null,null,null,null,null,null,{"$f":"IF(ISERROR(VLOOKUP(K470,Eje_Pilar_Prop!$C$2:$E$104,2,FALSE)),\" \",VLOOKUP(K470,Eje_Pilar_Prop!$C$2:$E$104,2,FALSE))","v":" "},{"$f":"IF(ISERROR(VLOOKUP(K470,Eje_Pilar_Prop!$C$2:$E$104,3,FALSE)),\" \",VLOOKUP(K470,Eje_Pilar_Prop!$C$2:$E$104,3,FALSE))","v":" "},null,null,null,null,null,null,null,null,0,null,null,null,null,null,null,null,null,null,null,null,null,null,null,null,"-",null,{"$f":"IF(SUMPRODUCT((A$14:A470=A470)*(B$14:B470=B470)*(D$14:D470=D470))>1,0,1)","v":0},1,1,{"$f":"IF(ISBLANK(G470),1,IFERROR(VLOOKUP(G470,Tipo!$C$12:$C$27,1,FALSE),\"NO\"))","v":1},1,{"$f":"IF(ISBLANK(K470),1,IFERROR(VLOOKUP(K470,Eje_Pilar_Prop!C452:C553,1,FALSE),\"NO\"))","v":1},1,1,1]
[null,null,null,null,null,null,null,null,null,null,null,{"$f":"IF(ISERROR(VLOOKUP(K471,Eje_Pilar_Prop!$C$2:$E$104,2,FALSE)),\" \",VLOOKUP(K471,Eje_Pilar_Prop!$C$2:$E$104,2,FALSE))","v":" "},{"$f":"IF(ISERROR(VLOOKUP(K471,Eje_Pilar_Prop!$C$2:$E$104,3,FALSE)),\" \",VLOOKUP(K471,Eje_Pilar_Prop!$C$2:$E$104,3,FALSE))","v":" "},null,null,null,null,null,null,null,null,0,null,null,null,null,null,null,null,null,null,null,null,null,null,null,null,"-",null,{"$f":"IF(SUMPRODUCT((A$14:A471=A471)*(B$14:B471=B471)*(D$14:D471=D471))>1,0,1)","v":0},1,1,{"$f":"IF(ISBLANK(G471),1,IFERROR(VLOOKUP(G471,Tipo!$C$12:$C$27,1,FALSE),\"NO\"))","v":1},1,{"$f":"IF(ISBLANK(K471),1,IFERROR(VLOOKUP(K471,Eje_Pilar_Prop!C453:C554,1,FALSE),\"NO\"))","v":1},1,1,1]
[null,null,null,null,null,null,null,null,null,null,null,{"$f":"IF(ISERROR(VLOOKUP(K472,Eje_Pilar_Prop!$C$2:$E$104,2,FALSE)),\" \",VLOOKUP(K472,Eje_Pilar_Prop!$C$2:$E$104,2,FALSE))","v":" "},{"$f":"IF(ISERROR(VLOOKUP(K472,Eje_Pilar_Prop!$C$2:$E$104,3,FALSE)),\" \",VLOOKUP(K472,Eje_Pilar_Prop!$C$2:$E$104,3,FALSE))","v":" "},null,null,null,null,null,null,null,null,0,null,null,null,null,null,null,null,null,null,null,null,null,null,null,null,"-",null,{"$f":"IF(SUMPRODUCT((A$14:A472=A472)*(B$14:B472=B472)*(D$14:D472=D472))>1,0,1)","v":0},{"$f":"IF(ISBLANK(E472),1,IFERROR(VLOOKUP(E472,tipo,1,FALSE),\"NO\"))","v":1},{"$f":"IF(ISBLANK(F472),1,IFERROR(VLOOKUP(F472,modal,1,FALSE),\"NO\"))","v":1},{"$f":"IF(ISBLANK(G472),1,IFERROR(VLOOKUP(G472,Tipo!$C$12:$C$27,1,FALSE),\"NO\"))","v":1},{"$f":"IF(ISBLANK(I472),1,IFERROR(VLOOKUP(I472,afectacion,1,FALSE),\"NO\"))","v":1},{"$f":"IF(ISBLANK(K472),1,IFERROR(VLOOKUP(K472,Eje_Pilar_Prop!C454:C555,1,FALSE),\"NO\"))","v":1},1,1,1]
[null,null,null,null,null,null,null,null,null,null,null,{"$f":"IF(ISERROR(VLOOKUP(K473,Eje_Pilar_Prop!$C$2:$E$104,2,FALSE)),\" \",VLOOKUP(K473,Eje_Pilar_Prop!$C$2:$E$104,2,FALSE))","v":" "},{"$f":"IF(ISERROR(VLOOKUP(K473,Eje_Pilar_Prop!$C$2:$E$104,3,FALSE)),\" \",VLOOKUP(K473,Eje_Pilar_Prop!$C$2:$E$104,3,FALSE))","v":" "},null,null,null,null,null,null,null,null,0,null,null,null,null,null,null,null,null,null,null,null,null,null,null,null,"-",null,{"$f":"IF(SUMPRODUCT((A$14:A473=A473)*(B$14:B473=B473)*(D$14:D473=D473))>1,0,1)","v":0},1,1,{"$f":"IF(ISBLANK(G473),1,IFERROR(VLOOKUP(G473,Tipo!$C$12:$C$27,1,FALSE),\"NO\"))","v":1},1,{"$f":"IF(ISBLANK(K473),1,IFERROR(VLOOKUP(K473,Eje_Pilar_Prop!C455:C556,1,FALSE),\"NO\"))","v":1},1,1,1]
[null,null,null,null,null,null,null,null,null,null,null,{"$f":"IF(ISERROR(VLOOKUP(K474,Eje_Pilar_Prop!$C$2:$E$104,2,FALSE)),\" \",VLOOKUP(K474,Eje_Pilar_Prop!$C$2:$E$104,2,FALSE))","v":" "},{"$f":"IF(ISERROR(VLOOKUP(K474,Eje_Pilar_Prop!$C$2:$E$104,3,FALSE)),\" \",VLOOKUP(K474,Eje_Pilar_Prop!$C$2:$E$104,3,FALSE))","v":" "},null,null,null,null,null,null,null,null,0,null,null,null,null,null,null,null,null,null,null,null,null,null,null,null,"-",null,{"$f":"IF(SUMPRODUCT((A$14:A474=A474)*(B$14:B474=B474)*(D$14:D474=D474))>1,0,1)","v":0},1,1,{"$f":"IF(ISBLANK(G474),1,IFERROR(VLOOKUP(G474,Tipo!$C$12:$C$27,1,FALSE),\"NO\"))","v":1},1,{"$f":"IF(ISBLANK(K474),1,IFERROR(VLOOKUP(K474,Eje_Pilar_Prop!C456:C557,1,FALSE),\"NO\"))","v":1},1,1,1]
[null,null,null,null,null,null,null,null,null,null,null,{"$f":"IF(ISERROR(VLOOKUP(K475,Eje_Pilar_Prop!$C$2:$E$104,2,FALSE)),\" \",VLOOKUP(K475,Eje_Pilar_Prop!$C$2:$E$104,2,FALSE))","v":" "},{"$f":"IF(ISERROR(VLOOKUP(K475,Eje_Pilar_Prop!$C$2:$E$104,3,FALSE)),\" \",VLOOKUP(K475,Eje_Pilar_Prop!$C$2:$E$104,3,FALSE))","v":" "},null,null,null,null,null,null,null,null,0,null,null,null,null,null,null,null,null,null,null,null,null,null,null,null,"-",null,{"$f":"IF(SUMPRODUCT((A$14:A475=A475)*(B$14:B475=B475)*(D$14:D475=D475))>1,0,1)","v":0},1,1,{"$f":"IF(ISBLANK(G475),1,IFERROR(VLOOKUP(G475,Tipo!$C$12:$C$27,1,FALSE),\"NO\"))","v":1},1,{"$f":"IF(ISBLANK(K475),1,IFERROR(VLOOKUP(K475,Eje_Pilar_Prop!C457:C558,1,FALSE),\"NO\"))","v":1},1,1,1]
[null,null,null,null,null,null,null,null,null,null,null,{"$f":"IF(ISERROR(VLOOKUP(K476,Eje_Pilar_Prop!$C$2:$E$104,2,FALSE)),\" \",VLOOKUP(K476,Eje_Pilar_Prop!$C$2:$E$104,2,FALSE))","v":" "},{"$f":"IF(ISERROR(VLOOKUP(K476,Eje_Pilar_Prop!$C$2:$E$104,3,FALSE)),\" \",VLOOKUP(K476,Eje_Pilar_Prop!$C$2:$E$104,3,FALSE))","v":" "},null,null,null,null,null,null,null,null,0,null,null,null,null,null,null,null,null,null,null,null,null,null,null,null,"-",null,{"$f":"IF(SUMPRODUCT((A$14:A476=A476)*(B$14:B476=B476)*(D$14:D476=D476))>1,0,1)","v":0},1,1,{"$f":"IF(ISBLANK(G476),1,IFERROR(VLOOKUP(G476,Tipo!$C$12:$C$27,1,FALSE),\"NO\"))","v":1},1,{"$f":"IF(ISBLANK(K476),1,IFERROR(VLOOKUP(K476,Eje_Pilar_Prop!C458:C559,1,FALSE),\"NO\"))","v":1},1,{"$f":"IF(OR(YEAR(X476)=2020,ISBLANK(X476)),1,\"NO\")","v":1},1]
[null,null,null,null,null,null,null,null,null,null,null,{"$f":"IF(ISERROR(VLOOKUP(K477,Eje_Pilar_Prop!$C$2:$E$104,2,FALSE)),\" \",VLOOKUP(K477,Eje_Pilar_Prop!$C$2:$E$104,2,FALSE))","v":" "},{"$f":"IF(ISERROR(VLOOKUP(K477,Eje_Pilar_Prop!$C$2:$E$104,3,FALSE)),\" \",VLOOKUP(K477,Eje_Pilar_Prop!$C$2:$E$104,3,FALSE))","v":" "},null,null,null,null,null,null,null,null,0,null,null,null,null,null,null,null,null,null,null,null,null,null,null,null,"-",null,{"$f":"IF(SUMPRODUCT((A$14:A477=A477)*(B$14:B477=B477)*(D$14:D477=D477))>1,0,1)","v":0},1,1,{"$f":"IF(ISBLANK(G477),1,IFERROR(VLOOKUP(G477,Tipo!$C$12:$C$27,1,FALSE),\"NO\"))","v":1},1,{"$f":"IF(ISBLANK(K477),1,IFERROR(VLOOKUP(K477,Eje_Pilar_Prop!C459:C560,1,FALSE),\"NO\"))","v":1},1,1,1]
[null,null,null,null,null,null,null,null,null,null,null,{"$f":"IF(ISERROR(VLOOKUP(K478,Eje_Pilar_Prop!$C$2:$E$104,2,FALSE)),\" \",VLOOKUP(K478,Eje_Pilar_Prop!$C$2:$E$104,2,FALSE))","v":" "},{"$f":"IF(ISERROR(VLOOKUP(K478,Eje_Pilar_Prop!$C$2:$E$104,3,FALSE)),\" \",VLOOKUP(K478,Eje_Pilar_Prop!$C$2:$E$104,3,FALSE))","v":" "},null,null,null,null,null,null,null,null,0,null,null,null,null,null,null,null,null,null,null,null,null,null,null,null,{"$f":"IF(ISERROR(W478/V478),\"-\",(W478/V478))","v":"-"},null,{"$f":"IF(SUMPRODUCT((A$14:A478=A478)*(B$14:B478=B478)*(D$14:D478=D478))>1,0,1)","v":0},1,1,{"$f":"IF(ISBLANK(G478),1,IFERROR(VLOOKUP(G478,Tipo!$C$12:$C$27,1,FALSE),\"NO\"))","v":1},1,{"$f":"IF(ISBLANK(K478),1,IFERROR(VLOOKUP(K478,Eje_Pilar_Prop!C460:C561,1,FALSE),\"NO\"))","v":1},1,1,1]
[null,null,null,null,null,null,null,null,null,null,null,{"$f":"IF(ISERROR(VLOOKUP(K479,Eje_Pilar_Prop!$C$2:$E$104,2,FALSE)),\" \",VLOOKUP(K479,Eje_Pilar_Prop!$C$2:$E$104,2,FALSE))","v":" "},{"$f":"IF(ISERROR(VLOOKUP(K479,Eje_Pilar_Prop!$C$2:$E$104,3,FALSE)),\" \",VLOOKUP(K479,Eje_Pilar_Prop!$C$2:$E$104,3,FALSE))","v":" "},null,null,null,null,null,null,null,null,{"$f":"+Q479+S479+U479","v":0},null,null,null,null,null,null,null,null,null,null,null,null,null,null,null,"-",null,{"$f":"IF(SUMPRODUCT((A$14:A479=A479)*(B$14:B479=B479)*(D$14:D479=D479))>1,0,1)","v":0},1,1,{"$f":"IF(ISBLANK(G479),1,IFERROR(VLOOKUP(G479,Tipo!$C$12:$C$27,1,FALSE),\"NO\"))","v":1},1,{"$f":"IF(ISBLANK(K479),1,IFERROR(VLOOKUP(K479,Eje_Pilar_Prop!C461:C562,1,FALSE),\"NO\"))","v":1},1,1,1]
[null,null,null,null,null,null,null,null,null,null,null,{"$f":"IF(ISERROR(VLOOKUP(K480,Eje_Pilar_Prop!$C$2:$E$104,2,FALSE)),\" \",VLOOKUP(K480,Eje_Pilar_Prop!$C$2:$E$104,2,FALSE))","v":" "},{"$f":"IF(ISERROR(VLOOKUP(K480,Eje_Pilar_Prop!$C$2:$E$104,3,FALSE)),\" \",VLOOKUP(K480,Eje_Pilar_Prop!$C$2:$E$104,3,FALSE))","v":" "},null,null,null,null,null,null,null,null,0,null,null,null,null,null,null,null,null,null,null,null,null,null,null,null,"-",null,{"$f":"IF(SUMPRODUCT((A$14:A480=A480)*(B$14:B480=B480)*(D$14:D480=D480))>1,0,1)","v":0},1,1,{"$f":"IF(ISBLANK(G480),1,IFERROR(VLOOKUP(G480,Tipo!$C$12:$C$27,1,FALSE),\"NO\"))","v":1},1,{"$f":"IF(ISBLANK(K480),1,IFERROR(VLOOKUP(K480,Eje_Pilar_Prop!C462:C563,1,FALSE),\"NO\"))","v":1},1,1,1]
[null,null,null,null,null,null,null,null,null,null,null,{"$f":"IF(ISERROR(VLOOKUP(K481,Eje_Pilar_Prop!$C$2:$E$104,2,FALSE)),\" \",VLOOKUP(K481,Eje_Pilar_Prop!$C$2:$E$104,2,FALSE))","v":" "},{"$f":"IF(ISERROR(VLOOKUP(K481,Eje_Pilar_Prop!$C$2:$E$104,3,FALSE)),\" \",VLOOKUP(K481,Eje_Pilar_Prop!$C$2:$E$104,3,FALSE))","v":" "},null,null,null,null,null,null,null,null,0,null,null,null,null,null,null,null,null,null,null,null,null,null,null,null,"-",null,{"$f":"IF(SUMPRODUCT((A$14:A481=A481)*(B$14:B481=B481)*(D$14:D481=D481))>1,0,1)","v":0},1,1,{"$f":"IF(ISBLANK(G481),1,IFERROR(VLOOKUP(G481,Tipo!$C$12:$C$27,1,FALSE),\"NO\"))","v":1},1,{"$f":"IF(ISBLANK(K481),1,IFERROR(VLOOKUP(K481,Eje_Pilar_Prop!C463:C564,1,FALSE),\"NO\"))","v":1},1,1,1]
[null,null,null,null,null,null,null,null,null,null,null,{"$f":"IF(ISERROR(VLOOKUP(K482,Eje_Pilar_Prop!$C$2:$E$104,2,FALSE)),\" \",VLOOKUP(K482,Eje_Pilar_Prop!$C$2:$E$104,2,FALSE))","v":" "},{"$f":"IF(ISERROR(VLOOKUP(K482,Eje_Pilar_Prop!$C$2:$E$104,3,FALSE)),\" \",VLOOKUP(K482,Eje_Pilar_Prop!$C$2:$E$104,3,FALSE))","v":" "},null,null,null,null,null,null,null,null,0,null,null,null,null,null,null,null,null,null,null,null,null,null,null,null,"-",null,{"$f":"IF(SUMPRODUCT((A$14:A482=A482)*(B$14:B482=B482)*(D$14:D482=D482))>1,0,1)","v":0},1,1,{"$f":"IF(ISBLANK(G482),1,IFERROR(VLOOKUP(G482,Tipo!$C$12:$C$27,1,FALSE),\"NO\"))","v":1},1,{"$f":"IF(ISBLANK(K482),1,IFERROR(VLOOKUP(K482,Eje_Pilar_Prop!C464:C565,1,FALSE),\"NO\"))","v":1},1,1,1]
[null,null,null,null,null,null,null,null,null,null,null,{"$f":"IF(ISERROR(VLOOKUP(K483,Eje_Pilar_Prop!$C$2:$E$104,2,FALSE)),\" \",VLOOKUP(K483,Eje_Pilar_Prop!$C$2:$E$104,2,FALSE))","v":" "},{"$f":"IF(ISERROR(VLOOKUP(K483,Eje_Pilar_Prop!$C$2:$E$104,3,FALSE)),\" \",VLOOKUP(K483,Eje_Pilar_Prop!$C$2:$E$104,3,FALSE))","v":" "},null,null,null,null,null,null,null,null,0,null,null,null,null,null,null,null,null,null,null,null,null,null,null,null,"-",null,{"$f":"IF(SUMPRODUCT((A$14:A483=A483)*(B$14:B483=B483)*(D$14:D483=D483))>1,0,1)","v":0},1,1,{"$f":"IF(ISBLANK(G483),1,IFERROR(VLOOKUP(G483,Tipo!$C$12:$C$27,1,FALSE),\"NO\"))","v":1},1,{"$f":"IF(ISBLANK(K483),1,IFERROR(VLOOKUP(K483,Eje_Pilar_Prop!C465:C566,1,FALSE),\"NO\"))","v":1},1,1,1]
[null,null,null,null,null,null,null,null,null,null,null,{"$f":"IF(ISERROR(VLOOKUP(K484,Eje_Pilar_Prop!$C$2:$E$104,2,FALSE)),\" \",VLOOKUP(K484,Eje_Pilar_Prop!$C$2:$E$104,2,FALSE))","v":" "},{"$f":"IF(ISERROR(VLOOKUP(K484,Eje_Pilar_Prop!$C$2:$E$104,3,FALSE)),\" \",VLOOKUP(K484,Eje_Pilar_Prop!$C$2:$E$104,3,FALSE))","v":" "},null,null,null,null,null,null,null,null,0,null,null,null,null,null,null,null,null,null,null,null,null,null,null,null,"-",null,{"$f":"IF(SUMPRODUCT((A$14:A484=A484)*(B$14:B484=B484)*(D$14:D484=D484))>1,0,1)","v":0},1,1,{"$f":"IF(ISBLANK(G484),1,IFERROR(VLOOKUP(G484,Tipo!$C$12:$C$27,1,FALSE),\"NO\"))","v":1},1,{"$f":"IF(ISBLANK(K484),1,IFERROR(VLOOKUP(K484,Eje_Pilar_Prop!C466:C567,1,FALSE),\"NO\"))","v":1},1,1,1]
[null,null,null,null,null,null,null,null,null,null,null,{"$f":"IF(ISERROR(VLOOKUP(K485,Eje_Pilar_Prop!$C$2:$E$104,2,FALSE)),\" \",VLOOKUP(K485,Eje_Pilar_Prop!$C$2:$E$104,2,FALSE))","v":" "},{"$f":"IF(ISERROR(VLOOKUP(K485,Eje_Pilar_Prop!$C$2:$E$104,3,FALSE)),\" \",VLOOKUP(K485,Eje_Pilar_Prop!$C$2:$E$104,3,FALSE))","v":" "},null,null,null,null,null,null,null,null,0,null,null,null,null,null,null,null,null,null,null,null,null,null,null,null,"-",null,{"$f":"IF(SUMPRODUCT((A$14:A485=A485)*(B$14:B485=B485)*(D$14:D485=D485))>1,0,1)","v":0},1,1,{"$f":"IF(ISBLANK(G485),1,IFERROR(VLOOKUP(G485,Tipo!$C$12:$C$27,1,FALSE),\"NO\"))","v":1},1,{"$f":"IF(ISBLANK(K485),1,IFERROR(VLOOKUP(K485,Eje_Pilar_Prop!C467:C568,1,FALSE),\"NO\"))","v":1},1,1,1]
[null,null,null,null,null,null,null,null,null,null,null,{"$f":"IF(ISERROR(VLOOKUP(K486,Eje_Pilar_Prop!$C$2:$E$104,2,FALSE)),\" \",VLOOKUP(K486,Eje_Pilar_Prop!$C$2:$E$104,2,FALSE))","v":" "},{"$f":"IF(ISERROR(VLOOKUP(K486,Eje_Pilar_Prop!$C$2:$E$104,3,FALSE)),\" \",VLOOKUP(K486,Eje_Pilar_Prop!$C$2:$E$104,3,FALSE))","v":" "},null,null,null,null,null,null,null,null,0,null,null,null,null,null,null,null,null,null,null,null,null,null,null,null,"-",null,{"$f":"IF(SUMPRODUCT((A$14:A486=A486)*(B$14:B486=B486)*(D$14:D486=D486))>1,0,1)","v":0},1,1,{"$f":"IF(ISBLANK(G486),1,IFERROR(VLOOKUP(G486,Tipo!$C$12:$C$27,1,FALSE),\"NO\"))","v":1},1,{"$f":"IF(ISBLANK(K486),1,IFERROR(VLOOKUP(K486,Eje_Pilar_Prop!C468:C569,1,FALSE),\"NO\"))","v":1},1,1,1]
[null,null,null,null,null,null,null,null,null,null,null,{"$f":"IF(ISERROR(VLOOKUP(K487,Eje_Pilar_Prop!$C$2:$E$104,2,FALSE)),\" \",VLOOKUP(K487,Eje_Pilar_Prop!$C$2:$E$104,2,FALSE))","v":" "},{"$f":"IF(ISERROR(VLOOKUP(K487,Eje_Pilar_Prop!$C$2:$E$104,3,FALSE)),\" \",VLOOKUP(K487,Eje_Pilar_Prop!$C$2:$E$104,3,FALSE))","v":" "},null,null,null,null,null,null,null,null,0,null,null,null,null,null,null,null,null,null,null,null,null,null,null,null,"-",null,{"$f":"IF(SUMPRODUCT((A$14:A487=A487)*(B$14:B487=B487)*(D$14:D487=D487))>1,0,1)","v":0},1,1,{"$f":"IF(ISBLANK(G487),1,IFERROR(VLOOKUP(G487,Tipo!$C$12:$C$27,1,FALSE),\"NO\"))","v":1},1,{"$f":"IF(ISBLANK(K487),1,IFERROR(VLOOKUP(K487,Eje_Pilar_Prop!C469:C570,1,FALSE),\"NO\"))","v":1},1,1,1]
[null,null,null,null,null,null,null,null,null,null,null,{"$f":"IF(ISERROR(VLOOKUP(K488,Eje_Pilar_Prop!$C$2:$E$104,2,FALSE)),\" \",VLOOKUP(K488,Eje_Pilar_Prop!$C$2:$E$104,2,FALSE))","v":" "},{"$f":"IF(ISERROR(VLOOKUP(K488,Eje_Pilar_Prop!$C$2:$E$104,3,FALSE)),\" \",VLOOKUP(K488,Eje_Pilar_Prop!$C$2:$E$104,3,FALSE))","v":" "},null,null,null,null,null,null,null,null,0,null,null,null,null,null,null,null,null,null,null,null,null,null,null,null,"-",null,{"$f":"IF(SUMPRODUCT((A$14:A488=A488)*(B$14:B488=B488)*(D$14:D488=D488))>1,0,1)","v":0},1,1,{"$f":"IF(ISBLANK(G488),1,IFERROR(VLOOKUP(G488,Tipo!$C$12:$C$27,1,FALSE),\"NO\"))","v":1},1,{"$f":"IF(ISBLANK(K488),1,IFERROR(VLOOKUP(K488,Eje_Pilar_Prop!C470:C571,1,FALSE),\"NO\"))","v":1},1,1,1]
[null,null,null,null,null,null,null,null,null,null,null,{"$f":"IF(ISERROR(VLOOKUP(K489,Eje_Pilar_Prop!$C$2:$E$104,2,FALSE)),\" \",VLOOKUP(K489,Eje_Pilar_Prop!$C$2:$E$104,2,FALSE))","v":" "},{"$f":"IF(ISERROR(VLOOKUP(K489,Eje_Pilar_Prop!$C$2:$E$104,3,FALSE)),\" \",VLOOKUP(K489,Eje_Pilar_Prop!$C$2:$E$104,3,FALSE))","v":" "},null,null,null,null,null,null,null,null,0,null,null,null,null,null,null,null,null,null,null,null,null,null,null,null,"-",null,{"$f":"IF(SUMPRODUCT((A$14:A489=A489)*(B$14:B489=B489)*(D$14:D489=D489))>1,0,1)","v":0},1,1,{"$f":"IF(ISBLANK(G489),1,IFERROR(VLOOKUP(G489,Tipo!$C$12:$C$27,1,FALSE),\"NO\"))","v":1},1,{"$f":"IF(ISBLANK(K489),1,IFERROR(VLOOKUP(K489,Eje_Pilar_Prop!C471:C572,1,FALSE),\"NO\"))","v":1},1,1,1]
[null,null,null,null,null,null,null,null,null,null,null,{"$f":"IF(ISERROR(VLOOKUP(K490,Eje_Pilar_Prop!$C$2:$E$104,2,FALSE)),\" \",VLOOKUP(K490,Eje_Pilar_Prop!$C$2:$E$104,2,FALSE))","v":" "},{"$f":"IF(ISERROR(VLOOKUP(K490,Eje_Pilar_Prop!$C$2:$E$104,3,FALSE)),\" \",VLOOKUP(K490,Eje_Pilar_Prop!$C$2:$E$104,3,FALSE))","v":" "},null,null,null,null,null,null,null,null,0,null,null,null,null,null,null,null,null,null,null,null,null,null,null,null,"-",null,{"$f":"IF(SUMPRODUCT((A$14:A490=A490)*(B$14:B490=B490)*(D$14:D490=D490))>1,0,1)","v":0},1,1,{"$f":"IF(ISBLANK(G490),1,IFERROR(VLOOKUP(G490,Tipo!$C$12:$C$27,1,FALSE),\"NO\"))","v":1},1,{"$f":"IF(ISBLANK(K490),1,IFERROR(VLOOKUP(K490,Eje_Pilar_Prop!C472:C573,1,FALSE),\"NO\"))","v":1},1,1,1]
[null,null,null,null,null,null,null,null,null,null,null,{"$f":"IF(ISERROR(VLOOKUP(K491,Eje_Pilar_Prop!$C$2:$E$104,2,FALSE)),\" \",VLOOKUP(K491,Eje_Pilar_Prop!$C$2:$E$104,2,FALSE))","v":" "},{"$f":"IF(ISERROR(VLOOKUP(K491,Eje_Pilar_Prop!$C$2:$E$104,3,FALSE)),\" \",VLOOKUP(K491,Eje_Pilar_Prop!$C$2:$E$104,3,FALSE))","v":" "},null,null,null,null,null,null,null,null,0,null,null,null,null,null,null,null,null,null,null,null,null,null,null,null,"-",null,{"$f":"IF(SUMPRODUCT((A$14:A491=A491)*(B$14:B491=B491)*(D$14:D491=D491))>1,0,1)","v":0},1,1,{"$f":"IF(ISBLANK(G491),1,IFERROR(VLOOKUP(G491,Tipo!$C$12:$C$27,1,FALSE),\"NO\"))","v":1},1,{"$f":"IF(ISBLANK(K491),1,IFERROR(VLOOKUP(K491,Eje_Pilar_Prop!C473:C574,1,FALSE),\"NO\"))","v":1},1,1,1]
[null,null,null,null,null,null,null,null,null,null,null,{"$f":"IF(ISERROR(VLOOKUP(K492,Eje_Pilar_Prop!$C$2:$E$104,2,FALSE)),\" \",VLOOKUP(K492,Eje_Pilar_Prop!$C$2:$E$104,2,FALSE))","v":" "},{"$f":"IF(ISERROR(VLOOKUP(K492,Eje_Pilar_Prop!$C$2:$E$104,3,FALSE)),\" \",VLOOKUP(K492,Eje_Pilar_Prop!$C$2:$E$104,3,FALSE))","v":" "},null,null,null,null,null,null,null,null,0,null,null,null,null,null,null,null,null,null,null,null,null,null,null,null,"-",null,{"$f":"IF(SUMPRODUCT((A$14:A492=A492)*(B$14:B492=B492)*(D$14:D492=D492))>1,0,1)","v":0},1,1,{"$f":"IF(ISBLANK(G492),1,IFERROR(VLOOKUP(G492,Tipo!$C$12:$C$27,1,FALSE),\"NO\"))","v":1},1,{"$f":"IF(ISBLANK(K492),1,IFERROR(VLOOKUP(K492,Eje_Pilar_Prop!C474:C575,1,FALSE),\"NO\"))","v":1},1,1,1]
[null,null,null,null,null,null,null,null,null,null,null,{"$f":"IF(ISERROR(VLOOKUP(K493,Eje_Pilar_Prop!$C$2:$E$104,2,FALSE)),\" \",VLOOKUP(K493,Eje_Pilar_Prop!$C$2:$E$104,2,FALSE))","v":" "},{"$f":"IF(ISERROR(VLOOKUP(K493,Eje_Pilar_Prop!$C$2:$E$104,3,FALSE)),\" \",VLOOKUP(K493,Eje_Pilar_Prop!$C$2:$E$104,3,FALSE))","v":" "},null,null,null,null,null,null,null,null,0,null,null,null,null,null,null,null,null,null,null,null,null,null,null,null,"-",null,{"$f":"IF(SUMPRODUCT((A$14:A493=A493)*(B$14:B493=B493)*(D$14:D493=D493))>1,0,1)","v":0},1,1,{"$f":"IF(ISBLANK(G493),1,IFERROR(VLOOKUP(G493,Tipo!$C$12:$C$27,1,FALSE),\"NO\"))","v":1},1,{"$f":"IF(ISBLANK(K493),1,IFERROR(VLOOKUP(K493,Eje_Pilar_Prop!C475:C576,1,FALSE),\"NO\"))","v":1},1,1,1]
[null,null,null,null,null,null,null,null,null,null,null,{"$f":"IF(ISERROR(VLOOKUP(K494,Eje_Pilar_Prop!$C$2:$E$104,2,FALSE)),\" \",VLOOKUP(K494,Eje_Pilar_Prop!$C$2:$E$104,2,FALSE))","v":" "},{"$f":"IF(ISERROR(VLOOKUP(K494,Eje_Pilar_Prop!$C$2:$E$104,3,FALSE)),\" \",VLOOKUP(K494,Eje_Pilar_Prop!$C$2:$E$104,3,FALSE))","v":" "},null,null,null,null,null,null,null,null,0,null,null,null,null,null,null,null,null,null,null,null,null,null,null,null,"-",null,{"$f":"IF(SUMPRODUCT((A$14:A494=A494)*(B$14:B494=B494)*(D$14:D494=D494))>1,0,1)","v":0},1,1,{"$f":"IF(ISBLANK(G494),1,IFERROR(VLOOKUP(G494,Tipo!$C$12:$C$27,1,FALSE),\"NO\"))","v":1},1,{"$f":"IF(ISBLANK(K494),1,IFERROR(VLOOKUP(K494,Eje_Pilar_Prop!C476:C577,1,FALSE),\"NO\"))","v":1},1,1,1]
[null,null,null,null,null,null,null,null,null,null,null,{"$f":"IF(ISERROR(VLOOKUP(K495,Eje_Pilar_Prop!$C$2:$E$104,2,FALSE)),\" \",VLOOKUP(K495,Eje_Pilar_Prop!$C$2:$E$104,2,FALSE))","v":" "},{"$f":"IF(ISERROR(VLOOKUP(K495,Eje_Pilar_Prop!$C$2:$E$104,3,FALSE)),\" \",VLOOKUP(K495,Eje_Pilar_Prop!$C$2:$E$104,3,FALSE))","v":" "},null,null,null,null,null,null,null,null,0,null,null,null,null,null,null,null,null,null,null,null,null,null,null,null,"-",null,{"$f":"IF(SUMPRODUCT((A$14:A495=A495)*(B$14:B495=B495)*(D$14:D495=D495))>1,0,1)","v":0},1,1,{"$f":"IF(ISBLANK(G495),1,IFERROR(VLOOKUP(G495,Tipo!$C$12:$C$27,1,FALSE),\"NO\"))","v":1},1,{"$f":"IF(ISBLANK(K495),1,IFERROR(VLOOKUP(K495,Eje_Pilar_Prop!C477:C578,1,FALSE),\"NO\"))","v":1},1,1,1]
[null,null,null,null,null,null,null,null,null,null,null,{"$f":"IF(ISERROR(VLOOKUP(K496,Eje_Pilar_Prop!$C$2:$E$104,2,FALSE)),\" \",VLOOKUP(K496,Eje_Pilar_Prop!$C$2:$E$104,2,FALSE))","v":" "},{"$f":"IF(ISERROR(VLOOKUP(K496,Eje_Pilar_Prop!$C$2:$E$104,3,FALSE)),\" \",VLOOKUP(K496,Eje_Pilar_Prop!$C$2:$E$104,3,FALSE))","v":" "},null,null,null,null,null,null,null,null,0,null,null,null,null,null,null,null,null,null,null,null,null,null,null,null,"-",null,{"$f":"IF(SUMPRODUCT((A$14:A496=A496)*(B$14:B496=B496)*(D$14:D496=D496))>1,0,1)","v":0},1,1,{"$f":"IF(ISBLANK(G496),1,IFERROR(VLOOKUP(G496,Tipo!$C$12:$C$27,1,FALSE),\"NO\"))","v":1},1,{"$f":"IF(ISBLANK(K496),1,IFERROR(VLOOKUP(K496,Eje_Pilar_Prop!C478:C579,1,FALSE),\"NO\"))","v":1},1,1,1]
[null,null,null,null,null,null,null,null,null,null,null,{"$f":"IF(ISERROR(VLOOKUP(K497,Eje_Pilar_Prop!$C$2:$E$104,2,FALSE)),\" \",VLOOKUP(K497,Eje_Pilar_Prop!$C$2:$E$104,2,FALSE))","v":" "},{"$f":"IF(ISERROR(VLOOKUP(K497,Eje_Pilar_Prop!$C$2:$E$104,3,FALSE)),\" \",VLOOKUP(K497,Eje_Pilar_Prop!$C$2:$E$104,3,FALSE))","v":" "},null,null,null,null,null,null,null,null,0,null,null,null,null,null,null,null,null,null,null,null,null,null,null,null,"-",null,{"$f":"IF(SUMPRODUCT((A$14:A497=A497)*(B$14:B497=B497)*(D$14:D497=D497))>1,0,1)","v":0},1,1,{"$f":"IF(ISBLANK(G497),1,IFERROR(VLOOKUP(G497,Tipo!$C$12:$C$27,1,FALSE),\"NO\"))","v":1},1,{"$f":"IF(ISBLANK(K497),1,IFERROR(VLOOKUP(K497,Eje_Pilar_Prop!C479:C580,1,FALSE),\"NO\"))","v":1},1,1,1]
[null,null,null,null,null,null,null,null,null,null,null,{"$f":"IF(ISERROR(VLOOKUP(K498,Eje_Pilar_Prop!$C$2:$E$104,2,FALSE)),\" \",VLOOKUP(K498,Eje_Pilar_Prop!$C$2:$E$104,2,FALSE))","v":" "},{"$f":"IF(ISERROR(VLOOKUP(K498,Eje_Pilar_Prop!$C$2:$E$104,3,FALSE)),\" \",VLOOKUP(K498,Eje_Pilar_Prop!$C$2:$E$104,3,FALSE))","v":" "},null,null,null,null,null,null,null,null,0,null,null,null,null,null,null,null,null,null,null,null,null,null,null,null,"-",null,{"$f":"IF(SUMPRODUCT((A$14:A498=A498)*(B$14:B498=B498)*(D$14:D498=D498))>1,0,1)","v":0},1,1,{"$f":"IF(ISBLANK(G498),1,IFERROR(VLOOKUP(G498,Tipo!$C$12:$C$27,1,FALSE),\"NO\"))","v":1},1,{"$f":"IF(ISBLANK(K498),1,IFERROR(VLOOKUP(K498,Eje_Pilar_Prop!C480:C581,1,FALSE),\"NO\"))","v":1},1,1,1]
[null,null,null,null,null,null,null,null,null,null,null,{"$f":"IF(ISERROR(VLOOKUP(K499,Eje_Pilar_Prop!$C$2:$E$104,2,FALSE)),\" \",VLOOKUP(K499,Eje_Pilar_Prop!$C$2:$E$104,2,FALSE))","v":" "},{"$f":"IF(ISERROR(VLOOKUP(K499,Eje_Pilar_Prop!$C$2:$E$104,3,FALSE)),\" \",VLOOKUP(K499,Eje_Pilar_Prop!$C$2:$E$104,3,FALSE))","v":" "},null,null,null,null,null,null,null,null,0,null,null,null,null,null,null,null,null,null,null,null,null,null,null,null,"-",null,{"$f":"IF(SUMPRODUCT((A$14:A499=A499)*(B$14:B499=B499)*(D$14:D499=D499))>1,0,1)","v":0},1,1,{"$f":"IF(ISBLANK(G499),1,IFERROR(VLOOKUP(G499,Tipo!$C$12:$C$27,1,FALSE),\"NO\"))","v":1},1,{"$f":"IF(ISBLANK(K499),1,IFERROR(VLOOKUP(K499,Eje_Pilar_Prop!C481:C582,1,FALSE),\"NO\"))","v":1},1,1,1]
[null,null,null,null,null,null,null,null,null,null,null,{"$f":"IF(ISERROR(VLOOKUP(K500,Eje_Pilar_Prop!$C$2:$E$104,2,FALSE)),\" \",VLOOKUP(K500,Eje_Pilar_Prop!$C$2:$E$104,2,FALSE))","v":" "},{"$f":"IF(ISERROR(VLOOKUP(K500,Eje_Pilar_Prop!$C$2:$E$104,3,FALSE)),\" \",VLOOKUP(K500,Eje_Pilar_Prop!$C$2:$E$104,3,FALSE))","v":" "},null,null,null,null,null,null,null,null,0,null,null,null,null,null,null,null,null,null,null,null,null,null,null,null,"-",null,{"$f":"IF(SUMPRODUCT((A$14:A500=A500)*(B$14:B500=B500)*(D$14:D500=D500))>1,0,1)","v":0},1,1,{"$f":"IF(ISBLANK(G500),1,IFERROR(VLOOKUP(G500,Tipo!$C$12:$C$27,1,FALSE),\"NO\"))","v":1},1,{"$f":"IF(ISBLANK(K500),1,IFERROR(VLOOKUP(K500,Eje_Pilar_Prop!C482:C583,1,FALSE),\"NO\"))","v":1},1,1,1]
[null,null,null,null,null,null,null,null,null,null,null,{"$f":"IF(ISERROR(VLOOKUP(K501,Eje_Pilar_Prop!$C$2:$E$104,2,FALSE)),\" \",VLOOKUP(K501,Eje_Pilar_Prop!$C$2:$E$104,2,FALSE))","v":" "},{"$f":"IF(ISERROR(VLOOKUP(K501,Eje_Pilar_Prop!$C$2:$E$104,3,FALSE)),\" \",VLOOKUP(K501,Eje_Pilar_Prop!$C$2:$E$104,3,FALSE))","v":" "},null,null,null,null,null,null,null,null,0,null,null,null,null,null,null,null,null,null,null,null,null,null,null,null,"-",null,{"$f":"IF(SUMPRODUCT((A$14:A501=A501)*(B$14:B501=B501)*(D$14:D501=D501))>1,0,1)","v":0},1,1,{"$f":"IF(ISBLANK(G501),1,IFERROR(VLOOKUP(G501,Tipo!$C$12:$C$27,1,FALSE),\"NO\"))","v":1},1,{"$f":"IF(ISBLANK(K501),1,IFERROR(VLOOKUP(K501,Eje_Pilar_Prop!C483:C584,1,FALSE),\"NO\"))","v":1},1,1,1]
[null,null,null,null,null,null,null,null,null,null,null,{"$f":"IF(ISERROR(VLOOKUP(K502,Eje_Pilar_Prop!$C$2:$E$104,2,FALSE)),\" \",VLOOKUP(K502,Eje_Pilar_Prop!$C$2:$E$104,2,FALSE))","v":" "},{"$f":"IF(ISERROR(VLOOKUP(K502,Eje_Pilar_Prop!$C$2:$E$104,3,FALSE)),\" \",VLOOKUP(K502,Eje_Pilar_Prop!$C$2:$E$104,3,FALSE))","v":" "},null,null,null,null,null,null,null,null,0,null,null,null,null,null,null,null,null,null,null,null,null,null,null,null,"-",null,{"$f":"IF(SUMPRODUCT((A$14:A502=A502)*(B$14:B502=B502)*(D$14:D502=D502))>1,0,1)","v":0},1,1,{"$f":"IF(ISBLANK(G502),1,IFERROR(VLOOKUP(G502,Tipo!$C$12:$C$27,1,FALSE),\"NO\"))","v":1},1,{"$f":"IF(ISBLANK(K502),1,IFERROR(VLOOKUP(K502,Eje_Pilar_Prop!C484:C585,1,FALSE),\"NO\"))","v":1},1,1,1]
[null,null,null,null,null,null,null,null,null,null,null,{"$f":"IF(ISERROR(VLOOKUP(K503,Eje_Pilar_Prop!$C$2:$E$104,2,FALSE)),\" \",VLOOKUP(K503,Eje_Pilar_Prop!$C$2:$E$104,2,FALSE))","v":" "},{"$f":"IF(ISERROR(VLOOKUP(K503,Eje_Pilar_Prop!$C$2:$E$104,3,FALSE)),\" \",VLOOKUP(K503,Eje_Pilar_Prop!$C$2:$E$104,3,FALSE))","v":" "},null,null,null,null,null,null,null,null,0,null,null,null,null,null,null,null,null,null,null,null,null,null,null,null,"-",null,{"$f":"IF(SUMPRODUCT((A$14:A503=A503)*(B$14:B503=B503)*(D$14:D503=D503))>1,0,1)","v":0},1,1,{"$f":"IF(ISBLANK(G503),1,IFERROR(VLOOKUP(G503,Tipo!$C$12:$C$27,1,FALSE),\"NO\"))","v":1},1,{"$f":"IF(ISBLANK(K503),1,IFERROR(VLOOKUP(K503,Eje_Pilar_Prop!C485:C586,1,FALSE),\"NO\"))","v":1},1,1,1]
[null,null,null,null,null,null,null,null,null,null,null,{"$f":"IF(ISERROR(VLOOKUP(K504,Eje_Pilar_Prop!$C$2:$E$104,2,FALSE)),\" \",VLOOKUP(K504,Eje_Pilar_Prop!$C$2:$E$104,2,FALSE))","v":" "},{"$f":"IF(ISERROR(VLOOKUP(K504,Eje_Pilar_Prop!$C$2:$E$104,3,FALSE)),\" \",VLOOKUP(K504,Eje_Pilar_Prop!$C$2:$E$104,3,FALSE))","v":" "},null,null,null,null,null,null,null,null,0,null,null,null,null,null,null,null,null,null,null,null,null,null,null,null,"-",null,{"$f":"IF(SUMPRODUCT((A$14:A504=A504)*(B$14:B504=B504)*(D$14:D504=D504))>1,0,1)","v":0},1,1,{"$f":"IF(ISBLANK(G504),1,IFERROR(VLOOKUP(G504,Tipo!$C$12:$C$27,1,FALSE),\"NO\"))","v":1},1,{"$f":"IF(ISBLANK(K504),1,IFERROR(VLOOKUP(K504,Eje_Pilar_Prop!C486:C587,1,FALSE),\"NO\"))","v":1},1,1,1]
[null,null,null,null,null,null,null,null,null,null,null,{"$f":"IF(ISERROR(VLOOKUP(K505,Eje_Pilar_Prop!$C$2:$E$104,2,FALSE)),\" \",VLOOKUP(K505,Eje_Pilar_Prop!$C$2:$E$104,2,FALSE))","v":" "},{"$f":"IF(ISERROR(VLOOKUP(K505,Eje_Pilar_Prop!$C$2:$E$104,3,FALSE)),\" \",VLOOKUP(K505,Eje_Pilar_Prop!$C$2:$E$104,3,FALSE))","v":" "},null,null,null,null,null,null,null,null,0,null,null,null,null,null,null,null,null,null,null,null,null,null,null,null,"-",null,{"$f":"IF(SUMPRODUCT((A$14:A505=A505)*(B$14:B505=B505)*(D$14:D505=D505))>1,0,1)","v":0},1,1,{"$f":"IF(ISBLANK(G505),1,IFERROR(VLOOKUP(G505,Tipo!$C$12:$C$27,1,FALSE),\"NO\"))","v":1},1,{"$f":"IF(ISBLANK(K505),1,IFERROR(VLOOKUP(K505,Eje_Pilar_Prop!C487:C588,1,FALSE),\"NO\"))","v":1},1,1,1]
[null,null,null,null,null,null,null,null,null,null,null,{"$f":"IF(ISERROR(VLOOKUP(K506,Eje_Pilar_Prop!$C$2:$E$104,2,FALSE)),\" \",VLOOKUP(K506,Eje_Pilar_Prop!$C$2:$E$104,2,FALSE))","v":" "},{"$f":"IF(ISERROR(VLOOKUP(K506,Eje_Pilar_Prop!$C$2:$E$104,3,FALSE)),\" \",VLOOKUP(K506,Eje_Pilar_Prop!$C$2:$E$104,3,FALSE))","v":" "},null,null,null,null,null,null,null,null,0,null,null,null,null,null,null,null,null,null,null,null,null,null,null,null,"-",null,{"$f":"IF(SUMPRODUCT((A$14:A506=A506)*(B$14:B506=B506)*(D$14:D506=D506))>1,0,1)","v":0},1,1,{"$f":"IF(ISBLANK(G506),1,IFERROR(VLOOKUP(G506,Tipo!$C$12:$C$27,1,FALSE),\"NO\"))","v":1},1,{"$f":"IF(ISBLANK(K506),1,IFERROR(VLOOKUP(K506,Eje_Pilar_Prop!C488:C589,1,FALSE),\"NO\"))","v":1},1,1,1]
[null,null,null,null,null,null,null,null,null,null,null,{"$f":"IF(ISERROR(VLOOKUP(K507,Eje_Pilar_Prop!$C$2:$E$104,2,FALSE)),\" \",VLOOKUP(K507,Eje_Pilar_Prop!$C$2:$E$104,2,FALSE))","v":" "},{"$f":"IF(ISERROR(VLOOKUP(K507,Eje_Pilar_Prop!$C$2:$E$104,3,FALSE)),\" \",VLOOKUP(K507,Eje_Pilar_Prop!$C$2:$E$104,3,FALSE))","v":" "},null,null,null,null,null,null,null,null,0,null,null,null,null,null,null,null,null,null,null,null,null,null,null,null,"-",null,{"$f":"IF(SUMPRODUCT((A$14:A507=A507)*(B$14:B507=B507)*(D$14:D507=D507))>1,0,1)","v":0},1,1,{"$f":"IF(ISBLANK(G507),1,IFERROR(VLOOKUP(G507,Tipo!$C$12:$C$27,1,FALSE),\"NO\"))","v":1},1,{"$f":"IF(ISBLANK(K507),1,IFERROR(VLOOKUP(K507,Eje_Pilar_Prop!C489:C590,1,FALSE),\"NO\"))","v":1},1,1,1]
[null,null,null,null,null,null,null,null,null,null,null,{"$f":"IF(ISERROR(VLOOKUP(K508,Eje_Pilar_Prop!$C$2:$E$104,2,FALSE)),\" \",VLOOKUP(K508,Eje_Pilar_Prop!$C$2:$E$104,2,FALSE))","v":" "},{"$f":"IF(ISERROR(VLOOKUP(K508,Eje_Pilar_Prop!$C$2:$E$104,3,FALSE)),\" \",VLOOKUP(K508,Eje_Pilar_Prop!$C$2:$E$104,3,FALSE))","v":" "},null,null,null,null,null,null,null,null,0,null,null,null,null,null,null,null,null,null,null,null,null,null,null,null,"-",null,{"$f":"IF(SUMPRODUCT((A$14:A508=A508)*(B$14:B508=B508)*(D$14:D508=D508))>1,0,1)","v":0},1,1,{"$f":"IF(ISBLANK(G508),1,IFERROR(VLOOKUP(G508,Tipo!$C$12:$C$27,1,FALSE),\"NO\"))","v":1},1,{"$f":"IF(ISBLANK(K508),1,IFERROR(VLOOKUP(K508,Eje_Pilar_Prop!C490:C591,1,FALSE),\"NO\"))","v":1},1,1,1]
[null,null,null,null,null,null,null,null,null,null,null,{"$f":"IF(ISERROR(VLOOKUP(K509,Eje_Pilar_Prop!$C$2:$E$104,2,FALSE)),\" \",VLOOKUP(K509,Eje_Pilar_Prop!$C$2:$E$104,2,FALSE))","v":" "},{"$f":"IF(ISERROR(VLOOKUP(K509,Eje_Pilar_Prop!$C$2:$E$104,3,FALSE)),\" \",VLOOKUP(K509,Eje_Pilar_Prop!$C$2:$E$104,3,FALSE))","v":" "},null,null,null,null,null,null,null,null,0,null,null,null,null,null,null,null,null,null,null,null,null,null,null,null,"-",null,{"$f":"IF(SUMPRODUCT((A$14:A509=A509)*(B$14:B509=B509)*(D$14:D509=D509))>1,0,1)","v":0},1,1,{"$f":"IF(ISBLANK(G509),1,IFERROR(VLOOKUP(G509,Tipo!$C$12:$C$27,1,FALSE),\"NO\"))","v":1},1,{"$f":"IF(ISBLANK(K509),1,IFERROR(VLOOKUP(K509,Eje_Pilar_Prop!C491:C592,1,FALSE),\"NO\"))","v":1},1,1,1]
[null,null,null,null,null,null,null,null,null,null,null,{"$f":"IF(ISERROR(VLOOKUP(K510,Eje_Pilar_Prop!$C$2:$E$104,2,FALSE)),\" \",VLOOKUP(K510,Eje_Pilar_Prop!$C$2:$E$104,2,FALSE))","v":" "},{"$f":"IF(ISERROR(VLOOKUP(K510,Eje_Pilar_Prop!$C$2:$E$104,3,FALSE)),\" \",VLOOKUP(K510,Eje_Pilar_Prop!$C$2:$E$104,3,FALSE))","v":" "},null,null,null,null,null,null,null,null,0,null,null,null,null,null,null,null,null,null,null,null,null,null,null,null,"-",null,{"$f":"IF(SUMPRODUCT((A$14:A510=A510)*(B$14:B510=B510)*(D$14:D510=D510))>1,0,1)","v":0},1,1,{"$f":"IF(ISBLANK(G510),1,IFERROR(VLOOKUP(G510,Tipo!$C$12:$C$27,1,FALSE),\"NO\"))","v":1},1,{"$f":"IF(ISBLANK(K510),1,IFERROR(VLOOKUP(K510,Eje_Pilar_Prop!C492:C593,1,FALSE),\"NO\"))","v":1},1,1,1]
[null,null,null,null,null,null,null,null,null,null,null,{"$f":"IF(ISERROR(VLOOKUP(K511,Eje_Pilar_Prop!$C$2:$E$104,2,FALSE)),\" \",VLOOKUP(K511,Eje_Pilar_Prop!$C$2:$E$104,2,FALSE))","v":" "},{"$f":"IF(ISERROR(VLOOKUP(K511,Eje_Pilar_Prop!$C$2:$E$104,3,FALSE)),\" \",VLOOKUP(K511,Eje_Pilar_Prop!$C$2:$E$104,3,FALSE))","v":" "},null,null,null,null,null,null,null,null,0,null,null,null,null,null,null,null,null,null,null,null,null,null,null,null,"-",null,{"$f":"IF(SUMPRODUCT((A$14:A511=A511)*(B$14:B511=B511)*(D$14:D511=D511))>1,0,1)","v":0},1,1,{"$f":"IF(ISBLANK(G511),1,IFERROR(VLOOKUP(G511,Tipo!$C$12:$C$27,1,FALSE),\"NO\"))","v":1},1,{"$f":"IF(ISBLANK(K511),1,IFERROR(VLOOKUP(K511,Eje_Pilar_Prop!C493:C594,1,FALSE),\"NO\"))","v":1},1,1,1]
[null,null,null,null,null,null,null,null,null,null,null,{"$f":"IF(ISERROR(VLOOKUP(K512,Eje_Pilar_Prop!$C$2:$E$104,2,FALSE)),\" \",VLOOKUP(K512,Eje_Pilar_Prop!$C$2:$E$104,2,FALSE))","v":" "},{"$f":"IF(ISERROR(VLOOKUP(K512,Eje_Pilar_Prop!$C$2:$E$104,3,FALSE)),\" \",VLOOKUP(K512,Eje_Pilar_Prop!$C$2:$E$104,3,FALSE))","v":" "},null,null,null,null,null,null,null,null,0,null,null,null,null,null,null,null,null,null,null,null,null,null,null,null,"-",null,{"$f":"IF(SUMPRODUCT((A$14:A512=A512)*(B$14:B512=B512)*(D$14:D512=D512))>1,0,1)","v":0},1,1,{"$f":"IF(ISBLANK(G512),1,IFERROR(VLOOKUP(G512,Tipo!$C$12:$C$27,1,FALSE),\"NO\"))","v":1},1,{"$f":"IF(ISBLANK(K512),1,IFERROR(VLOOKUP(K512,Eje_Pilar_Prop!C494:C595,1,FALSE),\"NO\"))","v":1},1,1,1]
[null,null,null,null,null,null,null,null,null,null,null,{"$f":"IF(ISERROR(VLOOKUP(K513,Eje_Pilar_Prop!$C$2:$E$104,2,FALSE)),\" \",VLOOKUP(K513,Eje_Pilar_Prop!$C$2:$E$104,2,FALSE))","v":" "},{"$f":"IF(ISERROR(VLOOKUP(K513,Eje_Pilar_Prop!$C$2:$E$104,3,FALSE)),\" \",VLOOKUP(K513,Eje_Pilar_Prop!$C$2:$E$104,3,FALSE))","v":" "},null,null,null,null,null,null,null,null,0,null,null,null,null,null,null,null,null,null,null,null,null,null,null,null,"-",null,{"$f":"IF(SUMPRODUCT((A$14:A513=A513)*(B$14:B513=B513)*(D$14:D513=D513))>1,0,1)","v":0},1,1,{"$f":"IF(ISBLANK(G513),1,IFERROR(VLOOKUP(G513,Tipo!$C$12:$C$27,1,FALSE),\"NO\"))","v":1},1,{"$f":"IF(ISBLANK(K513),1,IFERROR(VLOOKUP(K513,Eje_Pilar_Prop!C495:C596,1,FALSE),\"NO\"))","v":1},1,1,1]
[null,null,null,null,null,null,null,null,null,null,null,{"$f":"IF(ISERROR(VLOOKUP(K514,Eje_Pilar_Prop!$C$2:$E$104,2,FALSE)),\" \",VLOOKUP(K514,Eje_Pilar_Prop!$C$2:$E$104,2,FALSE))","v":" "},{"$f":"IF(ISERROR(VLOOKUP(K514,Eje_Pilar_Prop!$C$2:$E$104,3,FALSE)),\" \",VLOOKUP(K514,Eje_Pilar_Prop!$C$2:$E$104,3,FALSE))","v":" "},null,null,null,null,null,null,null,null,0,null,null,null,null,null,null,null,null,null,null,null,null,null,null,null,"-",null,{"$f":"IF(SUMPRODUCT((A$14:A514=A514)*(B$14:B514=B514)*(D$14:D514=D514))>1,0,1)","v":0},1,1,{"$f":"IF(ISBLANK(G514),1,IFERROR(VLOOKUP(G514,Tipo!$C$12:$C$27,1,FALSE),\"NO\"))","v":1},1,{"$f":"IF(ISBLANK(K514),1,IFERROR(VLOOKUP(K514,Eje_Pilar_Prop!C496:C597,1,FALSE),\"NO\"))","v":1},1,1,1]
[null,null,null,null,null,null,null,null,null,null,null,{"$f":"IF(ISERROR(VLOOKUP(K515,Eje_Pilar_Prop!$C$2:$E$104,2,FALSE)),\" \",VLOOKUP(K515,Eje_Pilar_Prop!$C$2:$E$104,2,FALSE))","v":" "},{"$f":"IF(ISERROR(VLOOKUP(K515,Eje_Pilar_Prop!$C$2:$E$104,3,FALSE)),\" \",VLOOKUP(K515,Eje_Pilar_Prop!$C$2:$E$104,3,FALSE))","v":" "},null,null,null,null,null,null,null,null,0,null,null,null,null,null,null,null,null,null,null,null,null,null,null,null,"-",null,{"$f":"IF(SUMPRODUCT((A$14:A515=A515)*(B$14:B515=B515)*(D$14:D515=D515))>1,0,1)","v":0},1,1,{"$f":"IF(ISBLANK(G515),1,IFERROR(VLOOKUP(G515,Tipo!$C$12:$C$27,1,FALSE),\"NO\"))","v":1},1,{"$f":"IF(ISBLANK(K515),1,IFERROR(VLOOKUP(K515,Eje_Pilar_Prop!C497:C598,1,FALSE),\"NO\"))","v":1},1,1,1]
[null,null,null,null,null,null,null,null,null,null,null,{"$f":"IF(ISERROR(VLOOKUP(K516,Eje_Pilar_Prop!$C$2:$E$104,2,FALSE)),\" \",VLOOKUP(K516,Eje_Pilar_Prop!$C$2:$E$104,2,FALSE))","v":" "},{"$f":"IF(ISERROR(VLOOKUP(K516,Eje_Pilar_Prop!$C$2:$E$104,3,FALSE)),\" \",VLOOKUP(K516,Eje_Pilar_Prop!$C$2:$E$104,3,FALSE))","v":" "},null,null,null,null,null,null,null,null,0,null,null,null,null,null,null,null,null,null,null,null,null,null,null,null,"-",null,{"$f":"IF(SUMPRODUCT((A$14:A516=A516)*(B$14:B516=B516)*(D$14:D516=D516))>1,0,1)","v":0},1,1,{"$f":"IF(ISBLANK(G516),1,IFERROR(VLOOKUP(G516,Tipo!$C$12:$C$27,1,FALSE),\"NO\"))","v":1},1,{"$f":"IF(ISBLANK(K516),1,IFERROR(VLOOKUP(K516,Eje_Pilar_Prop!C498:C599,1,FALSE),\"NO\"))","v":1},1,1,1]
[null,null,null,null,null,null,null,null,null,null,null,{"$f":"IF(ISERROR(VLOOKUP(K517,Eje_Pilar_Prop!$C$2:$E$104,2,FALSE)),\" \",VLOOKUP(K517,Eje_Pilar_Prop!$C$2:$E$104,2,FALSE))","v":" "},{"$f":"IF(ISERROR(VLOOKUP(K517,Eje_Pilar_Prop!$C$2:$E$104,3,FALSE)),\" \",VLOOKUP(K517,Eje_Pilar_Prop!$C$2:$E$104,3,FALSE))","v":" "},null,null,null,null,null,null,null,null,0,null,null,null,null,null,null,null,null,null,null,null,null,null,null,null,"-",null,{"$f":"IF(SUMPRODUCT((A$14:A517=A517)*(B$14:B517=B517)*(D$14:D517=D517))>1,0,1)","v":0},1,1,{"$f":"IF(ISBLANK(G517),1,IFERROR(VLOOKUP(G517,Tipo!$C$12:$C$27,1,FALSE),\"NO\"))","v":1},1,{"$f":"IF(ISBLANK(K517),1,IFERROR(VLOOKUP(K517,Eje_Pilar_Prop!C499:C600,1,FALSE),\"NO\"))","v":1},1,1,1]
[null,null,null,null,null,null,null,null,null,null,null,{"$f":"IF(ISERROR(VLOOKUP(K518,Eje_Pilar_Prop!$C$2:$E$104,2,FALSE)),\" \",VLOOKUP(K518,Eje_Pilar_Prop!$C$2:$E$104,2,FALSE))","v":" "},{"$f":"IF(ISERROR(VLOOKUP(K518,Eje_Pilar_Prop!$C$2:$E$104,3,FALSE)),\" \",VLOOKUP(K518,Eje_Pilar_Prop!$C$2:$E$104,3,FALSE))","v":" "},null,null,null,null,null,null,null,null,0,null,null,null,null,null,null,null,null,null,null,null,null,null,null,null,"-",null,{"$f":"IF(SUMPRODUCT((A$14:A518=A518)*(B$14:B518=B518)*(D$14:D518=D518))>1,0,1)","v":0},1,1,{"$f":"IF(ISBLANK(G518),1,IFERROR(VLOOKUP(G518,Tipo!$C$12:$C$27,1,FALSE),\"NO\"))","v":1},1,{"$f":"IF(ISBLANK(K518),1,IFERROR(VLOOKUP(K518,Eje_Pilar_Prop!C500:C601,1,FALSE),\"NO\"))","v":1},1,1,1]
[null,null,null,null,null,null,null,null,null,null,null,{"$f":"IF(ISERROR(VLOOKUP(K519,Eje_Pilar_Prop!$C$2:$E$104,2,FALSE)),\" \",VLOOKUP(K519,Eje_Pilar_Prop!$C$2:$E$104,2,FALSE))","v":" "},{"$f":"IF(ISERROR(VLOOKUP(K519,Eje_Pilar_Prop!$C$2:$E$104,3,FALSE)),\" \",VLOOKUP(K519,Eje_Pilar_Prop!$C$2:$E$104,3,FALSE))","v":" "},null,null,null,null,null,null,null,null,0,null,null,null,null,null,null,null,null,null,null,null,null,null,null,null,"-",null,{"$f":"IF(SUMPRODUCT((A$14:A519=A519)*(B$14:B519=B519)*(D$14:D519=D519))>1,0,1)","v":0},1,1,{"$f":"IF(ISBLANK(G519),1,IFERROR(VLOOKUP(G519,Tipo!$C$12:$C$27,1,FALSE),\"NO\"))","v":1},1,{"$f":"IF(ISBLANK(K519),1,IFERROR(VLOOKUP(K519,Eje_Pilar_Prop!C501:C602,1,FALSE),\"NO\"))","v":1},1,1,1]
[null,null,null,null,null,null,null,null,null,null,null,{"$f":"IF(ISERROR(VLOOKUP(K520,Eje_Pilar_Prop!$C$2:$E$104,2,FALSE)),\" \",VLOOKUP(K520,Eje_Pilar_Prop!$C$2:$E$104,2,FALSE))","v":" "},{"$f":"IF(ISERROR(VLOOKUP(K520,Eje_Pilar_Prop!$C$2:$E$104,3,FALSE)),\" \",VLOOKUP(K520,Eje_Pilar_Prop!$C$2:$E$104,3,FALSE))","v":" "},null,null,null,null,null,null,null,null,0,null,null,null,null,null,null,null,null,null,null,null,null,null,null,null,"-",null,{"$f":"IF(SUMPRODUCT((A$14:A520=A520)*(B$14:B520=B520)*(D$14:D520=D520))>1,0,1)","v":0},1,1,{"$f":"IF(ISBLANK(G520),1,IFERROR(VLOOKUP(G520,Tipo!$C$12:$C$27,1,FALSE),\"NO\"))","v":1},1,{"$f":"IF(ISBLANK(K520),1,IFERROR(VLOOKUP(K520,Eje_Pilar_Prop!C502:C603,1,FALSE),\"NO\"))","v":1},1,1,1]
[null,null,null,null,null,null,null,null,null,null,null,{"$f":"IF(ISERROR(VLOOKUP(K521,Eje_Pilar_Prop!$C$2:$E$104,2,FALSE)),\" \",VLOOKUP(K521,Eje_Pilar_Prop!$C$2:$E$104,2,FALSE))","v":" "},{"$f":"IF(ISERROR(VLOOKUP(K521,Eje_Pilar_Prop!$C$2:$E$104,3,FALSE)),\" \",VLOOKUP(K521,Eje_Pilar_Prop!$C$2:$E$104,3,FALSE))","v":" "},null,null,null,null,null,null,null,null,0,null,null,null,null,null,null,null,null,null,null,null,null,null,null,null,"-",null,{"$f":"IF(SUMPRODUCT((A$14:A521=A521)*(B$14:B521=B521)*(D$14:D521=D521))>1,0,1)","v":0},1,1,{"$f":"IF(ISBLANK(G521),1,IFERROR(VLOOKUP(G521,Tipo!$C$12:$C$27,1,FALSE),\"NO\"))","v":1},1,{"$f":"IF(ISBLANK(K521),1,IFERROR(VLOOKUP(K521,Eje_Pilar_Prop!C503:C604,1,FALSE),\"NO\"))","v":1},1,1,1]
[null,null,null,null,null,null,null,null,null,null,null,{"$f":"IF(ISERROR(VLOOKUP(K522,Eje_Pilar_Prop!$C$2:$E$104,2,FALSE)),\" \",VLOOKUP(K522,Eje_Pilar_Prop!$C$2:$E$104,2,FALSE))","v":" "},{"$f":"IF(ISERROR(VLOOKUP(K522,Eje_Pilar_Prop!$C$2:$E$104,3,FALSE)),\" \",VLOOKUP(K522,Eje_Pilar_Prop!$C$2:$E$104,3,FALSE))","v":" "},null,null,null,null,null,null,null,null,0,null,null,null,null,null,null,null,null,null,null,null,null,null,null,null,"-",null,{"$f":"IF(SUMPRODUCT((A$14:A522=A522)*(B$14:B522=B522)*(D$14:D522=D522))>1,0,1)","v":0},1,1,{"$f":"IF(ISBLANK(G522),1,IFERROR(VLOOKUP(G522,Tipo!$C$12:$C$27,1,FALSE),\"NO\"))","v":1},1,{"$f":"IF(ISBLANK(K522),1,IFERROR(VLOOKUP(K522,Eje_Pilar_Prop!C504:C605,1,FALSE),\"NO\"))","v":1},1,1,1]
[null,null,null,null,null,null,null,null,null,null,null,{"$f":"IF(ISERROR(VLOOKUP(K523,Eje_Pilar_Prop!$C$2:$E$104,2,FALSE)),\" \",VLOOKUP(K523,Eje_Pilar_Prop!$C$2:$E$104,2,FALSE))","v":" "},{"$f":"IF(ISERROR(VLOOKUP(K523,Eje_Pilar_Prop!$C$2:$E$104,3,FALSE)),\" \",VLOOKUP(K523,Eje_Pilar_Prop!$C$2:$E$104,3,FALSE))","v":" "},null,null,null,null,null,null,null,null,0,null,null,null,null,null,null,null,null,null,null,null,null,null,null,null,"-",null,{"$f":"IF(SUMPRODUCT((A$14:A523=A523)*(B$14:B523=B523)*(D$14:D523=D523))>1,0,1)","v":0},1,1,{"$f":"IF(ISBLANK(G523),1,IFERROR(VLOOKUP(G523,Tipo!$C$12:$C$27,1,FALSE),\"NO\"))","v":1},1,{"$f":"IF(ISBLANK(K523),1,IFERROR(VLOOKUP(K523,Eje_Pilar_Prop!C505:C606,1,FALSE),\"NO\"))","v":1},1,1,1]
[null,null,null,null,null,null,null,null,null,null,null,{"$f":"IF(ISERROR(VLOOKUP(K524,Eje_Pilar_Prop!$C$2:$E$104,2,FALSE)),\" \",VLOOKUP(K524,Eje_Pilar_Prop!$C$2:$E$104,2,FALSE))","v":" "},{"$f":"IF(ISERROR(VLOOKUP(K524,Eje_Pilar_Prop!$C$2:$E$104,3,FALSE)),\" \",VLOOKUP(K524,Eje_Pilar_Prop!$C$2:$E$104,3,FALSE))","v":" "},null,null,null,null,null,null,null,null,0,null,null,null,null,null,null,null,null,null,null,null,null,null,null,null,"-",null,{"$f":"IF(SUMPRODUCT((A$14:A524=A524)*(B$14:B524=B524)*(D$14:D524=D524))>1,0,1)","v":0},1,1,{"$f":"IF(ISBLANK(G524),1,IFERROR(VLOOKUP(G524,Tipo!$C$12:$C$27,1,FALSE),\"NO\"))","v":1},1,{"$f":"IF(ISBLANK(K524),1,IFERROR(VLOOKUP(K524,Eje_Pilar_Prop!C506:C607,1,FALSE),\"NO\"))","v":1},1,1,1]
[null,null,null,null,null,null,null,null,null,null,null,{"$f":"IF(ISERROR(VLOOKUP(K525,Eje_Pilar_Prop!$C$2:$E$104,2,FALSE)),\" \",VLOOKUP(K525,Eje_Pilar_Prop!$C$2:$E$104,2,FALSE))","v":" "},{"$f":"IF(ISERROR(VLOOKUP(K525,Eje_Pilar_Prop!$C$2:$E$104,3,FALSE)),\" \",VLOOKUP(K525,Eje_Pilar_Prop!$C$2:$E$104,3,FALSE))","v":" "},null,null,null,null,null,null,null,null,0,null,null,null,null,null,null,null,null,null,null,null,null,null,null,null,"-",null,{"$f":"IF(SUMPRODUCT((A$14:A525=A525)*(B$14:B525=B525)*(D$14:D525=D525))>1,0,1)","v":0},1,1,{"$f":"IF(ISBLANK(G525),1,IFERROR(VLOOKUP(G525,Tipo!$C$12:$C$27,1,FALSE),\"NO\"))","v":1},1,{"$f":"IF(ISBLANK(K525),1,IFERROR(VLOOKUP(K525,Eje_Pilar_Prop!C507:C608,1,FALSE),\"NO\"))","v":1},1,1,1]
[null,null,null,null,null,null,null,null,null,null,null,{"$f":"IF(ISERROR(VLOOKUP(K526,Eje_Pilar_Prop!$C$2:$E$104,2,FALSE)),\" \",VLOOKUP(K526,Eje_Pilar_Prop!$C$2:$E$104,2,FALSE))","v":" "},{"$f":"IF(ISERROR(VLOOKUP(K526,Eje_Pilar_Prop!$C$2:$E$104,3,FALSE)),\" \",VLOOKUP(K526,Eje_Pilar_Prop!$C$2:$E$104,3,FALSE))","v":" "},null,null,null,null,null,null,null,null,0,null,null,null,null,null,null,null,null,null,null,null,null,null,null,null,"-",null,{"$f":"IF(SUMPRODUCT((A$14:A526=A526)*(B$14:B526=B526)*(D$14:D526=D526))>1,0,1)","v":0},1,1,{"$f":"IF(ISBLANK(G526),1,IFERROR(VLOOKUP(G526,Tipo!$C$12:$C$27,1,FALSE),\"NO\"))","v":1},1,{"$f":"IF(ISBLANK(K526),1,IFERROR(VLOOKUP(K526,Eje_Pilar_Prop!C508:C609,1,FALSE),\"NO\"))","v":1},1,1,{"$f":"IF(ISBLANK(J526),1,IFERROR(VLOOKUP(J526,pdd,1,FALSE),\"NO\"))","v":1}]
[null,null,null,null,null,null,null,null,null,null,null,{"$f":"IF(ISERROR(VLOOKUP(K527,Eje_Pilar_Prop!$C$2:$E$104,2,FALSE)),\" \",VLOOKUP(K527,Eje_Pilar_Prop!$C$2:$E$104,2,FALSE))","v":" "},{"$f":"IF(ISERROR(VLOOKUP(K527,Eje_Pilar_Prop!$C$2:$E$104,3,FALSE)),\" \",VLOOKUP(K527,Eje_Pilar_Prop!$C$2:$E$104,3,FALSE))","v":" "},null,null,null,null,null,null,null,null,0,null,null,null,null,null,null,null,null,null,null,null,null,null,null,null,"-",null,{"$f":"IF(SUMPRODUCT((A$14:A527=A527)*(B$14:B527=B527)*(D$14:D527=D527))>1,0,1)","v":0},1,1,{"$f":"IF(ISBLANK(G527),1,IFERROR(VLOOKUP(G527,Tipo!$C$12:$C$27,1,FALSE),\"NO\"))","v":1},1,{"$f":"IF(ISBLANK(K527),1,IFERROR(VLOOKUP(K527,Eje_Pilar_Prop!C509:C610,1,FALSE),\"NO\"))","v":1},1,1,1]
[null,null,null,null,null,null,null,null,null,null,null,{"$f":"IF(ISERROR(VLOOKUP(K528,Eje_Pilar_Prop!$C$2:$E$104,2,FALSE)),\" \",VLOOKUP(K528,Eje_Pilar_Prop!$C$2:$E$104,2,FALSE))","v":" "},{"$f":"IF(ISERROR(VLOOKUP(K528,Eje_Pilar_Prop!$C$2:$E$104,3,FALSE)),\" \",VLOOKUP(K528,Eje_Pilar_Prop!$C$2:$E$104,3,FALSE))","v":" "},null,null,null,null,null,null,null,null,0,null,null,null,null,null,null,null,null,null,null,null,null,null,null,null,"-",null,{"$f":"IF(SUMPRODUCT((A$14:A528=A528)*(B$14:B528=B528)*(D$14:D528=D528))>1,0,1)","v":0},1,1,{"$f":"IF(ISBLANK(G528),1,IFERROR(VLOOKUP(G528,Tipo!$C$12:$C$27,1,FALSE),\"NO\"))","v":1},1,{"$f":"IF(ISBLANK(K528),1,IFERROR(VLOOKUP(K528,Eje_Pilar_Prop!C510:C611,1,FALSE),\"NO\"))","v":1},1,1,1]
[null,null,null,null,null,null,null,null,null,null,null,{"$f":"IF(ISERROR(VLOOKUP(K529,Eje_Pilar_Prop!$C$2:$E$104,2,FALSE)),\" \",VLOOKUP(K529,Eje_Pilar_Prop!$C$2:$E$104,2,FALSE))","v":" "},{"$f":"IF(ISERROR(VLOOKUP(K529,Eje_Pilar_Prop!$C$2:$E$104,3,FALSE)),\" \",VLOOKUP(K529,Eje_Pilar_Prop!$C$2:$E$104,3,FALSE))","v":" "},null,null,null,null,null,null,null,null,0,null,null,null,null,null,null,null,null,null,null,null,null,null,null,null,"-",null,{"$f":"IF(SUMPRODUCT((A$14:A529=A529)*(B$14:B529=B529)*(D$14:D529=D529))>1,0,1)","v":0},1,1,{"$f":"IF(ISBLANK(G529),1,IFERROR(VLOOKUP(G529,Tipo!$C$12:$C$27,1,FALSE),\"NO\"))","v":1},1,{"$f":"IF(ISBLANK(K529),1,IFERROR(VLOOKUP(K529,Eje_Pilar_Prop!C511:C612,1,FALSE),\"NO\"))","v":1},1,1,1]
[null,null,null,null,null,null,null,null,null,null,null,{"$f":"IF(ISERROR(VLOOKUP(K530,Eje_Pilar_Prop!$C$2:$E$104,2,FALSE)),\" \",VLOOKUP(K530,Eje_Pilar_Prop!$C$2:$E$104,2,FALSE))","v":" "},{"$f":"IF(ISERROR(VLOOKUP(K530,Eje_Pilar_Prop!$C$2:$E$104,3,FALSE)),\" \",VLOOKUP(K530,Eje_Pilar_Prop!$C$2:$E$104,3,FALSE))","v":" "},null,null,null,null,null,null,null,null,0,null,null,null,null,null,null,null,null,null,null,null,null,null,null,null,"-",null,{"$f":"IF(SUMPRODUCT((A$14:A530=A530)*(B$14:B530=B530)*(D$14:D530=D530))>1,0,1)","v":0},1,1,{"$f":"IF(ISBLANK(G530),1,IFERROR(VLOOKUP(G530,Tipo!$C$12:$C$27,1,FALSE),\"NO\"))","v":1},1,{"$f":"IF(ISBLANK(K530),1,IFERROR(VLOOKUP(K530,Eje_Pilar_Prop!C512:C613,1,FALSE),\"NO\"))","v":1},1,1,1]
[null,null,null,null,null,null,null,null,null,null,null,{"$f":"IF(ISERROR(VLOOKUP(K531,Eje_Pilar_Prop!$C$2:$E$104,2,FALSE)),\" \",VLOOKUP(K531,Eje_Pilar_Prop!$C$2:$E$104,2,FALSE))","v":" "},{"$f":"IF(ISERROR(VLOOKUP(K531,Eje_Pilar_Prop!$C$2:$E$104,3,FALSE)),\" \",VLOOKUP(K531,Eje_Pilar_Prop!$C$2:$E$104,3,FALSE))","v":" "},null,null,null,null,null,null,null,null,0,null,null,null,null,null,null,null,null,null,null,null,null,null,null,null,"-",null,{"$f":"IF(SUMPRODUCT((A$14:A531=A531)*(B$14:B531=B531)*(D$14:D531=D531))>1,0,1)","v":0},1,1,{"$f":"IF(ISBLANK(G531),1,IFERROR(VLOOKUP(G531,Tipo!$C$12:$C$27,1,FALSE),\"NO\"))","v":1},1,{"$f":"IF(ISBLANK(K531),1,IFERROR(VLOOKUP(K531,Eje_Pilar_Prop!C513:C614,1,FALSE),\"NO\"))","v":1},1,1,1]
[null,null,null,null,null,null,null,null,null,null,null,{"$f":"IF(ISERROR(VLOOKUP(K532,Eje_Pilar_Prop!$C$2:$E$104,2,FALSE)),\" \",VLOOKUP(K532,Eje_Pilar_Prop!$C$2:$E$104,2,FALSE))","v":" "},{"$f":"IF(ISERROR(VLOOKUP(K532,Eje_Pilar_Prop!$C$2:$E$104,3,FALSE)),\" \",VLOOKUP(K532,Eje_Pilar_Prop!$C$2:$E$104,3,FALSE))","v":" "},null,null,null,null,null,null,null,null,0,null,null,null,null,null,null,null,null,null,null,null,null,null,null,null,"-",null,{"$f":"IF(SUMPRODUCT((A$14:A532=A532)*(B$14:B532=B532)*(D$14:D532=D532))>1,0,1)","v":0},1,1,{"$f":"IF(ISBLANK(G532),1,IFERROR(VLOOKUP(G532,Tipo!$C$12:$C$27,1,FALSE),\"NO\"))","v":1},1,{"$f":"IF(ISBLANK(K532),1,IFERROR(VLOOKUP(K532,Eje_Pilar_Prop!C514:C615,1,FALSE),\"NO\"))","v":1},1,1,1]
[null,null,null,null,null,null,null,null,null,null,null,{"$f":"IF(ISERROR(VLOOKUP(K533,Eje_Pilar_Prop!$C$2:$E$104,2,FALSE)),\" \",VLOOKUP(K533,Eje_Pilar_Prop!$C$2:$E$104,2,FALSE))","v":" "},{"$f":"IF(ISERROR(VLOOKUP(K533,Eje_Pilar_Prop!$C$2:$E$104,3,FALSE)),\" \",VLOOKUP(K533,Eje_Pilar_Prop!$C$2:$E$104,3,FALSE))","v":" "},null,null,null,null,null,null,null,null,0,null,null,null,null,null,null,null,null,null,null,null,null,null,null,null,"-",null,{"$f":"IF(SUMPRODUCT((A$14:A533=A533)*(B$14:B533=B533)*(D$14:D533=D533))>1,0,1)","v":0},1,1,{"$f":"IF(ISBLANK(G533),1,IFERROR(VLOOKUP(G533,Tipo!$C$12:$C$27,1,FALSE),\"NO\"))","v":1},1,{"$f":"IF(ISBLANK(K533),1,IFERROR(VLOOKUP(K533,Eje_Pilar_Prop!C515:C616,1,FALSE),\"NO\"))","v":1},{"$f":"IF(ISBLANK(C533),1,IFERROR(VLOOKUP(C533,SECOP,1,FALSE),\"NO\"))","v":1},1,1]
[null,null,null,null,null,null,null,null,null,null,null,{"$f":"IF(ISERROR(VLOOKUP(K534,Eje_Pilar_Prop!$C$2:$E$104,2,FALSE)),\" \",VLOOKUP(K534,Eje_Pilar_Prop!$C$2:$E$104,2,FALSE))","v":" "},{"$f":"IF(ISERROR(VLOOKUP(K534,Eje_Pilar_Prop!$C$2:$E$104,3,FALSE)),\" \",VLOOKUP(K534,Eje_Pilar_Prop!$C$2:$E$104,3,FALSE))","v":" "},null,null,null,null,null,null,null,null,0,null,null,null,null,null,null,null,null,null,null,null,null,null,null,null,"-",null,{"$f":"IF(SUMPRODUCT((A$14:A534=A534)*(B$14:B534=B534)*(D$14:D534=D534))>1,0,1)","v":0},1,1,{"$f":"IF(ISBLANK(G534),1,IFERROR(VLOOKUP(G534,Tipo!$C$12:$C$27,1,FALSE),\"NO\"))","v":1},1,{"$f":"IF(ISBLANK(K534),1,IFERROR(VLOOKUP(K534,Eje_Pilar_Prop!C516:C617,1,FALSE),\"NO\"))","v":1},1,1,1]
[null,null,null,null,null,null,null,null,null,null,null,{"$f":"IF(ISERROR(VLOOKUP(K535,Eje_Pilar_Prop!$C$2:$E$104,2,FALSE)),\" \",VLOOKUP(K535,Eje_Pilar_Prop!$C$2:$E$104,2,FALSE))","v":" "},{"$f":"IF(ISERROR(VLOOKUP(K535,Eje_Pilar_Prop!$C$2:$E$104,3,FALSE)),\" \",VLOOKUP(K535,Eje_Pilar_Prop!$C$2:$E$104,3,FALSE))","v":" "},null,null,null,null,null,null,null,null,0,null,null,null,null,null,null,null,null,null,null,null,null,null,null,null,"-",null,{"$f":"IF(SUMPRODUCT((A$14:A535=A535)*(B$14:B535=B535)*(D$14:D535=D535))>1,0,1)","v":0},1,1,{"$f":"IF(ISBLANK(G535),1,IFERROR(VLOOKUP(G535,Tipo!$C$12:$C$27,1,FALSE),\"NO\"))","v":1},1,{"$f":"IF(ISBLANK(K535),1,IFERROR(VLOOKUP(K535,Eje_Pilar_Prop!C517:C618,1,FALSE),\"NO\"))","v":1},1,1,1]
[null,null,null,null,null,null,null,null,null,null,null,{"$f":"IF(ISERROR(VLOOKUP(K536,Eje_Pilar_Prop!$C$2:$E$104,2,FALSE)),\" \",VLOOKUP(K536,Eje_Pilar_Prop!$C$2:$E$104,2,FALSE))","v":" "},{"$f":"IF(ISERROR(VLOOKUP(K536,Eje_Pilar_Prop!$C$2:$E$104,3,FALSE)),\" \",VLOOKUP(K536,Eje_Pilar_Prop!$C$2:$E$104,3,FALSE))","v":" "},null,null,null,null,null,null,null,null,0,null,null,null,null,null,null,null,null,null,null,null,null,null,null,null,"-",null,{"$f":"IF(SUMPRODUCT((A$14:A536=A536)*(B$14:B536=B536)*(D$14:D536=D536))>1,0,1)","v":0},{"$f":"IF(ISBLANK(E536),1,IFERROR(VLOOKUP(E536,tipo,1,FALSE),\"NO\"))","v":1},{"$f":"IF(ISBLANK(F536),1,IFERROR(VLOOKUP(F536,modal,1,FALSE),\"NO\"))","v":1},{"$f":"IF(ISBLANK(G536),1,IFERROR(VLOOKUP(G536,Tipo!$C$12:$C$27,1,FALSE),\"NO\"))","v":1},{"$f":"IF(ISBLANK(I536),1,IFERROR(VLOOKUP(I536,afectacion,1,FALSE),\"NO\"))","v":1},{"$f":"IF(ISBLANK(K536),1,IFERROR(VLOOKUP(K536,Eje_Pilar_Prop!C518:C619,1,FALSE),\"NO\"))","v":1},1,1,1]
[null,null,null,null,null,null,null,null,null,null,null,{"$f":"IF(ISERROR(VLOOKUP(K537,Eje_Pilar_Prop!$C$2:$E$104,2,FALSE)),\" \",VLOOKUP(K537,Eje_Pilar_Prop!$C$2:$E$104,2,FALSE))","v":" "},{"$f":"IF(ISERROR(VLOOKUP(K537,Eje_Pilar_Prop!$C$2:$E$104,3,FALSE)),\" \",VLOOKUP(K537,Eje_Pilar_Prop!$C$2:$E$104,3,FALSE))","v":" "},null,null,null,null,null,null,null,null,0,null,null,null,null,null,null,null,null,null,null,null,null,null,null,null,"-",null,{"$f":"IF(SUMPRODUCT((A$14:A537=A537)*(B$14:B537=B537)*(D$14:D537=D537))>1,0,1)","v":0},1,1,{"$f":"IF(ISBLANK(G537),1,IFERROR(VLOOKUP(G537,Tipo!$C$12:$C$27,1,FALSE),\"NO\"))","v":1},1,{"$f":"IF(ISBLANK(K537),1,IFERROR(VLOOKUP(K537,Eje_Pilar_Prop!C519:C620,1,FALSE),\"NO\"))","v":1},1,1,1]
[null,null,null,null,null,null,null,null,null,null,null,{"$f":"IF(ISERROR(VLOOKUP(K538,Eje_Pilar_Prop!$C$2:$E$104,2,FALSE)),\" \",VLOOKUP(K538,Eje_Pilar_Prop!$C$2:$E$104,2,FALSE))","v":" "},{"$f":"IF(ISERROR(VLOOKUP(K538,Eje_Pilar_Prop!$C$2:$E$104,3,FALSE)),\" \",VLOOKUP(K538,Eje_Pilar_Prop!$C$2:$E$104,3,FALSE))","v":" "},null,null,null,null,null,null,null,null,0,null,null,null,null,null,null,null,null,null,null,null,null,null,null,null,"-",null,{"$f":"IF(SUMPRODUCT((A$14:A538=A538)*(B$14:B538=B538)*(D$14:D538=D538))>1,0,1)","v":0},1,1,{"$f":"IF(ISBLANK(G538),1,IFERROR(VLOOKUP(G538,Tipo!$C$12:$C$27,1,FALSE),\"NO\"))","v":1},1,{"$f":"IF(ISBLANK(K538),1,IFERROR(VLOOKUP(K538,Eje_Pilar_Prop!C520:C621,1,FALSE),\"NO\"))","v":1},1,1,1]
[null,null,null,null,null,null,null,null,null,null,null,{"$f":"IF(ISERROR(VLOOKUP(K539,Eje_Pilar_Prop!$C$2:$E$104,2,FALSE)),\" \",VLOOKUP(K539,Eje_Pilar_Prop!$C$2:$E$104,2,FALSE))","v":" "},{"$f":"IF(ISERROR(VLOOKUP(K539,Eje_Pilar_Prop!$C$2:$E$104,3,FALSE)),\" \",VLOOKUP(K539,Eje_Pilar_Prop!$C$2:$E$104,3,FALSE))","v":" "},null,null,null,null,null,null,null,null,0,null,null,null,null,null,null,null,null,null,null,null,null,null,null,null,"-",null,{"$f":"IF(SUMPRODUCT((A$14:A539=A539)*(B$14:B539=B539)*(D$14:D539=D539))>1,0,1)","v":0},1,1,{"$f":"IF(ISBLANK(G539),1,IFERROR(VLOOKUP(G539,Tipo!$C$12:$C$27,1,FALSE),\"NO\"))","v":1},1,{"$f":"IF(ISBLANK(K539),1,IFERROR(VLOOKUP(K539,Eje_Pilar_Prop!C521:C622,1,FALSE),\"NO\"))","v":1},1,1,1]
[null,null,null,null,null,null,null,null,null,null,null,{"$f":"IF(ISERROR(VLOOKUP(K540,Eje_Pilar_Prop!$C$2:$E$104,2,FALSE)),\" \",VLOOKUP(K540,Eje_Pilar_Prop!$C$2:$E$104,2,FALSE))","v":" "},{"$f":"IF(ISERROR(VLOOKUP(K540,Eje_Pilar_Prop!$C$2:$E$104,3,FALSE)),\" \",VLOOKUP(K540,Eje_Pilar_Prop!$C$2:$E$104,3,FALSE))","v":" "},null,null,null,null,null,null,null,null,0,null,null,null,null,null,null,null,null,null,null,null,null,null,null,null,"-",null,{"$f":"IF(SUMPRODUCT((A$14:A540=A540)*(B$14:B540=B540)*(D$14:D540=D540))>1,0,1)","v":0},1,1,{"$f":"IF(ISBLANK(G540),1,IFERROR(VLOOKUP(G540,Tipo!$C$12:$C$27,1,FALSE),\"NO\"))","v":1},1,{"$f":"IF(ISBLANK(K540),1,IFERROR(VLOOKUP(K540,Eje_Pilar_Prop!C522:C623,1,FALSE),\"NO\"))","v":1},1,{"$f":"IF(OR(YEAR(X540)=2020,ISBLANK(X540)),1,\"NO\")","v":1},1]
[null,null,null,null,null,null,null,null,null,null,null,{"$f":"IF(ISERROR(VLOOKUP(K541,Eje_Pilar_Prop!$C$2:$E$104,2,FALSE)),\" \",VLOOKUP(K541,Eje_Pilar_Prop!$C$2:$E$104,2,FALSE))","v":" "},{"$f":"IF(ISERROR(VLOOKUP(K541,Eje_Pilar_Prop!$C$2:$E$104,3,FALSE)),\" \",VLOOKUP(K541,Eje_Pilar_Prop!$C$2:$E$104,3,FALSE))","v":" "},null,null,null,null,null,null,null,null,0,null,null,null,null,null,null,null,null,null,null,null,null,null,null,null,"-",null,{"$f":"IF(SUMPRODUCT((A$14:A541=A541)*(B$14:B541=B541)*(D$14:D541=D541))>1,0,1)","v":0},1,1,{"$f":"IF(ISBLANK(G541),1,IFERROR(VLOOKUP(G541,Tipo!$C$12:$C$27,1,FALSE),\"NO\"))","v":1},1,{"$f":"IF(ISBLANK(K541),1,IFERROR(VLOOKUP(K541,Eje_Pilar_Prop!C523:C624,1,FALSE),\"NO\"))","v":1},1,1,1]
[null,null,null,null,null,null,null,null,null,null,null,{"$f":"IF(ISERROR(VLOOKUP(K542,Eje_Pilar_Prop!$C$2:$E$104,2,FALSE)),\" \",VLOOKUP(K542,Eje_Pilar_Prop!$C$2:$E$104,2,FALSE))","v":" "},{"$f":"IF(ISERROR(VLOOKUP(K542,Eje_Pilar_Prop!$C$2:$E$104,3,FALSE)),\" \",VLOOKUP(K542,Eje_Pilar_Prop!$C$2:$E$104,3,FALSE))","v":" "},null,null,null,null,null,null,null,null,0,null,null,null,null,null,null,null,null,null,null,null,null,null,null,null,{"$f":"IF(ISERROR(W542/V542),\"-\",(W542/V542))","v":"-"},null,{"$f":"IF(SUMPRODUCT((A$14:A542=A542)*(B$14:B542=B542)*(D$14:D542=D542))>1,0,1)","v":0},1,1,{"$f":"IF(ISBLANK(G542),1,IFERROR(VLOOKUP(G542,Tipo!$C$12:$C$27,1,FALSE),\"NO\"))","v":1},1,{"$f":"IF(ISBLANK(K542),1,IFERROR(VLOOKUP(K542,Eje_Pilar_Prop!C524:C625,1,FALSE),\"NO\"))","v":1},1,1,1]
[null,null,null,null,null,null,null,null,null,null,null,{"$f":"IF(ISERROR(VLOOKUP(K543,Eje_Pilar_Prop!$C$2:$E$104,2,FALSE)),\" \",VLOOKUP(K543,Eje_Pilar_Prop!$C$2:$E$104,2,FALSE))","v":" "},{"$f":"IF(ISERROR(VLOOKUP(K543,Eje_Pilar_Prop!$C$2:$E$104,3,FALSE)),\" \",VLOOKUP(K543,Eje_Pilar_Prop!$C$2:$E$104,3,FALSE))","v":" "},null,null,null,null,null,null,null,null,{"$f":"+Q543+S543+U543","v":0},null,null,null,null,null,null,null,null,null,null,null,null,null,null,null,"-",null,{"$f":"IF(SUMPRODUCT((A$14:A543=A543)*(B$14:B543=B543)*(D$14:D543=D543))>1,0,1)","v":0},1,1,{"$f":"IF(ISBLANK(G543),1,IFERROR(VLOOKUP(G543,Tipo!$C$12:$C$27,1,FALSE),\"NO\"))","v":1},1,{"$f":"IF(ISBLANK(K543),1,IFERROR(VLOOKUP(K543,Eje_Pilar_Prop!C525:C626,1,FALSE),\"NO\"))","v":1},1,1,1]
[null,null,null,null,null,null,null,null,null,null,null,{"$f":"IF(ISERROR(VLOOKUP(K544,Eje_Pilar_Prop!$C$2:$E$104,2,FALSE)),\" \",VLOOKUP(K544,Eje_Pilar_Prop!$C$2:$E$104,2,FALSE))","v":" "},{"$f":"IF(ISERROR(VLOOKUP(K544,Eje_Pilar_Prop!$C$2:$E$104,3,FALSE)),\" \",VLOOKUP(K544,Eje_Pilar_Prop!$C$2:$E$104,3,FALSE))","v":" "},null,null,null,null,null,null,null,null,0,null,null,null,null,null,null,null,null,null,null,null,null,null,null,null,"-",null,{"$f":"IF(SUMPRODUCT((A$14:A544=A544)*(B$14:B544=B544)*(D$14:D544=D544))>1,0,1)","v":0},1,1,{"$f":"IF(ISBLANK(G544),1,IFERROR(VLOOKUP(G544,Tipo!$C$12:$C$27,1,FALSE),\"NO\"))","v":1},1,{"$f":"IF(ISBLANK(K544),1,IFERROR(VLOOKUP(K544,Eje_Pilar_Prop!C526:C627,1,FALSE),\"NO\"))","v":1},1,1,1]
[null,null,null,null,null,null,null,null,null,null,null,{"$f":"IF(ISERROR(VLOOKUP(K545,Eje_Pilar_Prop!$C$2:$E$104,2,FALSE)),\" \",VLOOKUP(K545,Eje_Pilar_Prop!$C$2:$E$104,2,FALSE))","v":" "},{"$f":"IF(ISERROR(VLOOKUP(K545,Eje_Pilar_Prop!$C$2:$E$104,3,FALSE)),\" \",VLOOKUP(K545,Eje_Pilar_Prop!$C$2:$E$104,3,FALSE))","v":" "},null,null,null,null,null,null,null,null,0,null,null,null,null,null,null,null,null,null,null,null,null,null,null,null,"-",null,{"$f":"IF(SUMPRODUCT((A$14:A545=A545)*(B$14:B545=B545)*(D$14:D545=D545))>1,0,1)","v":0},1,1,{"$f":"IF(ISBLANK(G545),1,IFERROR(VLOOKUP(G545,Tipo!$C$12:$C$27,1,FALSE),\"NO\"))","v":1},1,{"$f":"IF(ISBLANK(K545),1,IFERROR(VLOOKUP(K545,Eje_Pilar_Prop!C527:C628,1,FALSE),\"NO\"))","v":1},1,1,1]
[null,null,null,null,null,null,null,null,null,null,null,{"$f":"IF(ISERROR(VLOOKUP(K546,Eje_Pilar_Prop!$C$2:$E$104,2,FALSE)),\" \",VLOOKUP(K546,Eje_Pilar_Prop!$C$2:$E$104,2,FALSE))","v":" "},{"$f":"IF(ISERROR(VLOOKUP(K546,Eje_Pilar_Prop!$C$2:$E$104,3,FALSE)),\" \",VLOOKUP(K546,Eje_Pilar_Prop!$C$2:$E$104,3,FALSE))","v":" "},null,null,null,null,null,null,null,null,0,null,null,null,null,null,null,null,null,null,null,null,null,null,null,null,"-",null,{"$f":"IF(SUMPRODUCT((A$14:A546=A546)*(B$14:B546=B546)*(D$14:D546=D546))>1,0,1)","v":0},1,1,{"$f":"IF(ISBLANK(G546),1,IFERROR(VLOOKUP(G546,Tipo!$C$12:$C$27,1,FALSE),\"NO\"))","v":1},1,{"$f":"IF(ISBLANK(K546),1,IFERROR(VLOOKUP(K546,Eje_Pilar_Prop!C528:C629,1,FALSE),\"NO\"))","v":1},1,1,1]
[null,null,null,null,null,null,null,null,null,null,null,{"$f":"IF(ISERROR(VLOOKUP(K547,Eje_Pilar_Prop!$C$2:$E$104,2,FALSE)),\" \",VLOOKUP(K547,Eje_Pilar_Prop!$C$2:$E$104,2,FALSE))","v":" "},{"$f":"IF(ISERROR(VLOOKUP(K547,Eje_Pilar_Prop!$C$2:$E$104,3,FALSE)),\" \",VLOOKUP(K547,Eje_Pilar_Prop!$C$2:$E$104,3,FALSE))","v":" "},null,null,null,null,null,null,null,null,0,null,null,null,null,null,null,null,null,null,null,null,null,null,null,null,"-",null,{"$f":"IF(SUMPRODUCT((A$14:A547=A547)*(B$14:B547=B547)*(D$14:D547=D547))>1,0,1)","v":0},1,1,{"$f":"IF(ISBLANK(G547),1,IFERROR(VLOOKUP(G547,Tipo!$C$12:$C$27,1,FALSE),\"NO\"))","v":1},1,{"$f":"IF(ISBLANK(K547),1,IFERROR(VLOOKUP(K547,Eje_Pilar_Prop!C529:C630,1,FALSE),\"NO\"))","v":1},1,1,1]
[null,null,null,null,null,null,null,null,null,null,null,{"$f":"IF(ISERROR(VLOOKUP(K548,Eje_Pilar_Prop!$C$2:$E$104,2,FALSE)),\" \",VLOOKUP(K548,Eje_Pilar_Prop!$C$2:$E$104,2,FALSE))","v":" "},{"$f":"IF(ISERROR(VLOOKUP(K548,Eje_Pilar_Prop!$C$2:$E$104,3,FALSE)),\" \",VLOOKUP(K548,Eje_Pilar_Prop!$C$2:$E$104,3,FALSE))","v":" "},null,null,null,null,null,null,null,null,0,null,null,null,null,null,null,null,null,null,null,null,null,null,null,null,"-",null,{"$f":"IF(SUMPRODUCT((A$14:A548=A548)*(B$14:B548=B548)*(D$14:D548=D548))>1,0,1)","v":0},1,1,{"$f":"IF(ISBLANK(G548),1,IFERROR(VLOOKUP(G548,Tipo!$C$12:$C$27,1,FALSE),\"NO\"))","v":1},1,{"$f":"IF(ISBLANK(K548),1,IFERROR(VLOOKUP(K548,Eje_Pilar_Prop!C530:C631,1,FALSE),\"NO\"))","v":1},1,1,1]
[null,null,null,null,null,null,null,null,null,null,null,{"$f":"IF(ISERROR(VLOOKUP(K549,Eje_Pilar_Prop!$C$2:$E$104,2,FALSE)),\" \",VLOOKUP(K549,Eje_Pilar_Prop!$C$2:$E$104,2,FALSE))","v":" "},{"$f":"IF(ISERROR(VLOOKUP(K549,Eje_Pilar_Prop!$C$2:$E$104,3,FALSE)),\" \",VLOOKUP(K549,Eje_Pilar_Prop!$C$2:$E$104,3,FALSE))","v":" "},null,null,null,null,null,null,null,null,0,null,null,null,null,null,null,null,null,null,null,null,null,null,null,null,"-",null,{"$f":"IF(SUMPRODUCT((A$14:A549=A549)*(B$14:B549=B549)*(D$14:D549=D549))>1,0,1)","v":0},1,1,{"$f":"IF(ISBLANK(G549),1,IFERROR(VLOOKUP(G549,Tipo!$C$12:$C$27,1,FALSE),\"NO\"))","v":1},1,{"$f":"IF(ISBLANK(K549),1,IFERROR(VLOOKUP(K549,Eje_Pilar_Prop!C531:C632,1,FALSE),\"NO\"))","v":1},1,1,1]
[null,null,null,null,null,null,null,null,null,null,null,{"$f":"IF(ISERROR(VLOOKUP(K550,Eje_Pilar_Prop!$C$2:$E$104,2,FALSE)),\" \",VLOOKUP(K550,Eje_Pilar_Prop!$C$2:$E$104,2,FALSE))","v":" "},{"$f":"IF(ISERROR(VLOOKUP(K550,Eje_Pilar_Prop!$C$2:$E$104,3,FALSE)),\" \",VLOOKUP(K550,Eje_Pilar_Prop!$C$2:$E$104,3,FALSE))","v":" "},null,null,null,null,null,null,null,null,0,null,null,null,null,null,null,null,null,null,null,null,null,null,null,null,"-",null,{"$f":"IF(SUMPRODUCT((A$14:A550=A550)*(B$14:B550=B550)*(D$14:D550=D550))>1,0,1)","v":0},1,1,{"$f":"IF(ISBLANK(G550),1,IFERROR(VLOOKUP(G550,Tipo!$C$12:$C$27,1,FALSE),\"NO\"))","v":1},1,{"$f":"IF(ISBLANK(K550),1,IFERROR(VLOOKUP(K550,Eje_Pilar_Prop!C532:C633,1,FALSE),\"NO\"))","v":1},1,1,1]
[null,null,null,null,null,null,null,null,null,null,null,{"$f":"IF(ISERROR(VLOOKUP(K551,Eje_Pilar_Prop!$C$2:$E$104,2,FALSE)),\" \",VLOOKUP(K551,Eje_Pilar_Prop!$C$2:$E$104,2,FALSE))","v":" "},{"$f":"IF(ISERROR(VLOOKUP(K551,Eje_Pilar_Prop!$C$2:$E$104,3,FALSE)),\" \",VLOOKUP(K551,Eje_Pilar_Prop!$C$2:$E$104,3,FALSE))","v":" "},null,null,null,null,null,null,null,null,0,null,null,null,null,null,null,null,null,null,null,null,null,null,null,null,"-",null,{"$f":"IF(SUMPRODUCT((A$14:A551=A551)*(B$14:B551=B551)*(D$14:D551=D551))>1,0,1)","v":0},1,1,{"$f":"IF(ISBLANK(G551),1,IFERROR(VLOOKUP(G551,Tipo!$C$12:$C$27,1,FALSE),\"NO\"))","v":1},1,{"$f":"IF(ISBLANK(K551),1,IFERROR(VLOOKUP(K551,Eje_Pilar_Prop!C533:C634,1,FALSE),\"NO\"))","v":1},1,1,1]
[null,null,null,null,null,null,null,null,null,null,null,{"$f":"IF(ISERROR(VLOOKUP(K552,Eje_Pilar_Prop!$C$2:$E$104,2,FALSE)),\" \",VLOOKUP(K552,Eje_Pilar_Prop!$C$2:$E$104,2,FALSE))","v":" "},{"$f":"IF(ISERROR(VLOOKUP(K552,Eje_Pilar_Prop!$C$2:$E$104,3,FALSE)),\" \",VLOOKUP(K552,Eje_Pilar_Prop!$C$2:$E$104,3,FALSE))","v":" "},null,null,null,null,null,null,null,null,0,null,null,null,null,null,null,null,null,null,null,null,null,null,null,null,"-",null,{"$f":"IF(SUMPRODUCT((A$14:A552=A552)*(B$14:B552=B552)*(D$14:D552=D552))>1,0,1)","v":0},1,1,{"$f":"IF(ISBLANK(G552),1,IFERROR(VLOOKUP(G552,Tipo!$C$12:$C$27,1,FALSE),\"NO\"))","v":1},1,{"$f":"IF(ISBLANK(K552),1,IFERROR(VLOOKUP(K552,Eje_Pilar_Prop!C534:C635,1,FALSE),\"NO\"))","v":1},1,1,1]
[null,null,null,null,null,null,null,null,null,null,null,{"$f":"IF(ISERROR(VLOOKUP(K553,Eje_Pilar_Prop!$C$2:$E$104,2,FALSE)),\" \",VLOOKUP(K553,Eje_Pilar_Prop!$C$2:$E$104,2,FALSE))","v":" "},{"$f":"IF(ISERROR(VLOOKUP(K553,Eje_Pilar_Prop!$C$2:$E$104,3,FALSE)),\" \",VLOOKUP(K553,Eje_Pilar_Prop!$C$2:$E$104,3,FALSE))","v":" "},null,null,null,null,null,null,null,null,0,null,null,null,null,null,null,null,null,null,null,null,null,null,null,null,"-",null,{"$f":"IF(SUMPRODUCT((A$14:A553=A553)*(B$14:B553=B553)*(D$14:D553=D553))>1,0,1)","v":0},1,1,{"$f":"IF(ISBLANK(G553),1,IFERROR(VLOOKUP(G553,Tipo!$C$12:$C$27,1,FALSE),\"NO\"))","v":1},1,{"$f":"IF(ISBLANK(K553),1,IFERROR(VLOOKUP(K553,Eje_Pilar_Prop!C535:C636,1,FALSE),\"NO\"))","v":1},1,1,1]
[null,null,null,null,null,null,null,null,null,null,null,{"$f":"IF(ISERROR(VLOOKUP(K554,Eje_Pilar_Prop!$C$2:$E$104,2,FALSE)),\" \",VLOOKUP(K554,Eje_Pilar_Prop!$C$2:$E$104,2,FALSE))","v":" "},{"$f":"IF(ISERROR(VLOOKUP(K554,Eje_Pilar_Prop!$C$2:$E$104,3,FALSE)),\" \",VLOOKUP(K554,Eje_Pilar_Prop!$C$2:$E$104,3,FALSE))","v":" "},null,null,null,null,null,null,null,null,0,null,null,null,null,null,null,null,null,null,null,null,null,null,null,null,"-",null,{"$f":"IF(SUMPRODUCT((A$14:A554=A554)*(B$14:B554=B554)*(D$14:D554=D554))>1,0,1)","v":0},1,1,{"$f":"IF(ISBLANK(G554),1,IFERROR(VLOOKUP(G554,Tipo!$C$12:$C$27,1,FALSE),\"NO\"))","v":1},1,{"$f":"IF(ISBLANK(K554),1,IFERROR(VLOOKUP(K554,Eje_Pilar_Prop!C536:C637,1,FALSE),\"NO\"))","v":1},1,1,1]
[null,null,null,null,null,null,null,null,null,null,null,{"$f":"IF(ISERROR(VLOOKUP(K555,Eje_Pilar_Prop!$C$2:$E$104,2,FALSE)),\" \",VLOOKUP(K555,Eje_Pilar_Prop!$C$2:$E$104,2,FALSE))","v":" "},{"$f":"IF(ISERROR(VLOOKUP(K555,Eje_Pilar_Prop!$C$2:$E$104,3,FALSE)),\" \",VLOOKUP(K555,Eje_Pilar_Prop!$C$2:$E$104,3,FALSE))","v":" "},null,null,null,null,null,null,null,null,0,null,null,null,null,null,null,null,null,null,null,null,null,null,null,null,"-",null,{"$f":"IF(SUMPRODUCT((A$14:A555=A555)*(B$14:B555=B555)*(D$14:D555=D555))>1,0,1)","v":0},1,1,{"$f":"IF(ISBLANK(G555),1,IFERROR(VLOOKUP(G555,Tipo!$C$12:$C$27,1,FALSE),\"NO\"))","v":1},1,{"$f":"IF(ISBLANK(K555),1,IFERROR(VLOOKUP(K555,Eje_Pilar_Prop!C537:C638,1,FALSE),\"NO\"))","v":1},1,1,1]
[null,null,null,null,null,null,null,null,null,null,null,{"$f":"IF(ISERROR(VLOOKUP(K556,Eje_Pilar_Prop!$C$2:$E$104,2,FALSE)),\" \",VLOOKUP(K556,Eje_Pilar_Prop!$C$2:$E$104,2,FALSE))","v":" "},{"$f":"IF(ISERROR(VLOOKUP(K556,Eje_Pilar_Prop!$C$2:$E$104,3,FALSE)),\" \",VLOOKUP(K556,Eje_Pilar_Prop!$C$2:$E$104,3,FALSE))","v":" "},null,null,null,null,null,null,null,null,0,null,null,null,null,null,null,null,null,null,null,null,null,null,null,null,"-",null,{"$f":"IF(SUMPRODUCT((A$14:A556=A556)*(B$14:B556=B556)*(D$14:D556=D556))>1,0,1)","v":0},1,1,{"$f":"IF(ISBLANK(G556),1,IFERROR(VLOOKUP(G556,Tipo!$C$12:$C$27,1,FALSE),\"NO\"))","v":1},1,{"$f":"IF(ISBLANK(K556),1,IFERROR(VLOOKUP(K556,Eje_Pilar_Prop!C538:C639,1,FALSE),\"NO\"))","v":1},1,1,1]
[null,null,null,null,null,null,null,null,null,null,null,{"$f":"IF(ISERROR(VLOOKUP(K557,Eje_Pilar_Prop!$C$2:$E$104,2,FALSE)),\" \",VLOOKUP(K557,Eje_Pilar_Prop!$C$2:$E$104,2,FALSE))","v":" "},{"$f":"IF(ISERROR(VLOOKUP(K557,Eje_Pilar_Prop!$C$2:$E$104,3,FALSE)),\" \",VLOOKUP(K557,Eje_Pilar_Prop!$C$2:$E$104,3,FALSE))","v":" "},null,null,null,null,null,null,null,null,0,null,null,null,null,null,null,null,null,null,null,null,null,null,null,null,"-",null,{"$f":"IF(SUMPRODUCT((A$14:A557=A557)*(B$14:B557=B557)*(D$14:D557=D557))>1,0,1)","v":0},1,1,{"$f":"IF(ISBLANK(G557),1,IFERROR(VLOOKUP(G557,Tipo!$C$12:$C$27,1,FALSE),\"NO\"))","v":1},1,{"$f":"IF(ISBLANK(K557),1,IFERROR(VLOOKUP(K557,Eje_Pilar_Prop!C539:C640,1,FALSE),\"NO\"))","v":1},1,1,1]
[null,null,null,null,null,null,null,null,null,null,null,{"$f":"IF(ISERROR(VLOOKUP(K558,Eje_Pilar_Prop!$C$2:$E$104,2,FALSE)),\" \",VLOOKUP(K558,Eje_Pilar_Prop!$C$2:$E$104,2,FALSE))","v":" "},{"$f":"IF(ISERROR(VLOOKUP(K558,Eje_Pilar_Prop!$C$2:$E$104,3,FALSE)),\" \",VLOOKUP(K558,Eje_Pilar_Prop!$C$2:$E$104,3,FALSE))","v":" "},null,null,null,null,null,null,null,null,0,null,null,null,null,null,null,null,null,null,null,null,null,null,null,null,"-",null,{"$f":"IF(SUMPRODUCT((A$14:A558=A558)*(B$14:B558=B558)*(D$14:D558=D558))>1,0,1)","v":0},1,1,{"$f":"IF(ISBLANK(G558),1,IFERROR(VLOOKUP(G558,Tipo!$C$12:$C$27,1,FALSE),\"NO\"))","v":1},1,{"$f":"IF(ISBLANK(K558),1,IFERROR(VLOOKUP(K558,Eje_Pilar_Prop!C540:C641,1,FALSE),\"NO\"))","v":1},1,1,1]
[null,null,null,null,null,null,null,null,null,null,null,{"$f":"IF(ISERROR(VLOOKUP(K559,Eje_Pilar_Prop!$C$2:$E$104,2,FALSE)),\" \",VLOOKUP(K559,Eje_Pilar_Prop!$C$2:$E$104,2,FALSE))","v":" "},{"$f":"IF(ISERROR(VLOOKUP(K559,Eje_Pilar_Prop!$C$2:$E$104,3,FALSE)),\" \",VLOOKUP(K559,Eje_Pilar_Prop!$C$2:$E$104,3,FALSE))","v":" "},null,null,null,null,null,null,null,null,0,null,null,null,null,null,null,null,null,null,null,null,null,null,null,null,"-",null,{"$f":"IF(SUMPRODUCT((A$14:A559=A559)*(B$14:B559=B559)*(D$14:D559=D559))>1,0,1)","v":0},1,1,{"$f":"IF(ISBLANK(G559),1,IFERROR(VLOOKUP(G559,Tipo!$C$12:$C$27,1,FALSE),\"NO\"))","v":1},1,{"$f":"IF(ISBLANK(K559),1,IFERROR(VLOOKUP(K559,Eje_Pilar_Prop!C541:C642,1,FALSE),\"NO\"))","v":1},1,1,1]
[null,null,null,null,null,null,null,null,null,null,null,{"$f":"IF(ISERROR(VLOOKUP(K560,Eje_Pilar_Prop!$C$2:$E$104,2,FALSE)),\" \",VLOOKUP(K560,Eje_Pilar_Prop!$C$2:$E$104,2,FALSE))","v":" "},{"$f":"IF(ISERROR(VLOOKUP(K560,Eje_Pilar_Prop!$C$2:$E$104,3,FALSE)),\" \",VLOOKUP(K560,Eje_Pilar_Prop!$C$2:$E$104,3,FALSE))","v":" "},null,null,null,null,null,null,null,null,0,null,null,null,null,null,null,null,null,null,null,null,null,null,null,null,"-",null,{"$f":"IF(SUMPRODUCT((A$14:A560=A560)*(B$14:B560=B560)*(D$14:D560=D560))>1,0,1)","v":0},1,1,{"$f":"IF(ISBLANK(G560),1,IFERROR(VLOOKUP(G560,Tipo!$C$12:$C$27,1,FALSE),\"NO\"))","v":1},1,{"$f":"IF(ISBLANK(K560),1,IFERROR(VLOOKUP(K560,Eje_Pilar_Prop!C542:C643,1,FALSE),\"NO\"))","v":1},1,1,1]
[null,null,null,null,null,null,null,null,null,null,null,{"$f":"IF(ISERROR(VLOOKUP(K561,Eje_Pilar_Prop!$C$2:$E$104,2,FALSE)),\" \",VLOOKUP(K561,Eje_Pilar_Prop!$C$2:$E$104,2,FALSE))","v":" "},{"$f":"IF(ISERROR(VLOOKUP(K561,Eje_Pilar_Prop!$C$2:$E$104,3,FALSE)),\" \",VLOOKUP(K561,Eje_Pilar_Prop!$C$2:$E$104,3,FALSE))","v":" "},null,null,null,null,null,null,null,null,0,null,null,null,null,null,null,null,null,null,null,null,null,null,null,null,"-",null,{"$f":"IF(SUMPRODUCT((A$14:A561=A561)*(B$14:B561=B561)*(D$14:D561=D561))>1,0,1)","v":0},1,1,{"$f":"IF(ISBLANK(G561),1,IFERROR(VLOOKUP(G561,Tipo!$C$12:$C$27,1,FALSE),\"NO\"))","v":1},1,{"$f":"IF(ISBLANK(K561),1,IFERROR(VLOOKUP(K561,Eje_Pilar_Prop!C543:C644,1,FALSE),\"NO\"))","v":1},1,1,1]
[null,null,null,null,null,null,null,null,null,null,null,{"$f":"IF(ISERROR(VLOOKUP(K562,Eje_Pilar_Prop!$C$2:$E$104,2,FALSE)),\" \",VLOOKUP(K562,Eje_Pilar_Prop!$C$2:$E$104,2,FALSE))","v":" "},{"$f":"IF(ISERROR(VLOOKUP(K562,Eje_Pilar_Prop!$C$2:$E$104,3,FALSE)),\" \",VLOOKUP(K562,Eje_Pilar_Prop!$C$2:$E$104,3,FALSE))","v":" "},null,null,null,null,null,null,null,null,0,null,null,null,null,null,null,null,null,null,null,null,null,null,null,null,"-",null,{"$f":"IF(SUMPRODUCT((A$14:A562=A562)*(B$14:B562=B562)*(D$14:D562=D562))>1,0,1)","v":0},1,1,{"$f":"IF(ISBLANK(G562),1,IFERROR(VLOOKUP(G562,Tipo!$C$12:$C$27,1,FALSE),\"NO\"))","v":1},1,{"$f":"IF(ISBLANK(K562),1,IFERROR(VLOOKUP(K562,Eje_Pilar_Prop!C544:C645,1,FALSE),\"NO\"))","v":1},1,1,1]
[null,null,null,null,null,null,null,null,null,null,null,{"$f":"IF(ISERROR(VLOOKUP(K563,Eje_Pilar_Prop!$C$2:$E$104,2,FALSE)),\" \",VLOOKUP(K563,Eje_Pilar_Prop!$C$2:$E$104,2,FALSE))","v":" "},{"$f":"IF(ISERROR(VLOOKUP(K563,Eje_Pilar_Prop!$C$2:$E$104,3,FALSE)),\" \",VLOOKUP(K563,Eje_Pilar_Prop!$C$2:$E$104,3,FALSE))","v":" "},null,null,null,null,null,null,null,null,0,null,null,null,null,null,null,null,null,null,null,null,null,null,null,null,"-",null,{"$f":"IF(SUMPRODUCT((A$14:A563=A563)*(B$14:B563=B563)*(D$14:D563=D563))>1,0,1)","v":0},1,1,{"$f":"IF(ISBLANK(G563),1,IFERROR(VLOOKUP(G563,Tipo!$C$12:$C$27,1,FALSE),\"NO\"))","v":1},1,{"$f":"IF(ISBLANK(K563),1,IFERROR(VLOOKUP(K563,Eje_Pilar_Prop!C545:C646,1,FALSE),\"NO\"))","v":1},1,1,1]
[null,null,null,null,null,null,null,null,null,null,null,{"$f":"IF(ISERROR(VLOOKUP(K564,Eje_Pilar_Prop!$C$2:$E$104,2,FALSE)),\" \",VLOOKUP(K564,Eje_Pilar_Prop!$C$2:$E$104,2,FALSE))","v":" "},{"$f":"IF(ISERROR(VLOOKUP(K564,Eje_Pilar_Prop!$C$2:$E$104,3,FALSE)),\" \",VLOOKUP(K564,Eje_Pilar_Prop!$C$2:$E$104,3,FALSE))","v":" "},null,null,null,null,null,null,null,null,0,null,null,null,null,null,null,null,null,null,null,null,null,null,null,null,"-",null,{"$f":"IF(SUMPRODUCT((A$14:A564=A564)*(B$14:B564=B564)*(D$14:D564=D564))>1,0,1)","v":0},1,1,{"$f":"IF(ISBLANK(G564),1,IFERROR(VLOOKUP(G564,Tipo!$C$12:$C$27,1,FALSE),\"NO\"))","v":1},1,{"$f":"IF(ISBLANK(K564),1,IFERROR(VLOOKUP(K564,Eje_Pilar_Prop!C546:C647,1,FALSE),\"NO\"))","v":1},1,1,1]
[null,null,null,null,null,null,null,null,null,null,null,{"$f":"IF(ISERROR(VLOOKUP(K565,Eje_Pilar_Prop!$C$2:$E$104,2,FALSE)),\" \",VLOOKUP(K565,Eje_Pilar_Prop!$C$2:$E$104,2,FALSE))","v":" "},{"$f":"IF(ISERROR(VLOOKUP(K565,Eje_Pilar_Prop!$C$2:$E$104,3,FALSE)),\" \",VLOOKUP(K565,Eje_Pilar_Prop!$C$2:$E$104,3,FALSE))","v":" "},null,null,null,null,null,null,null,null,0,null,null,null,null,null,null,null,null,null,null,null,null,null,null,null,"-",null,{"$f":"IF(SUMPRODUCT((A$14:A565=A565)*(B$14:B565=B565)*(D$14:D565=D565))>1,0,1)","v":0},1,1,{"$f":"IF(ISBLANK(G565),1,IFERROR(VLOOKUP(G565,Tipo!$C$12:$C$27,1,FALSE),\"NO\"))","v":1},1,{"$f":"IF(ISBLANK(K565),1,IFERROR(VLOOKUP(K565,Eje_Pilar_Prop!C547:C648,1,FALSE),\"NO\"))","v":1},1,1,1]
[null,null,null,null,null,null,null,null,null,null,null,{"$f":"IF(ISERROR(VLOOKUP(K566,Eje_Pilar_Prop!$C$2:$E$104,2,FALSE)),\" \",VLOOKUP(K566,Eje_Pilar_Prop!$C$2:$E$104,2,FALSE))","v":" "},{"$f":"IF(ISERROR(VLOOKUP(K566,Eje_Pilar_Prop!$C$2:$E$104,3,FALSE)),\" \",VLOOKUP(K566,Eje_Pilar_Prop!$C$2:$E$104,3,FALSE))","v":" "},null,null,null,null,null,null,null,null,0,null,null,null,null,null,null,null,null,null,null,null,null,null,null,null,"-",null,{"$f":"IF(SUMPRODUCT((A$14:A566=A566)*(B$14:B566=B566)*(D$14:D566=D566))>1,0,1)","v":0},1,1,{"$f":"IF(ISBLANK(G566),1,IFERROR(VLOOKUP(G566,Tipo!$C$12:$C$27,1,FALSE),\"NO\"))","v":1},1,{"$f":"IF(ISBLANK(K566),1,IFERROR(VLOOKUP(K566,Eje_Pilar_Prop!C548:C649,1,FALSE),\"NO\"))","v":1},1,1,1]
[null,null,null,null,null,null,null,null,null,null,null,{"$f":"IF(ISERROR(VLOOKUP(K567,Eje_Pilar_Prop!$C$2:$E$104,2,FALSE)),\" \",VLOOKUP(K567,Eje_Pilar_Prop!$C$2:$E$104,2,FALSE))","v":" "},{"$f":"IF(ISERROR(VLOOKUP(K567,Eje_Pilar_Prop!$C$2:$E$104,3,FALSE)),\" \",VLOOKUP(K567,Eje_Pilar_Prop!$C$2:$E$104,3,FALSE))","v":" "},null,null,null,null,null,null,null,null,0,null,null,null,null,null,null,null,null,null,null,null,null,null,null,null,"-",null,{"$f":"IF(SUMPRODUCT((A$14:A567=A567)*(B$14:B567=B567)*(D$14:D567=D567))>1,0,1)","v":0},1,1,{"$f":"IF(ISBLANK(G567),1,IFERROR(VLOOKUP(G567,Tipo!$C$12:$C$27,1,FALSE),\"NO\"))","v":1},1,{"$f":"IF(ISBLANK(K567),1,IFERROR(VLOOKUP(K567,Eje_Pilar_Prop!C549:C650,1,FALSE),\"NO\"))","v":1},1,1,1]
[null,null,null,null,null,null,null,null,null,null,null,{"$f":"IF(ISERROR(VLOOKUP(K568,Eje_Pilar_Prop!$C$2:$E$104,2,FALSE)),\" \",VLOOKUP(K568,Eje_Pilar_Prop!$C$2:$E$104,2,FALSE))","v":" "},{"$f":"IF(ISERROR(VLOOKUP(K568,Eje_Pilar_Prop!$C$2:$E$104,3,FALSE)),\" \",VLOOKUP(K568,Eje_Pilar_Prop!$C$2:$E$104,3,FALSE))","v":" "},null,null,null,null,null,null,null,null,0,null,null,null,null,null,null,null,null,null,null,null,null,null,null,null,"-",null,{"$f":"IF(SUMPRODUCT((A$14:A568=A568)*(B$14:B568=B568)*(D$14:D568=D568))>1,0,1)","v":0},1,1,{"$f":"IF(ISBLANK(G568),1,IFERROR(VLOOKUP(G568,Tipo!$C$12:$C$27,1,FALSE),\"NO\"))","v":1},1,{"$f":"IF(ISBLANK(K568),1,IFERROR(VLOOKUP(K568,Eje_Pilar_Prop!C550:C651,1,FALSE),\"NO\"))","v":1},1,1,1]
[null,null,null,null,null,null,null,null,null,null,null,{"$f":"IF(ISERROR(VLOOKUP(K569,Eje_Pilar_Prop!$C$2:$E$104,2,FALSE)),\" \",VLOOKUP(K569,Eje_Pilar_Prop!$C$2:$E$104,2,FALSE))","v":" "},{"$f":"IF(ISERROR(VLOOKUP(K569,Eje_Pilar_Prop!$C$2:$E$104,3,FALSE)),\" \",VLOOKUP(K569,Eje_Pilar_Prop!$C$2:$E$104,3,FALSE))","v":" "},null,null,null,null,null,null,null,null,0,null,null,null,null,null,null,null,null,null,null,null,null,null,null,null,"-",null,{"$f":"IF(SUMPRODUCT((A$14:A569=A569)*(B$14:B569=B569)*(D$14:D569=D569))>1,0,1)","v":0},1,1,{"$f":"IF(ISBLANK(G569),1,IFERROR(VLOOKUP(G569,Tipo!$C$12:$C$27,1,FALSE),\"NO\"))","v":1},1,{"$f":"IF(ISBLANK(K569),1,IFERROR(VLOOKUP(K569,Eje_Pilar_Prop!C551:C652,1,FALSE),\"NO\"))","v":1},1,1,1]
[null,null,null,null,null,null,null,null,null,null,null,{"$f":"IF(ISERROR(VLOOKUP(K570,Eje_Pilar_Prop!$C$2:$E$104,2,FALSE)),\" \",VLOOKUP(K570,Eje_Pilar_Prop!$C$2:$E$104,2,FALSE))","v":" "},{"$f":"IF(ISERROR(VLOOKUP(K570,Eje_Pilar_Prop!$C$2:$E$104,3,FALSE)),\" \",VLOOKUP(K570,Eje_Pilar_Prop!$C$2:$E$104,3,FALSE))","v":" "},null,null,null,null,null,null,null,null,0,null,null,null,null,null,null,null,null,null,null,null,null,null,null,null,"-",null,{"$f":"IF(SUMPRODUCT((A$14:A570=A570)*(B$14:B570=B570)*(D$14:D570=D570))>1,0,1)","v":0},1,1,{"$f":"IF(ISBLANK(G570),1,IFERROR(VLOOKUP(G570,Tipo!$C$12:$C$27,1,FALSE),\"NO\"))","v":1},1,{"$f":"IF(ISBLANK(K570),1,IFERROR(VLOOKUP(K570,Eje_Pilar_Prop!C552:C653,1,FALSE),\"NO\"))","v":1},1,1,1]
[null,null,null,null,null,null,null,null,null,null,null,{"$f":"IF(ISERROR(VLOOKUP(K571,Eje_Pilar_Prop!$C$2:$E$104,2,FALSE)),\" \",VLOOKUP(K571,Eje_Pilar_Prop!$C$2:$E$104,2,FALSE))","v":" "},{"$f":"IF(ISERROR(VLOOKUP(K571,Eje_Pilar_Prop!$C$2:$E$104,3,FALSE)),\" \",VLOOKUP(K571,Eje_Pilar_Prop!$C$2:$E$104,3,FALSE))","v":" "},null,null,null,null,null,null,null,null,0,null,null,null,null,null,null,null,null,null,null,null,null,null,null,null,"-",null,{"$f":"IF(SUMPRODUCT((A$14:A571=A571)*(B$14:B571=B571)*(D$14:D571=D571))>1,0,1)","v":0},1,1,{"$f":"IF(ISBLANK(G571),1,IFERROR(VLOOKUP(G571,Tipo!$C$12:$C$27,1,FALSE),\"NO\"))","v":1},1,{"$f":"IF(ISBLANK(K571),1,IFERROR(VLOOKUP(K571,Eje_Pilar_Prop!C553:C654,1,FALSE),\"NO\"))","v":1},1,1,1]
[null,null,null,null,null,null,null,null,null,null,null,{"$f":"IF(ISERROR(VLOOKUP(K572,Eje_Pilar_Prop!$C$2:$E$104,2,FALSE)),\" \",VLOOKUP(K572,Eje_Pilar_Prop!$C$2:$E$104,2,FALSE))","v":" "},{"$f":"IF(ISERROR(VLOOKUP(K572,Eje_Pilar_Prop!$C$2:$E$104,3,FALSE)),\" \",VLOOKUP(K572,Eje_Pilar_Prop!$C$2:$E$104,3,FALSE))","v":" "},null,null,null,null,null,null,null,null,0,null,null,null,null,null,null,null,null,null,null,null,null,null,null,null,"-",null,{"$f":"IF(SUMPRODUCT((A$14:A572=A572)*(B$14:B572=B572)*(D$14:D572=D572))>1,0,1)","v":0},1,1,{"$f":"IF(ISBLANK(G572),1,IFERROR(VLOOKUP(G572,Tipo!$C$12:$C$27,1,FALSE),\"NO\"))","v":1},1,{"$f":"IF(ISBLANK(K572),1,IFERROR(VLOOKUP(K572,Eje_Pilar_Prop!C554:C655,1,FALSE),\"NO\"))","v":1},1,1,1]
[null,null,null,null,null,null,null,null,null,null,null,{"$f":"IF(ISERROR(VLOOKUP(K573,Eje_Pilar_Prop!$C$2:$E$104,2,FALSE)),\" \",VLOOKUP(K573,Eje_Pilar_Prop!$C$2:$E$104,2,FALSE))","v":" "},{"$f":"IF(ISERROR(VLOOKUP(K573,Eje_Pilar_Prop!$C$2:$E$104,3,FALSE)),\" \",VLOOKUP(K573,Eje_Pilar_Prop!$C$2:$E$104,3,FALSE))","v":" "},null,null,null,null,null,null,null,null,0,null,null,null,null,null,null,null,null,null,null,null,null,null,null,null,"-",null,{"$f":"IF(SUMPRODUCT((A$14:A573=A573)*(B$14:B573=B573)*(D$14:D573=D573))>1,0,1)","v":0},1,1,{"$f":"IF(ISBLANK(G573),1,IFERROR(VLOOKUP(G573,Tipo!$C$12:$C$27,1,FALSE),\"NO\"))","v":1},1,{"$f":"IF(ISBLANK(K573),1,IFERROR(VLOOKUP(K573,Eje_Pilar_Prop!C555:C656,1,FALSE),\"NO\"))","v":1},1,1,1]
[null,null,null,null,null,null,null,null,null,null,null,{"$f":"IF(ISERROR(VLOOKUP(K574,Eje_Pilar_Prop!$C$2:$E$104,2,FALSE)),\" \",VLOOKUP(K574,Eje_Pilar_Prop!$C$2:$E$104,2,FALSE))","v":" "},{"$f":"IF(ISERROR(VLOOKUP(K574,Eje_Pilar_Prop!$C$2:$E$104,3,FALSE)),\" \",VLOOKUP(K574,Eje_Pilar_Prop!$C$2:$E$104,3,FALSE))","v":" "},null,null,null,null,null,null,null,null,0,null,null,null,null,null,null,null,null,null,null,null,null,null,null,null,"-",null,{"$f":"IF(SUMPRODUCT((A$14:A574=A574)*(B$14:B574=B574)*(D$14:D574=D574))>1,0,1)","v":0},1,1,{"$f":"IF(ISBLANK(G574),1,IFERROR(VLOOKUP(G574,Tipo!$C$12:$C$27,1,FALSE),\"NO\"))","v":1},1,{"$f":"IF(ISBLANK(K574),1,IFERROR(VLOOKUP(K574,Eje_Pilar_Prop!C556:C657,1,FALSE),\"NO\"))","v":1},1,1,1]
[null,null,null,null,null,null,null,null,null,null,null,{"$f":"IF(ISERROR(VLOOKUP(K575,Eje_Pilar_Prop!$C$2:$E$104,2,FALSE)),\" \",VLOOKUP(K575,Eje_Pilar_Prop!$C$2:$E$104,2,FALSE))","v":" "},{"$f":"IF(ISERROR(VLOOKUP(K575,Eje_Pilar_Prop!$C$2:$E$104,3,FALSE)),\" \",VLOOKUP(K575,Eje_Pilar_Prop!$C$2:$E$104,3,FALSE))","v":" "},null,null,null,null,null,null,null,null,0,null,null,null,null,null,null,null,null,null,null,null,null,null,null,null,"-",null,{"$f":"IF(SUMPRODUCT((A$14:A575=A575)*(B$14:B575=B575)*(D$14:D575=D575))>1,0,1)","v":0},1,1,{"$f":"IF(ISBLANK(G575),1,IFERROR(VLOOKUP(G575,Tipo!$C$12:$C$27,1,FALSE),\"NO\"))","v":1},1,{"$f":"IF(ISBLANK(K575),1,IFERROR(VLOOKUP(K575,Eje_Pilar_Prop!C557:C658,1,FALSE),\"NO\"))","v":1},1,1,1]
[null,null,null,null,null,null,null,null,null,null,null,{"$f":"IF(ISERROR(VLOOKUP(K576,Eje_Pilar_Prop!$C$2:$E$104,2,FALSE)),\" \",VLOOKUP(K576,Eje_Pilar_Prop!$C$2:$E$104,2,FALSE))","v":" "},{"$f":"IF(ISERROR(VLOOKUP(K576,Eje_Pilar_Prop!$C$2:$E$104,3,FALSE)),\" \",VLOOKUP(K576,Eje_Pilar_Prop!$C$2:$E$104,3,FALSE))","v":" "},null,null,null,null,null,null,null,null,0,null,null,null,null,null,null,null,null,null,null,null,null,null,null,null,"-",null,{"$f":"IF(SUMPRODUCT((A$14:A576=A576)*(B$14:B576=B576)*(D$14:D576=D576))>1,0,1)","v":0},1,1,{"$f":"IF(ISBLANK(G576),1,IFERROR(VLOOKUP(G576,Tipo!$C$12:$C$27,1,FALSE),\"NO\"))","v":1},1,{"$f":"IF(ISBLANK(K576),1,IFERROR(VLOOKUP(K576,Eje_Pilar_Prop!C558:C659,1,FALSE),\"NO\"))","v":1},1,1,1]
[null,null,null,null,null,null,null,null,null,null,null,{"$f":"IF(ISERROR(VLOOKUP(K577,Eje_Pilar_Prop!$C$2:$E$104,2,FALSE)),\" \",VLOOKUP(K577,Eje_Pilar_Prop!$C$2:$E$104,2,FALSE))","v":" "},{"$f":"IF(ISERROR(VLOOKUP(K577,Eje_Pilar_Prop!$C$2:$E$104,3,FALSE)),\" \",VLOOKUP(K577,Eje_Pilar_Prop!$C$2:$E$104,3,FALSE))","v":" "},null,null,null,null,null,null,null,null,0,null,null,null,null,null,null,null,null,null,null,null,null,null,null,null,"-",null,{"$f":"IF(SUMPRODUCT((A$14:A577=A577)*(B$14:B577=B577)*(D$14:D577=D577))>1,0,1)","v":0},1,1,{"$f":"IF(ISBLANK(G577),1,IFERROR(VLOOKUP(G577,Tipo!$C$12:$C$27,1,FALSE),\"NO\"))","v":1},1,{"$f":"IF(ISBLANK(K577),1,IFERROR(VLOOKUP(K577,Eje_Pilar_Prop!C559:C660,1,FALSE),\"NO\"))","v":1},1,1,1]
[null,null,null,null,null,null,null,null,null,null,null,{"$f":"IF(ISERROR(VLOOKUP(K578,Eje_Pilar_Prop!$C$2:$E$104,2,FALSE)),\" \",VLOOKUP(K578,Eje_Pilar_Prop!$C$2:$E$104,2,FALSE))","v":" "},{"$f":"IF(ISERROR(VLOOKUP(K578,Eje_Pilar_Prop!$C$2:$E$104,3,FALSE)),\" \",VLOOKUP(K578,Eje_Pilar_Prop!$C$2:$E$104,3,FALSE))","v":" "},null,null,null,null,null,null,null,null,0,null,null,null,null,null,null,null,null,null,null,null,null,null,null,null,"-",null,{"$f":"IF(SUMPRODUCT((A$14:A578=A578)*(B$14:B578=B578)*(D$14:D578=D578))>1,0,1)","v":0},1,1,{"$f":"IF(ISBLANK(G578),1,IFERROR(VLOOKUP(G578,Tipo!$C$12:$C$27,1,FALSE),\"NO\"))","v":1},1,{"$f":"IF(ISBLANK(K578),1,IFERROR(VLOOKUP(K578,Eje_Pilar_Prop!C560:C661,1,FALSE),\"NO\"))","v":1},1,1,1]
[null,null,null,null,null,null,null,null,null,null,null,{"$f":"IF(ISERROR(VLOOKUP(K579,Eje_Pilar_Prop!$C$2:$E$104,2,FALSE)),\" \",VLOOKUP(K579,Eje_Pilar_Prop!$C$2:$E$104,2,FALSE))","v":" "},{"$f":"IF(ISERROR(VLOOKUP(K579,Eje_Pilar_Prop!$C$2:$E$104,3,FALSE)),\" \",VLOOKUP(K579,Eje_Pilar_Prop!$C$2:$E$104,3,FALSE))","v":" "},null,null,null,null,null,null,null,null,0,null,null,null,null,null,null,null,null,null,null,null,null,null,null,null,"-",null,{"$f":"IF(SUMPRODUCT((A$14:A579=A579)*(B$14:B579=B579)*(D$14:D579=D579))>1,0,1)","v":0},1,1,{"$f":"IF(ISBLANK(G579),1,IFERROR(VLOOKUP(G579,Tipo!$C$12:$C$27,1,FALSE),\"NO\"))","v":1},1,{"$f":"IF(ISBLANK(K579),1,IFERROR(VLOOKUP(K579,Eje_Pilar_Prop!C561:C662,1,FALSE),\"NO\"))","v":1},1,1,1]
[null,null,null,null,null,null,null,null,null,null,null,{"$f":"IF(ISERROR(VLOOKUP(K580,Eje_Pilar_Prop!$C$2:$E$104,2,FALSE)),\" \",VLOOKUP(K580,Eje_Pilar_Prop!$C$2:$E$104,2,FALSE))","v":" "},{"$f":"IF(ISERROR(VLOOKUP(K580,Eje_Pilar_Prop!$C$2:$E$104,3,FALSE)),\" \",VLOOKUP(K580,Eje_Pilar_Prop!$C$2:$E$104,3,FALSE))","v":" "},null,null,null,null,null,null,null,null,0,null,null,null,null,null,null,null,null,null,null,null,null,null,null,null,"-",null,{"$f":"IF(SUMPRODUCT((A$14:A580=A580)*(B$14:B580=B580)*(D$14:D580=D580))>1,0,1)","v":0},1,1,{"$f":"IF(ISBLANK(G580),1,IFERROR(VLOOKUP(G580,Tipo!$C$12:$C$27,1,FALSE),\"NO\"))","v":1},1,{"$f":"IF(ISBLANK(K580),1,IFERROR(VLOOKUP(K580,Eje_Pilar_Prop!C562:C663,1,FALSE),\"NO\"))","v":1},1,1,1]
[null,null,null,null,null,null,null,null,null,null,null,{"$f":"IF(ISERROR(VLOOKUP(K581,Eje_Pilar_Prop!$C$2:$E$104,2,FALSE)),\" \",VLOOKUP(K581,Eje_Pilar_Prop!$C$2:$E$104,2,FALSE))","v":" "},{"$f":"IF(ISERROR(VLOOKUP(K581,Eje_Pilar_Prop!$C$2:$E$104,3,FALSE)),\" \",VLOOKUP(K581,Eje_Pilar_Prop!$C$2:$E$104,3,FALSE))","v":" "},null,null,null,null,null,null,null,null,0,null,null,null,null,null,null,null,null,null,null,null,null,null,null,null,"-",null,{"$f":"IF(SUMPRODUCT((A$14:A581=A581)*(B$14:B581=B581)*(D$14:D581=D581))>1,0,1)","v":0},1,1,{"$f":"IF(ISBLANK(G581),1,IFERROR(VLOOKUP(G581,Tipo!$C$12:$C$27,1,FALSE),\"NO\"))","v":1},1,{"$f":"IF(ISBLANK(K581),1,IFERROR(VLOOKUP(K581,Eje_Pilar_Prop!C563:C664,1,FALSE),\"NO\"))","v":1},1,1,1]
[null,null,null,null,null,null,null,null,null,null,null,{"$f":"IF(ISERROR(VLOOKUP(K582,Eje_Pilar_Prop!$C$2:$E$104,2,FALSE)),\" \",VLOOKUP(K582,Eje_Pilar_Prop!$C$2:$E$104,2,FALSE))","v":" "},{"$f":"IF(ISERROR(VLOOKUP(K582,Eje_Pilar_Prop!$C$2:$E$104,3,FALSE)),\" \",VLOOKUP(K582,Eje_Pilar_Prop!$C$2:$E$104,3,FALSE))","v":" "},null,null,null,null,null,null,null,null,0,null,null,null,null,null,null,null,null,null,null,null,null,null,null,null,"-",null,{"$f":"IF(SUMPRODUCT((A$14:A582=A582)*(B$14:B582=B582)*(D$14:D582=D582))>1,0,1)","v":0},1,1,{"$f":"IF(ISBLANK(G582),1,IFERROR(VLOOKUP(G582,Tipo!$C$12:$C$27,1,FALSE),\"NO\"))","v":1},1,{"$f":"IF(ISBLANK(K582),1,IFERROR(VLOOKUP(K582,Eje_Pilar_Prop!C564:C665,1,FALSE),\"NO\"))","v":1},1,1,1]
[null,null,null,null,null,null,null,null,null,null,null,{"$f":"IF(ISERROR(VLOOKUP(K583,Eje_Pilar_Prop!$C$2:$E$104,2,FALSE)),\" \",VLOOKUP(K583,Eje_Pilar_Prop!$C$2:$E$104,2,FALSE))","v":" "},{"$f":"IF(ISERROR(VLOOKUP(K583,Eje_Pilar_Prop!$C$2:$E$104,3,FALSE)),\" \",VLOOKUP(K583,Eje_Pilar_Prop!$C$2:$E$104,3,FALSE))","v":" "},null,null,null,null,null,null,null,null,0,null,null,null,null,null,null,null,null,null,null,null,null,null,null,null,"-",null,{"$f":"IF(SUMPRODUCT((A$14:A583=A583)*(B$14:B583=B583)*(D$14:D583=D583))>1,0,1)","v":0},1,1,{"$f":"IF(ISBLANK(G583),1,IFERROR(VLOOKUP(G583,Tipo!$C$12:$C$27,1,FALSE),\"NO\"))","v":1},1,{"$f":"IF(ISBLANK(K583),1,IFERROR(VLOOKUP(K583,Eje_Pilar_Prop!C565:C666,1,FALSE),\"NO\"))","v":1},1,1,1]
[null,null,null,null,null,null,null,null,null,null,null,{"$f":"IF(ISERROR(VLOOKUP(K584,Eje_Pilar_Prop!$C$2:$E$104,2,FALSE)),\" \",VLOOKUP(K584,Eje_Pilar_Prop!$C$2:$E$104,2,FALSE))","v":" "},{"$f":"IF(ISERROR(VLOOKUP(K584,Eje_Pilar_Prop!$C$2:$E$104,3,FALSE)),\" \",VLOOKUP(K584,Eje_Pilar_Prop!$C$2:$E$104,3,FALSE))","v":" "},null,null,null,null,null,null,null,null,0,null,null,null,null,null,null,null,null,null,null,null,null,null,null,null,"-",null,{"$f":"IF(SUMPRODUCT((A$14:A584=A584)*(B$14:B584=B584)*(D$14:D584=D584))>1,0,1)","v":0},1,1,{"$f":"IF(ISBLANK(G584),1,IFERROR(VLOOKUP(G584,Tipo!$C$12:$C$27,1,FALSE),\"NO\"))","v":1},1,{"$f":"IF(ISBLANK(K584),1,IFERROR(VLOOKUP(K584,Eje_Pilar_Prop!C566:C667,1,FALSE),\"NO\"))","v":1},1,1,1]
[null,null,null,null,null,null,null,null,null,null,null,{"$f":"IF(ISERROR(VLOOKUP(K585,Eje_Pilar_Prop!$C$2:$E$104,2,FALSE)),\" \",VLOOKUP(K585,Eje_Pilar_Prop!$C$2:$E$104,2,FALSE))","v":" "},{"$f":"IF(ISERROR(VLOOKUP(K585,Eje_Pilar_Prop!$C$2:$E$104,3,FALSE)),\" \",VLOOKUP(K585,Eje_Pilar_Prop!$C$2:$E$104,3,FALSE))","v":" "},null,null,null,null,null,null,null,null,0,null,null,null,null,null,null,null,null,null,null,null,null,null,null,null,"-",null,{"$f":"IF(SUMPRODUCT((A$14:A585=A585)*(B$14:B585=B585)*(D$14:D585=D585))>1,0,1)","v":0},1,1,{"$f":"IF(ISBLANK(G585),1,IFERROR(VLOOKUP(G585,Tipo!$C$12:$C$27,1,FALSE),\"NO\"))","v":1},1,{"$f":"IF(ISBLANK(K585),1,IFERROR(VLOOKUP(K585,Eje_Pilar_Prop!C567:C668,1,FALSE),\"NO\"))","v":1},1,1,1]
[null,null,null,null,null,null,null,null,null,null,null,{"$f":"IF(ISERROR(VLOOKUP(K586,Eje_Pilar_Prop!$C$2:$E$104,2,FALSE)),\" \",VLOOKUP(K586,Eje_Pilar_Prop!$C$2:$E$104,2,FALSE))","v":" "},{"$f":"IF(ISERROR(VLOOKUP(K586,Eje_Pilar_Prop!$C$2:$E$104,3,FALSE)),\" \",VLOOKUP(K586,Eje_Pilar_Prop!$C$2:$E$104,3,FALSE))","v":" "},null,null,null,null,null,null,null,null,0,null,null,null,null,null,null,null,null,null,null,null,null,null,null,null,"-",null,{"$f":"IF(SUMPRODUCT((A$14:A586=A586)*(B$14:B586=B586)*(D$14:D586=D586))>1,0,1)","v":0},1,1,{"$f":"IF(ISBLANK(G586),1,IFERROR(VLOOKUP(G586,Tipo!$C$12:$C$27,1,FALSE),\"NO\"))","v":1},1,{"$f":"IF(ISBLANK(K586),1,IFERROR(VLOOKUP(K586,Eje_Pilar_Prop!C568:C669,1,FALSE),\"NO\"))","v":1},1,1,1]
[null,null,null,null,null,null,null,null,null,null,null,{"$f":"IF(ISERROR(VLOOKUP(K587,Eje_Pilar_Prop!$C$2:$E$104,2,FALSE)),\" \",VLOOKUP(K587,Eje_Pilar_Prop!$C$2:$E$104,2,FALSE))","v":" "},{"$f":"IF(ISERROR(VLOOKUP(K587,Eje_Pilar_Prop!$C$2:$E$104,3,FALSE)),\" \",VLOOKUP(K587,Eje_Pilar_Prop!$C$2:$E$104,3,FALSE))","v":" "},null,null,null,null,null,null,null,null,0,null,null,null,null,null,null,null,null,null,null,null,null,null,null,null,"-",null,{"$f":"IF(SUMPRODUCT((A$14:A587=A587)*(B$14:B587=B587)*(D$14:D587=D587))>1,0,1)","v":0},1,1,{"$f":"IF(ISBLANK(G587),1,IFERROR(VLOOKUP(G587,Tipo!$C$12:$C$27,1,FALSE),\"NO\"))","v":1},1,{"$f":"IF(ISBLANK(K587),1,IFERROR(VLOOKUP(K587,Eje_Pilar_Prop!C569:C670,1,FALSE),\"NO\"))","v":1},1,1,1]
[null,null,null,null,null,null,null,null,null,null,null,{"$f":"IF(ISERROR(VLOOKUP(K588,Eje_Pilar_Prop!$C$2:$E$104,2,FALSE)),\" \",VLOOKUP(K588,Eje_Pilar_Prop!$C$2:$E$104,2,FALSE))","v":" "},{"$f":"IF(ISERROR(VLOOKUP(K588,Eje_Pilar_Prop!$C$2:$E$104,3,FALSE)),\" \",VLOOKUP(K588,Eje_Pilar_Prop!$C$2:$E$104,3,FALSE))","v":" "},null,null,null,null,null,null,null,null,0,null,null,null,null,null,null,null,null,null,null,null,null,null,null,null,"-",null,{"$f":"IF(SUMPRODUCT((A$14:A588=A588)*(B$14:B588=B588)*(D$14:D588=D588))>1,0,1)","v":0},1,1,{"$f":"IF(ISBLANK(G588),1,IFERROR(VLOOKUP(G588,Tipo!$C$12:$C$27,1,FALSE),\"NO\"))","v":1},1,{"$f":"IF(ISBLANK(K588),1,IFERROR(VLOOKUP(K588,Eje_Pilar_Prop!C570:C671,1,FALSE),\"NO\"))","v":1},1,1,1]
[null,null,null,null,null,null,null,null,null,null,null,{"$f":"IF(ISERROR(VLOOKUP(K589,Eje_Pilar_Prop!$C$2:$E$104,2,FALSE)),\" \",VLOOKUP(K589,Eje_Pilar_Prop!$C$2:$E$104,2,FALSE))","v":" "},{"$f":"IF(ISERROR(VLOOKUP(K589,Eje_Pilar_Prop!$C$2:$E$104,3,FALSE)),\" \",VLOOKUP(K589,Eje_Pilar_Prop!$C$2:$E$104,3,FALSE))","v":" "},null,null,null,null,null,null,null,null,0,null,null,null,null,null,null,null,null,null,null,null,null,null,null,null,"-",null,{"$f":"IF(SUMPRODUCT((A$14:A589=A589)*(B$14:B589=B589)*(D$14:D589=D589))>1,0,1)","v":0},1,1,{"$f":"IF(ISBLANK(G589),1,IFERROR(VLOOKUP(G589,Tipo!$C$12:$C$27,1,FALSE),\"NO\"))","v":1},1,{"$f":"IF(ISBLANK(K589),1,IFERROR(VLOOKUP(K589,Eje_Pilar_Prop!C571:C672,1,FALSE),\"NO\"))","v":1},1,1,1]
[null,null,null,null,null,null,null,null,null,null,null,{"$f":"IF(ISERROR(VLOOKUP(K590,Eje_Pilar_Prop!$C$2:$E$104,2,FALSE)),\" \",VLOOKUP(K590,Eje_Pilar_Prop!$C$2:$E$104,2,FALSE))","v":" "},{"$f":"IF(ISERROR(VLOOKUP(K590,Eje_Pilar_Prop!$C$2:$E$104,3,FALSE)),\" \",VLOOKUP(K590,Eje_Pilar_Prop!$C$2:$E$104,3,FALSE))","v":" "},null,null,null,null,null,null,null,null,0,null,null,null,null,null,null,null,null,null,null,null,null,null,null,null,"-",null,{"$f":"IF(SUMPRODUCT((A$14:A590=A590)*(B$14:B590=B590)*(D$14:D590=D590))>1,0,1)","v":0},1,1,{"$f":"IF(ISBLANK(G590),1,IFERROR(VLOOKUP(G590,Tipo!$C$12:$C$27,1,FALSE),\"NO\"))","v":1},1,{"$f":"IF(ISBLANK(K590),1,IFERROR(VLOOKUP(K590,Eje_Pilar_Prop!C572:C673,1,FALSE),\"NO\"))","v":1},1,1,1]
[null,null,null,null,null,null,null,null,null,null,null,{"$f":"IF(ISERROR(VLOOKUP(K591,Eje_Pilar_Prop!$C$2:$E$104,2,FALSE)),\" \",VLOOKUP(K591,Eje_Pilar_Prop!$C$2:$E$104,2,FALSE))","v":" "},{"$f":"IF(ISERROR(VLOOKUP(K591,Eje_Pilar_Prop!$C$2:$E$104,3,FALSE)),\" \",VLOOKUP(K591,Eje_Pilar_Prop!$C$2:$E$104,3,FALSE))","v":" "},null,null,null,null,null,null,null,null,0,null,null,null,null,null,null,null,null,null,null,null,null,null,null,null,"-",null,{"$f":"IF(SUMPRODUCT((A$14:A591=A591)*(B$14:B591=B591)*(D$14:D591=D591))>1,0,1)","v":0},1,1,{"$f":"IF(ISBLANK(G591),1,IFERROR(VLOOKUP(G591,Tipo!$C$12:$C$27,1,FALSE),\"NO\"))","v":1},1,{"$f":"IF(ISBLANK(K591),1,IFERROR(VLOOKUP(K591,Eje_Pilar_Prop!C573:C674,1,FALSE),\"NO\"))","v":1},1,1,1]
[null,null,null,null,null,null,null,null,null,null,null,{"$f":"IF(ISERROR(VLOOKUP(K592,Eje_Pilar_Prop!$C$2:$E$104,2,FALSE)),\" \",VLOOKUP(K592,Eje_Pilar_Prop!$C$2:$E$104,2,FALSE))","v":" "},{"$f":"IF(ISERROR(VLOOKUP(K592,Eje_Pilar_Prop!$C$2:$E$104,3,FALSE)),\" \",VLOOKUP(K592,Eje_Pilar_Prop!$C$2:$E$104,3,FALSE))","v":" "},null,null,null,null,null,null,null,null,0,null,null,null,null,null,null,null,null,null,null,null,null,null,null,null,"-",null,{"$f":"IF(SUMPRODUCT((A$14:A592=A592)*(B$14:B592=B592)*(D$14:D592=D592))>1,0,1)","v":0},1,1,{"$f":"IF(ISBLANK(G592),1,IFERROR(VLOOKUP(G592,Tipo!$C$12:$C$27,1,FALSE),\"NO\"))","v":1},1,{"$f":"IF(ISBLANK(K592),1,IFERROR(VLOOKUP(K592,Eje_Pilar_Prop!C574:C675,1,FALSE),\"NO\"))","v":1},1,1,1]
[null,null,null,null,null,null,null,null,null,null,null,{"$f":"IF(ISERROR(VLOOKUP(K593,Eje_Pilar_Prop!$C$2:$E$104,2,FALSE)),\" \",VLOOKUP(K593,Eje_Pilar_Prop!$C$2:$E$104,2,FALSE))","v":" "},{"$f":"IF(ISERROR(VLOOKUP(K593,Eje_Pilar_Prop!$C$2:$E$104,3,FALSE)),\" \",VLOOKUP(K593,Eje_Pilar_Prop!$C$2:$E$104,3,FALSE))","v":" "},null,null,null,null,null,null,null,null,0,null,null,null,null,null,null,null,null,null,null,null,null,null,null,null,"-",null,{"$f":"IF(SUMPRODUCT((A$14:A593=A593)*(B$14:B593=B593)*(D$14:D593=D593))>1,0,1)","v":0},1,1,{"$f":"IF(ISBLANK(G593),1,IFERROR(VLOOKUP(G593,Tipo!$C$12:$C$27,1,FALSE),\"NO\"))","v":1},1,{"$f":"IF(ISBLANK(K593),1,IFERROR(VLOOKUP(K593,Eje_Pilar_Prop!C575:C676,1,FALSE),\"NO\"))","v":1},1,1,1]
[null,null,null,null,null,null,null,null,null,null,null,{"$f":"IF(ISERROR(VLOOKUP(K594,Eje_Pilar_Prop!$C$2:$E$104,2,FALSE)),\" \",VLOOKUP(K594,Eje_Pilar_Prop!$C$2:$E$104,2,FALSE))","v":" "},{"$f":"IF(ISERROR(VLOOKUP(K594,Eje_Pilar_Prop!$C$2:$E$104,3,FALSE)),\" \",VLOOKUP(K594,Eje_Pilar_Prop!$C$2:$E$104,3,FALSE))","v":" "},null,null,null,null,null,null,null,null,0,null,null,null,null,null,null,null,null,null,null,null,null,null,null,null,"-",null,{"$f":"IF(SUMPRODUCT((A$14:A594=A594)*(B$14:B594=B594)*(D$14:D594=D594))>1,0,1)","v":0},1,1,{"$f":"IF(ISBLANK(G594),1,IFERROR(VLOOKUP(G594,Tipo!$C$12:$C$27,1,FALSE),\"NO\"))","v":1},1,{"$f":"IF(ISBLANK(K594),1,IFERROR(VLOOKUP(K594,Eje_Pilar_Prop!C576:C677,1,FALSE),\"NO\"))","v":1},1,1,1]
["TOTALES",null,null,null,null,null,null,null,null,null,null,null,null,null,null,null,{"$f":"SUM(Q14:Q594)","v":32053599292},{"$f":"SUM(R14:R594)","v":0},0,136,669307102,32722906394,12737979632]
[]
[null,null,null,null,null,null,null,null,null,null,null,null,null,null,null,null,{"$f":"SUBTOTAL(9,Q14:Q594)","v":32053599292},null,null,null,{"$f":"SUBTOTAL(9,U14:U594)","v":669307102},32722906394,12737979632]

{"sheet":"Instructivo","index":1,"n_rows":103,"n_cols":4,"rows_kept":103,"cut":false,"hidden":false,"merged":[[101,1,101,3],[77,1,80,1],[77,2,80,2],[83,1,83,3],[84,1,85,1],[84,2,85,2],[98,1,98,3],[92,1,92,3],[68,1,70,1],[68,2,70,2],[71,1,72,1],[71,2,72,2],[74,1,75,1],[74,2,75,2],[67,1,67,3],[26,1,27,1],[26,2,27,2],[31,1,32,1],[31,2,32,2],[33,1,53,1],[35,2,36,2],[54,1,56,1],[54,2,56,2],[59,1,62,1],[61,2,62,2],[64,1,65,1],[29,1,30,1],[25,1,25,3],[1,1,1,3],[2,1,2,3],[3,1,3,3],[4,1,4,3],[5,1,5,3],[6,1,6,3],[7,1,7,3],[10,1,10,3],[11,1,11,3],[12,1,12,3],[14,1,14,3],[8,1,8,3],[9,1,9,3]]}
[]
[null,"INSTRUCTIVO"]
[null,"Recomendamos leer cuidadosamente y poner en práctica las instrucciones que se explican en este instructivo. De la calidad de la información que se registre, depende en gran medida la calidad del informe de rendición de cuentas de la Gestión Contractual que presenta el Alcalde Mayor, consolidado por la Veeduría Distrital."]
[null,"La base en Excel a diligenciar es inmodificable, debe utilizar versión Excel 2010 o posteriores, la versión 2007 no habilita los macros.  La base no permite que se incluyan columnas con otro tipo de información que la Veeduría Distrital no está solicitando o que se cambie el formato de celda establecido. Tenga en cuenta que algunas celdas están bloqueadas y/o solo permiten el registro de una información determinada."]
[null,"La información que se registre en la base, debe coincidir con los reportes realizados en PREDIS y en el SECOP"]
[null,"Diligencie la totalidad de celdas."]
[null,"Para insertar una o varias filas, haga click  en el opción Insertar Filas y digite el número de filas a insertar. Si usted no sigue este procedimiento las filas que inserte no tomaran el formato de las filas anteriores. Se recomienda que antes de iniciar el registro de información inserte las filas que requiere, sin embargo en cualquier momento que necesite puede hacer este paso."]
[null,"Si requiere inserte una o varias filas realícelo después de la fila A14 y antes de la fila de Totales para que tomen el formato de las filas anteriores."]
[null,"Si necesita pegar información debe hacerlo por secciones debido a que hay columnas formuladas que están protegidas (como la columna J, K, T y AK) que no permiten realizar esta opción. Utilice la opción de pegado especial valores para no borrar las listas desplegables ni los formatos de las columnas."]
[null,"Si al pegar quedan textos en rojo,  verifique y ajuste la información, el dato que adiciono no se encuentra en la lista desplegable o no corresponde con el criterio definido en el columna."]
[null,"En primer lugar diligencie toda la información correspondiente a los contratos suscritos con cargo a la vigencia 2020."]
[null,"Una vez incluidos todos los contratos de la vigencia 2020, a continuación diligencie el formato completo con la información correspondiente a las adiciones efectuadas con cargo a la vigencia 2020 de contratos suscritos en vigencias anteriores. La información general del contrato como: modalidad de selección, tipología contractual, objeto, entre otros, debe corresponder a la información del contrato adicionado o modificado. Respecto al valor solo se diligencia el valor en la columna adición, es decir la columna de valor inicial debe quedar en blanco. No olvide registrar el número de adiciones realizadas, en la columna correspondiente."]
[null,"En caso de haber realizado apropiaciones presupuestales en la vigencia a través de resoluciones, caja menor, honorarios ediles, servicios públicos, debe relacionar dicha información en una sola fila al final de la base, indicando de que se trata la apropiación y número de proyecto si hay lugar a ello. En el tipo de contrato se registra Otros gastos."]
[]
[null,"ENCABEZADO DEL FORMATO"]
[null,1,"Entidad","Indique el nombre completo de la Entidad."]
[null,2,"Sector","Seleccione el sector al cual pertenece la Entidad."]
[null,3,"Presupuesto Disponible Inversión Directa","Indique el valor total del presupuesto disponible de inversión directa, de acuerdo con el PREDIS, a 31 de diciembre de 2020."]
[null,4,"Presupuesto Comprometido de Inversión Directa ","Escriba el valor total del presupuesto comprometido de inversión directa, de acuerdo con el PREDIS a 31 de diciembre de 2020."]
[null,5,"Presupuesto Disponible Funcionamiento","Indique el valor total del presupuesto de funcionamiento disponible, de acuerdo con el PREDIS a 31 de diciembre de 2020."]
[null,6,"Presupuesto Comprometido funcionamiento ","Escriba el monto del presupuesto de funcionamiento, comprometido mediante contratos, de acuerdo con el PREDIS a 31 de diciembre de 2020."]
[null,7,"Presupuesto Disponible Operación","Coloque el monto del presupuesto de operación disponible, de acuerdo con el PREDIS, a 31 de diciembre de 2020. Los gastos de operación corresponden solamente a aquellas entidades de régimen de contratación  privado."]
[null,8,"Presupuesto Comprometido operación mediante contratos","Escriba el monto del presupuesto de operación comprometido mediante contratos a 31 de diciembre de 2020."]
[null,9,"Nombre de quien diligencia el formato:","Indique el nombre completo, cargo, número de teléfono con extensión y correo electrónico del profesional que diligencia el formato y que posteriormente realizará los ajustes y aclaraciones a que haya lugar por solicitud de la Veeduría Distrital."]
[]
[null,"1- INFORMACIÓN GENERAL"]
[null,1,"Número de Contrato","En estricto orden consecutivo registre el número del contrato, sin incluir los contratos que fueron anulados ni comodatos."]
[null,null,null,"Una vez terminado el registro de los contratos con cargo a la vigencia 2020, en las siguientes filas registre la información correspondiente a las adiciones efectuadas con cargo a la vigencia 2020 de contratos suscritos en vigencias anteriores, especificando el año de suscripción en la columna dos."]
[null,2,"Año","Registre el año de celebración del contrato."]
[null,3,"Proceso Publicado","Seleccione el aplicativo donde se publicó el proceso (SECOP I / SECOP II)"]
[null,null,"Número de proceso en el SECOP","Relacione el número de proceso con el cual se encuentra publicado el contrato en el SECOP. Ejemplo IDU-CMA-DTDP-240-2020"]
[null,4,"Tipo de Contrato","En esta columna seleccione de la lista el tipo de contrato que corresponde al contrato suscrito. El formato no permite incluir tipo de contratos diferentes a los señaladas en la lista desplegable.  "]
[null,null,null,"Para las adiciones a contratos de años anteriores se debe diligenciar el tipo del contrato adicionado o modificado."]
[null,4,"Obra ","Son contratos de obra los que celebren las entidades estatales para la construcción, mantenimiento, instalación y, en general, para la realización de cualquier otro trabajo material sobre bienes inmuebles, cualquiera que sea la modalidad de ejecución y pago. Numeral 1 del Artículo 32 de la Ley 80 de 1993. "]
[null,null,"Consultoría","Aquellos que celebran las entidades estatales, referidos a los estudios necesarios para la ejecución de proyectos de inversión, de diagnósticos, prefactibilidad o factibilidad para programas o proyectos específicos, así como a las asesorías técnicas de coordinación, control y supervisión. Numeral 2 del Artículo 32 de la Ley 80 de 1993. "]
[null,null,"Interventoría","Son también  contratos de consultoría los que tienen por objeto la Interventoría, asesoría, gerencia de obras o de proyectos, dirección, programación y la ejecución de diseños, planos, anteproyectos y proyectos. Numeral 2 del Artículo 32 de la Ley 80 de 1993."]
[null,null,null,"El contrato de Interventoría tiene por objeto la  supervisión, seguimiento y vigilancia a la ejecución material de un contrato principal."]
[null,null,"Contrato de Prestación de servicios","Son contratos de prestación de servicios los que celebren las entidades estatales para desarrollar actividades relacionadas con la administración o funcionamiento de la entidad. Numeral 3 del Artículo 32 de la Ley 80 de 1993."]
[null,null,"Contrato de Prestación de servicios profesionales y de apoyo a la gestión","Corresponden a aquellos de naturaleza intelectual diferentes a los de consultoría que se derivan del cumplimiento de las funciones de la entidad estatal; así como los relacionados con actividades operativas, logísticas, o asistenciales. Art. 2.2.1.2.1.4.9, Decreto 1082 de 2015"]
[null,null,"Compraventa de bienes muebles","Son aquellos contratos donde se transfiere el dominio de un bien mueble (aquellos susceptibles de ser trasladadas de un lugar a otro sin alterar ni su forma ni su esencia, tal es el caso del mobiliario y equipo de oficina, maquinaria, automóviles, etc.), cuya ejecución se agota de manera instantánea. Artículo 660, Código Civil."]
[null,null,"Compraventa de bienes inmuebles","Son aquellos contratos donde se transfiere el dominio de un bien inmueble (todos aquellos bienes considerados bienes raíces, por tener de común la circunstancia de estar íntimamente ligados al suelo, unidos de modo inseparable, física o jurídicamente, al terreno). Artículo 656, Código Civil."]
[null,null,"Arrendamiento de bienes muebles","Es un contrato que tiene por objeto, conceder el uso y goce de un bien mueble a cambio de un precio determinado.  Artículo 1974 Código Civil."]
[null,null,"Arrendamiento de bienes inmuebles","Es un contrato que tiene por objeto, conceder el uso y goce de un bien inmueble a cambio de un precio determinado.  Artículo 2.2.1.2.1.4.11 Decreto 1082 de 2015"]
[null,null,"Seguros","El seguro es un contrato, en virtud del cual una persona jurídica llamada asegurador, asume, a cambio de una prima, un riesgo que le es trasladado por una persona natural o jurídica llamado tomador y en el cual éste tiene un interés asegurable, con el fin de indemnizarlo, en el evento de que ocurra la realización del riesgo amparado. de conformidad con el Título V, del Libro Cuarto del Código de Comercio "]
[null,null,"Suministro","El suministro es el contrato por el cual una parte se obliga, a cambio de una contraprestación, a cumplir en favor de otra, en forma independiente, prestaciones periódicas o continuadas de cosas o servicios. Artículo 968, Código de Comercio"]
[null,null,"Empréstitos","Son contratos de empréstito los que tienen por objeto proveer a la entidad estatal contratante de recursos en moneda nacional o extranjera con plazo para su pago. Artículo 7,  Decreto 2681 de 1996. "]
[null,null,"Fiducia mercantil o encargo fiduciario","Son contratos que tienen por objeto la administración o el manejo de los recursos vinculados a los contratos que tales entidades celebren. Numeral 5 de Articulo 32 de la Ley 80 de 1993."]
[null,null,"Concesión","Este contrato tiene por objeto otorgar a una persona llamada CONCESIONARIO  la prestación, operación, explotación, organización o gestión, total o parcial, de un servicio público, o la construcción, explotación o conservación total o parcial, de una obra o bien destinados al servicio o uso público, así como todas aquellas actividades necesarias para la adecuada prestación o funcionamiento de la obra o servicio por cuenta y riesgo del CONCESIONARIO, y bajo la vigilancia y control de la entidad concedente, a cambio de una remuneración que puede consistir en derechos, tarifas, tasas, valorización, o en la participación que se le otorgue en la explotación del bien, obra o servicio, o en una suma periódica, única o porcentual, y en general, en cualquier otra modalidad de contraprestación que las partes acuerden. Numeral 4 del Artículo 32 de la Ley 80 de 1993 "]
[null,null,"Convenios de cooperación","Son aquellos mediante los cuales se formaliza la asistencia, ayuda, auxilio, soporte o colaboración entre entidades de una misma nación, de distintos países o por parte de organizaciones internacionales de naturaleza pública o privada a favor de entidades públicas. Artículo 20 de la ley 1150"]
[null,null,"Convenios/Contratos interadministrativos","El convenio interadministrativo es el negocio jurídico en el cual están presentes dos entidades públicas en desarrollo de relaciones interadministrativas cuyo objeto es coordinar, cooperar, colaborar o distribuir competencias en la realización de funciones administrativas de interés común a los sujetos negóciales. Artículo 95 de la ley 489 de 1998."]
[null,null,"Convenios de Apoyo y/o Convenios de Asociación","Los contratos que en desarrollo de lo dispuesto en el segundo inciso del artículo 355 de la Constitución Política celebren la Nación, los Departamentos, Distritos y Municipios con entidades privadas sin ánimo de lucro y de reconocida idoneidad, con el propósito de impulsar programas y actividades de interés público.  Reglamentado mediante Decreto 92 de 2017"]
[null,null,"Asociaciones Público Privadas","Los contratos con personas naturales o jurídicas que se celebran en desarrollo de lo dispuesto en el Decreto 1508 de 2012."]
[null,null,"Otros","Los demás tipos de contratos que no se encuentren definidos en las anteriores tipologías."]
[null,null,"Otros gastos","Incluye los gastos no contractuales, estos se registran al final de la base, no cuentan con número de contrato, tipo, proceso o modalidad.  Estos gastos en los que no media un acuerdo de voluntades, en caso de ser del rubro de inversiòn, se deben discriminar por programa y proyecto. En el caso de ser del rubro de funcionamiento no requieren ser discriminados."]
[null,5,"Modalidad de Selección","Al ubicarse en la celda, se despliega una lista de modalidades de selección, de las cuales debe seleccionar la indicada. El formato no permite incluir modalidades diferentes a las señaladas en la lista desplegable.  "]
[null,null,null,"Para las adiciones a contratos de años anteriores se debe diligenciar la modalidad de selección del contrato adicionado o modificado"]
[null,null,null,"La modalidad régimen especial se refiere a todos los contratos realizados en cumplimiento del Decreto 092 de 2017, convenios de asociaciòn con ESAL. Regimen Privado es para todas aquellas entidades, que no se rigen por el Estatuto General de Contrataciòn, para el caso, en estas entidades todos sus contratos deben ser identificados con esta modalidad."]
[null,6,"Procedimiento o causal","Esta columna solo se habilita y debe ser diligenciada, para las modalidades de selección abreviada y contratación directa. Al ubicarse en la celda, se despliega una lista de procedimientos o causales, de las cuales debe seleccionar la indicada. El formato no permite incluir procedimientos o causales diferentes a las señaladas en la lista desplegable.  "]
[null,7,"Objeto","Registre el objeto del contrato."]
[null,8,"Afectación ","Registre la afectación según la clasificación de cuentas del presupuesto de gastos. Funcionamiento, Inversión y Operación, esta última aplica únicamente para entidades de régimen privado. La celda solamente permite registrar estas tres opciones."]
[null,null,"Planes de Desarrollo Distrital","Seleccionar el PDD de acuerdo con los diferentes contratos suscritos, automáticamente en la columna K se activan  los números de programa de acuerdo al PDD escogido."]
[null,null,"Número Programa","Si en la columna anterior “Afectación”,  indicó funcionamiento u operación deje en blanco el número de programa, es decir esta columna solamente aplica para gastos de Inversión."]
[null,null,null,"Identifíquelo de acuerdo con el código presupuestal de los Planes de Desarrollo \"Bogotá Mejor Para Todos\" o  \"Un Nuevo Contrato Social y Ambiental para la Bogotá del Siglo XXI\". Si un mismo contrato afecta más de un código presupuestal discrimine el contrato por cada código que afecte en filas separadas. Si se registra el número del programa, automáticamente en la columna L y M se despliega el nombre del programa y el eje, pilar o propósito según corresponda. "]
[null,9,"Número Proyecto","Indique el código presupuestal con el que se identifica el proyecto. Si un mismo contrato afecta más de un proyecto, discriminar el contrato por cada proyecto que afecte en filas separadas."]
[null,10,"Número de Identificación del contratista","Indicar el número de identificación del contratista persona natural o jurídica con quien se suscribió el contrato, con digito de verificación (DV), el formato de celda no permite guiones, comas, solo números. "]
[null,null,"Nombre del Contratista","Indicar el nombre del contratista, persona natural o jurídica."]
[]
[null,"2- INFORMACIÓN FINANCIERA"]
[null,11,"Valor Inicial ","Registre el valor inicial del contrato con cargo a la vigencia 2020, el formato de celda no permite guiones, comas o texto. Esta columna solo debe contener información numérica."]
[null,null,null,"En el caso de adiciones a contratos de años anteriores,  no diligencie esta columna, solamente la columna 15 \"Valor Total Adiciones\" "]
[null,null,null,"Excluya las reservas de apropiación y cuentas por pagar."]
[null,12,"Número de reducciones ","Diligencie esta columna solo en el caso de reducciones, reintegros, liberaciones, saldos a favor o cualquier factor que disminuya el valor de los contratos con cargo a la vigencia."]
[null,null,null,"Registre en esta celda la cantidad de reducciones que se realizaron al contrato."]
[null,13,"Valor total reducciones (En valor negativo)","Registre el valor total de las reducciones que se realizaron al contrato, el formato de celda no permite comas o texto. Esta columna solo debe contener información numérica."]
[null,14,"Número de adiciones ","Diligencie esta columna solo en el caso de adiciones al valor inicial que aumenten el valor del contrato con cargo a la vigencia."]
[null,null,null,"Registre en esta celda el número de adiciones que se realizaron al contrato."]
[null,15,"Valor total de adiciones","Registre el valor total de las adiciones que se realizaron al contrato,  el formato de celda no permite guiones, , comas o texto. Esta columna solo debe contener información numérica."]
[null,16,"Valor Final","Esta columna se encuentra formulada y bloqueada, sí el valor final no coincide, es porque están mal diligenciadas las columnas valor inicial, valor de reducciones y/o valor de adiciones. En tal caso se debe verificar dicha información."]
[null,null,null,"La sumatoria de la columna 16 (valor final) para los contratos de Inversión Directa, de funcionamiento y/o operación, cuando aplique, deberán coincidir con el valor del rubro registrado en el encabezado 4, Presupuesto comprometido de inversión según PREDIS, con el encabezado 6, Presupuesto Comprometido Funcionamiento según PREDIS y con el encabezado 8, Presupuesto Comprometido Operación mediante contratos, respectivamente. A la vez, estos valores deben coincidir con los informes de ejecución presupuestal del PREDIS.  "]
[null,null,null,"Si los valores no coinciden debe especificarse al final del formato en qué está representada la diferencia Otros gastos(discriminando los conceptos por Programa y Proyecto de inversión, si es el caso), con sus respectivos valores."]
[null,null,null,"Las bases donde dichos valores no coincidan serán devueltas por la Veeduría Distrital a cada entidad para los respectivos ajustes."]
[null,17,"Giros","Registre el valor total de los giros que se realizaron al contrato,  el formato de celda no permite guiones, comas o texto. Esta columna solo debe contener información numérica."]
[]
[null,"3- PLAZOS"]
[null,18,"Fecha de Suscripción","Relacionar la fecha en que se suscribió el contrato original. La celda solo admite el formato Día/Mes/Año así  17/02/2020."]
[null,null,null,"Para las adiciones a contratos de años anteriores se debe registrar en esta columna la fecha de suscripción de la adición en la vigencia 2020."]
[null,19,"Fecha de inicio","Indicar la fecha de inicio del contrato. Para las adiciones a contratos de años anteriores se debe diligenciar la fecha de inicio de la adición en la vigencia 2020. La celda solo admite el formato Día/Mes/Año así  13/03/2020."]
[null,20,"Fecha de terminación","Indicar la fecha efectiva de terminación del contrato. La celda solo admite el formato Día/Mes/Año así  15/02/2020."]
[null,21,"Plazo en días","Esta columna contiene el plazo inicial del contrato con el número total de días a ejecutar (sólo número de días, no mes, no texto)."]
[null,22,"Número de prórrogas","Registre en esta celda el número de prórrogas que se realizaron al contrato en la vigencia 2020."]
[null,23,"Prórroga en días","En caso de presentarse este evento, indicar en días, el tiempo por el cual se prorrogó el contrato a partir de la fecha inicial de terminación (sólo número de días, no mes, no texto)."]
[]
[null,"4- CESIÓN"]
[null,24,"Número  de Identificación del cesionario\n(NIT con digito de verificación)","Indicar el número de identificación del cesionario persona natural o jurídica con quien se suscribió la cesión, con digito de verificación (DV), el formato de celda no permite guiones o comas, solo números. Si hay más de una cesión adicione una fila y registre número de contrato, año, número proceso contractual SECOP y demás información que corresponda."]
[null,25,"Nombre cesionario","Indicar el nombre del cesionario, persona natural o jurídica."]
[null,26,"Fecha cesión","Relacionar la fecha en que se suscribió la cesión del contrato. La celda solo admite el formato Día/Mes/Año así  17/02/2020."]
[null,27,"Valor cesión","Registre el valor correspondiente a la cesión con cargo a la vigencia 2020, el formato de celda no permite guiones, comas o texto. Esta columna solo debe contener información numérica."]
[]
[null,"5- ESTADO A 31 DE DICIEMBRE DE 2020"]
[null,28,"Estado","Marque con una X en la respectiva columna si el contrato se encuentra Celebrado o por Iniciar, En Ejecución, Terminado o Liquidado."]
[]
[null,"5- PORCENTAJE DE AVANCE Y/O CUMPLIMIENTO"]
[null,29,"% Avance y/o cumplimiento","Indica el porcentaje de avance o de cumplimiento en términos presupuestales, es decir lo efectivamente pagado al contratista. Si no se ha iniciado la ejecución, el % de avance es 0%. La celda se encuentra formulada y protegida. Es la relación entre el valor de los giros y el valor final del contrato. Si el porcentaje de avance no coincide, se debe revisar los valores que se registraron en estas columnas.  Este porcentaje no debe ser superior al 100%"]

{"sheet":"Tipo","index":2,"n_rows":40,"n_cols":4,"rows_kept":40,"cut":false,"hidden":true,"merged":[]}
[null,"Tipo","Modalidad de Selección","afectacion"]
[1,"Obra pública","Concurso de méritos","Funcionamiento"]
[2,"Consultoría","Contratación directa","Inversión"]
[3,"Interventoría","Contratación mínima cuantia","Operación"]
[4,"Contratos de prestación de servicios","Selección abreviada"]
[5,"Contratos de prestación de servicios profesionales y de apoyo a la gestión","Licitación pública"]
[6,"Compraventa de bienes muebles","Régimen privado"]
[7,"Compraventa de bienes inmuebles","Régimen especial"]
[8,"Arrendamiento de bienes muebles"]
[9,"Arrendamiento de bienes inmuebles"]
[10,"Seguros","Selección abreviada"]
[11,"Suministro","Subasta inversa "]
[12,"Empréstitos","Bolsas de productos"]
[13,"Fiducia mercantil o encargo fiduciario","Acuerdo marco de precios "]
[14,"Concesión ","Selección abreviada por menor cuantía "]
[15,"Convenios de cooperacion"]
[16,"Contratos interadministrativos","contratacion directa"]
[17,"Convenios de apoyo y/o convenios de asociación ","Urgencia manifiesta"]
[18,"Asociaciones público privadas","Contratación de empréstitos"]
[19,"Otros","Contratos interadministrativos"]
[20,"Otros gastos","Contratación de bienes y servicios en el sector Defensa y en el Departamento Administrativo de Seguridad, DAS"]
[null,"SECTOR","Contratos para el desarrollo de actividades científicas y tecnológicas"]
[1,"Gestión Pública","Contratos de encargo fiduciario que celebren las entidades territoriales cuando inician el Acuerdo de Reestructuración de Pasivos"]
[{"$f":"+A23+1","v":2},"Gobierno","Cuando no exista pluralidad de oferentes en el mercado"]
[{"$f":"+A24+1","v":3},"Hacienda","Prestación de servicios profesionales y de apoyo a la gestión, o para la ejecución de trabajos artísticos que sólo puedan encomendarse a determinadas personas naturales;"]
[4,"Planeación","El arrendamiento o adquisición de inmuebles"]
[5,"Desarrollo Económico, Industria y Turismo","Contratación de bienes y servicios de la Dirección Nacional de Inteligencia (DNI)"]
[6,"Educación"]
[7,"Salud"]
[8,"Integración Social","Decreto 92 de 2017"]
[9,"Cultura, Recreación y Deporte","No aplica"]
[10,"Ambiente"]
[11,"Movilidad","SECOP I"]
[12,"Hábitat","SECOP II"]
[13,"Mujeres"]
[14,"Seguridad, Convivencia y Justicia","Bogotá Mejor para Todos"]
[15,"Gestión Juridíca","Un Nuevo Contrato Social y Ambiental para la Bogotá del Siglo XXI"]
[16,"descentralizado territorialmente"]
[]
[null,"16 - AL"]

{"sheet":"Eje_Pilar_Prop","index":3,"n_rows":104,"n_cols":5,"rows_kept":104,"cut":false,"hidden":false,"merged":[]}
[]
[null,"PDD","No. Programa","Programa","Pilar /Eje / propósito"]
[null,"Bogotá Mejor para Todos",1,"Prevención y atención de la maternidad y la paternidad tempranas","Pilar 1 Igualdad de Calidad de Vida"]
[null,"Bogotá Mejor para Todos",2,"Desarrollo integral desde la gestación hasta la adolescencia","Pilar 1 Igualdad de Calidad de Vida"]
[null,"Bogotá Mejor para Todos",3,"Igualdad y autonomía para una Bogotá incluyente","Pilar 1 Igualdad de Calidad de Vida"]
[null,"Bogotá Mejor para Todos",4,"Familias protegidas y adaptadas al cambio climático","Pilar 1 Igualdad de Calidad de Vida"]
[null,"Bogotá Mejor para Todos",5,"Desarrollo integral para la felicidad y el ejercicio de la ciudadanía","Pilar 1 Igualdad de Calidad de Vida"]
[null,"Bogotá Mejor para Todos",6,"Calidad educativa para todos","Pilar 1 Igualdad de Calidad de Vida"]
[null,"Bogotá Mejor para Todos",7,"Inclusión educativa para la equidad","Pilar 1 Igualdad de Calidad de Vida"]
[null,"Bogotá Mejor para Todos",8,"Acceso con calidad a la educación superior","Pilar 1 Igualdad de Calidad de Vida"]
[null,"Bogotá Mejor para Todos",9,"Atención integral y eficiente en salud","Pilar 1 Igualdad de Calidad de Vida"]
[null,"Bogotá Mejor para Todos",10,"Modernización de la infraestructura física y tecnológica en salud","Pilar 1 Igualdad de Calidad de Vida"]
[null,"Bogotá Mejor para Todos",11,"Mejores oportunidades para el desarrollo a través de la cultura, la recreación y el deporte","Pilar 1 Igualdad de Calidad de Vida"]
[null,"Bogotá Mejor para Todos",12,"Mujeres protagonistas, activas y empoderadas en el cierre de brechas de género","Pilar 1 Igualdad de Calidad de Vida"]
[null,"Bogotá Mejor para Todos",13,"Infraestructura para el desarrollo del hábitat","Pilar 2 Democracía Urbana"]
[null,"Bogotá Mejor para Todos",14,"Intervenciones integrales del hábitat","Pilar 2 Democracía Urbana"]
[null,"Bogotá Mejor para Todos",15,"Recuperación, incorporación, vida urbana y control de la ilegalidad","Pilar 2 Democracía Urbana"]
[null,"Bogotá Mejor para Todos",16,"Integración social para una ciudad de oportunidades","Pilar 2 Democracía Urbana"]
[null,"Bogotá Mejor para Todos",17,"Espacio público, derecho de todos","Pilar 2 Democracía Urbana"]
[null,"Bogotá Mejor para Todos",18,"Mejor movilidad para todos","Pilar 2 Democracía Urbana"]
[null,"Bogotá Mejor para Todos",19,"Seguridad y convivencia para todos","Pilar 3 Construcción de Comunidad y Cultura Ciudadana"]
[null,"Bogotá Mejor para Todos",20,"Fortalecimiento del Sistema de Protección Integral a Mujeres Víctimas de Violencia - SOFIA","Pilar 3 Construcción de Comunidad y Cultura Ciudadana"]
[null,"Bogotá Mejor para Todos",21,"Justicia para todos: consolidación del Sistema Distrital de Justicia","Pilar 3 Construcción de Comunidad y Cultura Ciudadana"]
[null,"Bogotá Mejor para Todos",22,"Bogotá vive los derechos humanos","Pilar 3 Construcción de Comunidad y Cultura Ciudadana"]
[null,"Bogotá Mejor para Todos",23,"Bogotá mejor para las víctimas, la paz y la reconciliación","Pilar 3 Construcción de Comunidad y Cultura Ciudadana"]
[null,"Bogotá Mejor para Todos",24,"Equipo por la educación para el reencuentro, la reconciliación y la paz","Pilar 3 Construcción de Comunidad y Cultura Ciudadana"]
[null,"Bogotá Mejor para Todos",25,"Cambio cultural y construcción del tejido social para la vida","Pilar 3 Construcción de Comunidad y Cultura Ciudadana"]
[null,"Bogotá Mejor para Todos",26,"Información relevante e integral para la planeación territorial","Eje Transversal 1 Nuevo Ordenamiento Territorial"]
[null,"Bogotá Mejor para Todos",27,"Proyectos urbanos integrales con visión de ciudad","Eje Transversal 1 Nuevo Ordenamiento Territorial"]
[null,"Bogotá Mejor para Todos",28,"Suelo para reducir el déficit habitacional de suelo urbanizable, vivienda y soportes urbanos","Eje Transversal 1 Nuevo Ordenamiento Territorial"]
[null,"Bogotá Mejor para Todos",29,"Articulación regional y planeación integral del transporte","Eje Transversal 1 Nuevo Ordenamiento Territorial"]
[null,"Bogotá Mejor para Todos",30,"Financiación para el Desarrollo Territorial","Eje Transversal 1 Nuevo Ordenamiento Territorial"]
[null,"Bogotá Mejor para Todos",31,"Fundamentar el desarrollo económico en la generación y uso del conocimiento para mejorar la competitividad de la Ciudad Región","Eje Transversal 2 Desarrollo Económico basado en el conocimiento"]
[null,"Bogotá Mejor para Todos",32,"Generar alternativas de ingreso y empleo de mejor calidad","Eje Transversal 2 Desarrollo Económico basado en el conocimiento"]
[null,"Bogotá Mejor para Todos",33,"Elevar la eficiencia de los mercados de la ciudad","Eje Transversal 2 Desarrollo Económico basado en el conocimiento"]
[null,"Bogotá Mejor para Todos",34,"Mejorar y fortalecer el recaudo tributario de la ciudad e impulsar el uso de mecanismos de vinculación de capital privado","Eje Transversal 2 Desarrollo Económico basado en el conocimiento"]
[null,"Bogotá Mejor para Todos",35,"Bogotá, ciudad inteligente","Eje Transversal 2 Desarrollo Económico basado en el conocimiento"]
[null,"Bogotá Mejor para Todos",36,"Bogotá, una ciudad digital","Eje Transversal 2 Desarrollo Económico basado en el conocimiento"]
[null,"Bogotá Mejor para Todos",37,"Consolidar el turismo como factor de desarrollo, confianza y felicidad para Bogotá Región","Eje Transversal 2 Desarrollo Económico basado en el conocimiento"]
[null,"Bogotá Mejor para Todos",38,"Recuperación y manejo de la Estructura Ecológica Principal","Eje Transversal 3 Sostenibilidad Ambiental basada en la eficiencia energética"]
[null,"Bogotá Mejor para Todos",39,"Ambiente sano para la equidad y disfrute del ciudadano","Eje Transversal 3 Sostenibilidad Ambiental basada en la eficiencia energética"]
[null,"Bogotá Mejor para Todos",40,"Gestión de la huella ambiental urbana","Eje Transversal 3 Sostenibilidad Ambiental basada en la eficiencia energética"]
[null,"Bogotá Mejor para Todos",41,"Desarrollo rural sostenible","Eje Transversal 3 Sostenibilidad Ambiental basada en la eficiencia energética"]
[null,"Bogotá Mejor para Todos",42,"Transparencia, gestión pública y servicio a la ciudadanía","Eje Transversal 4 Gobierno Legitimo, Fortalecimiento Local y Eficiencia"]
[null,"Bogotá Mejor para Todos",43,"Modernización institucional","Eje Transversal 4 Gobierno Legitimo, Fortalecimiento Local y Eficiencia"]
[null,"Bogotá Mejor para Todos",44,"Gobierno y ciudadanía digital","Eje Transversal 4 Gobierno Legitimo, Fortalecimiento Local y Eficiencia"]
[null,"Bogotá Mejor para Todos",45,"Gobernanza e influencia local, regional e internacional","Eje Transversal 4 Gobierno Legitimo, Fortalecimiento Local y Eficiencia"]
["Acuerdo 761 2020","Un Nuevo Contrato Social y Ambiental para la Bogotá del Siglo XXI","1.","Subsidios y transferencias para la equidad","Propósito 1: Hacer un nuevo contrato social para incrementar la inclusión social, productiva y política"]
["Pag. 51","Un Nuevo Contrato Social y Ambiental para la Bogotá del Siglo XXI","2.","Igualdad de oportunidades y desarrollo de capacidades para las mujeres","Propósito 1: Hacer un nuevo contrato social para incrementar la inclusión social, productiva y política"]
[null,"Un Nuevo Contrato Social y Ambiental para la Bogotá del Siglo XXI","3.","Movilidad social integral","Propósito 1: Hacer un nuevo contrato social para incrementar la inclusión social, productiva y política"]
[null,"Un Nuevo Contrato Social y Ambiental para la Bogotá del Siglo XXI","4.","Prevención de la exclusión por razones étnicas, religiosas, sociales, políticas y de orientación sexual","Propósito 1: Hacer un nuevo contrato social para incrementar la inclusión social, productiva y política"]
[null,"Un Nuevo Contrato Social y Ambiental para la Bogotá del Siglo XXI","5.","Promoción de la igualdad, el desarrollo de capacidades y el reconocimiento de las mujeres","Propósito 1: Hacer un nuevo contrato social para incrementar la inclusión social, productiva y política"]
[null,"Un Nuevo Contrato Social y Ambiental para la Bogotá del Siglo XXI","6.","Sistema Distrital de Cuidado","Propósito 1: Hacer un nuevo contrato social para incrementar la inclusión social, productiva y política"]
[null,"Un Nuevo Contrato Social y Ambiental para la Bogotá del Siglo XXI","7.","Mejora de la gestión de instituciones de salud","Propósito 1: Hacer un nuevo contrato social para incrementar la inclusión social, productiva y política"]
[null,"Un Nuevo Contrato Social y Ambiental para la Bogotá del Siglo XXI","8.","Prevención y atención de maternidad temprana","Propósito 1: Hacer un nuevo contrato social para incrementar la inclusión social, productiva y política"]
[null,"Un Nuevo Contrato Social y Ambiental para la Bogotá del Siglo XXI","9.","Prevención y cambios para mejorar la salud de la población","Propósito 1: Hacer un nuevo contrato social para incrementar la inclusión social, productiva y política"]
[null,"Un Nuevo Contrato Social y Ambiental para la Bogotá del Siglo XXI","10.","Salud para la vida y el bienestar","Propósito 1: Hacer un nuevo contrato social para incrementar la inclusión social, productiva y política"]
[null,"Un Nuevo Contrato Social y Ambiental para la Bogotá del Siglo XXI","11.","Salud y bienestar para niñas y niños","Propósito 1: Hacer un nuevo contrato social para incrementar la inclusión social, productiva y política"]
[null,"Un Nuevo Contrato Social y Ambiental para la Bogotá del Siglo XXI","12.","Educación inicial: Bases sólidas para la vida.","Propósito 1: Hacer un nuevo contrato social para incrementar la inclusión social, productiva y política"]
[null,"Un Nuevo Contrato Social y Ambiental para la Bogotá del Siglo XXI","13.","Educación para todos y todas: acceso y permanencia con equidad y énfasis en educación rural","Propósito 1: Hacer un nuevo contrato social para incrementar la inclusión social, productiva y política"]
[null,"Un Nuevo Contrato Social y Ambiental para la Bogotá del Siglo XXI","14.","Formación integral: más y mejor tiempo en los colegios","Propósito 1: Hacer un nuevo contrato social para incrementar la inclusión social, productiva y política"]
[null,"Un Nuevo Contrato Social y Ambiental para la Bogotá del Siglo XXI","15.","Plan Distrital de Lectura, Escritura y Oralidad: \"Leer para la vida\"","Propósito 1: Hacer un nuevo contrato social para incrementar la inclusión social, productiva y política"]
[null,"Un Nuevo Contrato Social y Ambiental para la Bogotá del Siglo XXI","16.","Transformación pedagógica y mejoramiento de la gestión educativa. Es con los maestros y maestras.","Propósito 1: Hacer un nuevo contrato social para incrementar la inclusión social, productiva y política"]
[null,"Un Nuevo Contrato Social y Ambiental para la Bogotá del Siglo XXI","17.","Jóvenes con capacidades: Proyecto de vida para la ciudadanía, la innovación y el trabajo del siglo XXI","Propósito 1: Hacer un nuevo contrato social para incrementar la inclusión social, productiva y política"]
[null,"Un Nuevo Contrato Social y Ambiental para la Bogotá del Siglo XXI","18.","Cierre de brechas para la inclusión productiva urbano rural","Propósito 1: Hacer un nuevo contrato social para incrementar la inclusión social, productiva y política"]
[null,"Un Nuevo Contrato Social y Ambiental para la Bogotá del Siglo XXI","19.","Vivienda y entornos dignos en el territorio urbano y rural","Propósito 1: Hacer un nuevo contrato social para incrementar la inclusión social, productiva y política"]
[null,"Un Nuevo Contrato Social y Ambiental para la Bogotá del Siglo XXI","20.","Bogotá, referente en cultura, deporte, recreación y actividad física, con parques para el desarrollo y la salud","Propósito 1: Hacer un nuevo contrato social para incrementar la inclusión social, productiva y política"]
[null,"Un Nuevo Contrato Social y Ambiental para la Bogotá del Siglo XXI","21.","Creación y vida cotidiana: Apropiación ciudadana del arte, la cultura y el patrimonio, para la democracia cultural","Propósito 1: Hacer un nuevo contrato social para incrementar la inclusión social, productiva y política"]
[null,"Un Nuevo Contrato Social y Ambiental para la Bogotá del Siglo XXI","22.","Transformación cultural para la conciencia ambiental y el cuidado de la fauna doméstica","Propósito 1: Hacer un nuevo contrato social para incrementar la inclusión social, productiva y política"]
[null,"Un Nuevo Contrato Social y Ambiental para la Bogotá del Siglo XXI","23.","Bogotá rural","Propósito 1: Hacer un nuevo contrato social para incrementar la inclusión social, productiva y política"]
[null,"Un Nuevo Contrato Social y Ambiental para la Bogotá del Siglo XXI","24.","Bogotá región emprendedora e innovadora","Propósito 1: Hacer un nuevo contrato social para incrementar la inclusión social, productiva y política"]
[null,"Un Nuevo Contrato Social y Ambiental para la Bogotá del Siglo XXI","25.","Bogotá región productiva y competitiva","Propósito 1: Hacer un nuevo contrato social para incrementar la inclusión social, productiva y política"]
[null,"Un Nuevo Contrato Social y Ambiental para la Bogotá del Siglo XXI","26.","Bogotá - región, el mejor destino para visitar","Propósito 1: Hacer un nuevo contrato social para incrementar la inclusión social, productiva y política"]
[null,"Un Nuevo Contrato Social y Ambiental para la Bogotá del Siglo XXI","27.","Cambio cultural para la gestión de la crisis climática","Propósito 2 : Cambiar Nuestros Hábitos de Vida para Reverdecer a Bogotá y Adaptarnos y Mitigar la Crisis Climática"]
[null,"Un Nuevo Contrato Social y Ambiental para la Bogotá del Siglo XXI","28.","Bogotá protectora de sus recursos naturales","Propósito 2 : Cambiar Nuestros Hábitos de Vida para Reverdecer a Bogotá y Adaptarnos y Mitigar la Crisis Climática"]
[null,"Un Nuevo Contrato Social y Ambiental para la Bogotá del Siglo XXI","29.","Asentamientos y entornos protectores","Propósito 2 : Cambiar Nuestros Hábitos de Vida para Reverdecer a Bogotá y Adaptarnos y Mitigar la Crisis Climática"]
[null,"Un Nuevo Contrato Social y Ambiental para la Bogotá del Siglo XXI","30.","Eficiencia en la atención de emergencias","Propósito 2 : Cambiar Nuestros Hábitos de Vida para Reverdecer a Bogotá y Adaptarnos y Mitigar la Crisis Climática"]
[null,"Un Nuevo Contrato Social y Ambiental para la Bogotá del Siglo XXI","31."," Protección y valoración del patrimonio tangible e intangible en Bogotá y la región","Propósito 2 : Cambiar Nuestros Hábitos de Vida para Reverdecer a Bogotá y Adaptarnos y Mitigar la Crisis Climática"]
[null,"Un Nuevo Contrato Social y Ambiental para la Bogotá del Siglo XXI","32.","Revitalización urbana para la competitividad","Propósito 2 : Cambiar Nuestros Hábitos de Vida para Reverdecer a Bogotá y Adaptarnos y Mitigar la Crisis Climática"]
[null,"Un Nuevo Contrato Social y Ambiental para la Bogotá del Siglo XXI","33.","Más árboles y más y mejor espacio público","Propósito 2 : Cambiar Nuestros Hábitos de Vida para Reverdecer a Bogotá y Adaptarnos y Mitigar la Crisis Climática"]
[null,"Un Nuevo Contrato Social y Ambiental para la Bogotá del Siglo XXI","34.","Bogotá protectora de los animales","Propósito 2 : Cambiar Nuestros Hábitos de Vida para Reverdecer a Bogotá y Adaptarnos y Mitigar la Crisis Climática"]
[null,"Un Nuevo Contrato Social y Ambiental para la Bogotá del Siglo XXI","35.","Manejo y prevención de contaminación","Propósito 2 : Cambiar Nuestros Hábitos de Vida para Reverdecer a Bogotá y Adaptarnos y Mitigar la Crisis Climática"]
[null,"Un Nuevo Contrato Social y Ambiental para la Bogotá del Siglo XXI","36.","Manejo y saneamiento de los cuerpos de agua","Propósito 2 : Cambiar Nuestros Hábitos de Vida para Reverdecer a Bogotá y Adaptarnos y Mitigar la Crisis Climática"]
[null,"Un Nuevo Contrato Social y Ambiental para la Bogotá del Siglo XXI","37.","Provisión y mejoramiento de servicios públicos","Propósito 2 : Cambiar Nuestros Hábitos de Vida para Reverdecer a Bogotá y Adaptarnos y Mitigar la Crisis Climática"]
[null,"Un Nuevo Contrato Social y Ambiental para la Bogotá del Siglo XXI","38.","Ecoeficiencia, reciclaje, manejo de residuos e inclusión de la población recicladora","Propósito 2 : Cambiar Nuestros Hábitos de Vida para Reverdecer a Bogotá y Adaptarnos y Mitigar la Crisis Climática"]
[null,"Un Nuevo Contrato Social y Ambiental para la Bogotá del Siglo XXI","39.","Bogotá territorio de paz y atención integral a las víctimas del conflicto armado","Propósito 3: Inspirar confianza y legitimidad para vivir sin miedo y ser epicentro de cultura ciudadana, paz y reconciliación"]
[null,"Un Nuevo Contrato Social y Ambiental para la Bogotá del Siglo XXI","40.","Más mujeres viven una vida libre de violencias, se sienten seguras y acceden con confianza al sistema de justicia","Propósito 3: Inspirar confianza y legitimidad para vivir sin miedo y ser epicentro de cultura ciudadana, paz y reconciliación"]
[null,"Un Nuevo Contrato Social y Ambiental para la Bogotá del Siglo XXI","41.","Sin machismo ni violencias contra las mujeres, las niñas y los niños","Propósito 3: Inspirar confianza y legitimidad para vivir sin miedo y ser epicentro de cultura ciudadana, paz y reconciliación"]
[null,"Un Nuevo Contrato Social y Ambiental para la Bogotá del Siglo XXI","42.","Conciencia y cultura ciudadana para la seguridad, la convivencia y la construcción de confianza","Propósito 3: Inspirar confianza y legitimidad para vivir sin miedo y ser epicentro de cultura ciudadana, paz y reconciliación"]
[null,"Un Nuevo Contrato Social y Ambiental para la Bogotá del Siglo XXI","43.","Cultura ciudadana para la confianza, la convivencia y la participación desde la vida cotidiana","Propósito 3: Inspirar confianza y legitimidad para vivir sin miedo y ser epicentro de cultura ciudadana, paz y reconciliación"]
[null,"Un Nuevo Contrato Social y Ambiental para la Bogotá del Siglo XXI","44.","Autoconciencia, respeto y cuidado en el espacio público","Propósito 3: Inspirar confianza y legitimidad para vivir sin miedo y ser epicentro de cultura ciudadana, paz y reconciliación"]
[null,"Un Nuevo Contrato Social y Ambiental para la Bogotá del Siglo XXI","45.","Espacio público más seguro y construido colectivamente","Propósito 3: Inspirar confianza y legitimidad para vivir sin miedo y ser epicentro de cultura ciudadana, paz y reconciliación"]
[null,"Un Nuevo Contrato Social y Ambiental para la Bogotá del Siglo XXI","46.","Atención a jóvenes y adultos infractores con impacto en su proyecto de vida","Propósito 3: Inspirar confianza y legitimidad para vivir sin miedo y ser epicentro de cultura ciudadana, paz y reconciliación"]
[null,"Un Nuevo Contrato Social y Ambiental para la Bogotá del Siglo XXI","47.","Calidad de Vida y Derechos de la Población privada de la libertad","Propósito 3: Inspirar confianza y legitimidad para vivir sin miedo y ser epicentro de cultura ciudadana, paz y reconciliación"]
[null,"Un Nuevo Contrato Social y Ambiental para la Bogotá del Siglo XXI","48.","Plataforma institucional para la seguridad y justicia","Propósito 3: Inspirar confianza y legitimidad para vivir sin miedo y ser epicentro de cultura ciudadana, paz y reconciliación"]
[null,"Un Nuevo Contrato Social y Ambiental para la Bogotá del Siglo XXI","49.","Movilidad segura, sostenible y accesible","Propósito 4: Hacer de Bogotá Región un modelo de movilidad multimodal, incluyente y sostenible"]
[null,"Un Nuevo Contrato Social y Ambiental para la Bogotá del Siglo XXI","50.","Red de metros","Propósito 4: Hacer de Bogotá Región un modelo de movilidad multimodal, incluyente y sostenible"]
[null,"Un Nuevo Contrato Social y Ambiental para la Bogotá del Siglo XXI","51.","Gobierno Abierto","Propósito 5: Construir Bogotá - Región con gobierno abierto, transparente y ciudadanía consciente"]
[null,"Un Nuevo Contrato Social y Ambiental para la Bogotá del Siglo XXI","52.","Integración regional, distrital y local","Propósito 5: Construir Bogotá - Región con gobierno abierto, transparente y ciudadanía consciente"]
[null,"Un Nuevo Contrato Social y Ambiental para la Bogotá del Siglo XXI","53.","Información para la toma de decisiones","Propósito 5: Construir Bogotá - Región con gobierno abierto, transparente y ciudadanía consciente"]
[null,"Un Nuevo Contrato Social y Ambiental para la Bogotá del Siglo XXI","54.","Transformación digital y gestión de TIC para un territorio inteligente","Propósito 5: Construir Bogotá - Región con gobierno abierto, transparente y ciudadanía consciente"]
[null,"Un Nuevo Contrato Social y Ambiental para la Bogotá del Siglo XXI","55.","Fortalecimiento de cultura ciudadana y su institucionalidad","Propósito 5: Construir Bogotá - Región con gobierno abierto, transparente y ciudadanía consciente"]
[null,"Un Nuevo Contrato Social y Ambiental para la Bogotá del Siglo XXI","56.","Gestión pública efectiva","Propósito 5: Construir Bogotá - Región con gobierno abierto, transparente y ciudadanía consciente"]
[null,"Un Nuevo Contrato Social y Ambiental para la Bogotá del Siglo XXI","57.","Gestión pública local","Propósito 5: Construir Bogotá - Región con gobierno abierto, transparente y ciudadanía consciente"]